{"text_format":"1","workbook":"xlsx","n_sheets":34,"sheets":["ปก","ข้อมูลโครงการ","ข้อมูลขนส่ง","ราคาวัสดุ","เปรียบเทียบราคา","ราคาป้าย","ดินตัด-ถม","BackUp","ราคากลาง1","ราคากลาง","ปร.5","ปร.4","ราคาต่อหน่วย","Sheet3","ต้นทุนกำแพงกันดิน","อื่นๆ","ข้อมูลวัสดุ","วันก่อสร้าง","Box","สรุป-BackUp","งวดงาน","ค่าเสื่อมราคา","ข้อมูล_Box","แบ่งงวดงาน","Factor_FR","Factor_FB","หกล้อขนส่ง","สิบล้อขนส่ง","รถพ่วงขนส่ง","ตารางถอดแบบกำแพงปากท่อ","ราคาวัสดุสะพาน","ต้นทุนสะพาน","Sheet1","Sheet2"],"not_rendered":{"charts":1,"images":10,"macros":1,"external_links":10,"defined_names":344,"comments":7,"pivot_tables":0},"unopened":[],"bounds":{"document_bytes":16777216,"sheet_cells":100000,"rows_first":2000,"rows_last":500,"rows_between":2000,"halvings":0,"cell_chars":16384,"cell_head_chars":4096},"cells_cut":0,"cells_raw":0,"read":"whole","date_system":"1900"}

{"sheet":"ปก","index":0,"n_rows":35,"n_cols":12,"rows_kept":35,"cut":false,"hidden":false,"merged":[[0,0,0,11],[9,0,9,11],[10,0,10,11],[18,5,18,6],[8,0,8,11],[17,5,17,6]]}
[]
[]
[]
[]
[]
[]
[]
[]
[]
[{"$f":"ปร.5!C3","v":"สำนักงานเทศบาลตำบลนากลาง"}]
[{"$f":"ปร.5!G3","v":"กระทรวงมหาดไทย"}]
[]
[null,null,null,null,null,{"$f":"CONCATENATE(\"ประเมินราคากลางงานก่อสร้าง\",ข้อมูลโครงการ!G2)","v":"ประเมินราคากลางงานก่อสร้างก่อสร้างขยายใหล่ทางคอนกรีตเสริมเหล็ก พร้อมระบบระบายน้ำ  2  ข้างทางตามแบบมาตฐานงานทางสำหรับ อปท"}]
[]
[null,null,{"$f":"CONCATENATE(ข้อมูลโครงการ!G7)","v":"ซอยจันทร์สุวรรณ"}]
[null,null,null,{"$f":"ข้อมูลโครงการ!G8","v":"บ้านกุดแห่ หมู่ 1 ตำบลกุดแห่ อำเภอนากลาง  จังหวัดหนองบัวลำภู"}]
[]
[null,null,null,"ระยะทาง",null,{"$f":"ข้อมูลโครงการ!G12","v":"0.000"},null,"กิโลเมตร"]
[null,null,null,"ราคากลาง",null,{"$f":"ปร.5!G21","v":803800},null,"บาท"]
[]
[]
[]
[]
[]
[]
[]
[]
[]
[]
[]
[]
[]
[]
[null,null,null,null,null,null,null,null,null,null,null,{"$f":"ปร.5!G2","v":"กองช่างเทศบาลตำบลนากลาง"}]
[{"$f":"ปร.5!C2","v":"งานแบบแผนและก่อสร้าง"},null,null,null,null,null,null,null,null,null,null,{"$f":"A10","v":"สำนักงานเทศบาลตำบลนากลาง"}]

{"sheet":"ข้อมูลโครงการ","index":1,"n_rows":27,"n_cols":35,"rows_kept":27,"cut":false,"hidden":false,"merged":[[19,14,19,16],[20,14,20,16],[21,14,21,16],[22,14,22,16],[14,14,14,16],[12,6,12,10],[13,6,13,10],[1,6,1,17],[9,14,9,16],[10,14,10,16],[12,14,12,16],[2,14,2,15],[3,14,3,15],[13,14,13,15],[9,19,9,20],[18,14,18,16],[4,14,4,17],[26,6,26,12],[17,6,17,12],[18,6,18,12],[19,6,19,12],[20,6,20,12],[24,6,24,12],[25,6,25,12],[22,6,22,12],[23,14,23,16],[21,6,21,12],[9,6,9,11],[10,6,10,11],[23,6,23,12]]}
[null,"                          กรอกข้อมูลในแถบสีเหลือง"]
[null,null,"ประเภทงาน",null,null,null,"ก่อสร้างขยายใหล่ทางคอนกรีตเสริมเหล็ก พร้อมระบบระบายน้ำ  2  ข้างทางตามแบบมาตฐานงานทางสำหรับ อปท",null,null,null,null,null,null,null,null,null,null,null,null,"ก่อสร้าง ถนนลาดยางผิวทาง Para Asphalt concrete",null,null,null,null,null,null,null,null,null,null,null,null,null,null,"ก่อสร้างถนนลาดยางผิวทางพาราแอสฟัลท์คอนกรีตปรับปรุงคุณภาพด้วยยางธรรมชาติ (Natural Rubber Modified - Asphalt Concrete)"]
[null,null,"ประมาณราคาเมื่อ",null,null,null,"2020-02-11",null,null,null,null,null,null,"ปีงบประมาณ",2563,null,null,null,null,null,null,null,null,null,null,null,null,null,null,null,null,null,null,null,"ซ่อมสร้างถนนลาดยางผิวทางแอสฟัลท์คอนกรีต (โดยวิธี Pavement  In-place Recycling)"]
[null,null,null,null,null,null,"สำนักงานเทศบาลตำบลนากลาง",null,null,null,null,null,null,"กระทรวง","มหาดไทย",null,null,null,null,null,null,null,null,null,null,null,null,null,null,null,null,null,null,null,"ก่อสร้างถนนลาดยางผิวทางแอสฟัลท์คอนกรีต"]
[null,null,"หน่วยประมาณราคา",null,null,null,"งานแบบแผนและก่อสร้าง",null,null,null,null,null,null,"สังกัดหน่วยงาน","กองช่างเทศบาลตำบลนากลาง",null,null,null,null,null,null,null,null,null,null,null,null,null,null,null,null,null,null,null,"ก่อสร้างถนนผิวทางคอนกรีตเสริมเหล็ก"]
[]
[null,null,"สถานที่ก่อสร้าง",null,null,null,"ซอยจันทร์สุวรรณ",null,null,null,null,null,null,null,null,null,null,null,null,null,null,null,null,"รื้อลูกรัง  10  ซม."]
[null,null,null,null,null,null,"บ้านกุดแห่ หมู่ 1 ตำบลกุดแห่ อำเภอนากลาง  จังหวัดหนองบัวลำภู",null,null,null,null,null,null,null,null,null,null,null,null,null,null,null,null,{"$f":"\"รื้อหินคลุก  \"&ราคาต่อหน่วย!E52&\"  ซม.\"","v":"รื้อหินคลุก  20  ซม."}]
[]
[null,null,"ผิวจราจร",null,null,{"$f":"IF(OR(G10=X11,G10=X12),1,IF(G10=X13,2,3))","v":3},"คอนกรีตเสริมเหล็ก",null,null,null,null,null,"( Type 3 )","กว้าง","1.00",null,null,"เมตร","วัสดุมวลรวม","หินปูน(Limestone)",null,{"$f":"IF(T10=AA10,1,IF(T10=AA11,2,3))","v":1},null,"ผิว AC 5 ซม.(ขนทิ้ง)",null,null,"หินปูน(Limestone)"]
[null,null,"ไหล่ทาง",null,null,{"$f":"IF(G11=X11,1,IF(G11=X13,2,IF(G11=X14,3,4)))","v":4},"ลูกรัง",null,null,null,null,null,null,"กว้างข้างละ",0,null,null,"เมตร","หนา",0,"ม.",null,null,"ลาดยางแบบ Cape Seal",null,null,"หินแลาดยางแบบ Para Cape Sealกรนิต(Granite)"]
[null,null,"ระยะทางก่อสร้าง",null,null,null,{"$f":"TEXT(ปร.4!H6,\"0.000\")","v":"0.000"},null,null,null,null,null,null,"กิโลเมตร",null,{"$f":"ROUND(IF(R13=\"ปกติ\",Factor_FR!C53,IF(R13=\"ฝนตกชุก 1\",Factor_FR!D53,Factor_FR!E53)),4)","v":1.3592},null,null,"จำนวน",0,"ช่อง",null,null,"ลาดยางแบบ Para Cape Seal",null,null,"หินบะซอลต์(Basalt)"]
[null,null,"ข้อมูล  ณ  เดือน",null,null,null,{"$f":"G3","v":43872},null,null,null,null,null,null,"จังหวัดที่ตั้ง","จังหวัดพื้นที่ปกติ",null,null,{"$f":"ข้อมูลขนส่ง!C4","v":"ปกติ"},null,null,null,null,null,"ลาดยางแบบ Asphalt concrete",null,null,"ขนาดเบา"]
[null,null,"ราคาน้ำมันดีเซล",null,null,null,"ณ  อ.เมือง จ.หนองบัวลำภู",null,null,null,null,null,null,"เฉลี่ย",{"$f":"24.5+Q14","v":26.5},null,2,"บาท/ลิตร",null,null,null,null,null,"คอนกรีตเสริมเหล็ก",null,null,"ขนาดกลาง"]
[null,null,null,null,null,null,null,null,null,null,null,null,null,"คันทางเดิม",{"$f":"IF(BackUp!F74=BackUp!BD73,X7,X8)","v":"รื้อหินคลุก  20  ซม."},null,null,{"$f":"O15","v":"รื้อหินคลุก  20  ซม."},null,null,null,null,null,{"$f":"IF(G10=X14,\"ลูกรัง\",\"ไม่มี\")","v":"ลูกรัง"},null,null,"ขนาดหนัก"]
[]
[null,null,"ผู้เกี่ยวข้องกับงานประมาณราคาโครงการนี้"]
[null,null,null,"ประมาณราคา",null,null,"นายวิทยา  ทิพย์ทอง",null,null,null,null,null,null,null,"คณะกรรมการกำหนดราคากลาง"]
[null,null,null,"ตำแหน่ง",null,null,"นายช่างโยธาชำนาญงาน",null,null,null,null,null,null,null,"นายประยุทธ์  เย็นอารมย์",null,null,"ประธานกรรมการฯ"]
[null,null,null,"ตรวจ",null,null,"นายคำสอน  อักษรกลาง",null,null,null,null,null,null,null,"ผู้อำนวยการกองช่าง",null,null,"ตำแหน่ง"]
[null,null,null,"ตำแหน่ง",null,null,"นายช่างโยธาอาวุโส",null,null,null,null,null,null,null,"นายชัชฤทธิ์  ระวิพันธ์",null,null,"กรรมการฯ"]
[null,null,null,"เห็นชอบ",null,null,"นายประยุทธ์  เย็นอารมย์",null,null,null,null,null,null,null,"หัวหน้าฝ่ายการโยธา",null,null,"ตำแหน่ง"]
[null,null,null,"ตำแหน่ง",null,null,"ผู้อำนวยการกองช่าง",null,null,null,null,null,null,null,"นายชัชฤทธิ์  ระวิพันธ์",null,null,"กรรมการฯ"]
[null,null,null,"เห็นชอบ",null,null,"นายชัยพร  ขันทะชา",null,null,null,null,null,null,null,"หัวหน้าฝ่ายการโยธา",null,null,"ตำแหน่ง"]
[null,null,null,"ตำแหน่ง",null,null,"ปลัดเทศบาลตำบลนากลาง"]
[null,null,null,"อนุมัติ",null,null,"นายทองหลั่น  เกษทองมา",null,null,null,null,null,null,2,1,"นายนฤชิต     ชาตะบุตร","ผู้อำนวยการกลุ่มวิชาการและถ่ายทอดเทคโนโลยี"]
[null,null,null,"ตำแหน่ง",null,null,"นายกเทศมนตรีตำบลนากลาง",null,null,null,null,null,null,null,2,"นายไพวรรน์  ตันนารัตน์","ผู้อำนวยการส่วนบูรณะ"]

{"sheet":"ข้อมูลขนส่ง","index":2,"n_rows":52,"n_cols":42,"rows_kept":52,"cut":false,"hidden":false,"merged":[[41,11,42,12],[1,10,1,12],[7,0,8,0],[7,2,8,4],[9,27,9,29],[7,22,9,22],[7,23,9,23],[7,24,9,24],[6,23,6,25],[7,13,7,19],[29,11,30,12],[2,2,2,3],[9,11,10,12],[11,11,12,12],[13,11,14,12],[15,11,16,12],[17,11,18,12],[7,6,8,8],[19,11,20,12],[21,11,22,12],[23,11,24,12],[37,11,38,12],[39,11,40,12],[25,11,26,12],[27,11,28,12],[31,11,32,12],[33,11,34,12],[35,11,36,12]]}
["                         กรอกข้อมูล ระยะขนส่ง และชนิดรถบรรทุกในช่องสีเหลืองเท่านั้น",null,null,null,null,null,null,null,null,null,{"$f":"+ค่าเสื่อมราคา!AJ8","v":29.5}]
["                                                     ข้อมูลภูมิอากาศ สภาพพื้นที่และการขนส่งวัสดุก่อสร้าง",null,null,null,null,null,null,null,null,null,"งานกรุยทาง"]
["เลือกจังหวัดที่ตั้ง (เฉพาะในกรณีอยู่ในพื้นที่ฝนตกชุกเท่านั้น)",null,{"$f":"ข้อมูลโครงการ!O13","v":"จังหวัดพื้นที่ปกติ"},null,null,null,"ข้อมูลในการใช้ประมาณราคา",null,null,null,"ขนาด","ปกติ","ฝนชุก",{"$f":"D4&C5","v":"ปกติขนาดกลาง"},null,null,null,null,null,null,null,null,null,null,null,null,null,null,"ปกติ","ขนาดเบา","รถบรรทุก 6 ล้อ"]
["สภาพภูมิอากาศของโครงการ",null,{"$f":"IF(C3=\"จังหวัดพื้นที่ปกติ\",\"ปกติ\",\"ฝนตกชุก \"&VLOOKUP(C3,AO10:AP25,2,FALSE))","v":"ปกติ"},{"$f":"IF(ข้อมูลโครงการ!R13=\"ปกติ\",\"ปกติ\",\"ฝนตกชุก\")","v":"ปกติ"},null,null,{"$f":"\" ภูมิอากาศของโครงการ \"&D4","v":" ภูมิอากาศของโครงการ ปกติ"},null,null,null,"เบา",{"$f":"ค่าเสื่อมราคา!G15","v":1.68},{"$f":"ค่าเสื่อมราคา!H15","v":1.74},{"$f":"IF(N3=\"ปกติขนาดเบา\",L4,IF(N3=\"ปกติขนาดกลาง\",L5,IF(N3=\"ปกติขนาดหนัก\",L6,IF(N3=\"ฝนตกชุกขนาดเบา\",M4,IF(N3=\"ฝนตกชุกขนาดกลาง\",M5,M6)))))","v":3.54},null,null,null,null,null,null,null,null,null,null,null,null,null,null,"ฝนตกชุก","ขนาดกลาง","รถบรรทุก 10 ล้อ"]
["สภาพพื้นที่งานกรุยทางถางป่า",null,{"$f":"BackUp!I52","v":"ขนาดกลาง"},null,null,null,{"$f":"\" งานถางป่าขุดตอ \"&C5","v":" งานถางป่าขุดตอ ขนาดกลาง"},null,null,null,"กลาง",{"$f":"ค่าเสื่อมราคา!G16","v":3.54},{"$f":"ค่าเสื่อมราคา!H16","v":3.68},"พื้นที่",null,null,null,null,null,null,null,null,null,null,null,null,null,null,null,"ขนาดหนัก","รถบรรทุก 10 ล้อ + ลากพ่วง"]
["ราคาน้ำมันโซล่า ณ อำเภอเมือง เฉลี่ย",null,{"$f":"ราคาน้ำมันเฉลี่ย*0+K1","v":29.5},"บาท",10,null,{"$f":"\"ราคาน้ำมันโซล่าเฉลี่ยลิตรละ \"&ROUNDDOWN(C6,-0.2)+0.5&\"0 บาท\"","v":"ราคาน้ำมันโซล่าเฉลี่ยลิตรละ 29.50 บาท"},null,null,null,"หนัก",{"$f":"ค่าเสื่อมราคา!G17","v":5.3},{"$f":"ค่าเสื่อมราคา!H17","v":5.5},{"$f":"D4","v":"ปกติ"}]
["                                                     ข้อมูลขนส่งวัสดุ",null,null,null,null,null,null,null,null,null,null,null,null,null,null,null,null,null,null,null,null,null,null,"ค่าขนส่ง"]
["พาหนะขนส่ง / ราคา \nระยะทางขนส่ง",null,"ระยะทางขนส่งผิวทางลาดยาง (กม.)",null,null,null,"ระยะทางขนส่งผิวทางลูกรัง (กม.)",null,null,null,null,null,null,"ระยะที่หาค่าขนส่ง x Factor",null,null,null,null,null,null,null,null,"6 ล้อ","10 ล้อ","10 ล้อ+ลากพ่วง",null,null,null,null,null,null,null,null,null,null,null,null,null,null,null,"จังหวัด","Factor เพิ่ม"]
[null,null,null,null,null,null,null,null,null,null,null,null,null,"ระยะทางขนส่งผิวทางลาดยาง (กม.)",null,null,null,"ระยะทางขนส่งผิวทางลูกรัง (กม.)",null,null,null,"ระยะขนส่ง",null,null,null,null,null,null,null,null,null,null,null,null,null,null,null,null,null,null,"จังหวัดพื้นที่ปกติ",0]
["1. ขนส่งงานดินตัด","(ลบ.ม.)","ทางราบ","ทางลูกเนิน","ทางภูเขา",null,"ทางราบ","ทางลูกเนิน","ทางภูเขา",null,null,{"$f":"\"งานขนส่งดินตัด ขนส่ง \"&SUM(C11:I11)&\" กม.\"&\"\nด้วย\"&A11","v":"งานขนส่งดินตัด ขนส่ง 1 กม.\nด้วยรถบรรทุก 10 ล้อ"},null,1,{"$f":"IF(A11=$AE$3,2.12,IF(A11=$AE$4,1.95,2.13))","v":1.95},{"$f":"IF(A11=$AE$3,2.56,IF(A11=$AE$4,2.52,2.13))","v":2.52},null,{"$f":"IF(A11=$AE$3,1.24,IF(A11=$AE$4,1.23,1.2))","v":1.23},{"$f":"IF(A11=$AE$3,2.36,IF(A11=$AE$4,2.18,2.33))","v":2.1800000000000002},{"$f":"IF(A11=$AE$3,2.8,IF(A11=$AE$4,2.75,2.33))","v":2.75},null,null,null,null,null,"ค่าขนส่ง",null,"เส้นทางขนส่ง",null,null,{"$f":"A10","v":"1. ขนส่งงานดินตัด"},null,null,null,null,null,null,null,null,null,"จันทบุรี",1]
["รถบรรทุก 10 ล้อ",null,1,null,null,null,0,0,0,null,null,null,null,{"$f":"C11*N10","v":1},{"$f":"D11*O10","v":0},{"$f":"E11*P10","v":0},null,{"$f":"G11*R10","v":0},{"$f":"H11*S10","v":0},{"$f":"I11*T10","v":0},{"$f":"SUM(N11:T11)","v":1},{"$f":"SUM(C11:I11)","v":1},{"$f":"IF(V11=0,0,ROUND((ROUND(VLOOKUP(ข้อมูลขนส่ง!V11,หกล้อขนส่ง!$M$9:$O$208,3),2)+IF(V11>200,(V11-200)*$W$12,0))*U11/V11,2))","v":15.12},{"$f":"IF(V11=0,0,ROUND((ROUND(VLOOKUP(V11,สิบล้อขนส่ง!$M$9:$O$208,3),2)+IF(V11>200,(V11-200)*$X$12,0))*U11/V11,2))","v":11.19},{"$f":"IF(V11=0,0,ROUND((ROUND(VLOOKUP(V11,รถพ่วงขนส่ง!$M$9:$O$208,3),2)+IF(V11>200,(V11-200)*$Y$12,0))*U11/V11,2))","v":6.16},{"$f":"IF(A11=\"รถบรรทุก 6 ล้อ\",W11,IF(A11=\"รถบรรทุก 10 ล้อ\",X11,IF(A11=\"รถบรรทุก 10 ล้อ + ลากพ่วง\",Y11)))","v":11.19},null,{"$f":"IF(C11>0,\"ทางราบ\",\"\")","v":"ทางราบ"},{"$f":"IF(D11>0,\"ทางลูกเนิน\",\"\")","v":""},{"$f":"IF(E11>0,\"ทางภูเขา\",\"\")","v":""},{"$f":"\"เส้นทางขนส่ง \"&AB11&\"  \"&AC11&\"  \"&AD11","v":"เส้นทางขนส่ง ทางราบ    "},{"$f":"+A11","v":"รถบรรทุก 10 ล้อ"},null,null,null,null,null,null,null,null,"ชุมพร",1]
["2. ขนส่งงานดินถม","(ลบ.ม.)","ทางราบ","ทางลูกเนิน","ทางภูเขา",null,"ทางราบ","ทางลูกเนิน","ทางภูเขา",null,null,{"$f":"\"งานขนส่งดินตัด ขนส่ง \"&SUM(C13:I13)&\" กม.\"&\"\nด้วย\"&A13","v":"งานขนส่งดินตัด ขนส่ง 1 กม.\nด้วยรถบรรทุก 10 ล้อ"},null,null,{"$f":"IF(A13=$AE$3,2.12,IF(A13=$AE$4,1.95,2.13))","v":1.95},{"$f":"IF(A13=$AE$3,2.56,IF(A13=$AE$4,2.52,2.13))","v":2.52},null,{"$f":"IF(A13=$AE$3,1.24,IF(A13=$AE$4,1.23,1.2))","v":1.23},{"$f":"IF(A13=$AE$3,2.36,IF(A13=$AE$4,2.18,2.33))","v":2.1800000000000002},{"$f":"IF(A13=$AE$3,2.8,IF(A13=$AE$4,2.75,2.33))","v":2.75},null,"บาท/ลบ.ม.",{"$f":"ROUND(หกล้อขนส่ง!O209,2)","v":3.78},{"$f":"ROUND(สิบล้อขนส่ง!O209,2)","v":3.3},{"$f":"ROUND(รถพ่วงขนส่ง!O209,2)","v":2.04},null,null,null,null,null,{"$f":"A12","v":"2. ขนส่งงานดินถม"},null,null,null,null,null,null,null,null,null,"เชียงราย",1]
["รถบรรทุก 10 ล้อ",null,1,null,null,null,0,0,0,null,null,null,null,{"$f":"C13","v":1},{"$f":"D13*O12","v":0},{"$f":"E13*P12","v":0},null,{"$f":"G13*R12","v":0},{"$f":"H13*S12","v":0},{"$f":"I13*T12","v":0},{"$f":"SUM(N13:T13)","v":1},{"$f":"SUM(C13:I13)","v":1},{"$f":"IF(V13=0,0,ROUND((ROUND(VLOOKUP(ข้อมูลขนส่ง!V13,หกล้อขนส่ง!$M$9:$O$208,3),2)+IF(V13>200,(V13-200)*$W$12,0))*U13/V13,2))","v":15.12},{"$f":"IF(V13=0,0,ROUND((ROUND(VLOOKUP(V13,สิบล้อขนส่ง!$M$9:$O$208,3),2)+IF(V13>200,(V13-200)*$X$12,0))*U13/V13,2))","v":11.19},{"$f":"IF(V13=0,0,ROUND((ROUND(VLOOKUP(V13,รถพ่วงขนส่ง!$M$9:$O$208,3),2)+IF(V13>200,(V13-200)*$Y$12,0))*U13/V13,2))","v":6.16},{"$f":"IF(A13=\"รถบรรทุก 6 ล้อ\",W13,IF(A13=\"รถบรรทุก 10 ล้อ\",X13,IF(A13=\"รถบรรทุก 10 ล้อ + ลากพ่วง\",Y13)))","v":11.19},null,{"$f":"IF(C13>0,\"ทางราบ\",\"\")","v":"ทางราบ"},{"$f":"IF(D13>0,\"ทางลูกเนิน\",\"\")","v":""},{"$f":"IF(E13>0,\"ทางภูเขา\",\"\")","v":""},{"$f":"\"เส้นทางขนส่ง \"&AB13&\"  \"&AC13&\"  \"&AD13","v":"เส้นทางขนส่ง ทางราบ    "},{"$f":"+A13","v":"รถบรรทุก 10 ล้อ"},null,null,null,null,null,null,null,null,"ตรัง",1]
["3. ขนส่งลูกรัง","(ลบ.ม.)","ทางราบ","ทางลูกเนิน","ทางภูเขา",null,"ทางราบ","ทางลูกเนิน","ทางภูเขา",null,null,{"$f":"\"งานขนส่งดินตัด ขนส่ง \"&SUM(C15:I15)&\" กม.\"&\"\nด้วย\"&A15","v":"งานขนส่งดินตัด ขนส่ง 2 กม.\nด้วยรถบรรทุก 10 ล้อ"},null,null,{"$f":"IF(A15=$AE$3,2.12,IF(A15=$AE$4,1.95,2.13))","v":1.95},{"$f":"IF(A15=$AE$3,2.56,IF(A15=$AE$4,2.52,2.13))","v":2.52},null,{"$f":"IF(A15=$AE$3,1.24,IF(A15=$AE$4,1.23,1.2))","v":1.23},{"$f":"IF(A15=$AE$3,2.36,IF(A15=$AE$4,2.18,2.33))","v":2.1800000000000002},{"$f":"IF(A15=$AE$3,2.8,IF(A15=$AE$4,2.75,2.33))","v":2.75},null,null,null,null,null,null,null,null,null,null,{"$f":"A14","v":"3. ขนส่งลูกรัง"},null,null,null,null,null,null,null,null,null,"นครศรีธรรมราช",1]
["รถบรรทุก 10 ล้อ",null,2,null,null,null,0,0,0,null,null,null,null,{"$f":"C15","v":2},{"$f":"D15*O14","v":0},{"$f":"E15*P14","v":0},null,{"$f":"G15*R14","v":0},{"$f":"H15*S14","v":0},{"$f":"I15*T14","v":0},{"$f":"SUM(N15:T15)","v":2},{"$f":"SUM(C15:I15)","v":2},{"$f":"IF(V15=0,0,ROUND((ROUND(VLOOKUP(ข้อมูลขนส่ง!V15,หกล้อขนส่ง!$M$9:$O$208,3),2)+IF(V15>200,(V15-200)*$W$12,0))*U15/V15,2))","v":17.3},{"$f":"IF(V15=0,0,ROUND((ROUND(VLOOKUP(V15,สิบล้อขนส่ง!$M$9:$O$208,3),2)+IF(V15>200,(V15-200)*$X$12,0))*U15/V15,2))","v":13.55},{"$f":"IF(V15=0,0,ROUND((ROUND(VLOOKUP(V15,รถพ่วงขนส่ง!$M$9:$O$208,3),2)+IF(V15>200,(V15-200)*$Y$12,0))*U15/V15,2))","v":7.95},{"$f":"IF(A15=\"รถบรรทุก 6 ล้อ\",W15,IF(A15=\"รถบรรทุก 10 ล้อ\",X15,IF(A15=\"รถบรรทุก 10 ล้อ + ลากพ่วง\",Y15)))","v":13.55},null,{"$f":"IF(C15>0,\"ทางราบ\",\"\")","v":"ทางราบ"},{"$f":"IF(D15>0,\"ทางลูกเนิน\",\"\")","v":""},{"$f":"IF(E15>0,\"ทางภูเขา\",\"\")","v":""},{"$f":"\"เส้นทางขนส่ง \"&AB15&\"  \"&AC15&\"  \"&AD15","v":"เส้นทางขนส่ง ทางราบ    "},"รถบรรทุก 10 ล้อ",null,null,null,null,null,null,null,null,"นราธิวาส",2]
["4. ขนส่งวัสดุคัดเลือก","(ลบ.ม.)","ทางราบ","ทางลูกเนิน","ทางภูเขา",null,"ทางราบ","ทางลูกเนิน","ทางภูเขา",null,null,{"$f":"\"งานขนส่งดินตัด ขนส่ง \"&SUM(C17:I17)&\" กม.\"&\"\nด้วย\"&A17","v":"งานขนส่งดินตัด ขนส่ง 2 กม.\nด้วยรถบรรทุก 10 ล้อ"},null,null,{"$f":"IF(A17=$AE$3,2.12,IF(A17=$AE$4,1.95,2.13))","v":1.95},{"$f":"IF(A17=$AE$3,2.56,IF(A17=$AE$4,2.52,2.13))","v":2.52},null,{"$f":"IF(A17=$AE$3,1.24,IF(A17=$AE$4,1.23,1.2))","v":1.23},{"$f":"IF(A17=$AE$3,2.36,IF(A17=$AE$4,2.18,2.33))","v":2.1800000000000002},{"$f":"IF(A17=$AE$3,2.8,IF(A17=$AE$4,2.75,2.33))","v":2.75},null,null,null,null,null,null,null,null,null,null,{"$f":"A16","v":"4. ขนส่งวัสดุคัดเลือก"},null,null,null,null,null,null,null,null,null,"นครศรีธรรมราช",1]
["รถบรรทุก 10 ล้อ",null,2,null,null,null,0,0,0,null,null,null,null,{"$f":"C17","v":2},{"$f":"D17*O16","v":0},{"$f":"E17*P16","v":0},null,{"$f":"G17*R16","v":0},{"$f":"H17*S16","v":0},{"$f":"I17*T16","v":0},{"$f":"SUM(N17:T17)","v":2},{"$f":"SUM(C17:I17)","v":2},{"$f":"IF(V17=0,0,ROUND((ROUND(VLOOKUP(ข้อมูลขนส่ง!V17,หกล้อขนส่ง!$M$9:$O$208,3),2)+IF(V17>200,(V17-200)*$W$12,0))*U17/V17,2))","v":17.3},{"$f":"IF(V17=0,0,ROUND((ROUND(VLOOKUP(V17,สิบล้อขนส่ง!$M$9:$O$208,3),2)+IF(V17>200,(V17-200)*$X$12,0))*U17/V17,2))","v":13.55},{"$f":"IF(V17=0,0,ROUND((ROUND(VLOOKUP(V17,รถพ่วงขนส่ง!$M$9:$O$208,3),2)+IF(V17>200,(V17-200)*$Y$12,0))*U17/V17,2))","v":7.95},{"$f":"IF(A17=\"รถบรรทุก 6 ล้อ\",W17,IF(A17=\"รถบรรทุก 10 ล้อ\",X17,IF(A17=\"รถบรรทุก 10 ล้อ + ลากพ่วง\",Y17)))","v":13.55},null,{"$f":"IF(C17>0,\"ทางราบ\",\"\")","v":"ทางราบ"},{"$f":"IF(D17>0,\"ทางลูกเนิน\",\"\")","v":""},{"$f":"IF(E17>0,\"ทางภูเขา\",\"\")","v":""},{"$f":"\"เส้นทางขนส่ง \"&AB17&\"  \"&AC17&\"  \"&AD17","v":"เส้นทางขนส่ง ทางราบ    "},"รถบรรทุก 10 ล้อ",null,null,null,null,null,null,null,null,"นราธิวาส",2]
["5. ขนส่งหินคลุก, 1/2\" , 3/4\" , 3/8\" , หินฝุ่น","(ลบ.ม.)","ทางราบ","ทางลูกเนิน","ทางภูเขา",null,"ทางราบ","ทางลูกเนิน","ทางภูเขา",null,null,{"$f":"\"งานขนส่งดินตัด ขนส่ง \"&SUM(C19:I19)&\" กม.\"&\"\nด้วย\"&A19","v":"งานขนส่งดินตัด ขนส่ง 62 กม.\nด้วยรถบรรทุก 10 ล้อ + ลากพ่วง"},null," ",{"$f":"IF(A19=$AE$3,2.12,IF(A19=$AE$4,1.95,2.13))","v":2.13},{"$f":"IF(A19=$AE$3,2.56,IF(A19=$AE$4,2.52,2.13))","v":2.13},null,{"$f":"IF(A19=$AE$3,1.24,IF(A19=$AE$4,1.23,1.2))","v":1.2},{"$f":"IF(A19=$AE$3,2.36,IF(A19=$AE$4,2.18,2.33))","v":2.33},{"$f":"IF(A19=$AE$3,2.8,IF(A19=$AE$4,2.75,2.33))","v":2.33},null,null,null,null,null,null,null,null,null,null,{"$f":"A18","v":"5. ขนส่งหินคลุก, 1/2\" , 3/4\" , 3/8\" , หินฝุ่น"},null,null,null,null,null,null,null,null,null,"ปราจีนบุรี",1]
["รถบรรทุก 10 ล้อ + ลากพ่วง",null,62,null,null,null,0,0,0,null,null,null,null,{"$f":"C19","v":62},{"$f":"D19*O18","v":0},{"$f":"E19*P18","v":0},null,{"$f":"G19*R18","v":0},{"$f":"H19*S18","v":0},{"$f":"I19*T18","v":0},{"$f":"SUM(N19:T19)","v":62},{"$f":"SUM(C19:I19)","v":62},{"$f":"IF(V19=0,0,ROUND((ROUND(VLOOKUP(ข้อมูลขนส่ง!V19,หกล้อขนส่ง!$M$9:$O$208,3),2)+IF(V19>200,(V19-200)*$W$12,0))*U19/V19,2))","v":235.89},{"$f":"IF(V19=0,0,ROUND((ROUND(VLOOKUP(V19,สิบล้อขนส่ง!$M$9:$O$208,3),2)+IF(V19>200,(V19-200)*$X$12,0))*U19/V19,2))","v":205.65},{"$f":"IF(V19=0,0,ROUND((ROUND(VLOOKUP(V19,รถพ่วงขนส่ง!$M$9:$O$208,3),2)+IF(V19>200,(V19-200)*$Y$12,0))*U19/V19,2))","v":126.94},{"$f":"IF(A19=\"รถบรรทุก 6 ล้อ\",W19,IF(A19=\"รถบรรทุก 10 ล้อ\",X19,IF(A19=\"รถบรรทุก 10 ล้อ + ลากพ่วง\",Y19)))","v":126.94},null,{"$f":"IF(C19>0,\"ทางราบ\",\"\")","v":"ทางราบ"},{"$f":"IF(D19>0,\"ทางลูกเนิน\",\"\")","v":""},{"$f":"IF(E19>0,\"ทางภูเขา\",\"\")","v":""},{"$f":"\"เส้นทางขนส่ง \"&AB19&\"  \"&AC19&\"  \"&AD19","v":"เส้นทางขนส่ง ทางราบ    "},"รถบรรทุก 10 ล้อ + ลากพ่วง",null,null,null,null,null,null,null,null,"ปัตตานี",1]
["6. ขนส่งทรายหยาบ(ผสมคอนกรีต)","(ลบ.ม.)","ทางราบ","ทางลูกเนิน","ทางภูเขา",null,"ทางราบ","ทางลูกเนิน","ทางภูเขา",null,null,{"$f":"\"งานขนส่งดินตัด ขนส่ง \"&SUM(C21:I21)&\" กม.\"&\"\nด้วย\"&A21","v":"งานขนส่งดินตัด ขนส่ง 30 กม.\nด้วยรถบรรทุก 10 ล้อ"},null,null,{"$f":"IF(A21=$AE$3,2.12,IF(A21=$AE$4,1.95,2.13))","v":1.95},{"$f":"IF(A21=$AE$3,2.56,IF(A21=$AE$4,2.52,2.13))","v":2.52},null,{"$f":"IF(A21=$AE$3,1.24,IF(A21=$AE$4,1.23,1.2))","v":1.23},{"$f":"IF(A21=$AE$3,2.36,IF(A21=$AE$4,2.18,2.33))","v":2.1800000000000002},{"$f":"IF(A21=$AE$3,2.8,IF(A21=$AE$4,2.75,2.33))","v":2.75},null,null,null,null,null,null,null,null,null,null,{"$f":"A34","v":"13. ขนส่งเหล็กรูปพรรณ"},null,null,null,null,null,null,null,null,null,"ระนอง",2]
["รถบรรทุก 10 ล้อ",null,30,null,null,null,0,0,0,null,null,null,null,{"$f":"C21","v":30},{"$f":"D21*O20","v":0},{"$f":"E21*P20","v":0},null,{"$f":"G21*R20","v":0},{"$f":"H21*S20","v":0},{"$f":"I21*T20","v":0},{"$f":"SUM(N21:T21)","v":30},{"$f":"SUM(C21:I21)","v":30},{"$f":"IF(V21=0,0,ROUND((ROUND(VLOOKUP(ข้อมูลขนส่ง!V21,หกล้อขนส่ง!$M$9:$O$208,3),2)+IF(V21>200,(V21-200)*$W$12,0))*U21/V21,2))","v":115.47},{"$f":"IF(V21=0,0,ROUND((ROUND(VLOOKUP(V21,สิบล้อขนส่ง!$M$9:$O$208,3),2)+IF(V21>200,(V21-200)*$X$12,0))*U21/V21,2))","v":100.39},{"$f":"IF(V21=0,0,ROUND((ROUND(VLOOKUP(V21,รถพ่วงขนส่ง!$M$9:$O$208,3),2)+IF(V21>200,(V21-200)*$Y$12,0))*U21/V21,2))","v":61.87},{"$f":"IF(A21=\"รถบรรทุก 6 ล้อ\",W21,IF(A21=\"รถบรรทุก 10 ล้อ\",X21,IF(A21=\"รถบรรทุก 10 ล้อ + ลากพ่วง\",Y21)))","v":100.39},null,{"$f":"IF(C21>0,\"ทางราบ\",\"\")","v":"ทางราบ"},{"$f":"IF(D21>0,\"ทางลูกเนิน\",\"\")","v":""},{"$f":"IF(E21>0,\"ทางภูเขา\",\"\")","v":""},{"$f":"\"เส้นทางขนส่ง \"&AB35&\"  \"&AC35&\"  \"&AD35","v":"เส้นทางขนส่ง ทางราบ    "},"รถบรรทุก 10 ล้อ",null,null,null,null,null,null,null,null,"สงขลา",1]
["8. ขนส่งหินผสมคอนกรีต","(ลบ.ม.)","ทางราบ","ทางลูกเนิน","ทางภูเขา",1,"ทางราบ","ทางลูกเนิน","ทางภูเขา",null,null,{"$f":"\"งานขนส่งดินตัด ขนส่ง \"&SUM(C23:I23)&\" กม.\"&\"\nด้วย\"&A23","v":"งานขนส่งดินตัด ขนส่ง 62 กม.\nด้วยรถบรรทุก 10 ล้อ"},null,null,{"$f":"IF(A23=$AE$3,2.12,IF(A23=$AE$4,1.95,2.13))","v":1.95},{"$f":"IF(A23=$AE$3,2.56,IF(A23=$AE$4,2.52,2.13))","v":2.52},null,{"$f":"IF(A23=$AE$3,1.24,IF(A23=$AE$4,1.23,1.2))","v":1.23},{"$f":"IF(A23=$AE$3,2.36,IF(A23=$AE$4,2.18,2.33))","v":2.1800000000000002},{"$f":"IF(A23=$AE$3,2.8,IF(A23=$AE$4,2.75,2.33))","v":2.75},null,null,null,null,null,null,null,null,null,null,{"$f":"A20","v":"6. ขนส่งทรายหยาบ(ผสมคอนกรีต)"},null,null,null,null,null,null,null,null,null,"สตูล",1]
["รถบรรทุก 10 ล้อ",null,{"$f":"+C19","v":62},null,null,null,0,0,0,null,null,null,null,{"$f":"C23","v":62},{"$f":"D23*O22","v":0},{"$f":"E23*P22","v":0},null,{"$f":"G23*R22","v":0},{"$f":"H23*S22","v":0},{"$f":"I23*T22","v":0},{"$f":"SUM(N23:T23)","v":62},{"$f":"SUM(C23:I23)","v":62},{"$f":"IF(V23=0,0,ROUND((ROUND(VLOOKUP(ข้อมูลขนส่ง!V23,หกล้อขนส่ง!$M$9:$O$208,3),2)+IF(V23>200,(V23-200)*$W$12,0))*U23/V23,2))","v":235.89},{"$f":"IF(V23=0,0,ROUND((ROUND(VLOOKUP(V23,สิบล้อขนส่ง!$M$9:$O$208,3),2)+IF(V23>200,(V23-200)*$X$12,0))*U23/V23,2))","v":205.65},{"$f":"IF(V23=0,0,ROUND((ROUND(VLOOKUP(V23,รถพ่วงขนส่ง!$M$9:$O$208,3),2)+IF(V23>200,(V23-200)*$Y$12,0))*U23/V23,2))","v":126.94},{"$f":"IF(A23=\"รถบรรทุก 6 ล้อ\",W23,IF(A23=\"รถบรรทุก 10 ล้อ\",X23,IF(A23=\"รถบรรทุก 10 ล้อ + ลากพ่วง\",Y23)))","v":205.65},null,{"$f":"IF(C23>0,\"ทางราบ\",\"\")","v":"ทางราบ"},{"$f":"IF(D23>0,\"ทางลูกเนิน\",\"\")","v":""},{"$f":"IF(E23>0,\"ทางภูเขา\",\"\")","v":""},{"$f":"\"เส้นทางขนส่ง \"&AB21&\"  \"&AC21&\"  \"&AD21","v":"เส้นทางขนส่ง ทางราบ    "},"รถบรรทุก 10 ล้อ",null,null,null,null,null,null,null,null,"สุราษฎร์ธานี",1]
["8. ขนส่งยางแอสฟัลท์","(ตัน)","ทางราบ","ทางลูกเนิน","ทางภูเขา",null,"ทางราบ","ทางลูกเนิน","ทางภูเขา",null,null,{"$f":"\"งานขนส่งดินตัด ขนส่ง \"&SUM(C25:I25)&\" กม.\"&\"\nด้วย\"&A25","v":"งานขนส่งดินตัด ขนส่ง 631 กม.\nด้วยรถบรรทุก 10 ล้อ + ลากพ่วง"},null,null,{"$f":"IF(A25=$AE$3,2.12,IF(A25=$AE$4,1.95,2.13))","v":2.13},{"$f":"IF(A25=$AE$3,2.56,IF(A25=$AE$4,2.52,2.13))","v":2.13},null,{"$f":"IF(A25=$AE$3,1.24,IF(A25=$AE$4,1.23,1.2))","v":1.2},{"$f":"IF(A25=$AE$3,2.36,IF(A25=$AE$4,2.18,2.33))","v":2.33},{"$f":"IF(A25=$AE$3,2.8,IF(A25=$AE$4,2.75,2.33))","v":2.33},null,null,null,null,null,null,null,null,null,null,{"$f":"A22","v":"8. ขนส่งหินผสมคอนกรีต"},null,null,null,null,null,null,null,null,null,"หนองคาย",1]
["รถบรรทุก 10 ล้อ + ลากพ่วง",null,631,null,null,null,0,0,0,null,null,null,null,{"$f":"C25","v":631},{"$f":"D25*O24","v":0},{"$f":"E25*P24","v":0},null,{"$f":"G25*R24","v":0},{"$f":"H25*S24","v":0},{"$f":"I25*T24","v":0},{"$f":"SUM(N25:T25)","v":631},{"$f":"SUM(C25:I25)","v":631},{"$f":"IF(V25=0,0,ROUND((ROUND(VLOOKUP(ข้อมูลขนส่ง!V25,หกล้อขนส่ง!$M$9:$O$208,2),2)+IF(V25>200,(V25-200)*$W$28,0))*U25/V25,2))","v":1703.13},{"$f":"IF(V25=0,0,ROUND((ROUND(VLOOKUP(V25,สิบล้อขนส่ง!$M$9:$O$208,2),2)+IF(V25>200,(V25-200)*$X$28,0))*U25/V25,2))","v":1488.36},{"$f":"IF(V25=0,0,ROUND((ROUND(VLOOKUP(V25,รถพ่วงขนส่ง!$M$9:$O$208,2),2)+IF(V25>200,(V25-200)*$Y$28,0))*U25/V25,2))","v":920.47},{"$f":"IF(A25=\"รถบรรทุก 6 ล้อ\",W25,IF(A25=\"รถบรรทุก 10 ล้อ\",X25,IF(A25=\"รถบรรทุก 10 ล้อ + ลากพ่วง\",Y25)))","v":920.47},null,{"$f":"IF(C25>0,\"ทางราบ\",\"\")","v":"ทางราบ"},{"$f":"IF(D25>0,\"ทางลูกเนิน\",\"\")","v":""},{"$f":"IF(E25>0,\"ทางภูเขา\",\"\")","v":""},{"$f":"\"เส้นทางขนส่ง \"&AB23&\"  \"&AC23&\"  \"&AD23","v":"เส้นทางขนส่ง ทางราบ    "},"รถบรรทุก 10 ล้อ + ลากพ่วง",null,null,null,null,null,null,null,null,"บึงกาฬ",1]
["9. ขนส่งยางแอสฟัลท์ (ยาง CSS-1h(EMA))","(ตัน)","ทางราบ","ทางลูกเนิน","ทางภูเขา",null,"ทางราบ","ทางลูกเนิน","ทางภูเขา",null,null,{"$f":"\"งานขนส่งดินตัด ขนส่ง \"&SUM(C27:I27)&\" กม.\"&\"\nด้วย\"&A27","v":"งานขนส่งดินตัด ขนส่ง 356 กม.\nด้วยรถบรรทุก 10 ล้อ + ลากพ่วง"},null,null,{"$f":"IF(A27=$AE$3,2.12,IF(A27=$AE$4,1.95,2.13))","v":2.13},{"$f":"IF(A27=$AE$3,2.56,IF(A27=$AE$4,2.52,2.13))","v":2.13},null,{"$f":"IF(A27=$AE$3,1.24,IF(A27=$AE$4,1.23,1.2))","v":1.2},{"$f":"IF(A27=$AE$3,2.36,IF(A27=$AE$4,2.18,2.33))","v":2.33},{"$f":"IF(A27=$AE$3,2.8,IF(A27=$AE$4,2.75,2.33))","v":2.33},null,null,null,null,null,null,null,null,null,null,{"$f":"A24","v":"8. ขนส่งยางแอสฟัลท์"},null,null,null,null,null,null,null,null,null,"หนองคาย",1]
["รถบรรทุก 10 ล้อ + ลากพ่วง",null,356,null,null,null,0,0,0,null,null,null,null,{"$f":"C27","v":356},{"$f":"D27*O26","v":0},{"$f":"E27*P26","v":0},null,{"$f":"G27*R26","v":0},{"$f":"H27*S26","v":0},{"$f":"I27*T26","v":0},{"$f":"SUM(N27:T27)","v":356},{"$f":"SUM(C27:I27)","v":356},{"$f":"IF(V27=0,0,ROUND((ROUND(VLOOKUP(ข้อมูลขนส่ง!V27,หกล้อขนส่ง!$M$9:$O$208,2),2)+IF(V27>200,(V27-200)*$W$28,0))*U27/V27,2))","v":960.63},{"$f":"IF(V27=0,0,ROUND((ROUND(VLOOKUP(V27,สิบล้อขนส่ง!$M$9:$O$208,2),2)+IF(V27>200,(V27-200)*$X$28,0))*U27/V27,2))","v":839.36},{"$f":"IF(V27=0,0,ROUND((ROUND(VLOOKUP(V27,รถพ่วงขนส่ง!$M$9:$O$208,2),2)+IF(V27>200,(V27-200)*$Y$28,0))*U27/V27,2))","v":518.97},{"$f":"IF(A27=\"รถบรรทุก 6 ล้อ\",W27,IF(A27=\"รถบรรทุก 10 ล้อ\",X27,IF(A27=\"รถบรรทุก 10 ล้อ + ลากพ่วง\",Y27)))","v":518.97},null,{"$f":"IF(C27>0,\"ทางราบ\",\"\")","v":"ทางราบ"},{"$f":"IF(D27>0,\"ทางลูกเนิน\",\"\")","v":""},{"$f":"IF(E27>0,\"ทางภูเขา\",\"\")","v":""},{"$f":"\"เส้นทางขนส่ง \"&AB25&\"  \"&AC25&\"  \"&AD25","v":"เส้นทางขนส่ง ทางราบ    "},"รถบรรทุก 10 ล้อ + ลากพ่วง",null,null,null,null,null,null,null,null,"บึงกาฬ",1]
["10. ขนส่งเหล็กเสริม","(ตัน)","ทางราบ","ทางลูกเนิน","ทางภูเขา",null,"ทางราบ","ทางลูกเนิน","ทางภูเขา",null,null,{"$f":"\"งานขนส่งดินตัด ขนส่ง \"&SUM(C29:I29)&\" กม.\"&\"\nด้วย\"&A29","v":"งานขนส่งดินตัด ขนส่ง 46 กม.\nด้วยรถบรรทุก 10 ล้อ + ลากพ่วง"},null,null,{"$f":"IF(A29=$AE$3,2.12,IF(A29=$AE$4,1.95,2.13))","v":2.13},{"$f":"IF(A29=$AE$3,2.56,IF(A29=$AE$4,2.52,2.13))","v":2.13},null,{"$f":"IF(A29=$AE$3,1.24,IF(A29=$AE$4,1.23,1.2))","v":1.2},{"$f":"IF(A29=$AE$3,2.36,IF(A29=$AE$4,2.18,2.33))","v":2.33},{"$f":"IF(A29=$AE$3,2.8,IF(A29=$AE$4,2.75,2.33))","v":2.33},null,"บาท/ตัน",{"$f":"ROUND(หกล้อขนส่ง!N209,2)","v":2.7},{"$f":"ROUND(สิบล้อขนส่ง!N209,2)","v":2.36},{"$f":"ROUND(รถพ่วงขนส่ง!N209,2)","v":1.46},null,null,null,null,null,{"$f":"A28","v":"10. ขนส่งเหล็กเสริม"},null,null,null,null,null,null,null,null,null,"พังงา",2]
["รถบรรทุก 10 ล้อ + ลากพ่วง",null,46,null,null,null,0,0,0,null,null,null,null,{"$f":"C29","v":46},{"$f":"D29*O28","v":0},{"$f":"E29*P28","v":0},null,{"$f":"G29*R28","v":0},{"$f":"H29*S28","v":0},{"$f":"I29*T28","v":0},{"$f":"SUM(N29:T29)","v":46},{"$f":"SUM(C29:I29)","v":46},{"$f":"IF(V29=0,0,ROUND((ROUND(VLOOKUP(ข้อมูลขนส่ง!V29,หกล้อขนส่ง!$M$9:$O$208,2),2)+IF(V29>200,(V29-200)*$W$28,0))*U29/V29,2))","v":125.49},{"$f":"IF(V29=0,0,ROUND((ROUND(VLOOKUP(V29,สิบล้อขนส่ง!$M$9:$O$208,2),2)+IF(V29>200,(V29-200)*$X$28,0))*U29/V29,2))","v":109.29},{"$f":"IF(V29=0,0,ROUND((ROUND(VLOOKUP(V29,รถพ่วงขนส่ง!$M$9:$O$208,2),2)+IF(V29>200,(V29-200)*$Y$28,0))*U29/V29,2))","v":67.44},{"$f":"IF(A29=\"รถบรรทุก 6 ล้อ\",W29,IF(A29=\"รถบรรทุก 10 ล้อ\",X29,IF(A29=\"รถบรรทุก 10 ล้อ + ลากพ่วง\",Y29)))","v":67.44},null,{"$f":"IF(C29>0,\"ทางราบ\",\"\")","v":"ทางราบ"},{"$f":"IF(D29>0,\"ทางลูกเนิน\",\"\")","v":""},{"$f":"IF(E29>0,\"ทางภูเขา\",\"\")","v":""},{"$f":"\"เส้นทางขนส่ง \"&AB29&\"  \"&AC29&\"  \"&AD29","v":"เส้นทางขนส่ง ทางราบ    "},"รถบรรทุก 10 ล้อ + ลากพ่วง",null,null,null,null,null,null,null,null,"พัทลุง",1]
["11. ขนส่งปูนซิเมนต์","(ตัน)","ทางราบ","ทางลูกเนิน","ทางภูเขา",null,"ทางราบ","ทางลูกเนิน","ทางภูเขา",null,null,{"$f":"\"งานขนส่งดินตัด ขนส่ง \"&SUM(C31:I31)&\" กม.\"&\"\nด้วย\"&A31","v":"งานขนส่งดินตัด ขนส่ง 46 กม.\nด้วยรถบรรทุก 10 ล้อ + ลากพ่วง"},null,null,{"$f":"IF(A31=$AE$3,2.12,IF(A31=$AE$4,1.95,2.13))","v":2.13},{"$f":"IF(A31=$AE$3,2.56,IF(A31=$AE$4,2.52,2.13))","v":2.13},null,{"$f":"IF(A31=$AE$3,1.24,IF(A31=$AE$4,1.23,1.2))","v":1.2},{"$f":"IF(A31=$AE$3,2.36,IF(A31=$AE$4,2.18,2.33))","v":2.33},{"$f":"IF(A31=$AE$3,2.8,IF(A31=$AE$4,2.75,2.33))","v":2.33},null,null,null,null,null,null,null,null,null,null,{"$f":"A30","v":"11. ขนส่งปูนซิเมนต์"},null,null,null,null,null,null,null,null,null,"ภูเก็ต",2]
["รถบรรทุก 10 ล้อ + ลากพ่วง",null,{"$f":"C29","v":46},null,null,null,0,0,0,null,null,null,null,{"$f":"C31","v":46},{"$f":"D31*O30","v":0},{"$f":"E31*P30","v":0},null,{"$f":"G31*R30","v":0},{"$f":"H31*S30","v":0},{"$f":"I31*T30","v":0},{"$f":"SUM(N31:T31)","v":46},{"$f":"SUM(C31:I31)","v":46},{"$f":"IF(V31=0,0,ROUND((ROUND(VLOOKUP(ข้อมูลขนส่ง!V31,หกล้อขนส่ง!$M$9:$O$208,2),2)+IF(V31>200,(V31-200)*$W$28,0))*U31/V31,2))","v":125.49},{"$f":"IF(V31=0,0,ROUND((ROUND(VLOOKUP(V31,สิบล้อขนส่ง!$M$9:$O$208,2),2)+IF(V31>200,(V31-200)*$X$28,0))*U31/V31,2))","v":109.29},{"$f":"IF(V31=0,0,ROUND((ROUND(VLOOKUP(V31,รถพ่วงขนส่ง!$M$9:$O$208,2),2)+IF(V31>200,(V31-200)*$Y$28,0))*U31/V31,2))","v":67.44},{"$f":"IF(A31=\"รถบรรทุก 6 ล้อ\",W31,IF(A31=\"รถบรรทุก 10 ล้อ\",X31,IF(A31=\"รถบรรทุก 10 ล้อ + ลากพ่วง\",Y31)))","v":67.44},null,{"$f":"IF(C31>0,\"ทางราบ\",\"\")","v":"ทางราบ"},{"$f":"IF(D31>0,\"ทางลูกเนิน\",\"\")","v":""},{"$f":"IF(E31>0,\"ทางภูเขา\",\"\")","v":""},{"$f":"\"เส้นทางขนส่ง \"&AB31&\"  \"&AC31&\"  \"&AD31","v":"เส้นทางขนส่ง ทางราบ    "},"รถบรรทุก 10 ล้อ + ลากพ่วง",null,null,null,null,null,null,null,null,"ยะลา",2]
["12. ขนส่งไม้แบบ","(ตัน)","ทางราบ","ทางลูกเนิน","ทางภูเขา",null,"ทางราบ","ทางลูกเนิน","ทางภูเขา",null,null,{"$f":"\"งานขนส่งดินตัด ขนส่ง \"&SUM(C33:I33)&\" กม.\"&\"\nด้วย\"&A33","v":"งานขนส่งดินตัด ขนส่ง 46 กม.\nด้วยรถบรรทุก 10 ล้อ + ลากพ่วง"},null,null,{"$f":"IF(A33=$AE$3,2.12,IF(A33=$AE$4,1.95,2.13))","v":2.13},{"$f":"IF(A33=$AE$3,2.56,IF(A33=$AE$4,2.52,2.13))","v":2.13},null,{"$f":"IF(A33=$AE$3,1.24,IF(A33=$AE$4,1.23,1.2))","v":1.2},{"$f":"IF(A33=$AE$3,2.36,IF(A33=$AE$4,2.18,2.33))","v":2.33},{"$f":"IF(A33=$AE$3,2.8,IF(A33=$AE$4,2.75,2.33))","v":2.33},null,null,null,null,null,null,null,null,null,null,{"$f":"A32","v":"12. ขนส่งไม้แบบ"}]
["รถบรรทุก 10 ล้อ + ลากพ่วง",null,{"$f":"C31","v":46},null,null,null,0,0,0,null,null,null,null,{"$f":"C33","v":46},{"$f":"D33*O32","v":0},{"$f":"E33*P32","v":0},null,{"$f":"G33*R32","v":0},{"$f":"H33*S32","v":0},{"$f":"I33*T32","v":0},{"$f":"SUM(N33:T33)","v":46},{"$f":"SUM(C33:I33)","v":46},{"$f":"IF(V33=0,0,ROUND((ROUND(VLOOKUP(ข้อมูลขนส่ง!V33,หกล้อขนส่ง!$M$9:$O$208,2),2)+IF(V33>200,(V33-200)*$W$28,0))*U33/V33,2))","v":125.49},{"$f":"IF(V33=0,0,ROUND((ROUND(VLOOKUP(V33,สิบล้อขนส่ง!$M$9:$O$208,2),2)+IF(V33>200,(V33-200)*$X$28,0))*U33/V33,2))","v":109.29},{"$f":"IF(V33=0,0,ROUND((ROUND(VLOOKUP(V33,รถพ่วงขนส่ง!$M$9:$O$208,2),2)+IF(V33>200,(V33-200)*$Y$28,0))*U33/V33,2))","v":67.44},{"$f":"IF(A33=\"รถบรรทุก 6 ล้อ\",W33,IF(A33=\"รถบรรทุก 10 ล้อ\",X33,IF(A33=\"รถบรรทุก 10 ล้อ + ลากพ่วง\",Y33)))","v":67.44},null,{"$f":"IF(C33>0,\"ทางราบ\",\"\")","v":"ทางราบ"},{"$f":"IF(D33>0,\"ทางลูกเนิน\",\"\")","v":""},{"$f":"IF(E33>0,\"ทางภูเขา\",\"\")","v":""},{"$f":"\"เส้นทางขนส่ง \"&AB33&\"  \"&AC33&\"  \"&AD33","v":"เส้นทางขนส่ง ทางราบ    "},"รถบรรทุก 10 ล้อ + ลากพ่วง"]
["13. ขนส่งเหล็กรูปพรรณ","(ตัน)","ทางราบ","ทางลูกเนิน","ทางภูเขา",null,"ทางราบ","ทางลูกเนิน","ทางภูเขา",null,null,{"$f":"\"งานขนส่งดินตัด ขนส่ง \"&SUM(C35:I35)&\" กม.\"&\"\nด้วย\"&A35","v":"งานขนส่งดินตัด ขนส่ง 46 กม.\nด้วยรถบรรทุก 10 ล้อ + ลากพ่วง"},null,null,{"$f":"IF(A35=$AE$3,2.12,IF(A35=$AE$4,1.95,2.13))","v":2.13},{"$f":"IF(A35=$AE$3,2.56,IF(A35=$AE$4,2.52,2.13))","v":2.13},null,{"$f":"IF(A35=$AE$3,1.24,IF(A35=$AE$4,1.23,1.2))","v":1.2},{"$f":"IF(A35=$AE$3,2.36,IF(A35=$AE$4,2.18,2.33))","v":2.33},{"$f":"IF(A35=$AE$3,2.8,IF(A35=$AE$4,2.75,2.33))","v":2.33},null,null,null,null,null,null,null,null,null,null,{"$f":"A24","v":"8. ขนส่งยางแอสฟัลท์"}]
["รถบรรทุก 10 ล้อ + ลากพ่วง",null,{"$f":"C33","v":46},null,null,null,0,0,0,null,null,null,null,{"$f":"C35","v":46},{"$f":"D35*O34","v":0},{"$f":"E35*P34","v":0},null,{"$f":"G35*R34","v":0},{"$f":"H35*S34","v":0},{"$f":"I35*T34","v":0},{"$f":"SUM(N35:T35)","v":46},{"$f":"SUM(C35:I35)","v":46},{"$f":"IF(V35=0,0,ROUND((ROUND(VLOOKUP(ข้อมูลขนส่ง!V35,หกล้อขนส่ง!$M$9:$O$208,2),2)+IF(V35>200,(V35-200)*$W$28,0))*U35/V35,2))","v":125.49},{"$f":"IF(V35=0,0,ROUND((ROUND(VLOOKUP(V35,สิบล้อขนส่ง!$M$9:$O$208,2),2)+IF(V35>200,(V35-200)*$X$28,0))*U35/V35,2))","v":109.29},{"$f":"IF(V35=0,0,ROUND((ROUND(VLOOKUP(V35,รถพ่วงขนส่ง!$M$9:$O$208,2),2)+IF(V35>200,(V35-200)*$Y$28,0))*U35/V35,2))","v":67.44},{"$f":"IF(A35=\"รถบรรทุก 6 ล้อ\",W35,IF(A35=\"รถบรรทุก 10 ล้อ\",X35,IF(A35=\"รถบรรทุก 10 ล้อ + ลากพ่วง\",Y35)))","v":67.44},null,{"$f":"IF(C35>0,\"ทางราบ\",\"\")","v":"ทางราบ"},{"$f":"IF(D35>0,\"ทางลูกเนิน\",\"\")","v":""},{"$f":"IF(E35>0,\"ทางภูเขา\",\"\")","v":""},{"$f":"\"เส้นทางขนส่ง \"&AB25&\"  \"&AC25&\"  \"&AD25","v":"เส้นทางขนส่ง ทางราบ    "},"รถบรรทุก 10 ล้อ + ลากพ่วง"]
["14. ขนส่งแอสฟัลท์ติกคอนกรีตในสายทาง","(ตัน)","ทางราบ","ทางลูกเนิน","ทางภูเขา",null,"ทางราบ","ทางลูกเนิน","ทางภูเขา",null,null,{"$f":"\"งานขนส่งดินตัด ขนส่ง \"&SUM(C37:I37)&\" กม.\"&\"\nด้วย\"&A37","v":"งานขนส่งดินตัด ขนส่ง 1 กม.\nด้วยรถบรรทุก 10 ล้อ + ลากพ่วง"},null,null,{"$f":"IF(A37=$AE$3,2.12,IF(A37=$AE$4,1.95,2.13))","v":2.13},{"$f":"IF(A37=$AE$3,2.56,IF(A37=$AE$4,2.52,2.13))","v":2.13},null,{"$f":"IF(A37=$AE$3,1.24,IF(A37=$AE$4,1.23,1.2))","v":1.2},{"$f":"IF(A37=$AE$3,2.36,IF(A37=$AE$4,2.18,2.33))","v":2.33},{"$f":"IF(A37=$AE$3,2.8,IF(A37=$AE$4,2.75,2.33))","v":2.33},null,null,null,null,null,null,null,null,null,null,{"$f":"A36","v":"14. ขนส่งแอสฟัลท์ติกคอนกรีตในสายทาง"}]
["รถบรรทุก 10 ล้อ + ลากพ่วง",null,1,null,null,null,0,0,0,null,null,null,null,{"$f":"C37","v":1},{"$f":"D37*O36","v":0},{"$f":"E37*P36","v":0},null,{"$f":"G37*R36","v":0},{"$f":"H37*S36","v":0},{"$f":"I37*T36","v":0},{"$f":"SUM(N37:T37)","v":1},{"$f":"SUM(C37:I37)","v":1},{"$f":"IF(V37=0,0,ROUND((ROUND(VLOOKUP(ข้อมูลขนส่ง!V37,หกล้อขนส่ง!$M$9:$O$208,2),2)+IF(V37>200,(V37-200)*$W$28,0))*U37/V37,2))","v":10.8},{"$f":"IF(V37=0,0,ROUND((ROUND(VLOOKUP(V37,สิบล้อขนส่ง!$M$9:$O$208,2),2)+IF(V37>200,(V37-200)*$X$28,0))*U37/V37,2))","v":7.99},{"$f":"IF(V37=0,0,ROUND((ROUND(VLOOKUP(V37,รถพ่วงขนส่ง!$M$9:$O$208,2),2)+IF(V37>200,(V37-200)*$Y$28,0))*U37/V37,2))","v":4.4000000000000004},{"$f":"IF(A37=\"รถบรรทุก 6 ล้อ\",W37,IF(A37=\"รถบรรทุก 10 ล้อ\",X37,IF(A37=\"รถบรรทุก 10 ล้อ + ลากพ่วง\",Y37)))","v":4.4000000000000004},null,{"$f":"IF(C37>0,\"ทางราบ\",\"\")","v":"ทางราบ"},null,null,{"$f":"\"เส้นทางขนส่ง \"&AB37&\"  \"&AC37&\"  \"&AD37","v":"เส้นทางขนส่ง ทางราบ    "},"รถบรรทุก 10 ล้อ + ลากพ่วง"]
["14. ขนส่งเครื่องจักร  Plant  AC",null,"ทางราบ","ทางลูกเนิน","ทางภูเขา",null,"ทางราบ","ทางลูกเนิน","ทางภูเขา",null,null,{"$f":"\"งานขนส่งดินตัด ขนส่ง \"&SUM(C39:I39)&\" กม.\"&\"\nด้วย\"&A39","v":"งานขนส่งดินตัด ขนส่ง 100 กม.\nด้วยรถบรรทุก 10 ล้อ + ลากพ่วง"},null,null,{"$f":"IF(A39=$AE$3,2.12,IF(A39=$AE$4,1.95,2.13))","v":2.13},{"$f":"IF(A39=$AE$3,2.56,IF(A39=$AE$4,2.52,2.13))","v":2.13},null,{"$f":"IF(A39=$AE$3,1.24,IF(A39=$AE$4,1.23,1.2))","v":1.2},{"$f":"IF(A39=$AE$3,2.36,IF(A39=$AE$4,2.18,2.33))","v":2.33},{"$f":"IF(A39=$AE$3,2.8,IF(A39=$AE$4,2.75,2.33))","v":2.33},null,null,null,null,null,null,null,null,null,null,{"$f":"A38","v":"14. ขนส่งเครื่องจักร  Plant  AC"},"14. ขนส่งเครื่องจักร  Plant  AC"]
["รถบรรทุก 10 ล้อ + ลากพ่วง",null,100,null,null,null,0,0,0,null,null,null,null,{"$f":"C39","v":100},{"$f":"D39*O38","v":0},{"$f":"E39*P38","v":0},null,{"$f":"G39*R38","v":0},{"$f":"H39*S38","v":0},{"$f":"I39*T38","v":0},{"$f":"SUM(N39:T39)","v":100},{"$f":"SUM(C39:I39)","v":100},{"$f":"IF(V39=0,0,ROUND((ROUND(VLOOKUP(ข้อมูลขนส่ง!V39,หกล้อขนส่ง!$M$9:$O$208,2),2)+IF(V39>200,(V39-200)*$W$28,0))*U39/V39,2))","v":270.63},{"$f":"IF(V39=0,0,ROUND((ROUND(VLOOKUP(V39,สิบล้อขนส่ง!$M$9:$O$208,2),2)+IF(V39>200,(V39-200)*$X$28,0))*U39/V39,2))","v":236.1},{"$f":"IF(V39=0,0,ROUND((ROUND(VLOOKUP(V39,รถพ่วงขนส่ง!$M$9:$O$208,2),2)+IF(V39>200,(V39-200)*$Y$28,0))*U39/V39,2))","v":145.88},{"$f":"IF(A39=\"รถบรรทุก 6 ล้อ\",W39,IF(A39=\"รถบรรทุก 10 ล้อ\",X39,IF(A39=\"รถบรรทุก 10 ล้อ + ลากพ่วง\",Y39)))","v":145.88},null,{"$f":"IF(C39>0,\"ทางราบ\",\"\")","v":"ทางราบ"},null,null,{"$f":"\"เส้นทางขนส่ง \"&AB39&\"  \"&AC39&\"  \"&AD39","v":"เส้นทางขนส่ง ทางราบ    "},"รถบรรทุก 10 ล้อ + ลากพ่วง"]
["15. ขนส่งท่อ คสล.","(ตัน)","ทางราบ","ทางลูกเนิน","ทางภูเขา",null,"ทางราบ","ทางลูกเนิน","ทางภูเขา",null,null,{"$f":"\"งานขนส่งดินตัด ขนส่ง \"&SUM(C41:I41)&\" กม.\"&\"\nด้วย\"&A41","v":"งานขนส่งดินตัด ขนส่ง 70 กม.\nด้วยรถบรรทุก 10 ล้อ"},null,null,{"$f":"IF(A41=$AE$3,2.12,IF(A41=$AE$4,1.95,2.13))","v":1.95},{"$f":"IF(A41=$AE$3,2.56,IF(A41=$AE$4,2.52,2.13))","v":2.52},null,{"$f":"IF(A41=$AE$3,1.24,IF(A41=$AE$4,1.23,1.2))","v":1.23},{"$f":"IF(A41=$AE$3,2.36,IF(A41=$AE$4,2.18,2.33))","v":2.1800000000000002},{"$f":"IF(A41=$AE$3,2.8,IF(A41=$AE$4,2.75,2.33))","v":2.75},null,null,null,null,null,null,null,null,null,null,{"$f":"A40","v":"15. ขนส่งท่อ คสล."}]
["รถบรรทุก 10 ล้อ",null,70,null,null,null,0,0,0,null,null,null,null,{"$f":"C41","v":70},{"$f":"D41*O40","v":0},{"$f":"E41*P40","v":0},null,{"$f":"G41*R40","v":0},{"$f":"H41*S40","v":0},{"$f":"I41*T40","v":0},{"$f":"SUM(N41:T41)","v":70},{"$f":"SUM(C41:I41)","v":70},{"$f":"IF(V41=0,0,ROUND((ROUND(VLOOKUP(ข้อมูลขนส่ง!V41,หกล้อขนส่ง!$M$9:$O$208,2),2)+IF(V41>200,(V41-200)*$W$28,0))*U41/V41,2))","v":190},{"$f":"IF(V41=0,0,ROUND((ROUND(VLOOKUP(V41,สิบล้อขนส่ง!$M$9:$O$208,2),2)+IF(V41>200,(V41-200)*$X$28,0))*U41/V41,2))","v":165.64},{"$f":"IF(V41=0,0,ROUND((ROUND(VLOOKUP(V41,รถพ่วงขนส่ง!$M$9:$O$208,2),2)+IF(V41>200,(V41-200)*$Y$28,0))*U41/V41,2))","v":102.29},{"$f":"IF(A41=\"รถบรรทุก 6 ล้อ\",W41,IF(A41=\"รถบรรทุก 10 ล้อ\",X41,IF(A41=\"รถบรรทุก 10 ล้อ + ลากพ่วง\",Y41)))","v":165.64},null,{"$f":"IF(C41>0,\"ทางราบ\",\"\")","v":"ทางราบ"},{"$f":"IF(D41>0,\"ทางลูกเนิน\",\"\")","v":""},{"$f":"IF(E41>0,\"ทางภูเขา\",\"\")","v":""},{"$f":"\"เส้นทางขนส่ง \"&AB41&\"  \"&AC41&\"  \"&AD41","v":"เส้นทางขนส่ง ทางราบ    "},"รถบรรทุก 10 ล้อ"]
["16. ระยะทางจากกรุงเทพ - อ.ศรีราชา จ.ชลบุรี","(ตัน)","ทางราบ","ทางลูกเนิน","ทางภูเขา",null,"ทางราบ","ทางลูกเนิน","ทางภูเขา",null,null,{"$f":"\"งานขนส่งดินตัด ขนส่ง \"&SUM(C43:I43)&\" กม.\"&\"\nด้วย\"&A43","v":"งานขนส่งดินตัด ขนส่ง 124 กม.\nด้วยรถบรรทุก 10 ล้อ + ลากพ่วง"},null,null,{"$f":"IF(A43=$AE$3,2.12,IF(A43=$AE$4,1.95,2.13))","v":2.13},{"$f":"IF(A43=$AE$3,2.56,IF(A43=$AE$4,2.52,2.13))","v":2.13},null,{"$f":"IF(A43=$AE$3,1.24,IF(A43=$AE$4,1.23,1.2))","v":1.2},{"$f":"IF(A43=$AE$3,2.36,IF(A43=$AE$4,2.18,2.33))","v":2.33},{"$f":"IF(A43=$AE$3,2.8,IF(A43=$AE$4,2.75,2.33))","v":2.33},null,null,null,null,null,null,null,null,null,null,{"$f":"A32","v":"12. ขนส่งไม้แบบ"}]
["รถบรรทุก 10 ล้อ + ลากพ่วง",null,124,null,null,null,0,0,0,null,null,null,null,{"$f":"C43","v":124},{"$f":"D43*O42","v":0},{"$f":"E43*P42","v":0},null,{"$f":"G43*R42","v":0},{"$f":"H43*S42","v":0},{"$f":"I43*T42","v":0},{"$f":"SUM(N43:T43)","v":124},{"$f":"SUM(C43:I43)","v":124},{"$f":"IF(V43=0,0,ROUND((ROUND(VLOOKUP(ข้อมูลขนส่ง!V43,หกล้อขนส่ง!$M$9:$O$208,2),2)+IF(V43>200,(V43-200)*$W$28,0))*U43/V43,2))","v":335.16},{"$f":"IF(V43=0,0,ROUND((ROUND(VLOOKUP(V43,สิบล้อขนส่ง!$M$9:$O$208,2),2)+IF(V43>200,(V43-200)*$X$28,0))*U43/V43,2))","v":292.58999999999997},{"$f":"IF(V43=0,0,ROUND((ROUND(VLOOKUP(V43,รถพ่วงขนส่ง!$M$9:$O$208,2),2)+IF(V43>200,(V43-200)*$Y$28,0))*U43/V43,2))","v":180.73},{"$f":"IF(A43=\"รถบรรทุก 6 ล้อ\",W43,IF(A43=\"รถบรรทุก 10 ล้อ\",X43,IF(A43=\"รถบรรทุก 10 ล้อ + ลากพ่วง\",Y43)))","v":180.73},null,{"$f":"IF(C43>0,\"ทางราบ\",\"\")","v":"ทางราบ"},{"$f":"IF(D43>0,\"ทางลูกเนิน\",\"\")","v":""},{"$f":"IF(E43>0,\"ทางภูเขา\",\"\")","v":""},{"$f":"\"เส้นทางขนส่ง \"&AB33&\"  \"&AC33&\"  \"&AD33","v":"เส้นทางขนส่ง ทางราบ    "},"รถบรรทุก 10 ล้อ + ลากพ่วง"]
[]
["ข้อมูลเพื่อนำไปใช้"]
["ตัวจังหวัด - ที่ตั้งโครงการ",null,{"$f":"+C29","v":46}]
["กรุงเทพฯ - ชลบุรี",null,{"$f":"+C43","v":124}]
["อ.สูงเนิน จ.นครราชสีมา - ที่ตั้งโครงการ",null,{"$f":"+C27","v":356}]
["กรุงเทพฯ - ที่ตั้งโครงการ",null,541]
["อ.ศรีราชา จ.ชลบุรี - ที่ตั้งโครงการ",null,{"$f":"+C25","v":631}]
["อ.นากลาง  จ.หนองบัวลำภู  - ที่ตั้งโครงการ",null,{"$f":"+C19","v":62}]
["อ.น้ำโสม  จ.อุดรธานี   - ที่ตั้งโครงการ",null,98]

{"sheet":"ราคาวัสดุ","index":3,"n_rows":112,"n_cols":27,"rows_kept":112,"cut":false,"hidden":false,"merged":[[1,1,1,9]]}
["กรอกข้อมูลในแถบสีเหลือง"]
["ที่","วัสดุ",null,null,null,null,null,null,null,null,"หน่วย","ราคาที่แหล่ง\n(บาท)","แหล่งวัสดุ"]
[1,"งานดิน",null,null,null,null,null,null,null,null,null,null,"http://www.price.moc.go.th/price/struct/index_new.asp"]
[null,1.1000000000000001,"ดินถมคันทาง",null,null,null,null,null,null,null,"บาท/ลบ.ม.",84.11,"พื้นที่ใกล้เคียงสถานที่ก่อสร้าง"]
[null,1.2,"วัสดุลูกรัง",null,null,null,null,null,null,null,"บาท/ลบ.ม.",140.19,{"$f":"M4","v":"พื้นที่ใกล้เคียงสถานที่ก่อสร้าง"}]
[null,1.3,"วัสดุคัดเลือก",null,null,null,null,null,null,null,"บาท/ลบ.ม.",{"$f":"+L5*0.75","v":105.1425},{"$f":"M5","v":"พื้นที่ใกล้เคียงสถานที่ก่อสร้าง"}]
[2,"หิน"]
[null,2.1,"หินคลุก",null,null,null,null,null,null,null,"บาท/ลบ.ม.",{"$f":"เปรียบเทียบราคา!M25","v":170},{"$f":"เปรียบเทียบราคา!Q25","v":"โรงโม่       อ.นากลาง  จ.หนองบัวลำภู"}]
[null,2.2000000000000002,"หินฝุ่น",null,null,null,null,null,null,null,"บาท/ลบ.ม.",{"$f":"เปรียบเทียบราคา!M26","v":280},{"$f":"เปรียบเทียบราคา!Q26","v":"โรงโม่       อ.นากลาง  จ.หนองบัวลำภู"}]
[null,2.2999999999999998,"หิน 3/8\"",null,null,null,null,null,null,null,"บาท/ลบ.ม.",{"$f":"เปรียบเทียบราคา!M27","v":230},{"$f":"เปรียบเทียบราคา!Q27","v":"โรงโม่       อ.นากลาง  จ.หนองบัวลำภู"}]
[null,2.4,"หิน 1/2\"",null,null,null,null,null,null,null,"บาท/ลบ.ม.",{"$f":"เปรียบเทียบราคา!M28","v":330},{"$f":"เปรียบเทียบราคา!Q28","v":"โรงโม่       อ.นากลาง  จ.หนองบัวลำภู"}]
[null,2.5,"หิน 3/4\"",null,null,null,null,null,null,null,"บาท/ลบ.ม.",{"$f":"เปรียบเทียบราคา!M29","v":290},{"$f":"เปรียบเทียบราคา!Q29","v":"โรงโม่       อ.นากลาง  จ.หนองบัวลำภู"}]
[null,2.6,"หินใหญ่",null,null,null,null,null,null,null,"บาท/ลบ.ม.",{"$f":"เปรียบเทียบราคา!M30","v":220},{"$f":"เปรียบเทียบราคา!Q30","v":"โรงโม่       อ.นากลาง  จ.หนองบัวลำภู"}]
[null,2.7,"หินกรวดผสมคอนกรีต",null,null,null,null,null,null,null,"บาท/ลบ.ม.",null,"อ.นากลาง จ.หนองบัวลำภู"]
[3,"ปูนซีเมนต์",null,null,null,null,null,null,null,null,null,null,{"$f":"+เปรียบเทียบราคา!D4","v":43872}]
[null,3.1,"ปูนซีเมนต์ปอร์ตแลนด์ TYPE 1",null,null,null,null,null,null,null,"บาท/ตัน",2242.9899999999998]
[null,3.2,"ปูนฉาบ",null,null,null,null,null,null,null,"บาท/ตัน",{"$f":"+ราคาปูนtype1ที่แหล่ง","v":2242.9899999999998}]
[4,"ทราย",null,null,null,null,null,null,null,null,null,null,{"$f":"+M15","v":43872}]
[null,4.0999999999999996,"ทรายผสมคอนกรีต",null,null,null,null,null,null,null,"บาท/ลบ.ม.",529.6]
[null,4.2,"ทรายรองพื้นหรือทรายถมที่",null,null,null,null,null,null,null,"บาท/ลบ.ม.",{"$f":"+L19","v":529.6}]
[5,"ยางแอสฟัลท์"]
[null,5.0999999999999996,"ยางแอสฟัลท์ CSS-1h",null,null,null,null,null,null,null,"บาท/ตัน",{"$f":"เปรียบเทียบราคา!M10","v":19057.939999999999},{"$f":"เปรียบเทียบราคา!Q10","v":"บมจ. เอสโซ่ (ประเทศไทย) อ.ศรีราชา จ.ชลบุรี"}]
[null,5.2,"ยางแอสฟัลท์ CSS-1",null,null,null,null,null,null,null,"บาท/ตัน",{"$f":"เปรียบเทียบราคา!M11","v":19488.600000000002},{"$f":"เปรียบเทียบราคา!Q11","v":"บมจ. เอสโซ่ (ประเทศไทย) อ.ศรีราชา จ.ชลบุรี"}]
[null,5.3,"ยางแอสฟัลท์ CRS-2",null,null,null,null,null,null,null,"บาท/ตัน",{"$f":"เปรียบเทียบราคา!M12","v":18841.939999999999},{"$f":"เปรียบเทียบราคา!Q12","v":"บมจ. เอสโซ่ (ประเทศไทย) อ.ศรีราชา จ.ชลบุรี"}]
[null,5.4,"ยางแอสฟัลท์ AC 60/70",null,null,null,null,null,null,null,"บาท/ตัน",{"$f":"เปรียบเทียบราคา!M13","v":14469.27},{"$f":"เปรียบเทียบราคา!Q13","v":"บมจ. เอสโซ่ (ประเทศไทย) อ.ศรีราชา จ.ชลบุรี"}]
[null,5.5,"ยางแอสฟัลท์ MC-70",null,null,null,null,null,null,null,"บาท/ตัน",{"$f":"เปรียบเทียบราคา!M14","v":35469.269999999997},{"$f":"เปรียบเทียบราคา!Q14","v":"บมจ. เอสโซ่ (ประเทศไทย) อ.ศรีราชา จ.ชลบุรี"}]
[null,5.6,"ยางแอสฟัลท์ CSS-1h (EMA)",null,null,null,null,null,null,null,"บาท/ตัน",{"$f":"เปรียบเทียบราคา!M15","v":0},"บมจ.ทิปโก้แอสฟัลท์ อ.สูงเนิน จ.นครราชสีมา"]
[6,"เหล็กเสริม"]
[null,6.1,"เหล็กเส้นกลม SR-24",null,null,null,null,null,null,null,null,null,{"$f":"+M18:M18","v":43872}]
[null,null,"6.1.1) RB6",null,null,null,null,null,null,null,"บาท/ตัน",20630.38]
[null,null,"6.1.2) RB9",null,null,null,null,null,null,null,"บาท/ตัน",18448.04]
[null,null,"6.1.3 RB12",null,null,null,null,null,null,null,"บาท/ตัน",18750,{"$f":"+เปรียบเทียบราคา!D4","v":43872}]
[null,null,"6.1.4) RB15",null,null,null,null,null,null,null,"บาท/ตัน",19921.259999999998]
[null,null,"6.1.5) RB19",null,null,null,null,null,null,null,"บาท/ตัน",19688.080000000002]
[null,null,"6.1.6) RB25",null,null,null,null,null,null,null,"บาท/ตัน",21818.22]
[null,6.2,"เหล็กเส้นข้ออ้อย SD-30",null,null,null,null,null,null,null,null,null,{"$f":"+M32","v":43872}]
[null,null,"6.2.1) DB12",null,null,null,null,null,null,null,"บาท/ตัน",16995.240000000002]
[null,null,"6.2.2) DB16",null,null,null,null,null,null,null,"บาท/ตัน",19844.240000000002]
[null,null,"6.2.3) DB20",null,null,null,null,null,null,null,"บาท/ตัน",19829.59]
[null,null,"6.2.4) DB25",null,null,null,null,null,null,null,"บาท/ตัน",19953.27]
[null,6.3,"เหล็กเส้นข้ออ้อย SD-40",null,null,null,null,null,null,null,null,null,{"$f":"+M29","v":43872}]
[null,null,"6.3.1) DB12",null,null,null,null,null,null,null,"บาท/ตัน",17434.580000000002]
[null,null,"6.3.2) DB16",null,null,null,null,null,null,null,"บาท/ตัน",17000]
[null,null,"6.3.3) DB20",null,null,null,null,null,null,null,"บาท/ตัน",17000]
[null,null,"6.3.4) DB25",null,null,null,null,null,null,null,"บาท/ตัน",16700,{"$f":"+M32","v":43872}]
[null,6.4,"ลวดผูกเหล็ก",null,null,null,null,null,null,null,"บาท/กก.",57.95,{"$f":"+M41","v":43872}]
[null,6.5,"เหล็กตะแกรง WIRE MESH",null,null,null,null,null,null,null,null,null,"สืบราคา"]
[null,null,"6.5.1) ขนาด","Ø","6 x 4 มม. @ 0.30 x 0.30 ม.",null,null,null,null,null,"บาท/ตร.ม.",27.1]
[null,null,"6.5.2) ขนาด","Ø","6 x 4 มม. @ 0.20 x 0.20 ม.",null,null,null,null,null,"บาท/ตร.ม.",45]
[null,null,"6.5.3) ขนาด","Ø","6 มม. @ 0.10 x 0.30 ม.",null,null,null,null,null,"บาท/ตร.ม.",37]
[null,6.6,"ลวดอัดแรง",null,null,null,null,null,null,null,null,null,"สืบราคา"]
[null,null,"  6.6.1) PC WIRE  ",null,null,null,"Ø"," 4, 5, 7, 9  มม.",null,null,"บาท/ตัน",40000]
[null,null,"  6.6.2) PC STRAND 7   เส้น ",null,null,null,"Ø","9.5 , 12.7 มม.",null,null,"บาท/ตัน",45000]
[null,6.7,"ค่าแรง"]
[null,null," - ผูกเหล็กกลม",null,null,null,null,null,null,null,"บาท/ตัน",4100,"กรมบัญชีกลาง  ต.ค.58)"]
[null,null," - เหล็กตะแกรง WIRE MESH ",null,null,null,null,null,null,null,"บาท/ตร.ม.",5,"กรมบัญชีกลาง  ต.ค.58)"]
[null,null," - ลวดอัดแรง",null,null,null,null,null,null,null,"บาท/ตัน",15000,"สืบราคา"]
[7,"เหล็กรูปพรรณ",null,null,null,null,null,null,null,null,null,null,"สืบราคา"]
[null,7.1,"L -","50 x 50 x 6 มม. ยาว 6 เมตร น้ำหนัก 26.8 กก.",null,null,null,null,null,null,"บาท/ท่อน",485.98]
[null,7.2,"Plate","100 x 10 มม. ยาว 6 เมตร น้ำหนัก 47.1 กก.",null,null,null,null,null,null,"บาท/ท่อน",{"$f":"+(N61/210)*47.1","v":1104.8695571428573}]
[null,7.3,"Plate","80 x 9 มม. ยาว 6 เมตร น้ำหนัก 33.9 กก.",null,null,null,null,null,null,"บาท/ท่อน",{"$f":"+(N61/210)*33.9","v":795.22458571428569},null,4926.17]
[null,7.4,"Plate","50 x 5 มม. ยาว 6 เมตร น้ำหนัก 11.8 กก.",null,null,null,null,null,null,"บาท/ท่อน",{"$f":"+(N62/140)*11.8","v":271.21120000000002},null,3217.76]
[null,7.5,"ค่าแรง",null,null,null,null,null,null,null,"บาท/กก.",10,"กรมบัญชีกลาง  ต.ค.58)"]
[8,"ไม้แบบ",null,null,null,null,null,null,null,null,null,null,{"$f":"+M41","v":43872}]
[null,8.1,"ไม้แบบ",null,null,null,null,null,null,null,"บาท/ลบ.ฟ.",585.66999999999996]
[null,8.1999999999999993,"ไม้เคร่า & ไม้รัดแบบ",null,null,null,null,null,null,null,"บาท/ลบ.ฟ.",427.57]
[null,8.3000000000000007,"ไม้ค้ำยัน",null,null,null,null,null,null,null,"บาท/ต้น",50,"สืบราคา"]
[null,8.4,"ไม้คิ้ว 1''x1''",null,null,null,null,null,null,null,"บาท/ลบฟ.",530]
[null,8.5,"ตะปูยึดไม้แบบ",null,null,null,null,null,null,null,"บาท/กก.",40.369999999999997]
[null,8.6,"น้ำมันทาแบบ",null,null,null,null,null,null,null,"บาท/ลิตร",25]
[null,8.7000000000000099,"ค่าแรงติดตั้งไม้แบบ",null,null,null,null,null,null,null,"บาท/ตร.ม.",154,"คอนกรีตเปลือย กรมบัญชีกลาง  (มี.ค.56)"]
[9,"งานท่อลอดกลม คสล.",null,null,null,null,null,null,null,null,null,null,{"$f":"+เปรียบเทียบราคา!D4","v":43872}]
[null,9.1,"ท่อลอดกลม คสล. ขนาด Ø 0.40 ม.",null,null,null,null,null,null,null,"บาท/ท่อน",385.61]
[null,9.1999999999999993,"ท่อลอดกลม คสล. ขนาด Ø 0.60 ม.",null,null,null,null,null,null,null,"บาท/ท่อน",531.03]
[null,9.3000000000000007,"ท่อลอดกลม คสล. ขนาด Ø 0.80 ม.",null,null,null,null,null,null,null,"บาท/ท่อน",889.02]
[null,9.4,"ท่อลอดกลม คสล. ขนาด Ø 1.00 ม.",null,null,null,null,null,null,null,"บาท/ท่อน",1278.74]
[null,9.5,"ท่อลอดกลม คสล. ขนาด Ø 1.20 ม.",null,null,null,null,null,null,null,"บาท/ท่อน",1678.04]
[null,9.6,"ท่อลอดกลม คสล. ขนาด Ø 1.50 ม.",null,null,null,null,null,null,null,"บาท/ท่อน",3271.03]
[10,"งานสี",null,null,null,null,null,null,null,null,null,null,{"$f":"+M64","v":43872},null,null,null,null,null,null,null,null,null,null,null,null,null,"ต่อ ตร.ม."]
[null,10.1,"สีพลาสติก (1 ถัง  = 3.785 ลิตร = 20 ตร.ม.)",null,null,null,null,null,null,null,"บาท/ถัง",373.83,null,null,null,null,null,null,null,null,null,null,null,null,null,null,{"$f":"ROUND(L80/20,2)","v":18.690000000000001}]
[null,10.199999999999999,"สีน้ำมัน (1 ถัง  = 3.785 ลิตร = 18 ตร.ม.)",null,null,null,null,null,null,null,"บาท/ถัง",331.78,null,null,null,null,null,null,null,null,null,null,null,null,null,null,{"$f":"ROUND(L81/18,2)","v":18.43}]
[null,10.3,"สีกันสนิม (1 ถัง  = 3.785 ลิตร = 20 ตร.ม.)",null,null,null,null,null,null,null,"บาท/ถัง",271.02999999999997,null,null,null,null,null,null,null,null,null,null,null,null,null,null,{"$f":"ROUND(L82/20,2)","v":13.55}]
[null,10.4,"สีสะท้อนแสง",null,null,null,null,null,null,null,"บาท/ลิตร",2600]
[null,10.5,"น้ำยา Primer",null,null,null,null,null,null,null,"บาท/กก.",15]
[null,10.6,"ค่าแรงทาสี",null,null,null,null,null,null,null,"บาท/ตร.ม.",30,"กรมบัญชีกลาง  (มี.ค.56)"]
[11,"งานไฟฟ้าแสงสว่าง",null,null,null,null,null,null,null,null,null,null,"สืบราคา"]
[null,11.1,"เสาไฟฟ้าแสงสว่าง (เหล็กอาบสังกะสี) สูง 9.00 ม. กิ่งเดี่ยว",null,null,null,null,null,null,null,"บาท/ต้น",5400]
[null,11.2,"เสาไฟฟ้าแสงสว่าง (เหล็กอาบสังกะสี) สูง 9.00 ม. สองกิ่ง",null,null,null,null,null,null,null,"บาท/ต้น",5800]
[null,11.3,"แผ่นเหล็ก PLATE หนา 25 มม. รองฐานเสาไฟฟ้าแสงสว่าง",null,null,null,null,null,null,null,"บาท/แผ่น",500]
[null,11.4,"ANCHOR  BOLT ขนาด Dia. 24 มม.",null,null,null,null,null,null,null,"บาท/ตัว",100]
[null,11.5,"ค่าธรรมเนียมการไฟฟ้า",null,null,null,null,null,null,null,"บาท"]
[null,11.6,"ดวงโคม 1 โคม 150 W .HPS พร้อมอุปกรณ์ รวมติดตั้ง",null,null,null,null,null,null,null,"บาท/ชุด",5000]
[null,11.7,"สายไฟฟ้า NYY 3 x 10 mm2 ",null,null,null,null,null,null,null,"บาท/ม.",65]
[null,11.8,"สายไฟฟ้า THW 2 x 25 mm2",null,null,null,null,null,null,null,"บาท/ม.",21]
[null,11.9,"Ground Rod",null,null,null,null,null,null,null,"บาท/ชุด",300]
[null,12,"รีเลย์พร้อมโฟโตเซล 60A 220V (1 ชุดควบคุมได้ 28 ดวงโคม)",null,null,null,null,null,null,null,"บาท/ชุด",4200]
[null,12.1,"เซฟตี้สวิทซ์ 30 A 220 V  พร้อมท่อ Dia.1 1/4",null,null,null,null,null,null,null,"บาท",6500]
[null,12.2,"ท่อ Ø 1 1/2\" พร้อมค่าดันท่อลอด",null,null,null,null,null,null,null,"บาท",600]
[null,12.3,"ค่าประกอบและติดตั้งเสาไฟฟ้าแสงสว่าง",null,null,null,null,null,null,null,"ชุด",500]
[null,12.4,"ค่าสีและแผ่นสะท้อนแสง พร้อมค่าแรง",null,null,null,null,null,null,null,"ชุด",250]
[null,12.5,"ท่อ HDPE Ø 1 1/2\"",null,null,null,null,null,null,null,"ชุด",90]
[12,"ค่าแรงและอื่น ๆ"]
[null,12.1,"น้ำยา CON-AID",null,null,null,null,null,null,null,"บาท/ลิตร",1500,"สืบราคา"]
[null,12.2,"น้ำยา Emusion",null,null,null,null,null,null,null,"บาท/ลิตร",200000,"สืบราคา"]
[null,12.3,"กล่องตาข่าย Gabion ขนาด 1.00x1.00x1.00 ม.",null,null,null,null,null,null,null,"บาท/กล่อง",1275,"สืบราคา"]
[null,12.4,"กล่องตาข่าย  Mattres ขนาด 3.00x2.00x0.30 ม.",null,null,null,null,null,null,null,"บาท/ตร.ม.",1380.8249999999998,"สืบราคา"]
[null,12.5,"แผ่นใยสงเคราะห์ Geotextile",null,null,null,null,null,null,null,"บาท/ตร.ม.",85,"สืบราคา"]
[null,12.6,"รางระบายน้ำสำเร็จรูป (ขนาด 0.58 x 0.60 ม.)",null,null,null,null,null,null,null,"บาท/ม.",{"$f":"680+195*4","v":1460},"สืบราคา"]
[null,12.7,"งานดินขุด ถมคืน",null,null,null,null,null,null,null,"บาท/ลบ.ม.",99,"กรมบัญชีกลาง  (มี.ค.56)"]
[null,12.8,"ค่าแรงผสมและเทคอนกรีตหยาบ",null,null,null,null,null,null,null,"บาท/ลบ.ม.",398,"กรมบัญชีกลาง  (มี.ค.56)"]
[null,12.9,"ค่าแรงผสมและเทคอนกรีตโครงสร้าง",null,null,null,null,null,null,null,"บาท/ลบ.ม.",436,"กรมบัญชีกลาง  (มี.ค.56)"]
[null,12.1,"ค่าแรงเทคอนกรีตผสมเสร็จ",null,null,null,null,null,null,null,"บาท/ลบ.ม.",306,"กรมบัญชีกลาง  (มี.ค.56)"]

{"sheet":"เปรียบเทียบราคา","index":4,"n_rows":31,"n_cols":19,"rows_kept":31,"cut":false,"hidden":false,"merged":[[3,3,3,4],[19,3,19,4],[20,15,21,15],[21,3,21,4],[20,1,23,1],[20,7,20,10],[21,8,21,9],[4,2,4,5],[4,7,4,10],[20,2,20,5],[5,3,5,4],[5,8,5,9],[4,1,8,1],[4,15,6,15]]}
["เปรียบเทรียบราคาวัสดุและค่าขนส่ง"]
[{"$f":"ราคาต่อหน่วย!A2","v":"(ใช้ราคาเฉลี่ยน้ำมัน ลิตรละ 29.50 บาท หาค่าขนส่ง,ค่าดำเนินการและค่าเสื่อมราคา)"}]
[]
[null,"ยางแอสฟัลท์","ณ วันที่",{"$f":"ข้อมูลโครงการ!G3","v":"2020-02-11"}]
[null,"ชนิดยาง","กรุงเทพมหานคร",null,null,null,null,{"$f":"+R6","v":"บมจ. เอสโซ่ (ประเทศไทย) อ.ศรีราชา จ.ชลบุรี"},null,null,null,null,null,null,null,"สรุปใช้",null,"บมจ.ทิปโก้แอสฟัลท์ อ.สูงเนิน จ.นครราชสีมา"]
[null,null,null,"รถบรรทุก 10 ล้อ + ลากพ่วง",null,null,null,null,"รถบรรทุก 10 ล้อ + ลากพ่วง",null,null,null,null,null,null,null,null,"บมจ. เอสโซ่ (ประเทศไทย) อ.ศรีราชา จ.ชลบุรี"]
[]
[null,null,"ราคาที่แหล่ง","ระยะทาง","ค่าขนส่ง","รวม",null,"ราคาที่แหล่ง","ระยะทาง","ค่าขนส่ง","รวม",null,"ราคาที่แหล่ง","ระยะทาง","ค่าขนส่ง","รวม","แหล่งวัสดุ"]
[null,null,"(บาท)","(กม.)","(บาท)","(บาท/ตัน)",null,"(บาท)","(กม.)","(บาท)","(บาท/ตัน)",null,"(บาท)","(กม.)","(บาท)","(บาท/ตัน)",null,"อ.สูงเนิน จ.นครราชสีมา"]
[null,"CSS-1h",19238.669999999998,{"$f":"ข้อมูลขนส่ง!C49","v":541},{"$f":"IF(D10=0,0,ROUND(IF($D$6=ข้อมูลขนส่ง!$AE$5,(ROUND(VLOOKUP(D10,รถพ่วงขนส่ง!$M$9:$O$208,2),2)+IF(D10>200,(D10-200)*ข้อมูลขนส่ง!$Y$28,0))*1,(ROUND(VLOOKUP(D10,สิบล้อขนส่ง!$M$9:$O$208,2),2)+IF(D10>200,(D10-200)*ข้อมูลขนส่ง!$X$28,0))*1),2))","v":789.07},{"$f":"IF(D10=0,0,ROUND(C10+E10,2))","v":20027.740000000002},null,{"$f":"+C10-$J$17","v":19057.939999999999},{"$f":"+ข้อมูลขนส่ง!C50","v":631},{"$f":"IF(I10=0,0,ROUND(IF($I$6=ข้อมูลขนส่ง!$AE$5,(ROUND(VLOOKUP(I10,รถพ่วงขนส่ง!$M$9:$O$208,2),2)+IF(I10>200,(I10-200)*ข้อมูลขนส่ง!$Y$28,0))*1,(ROUND(VLOOKUP(I10,สิบล้อขนส่ง!$M$9:$O$208,2),2)+IF(I10>200,(I10-200)*ข้อมูลขนส่ง!$X$28,0))*1),2))","v":920.47},{"$f":"IF(I10=0,0,ROUND(H10+J10,2))","v":19978.41},null,{"$f":"IF(F10<K10,C10,H10)","v":19057.939999999999},{"$f":"IF(F10<K10,D10,I10)","v":631},{"$f":"+J10","v":920.47},{"$f":"IF(N10=0,0,ROUND(M10+O10,2))","v":19978.41},{"$f":"IF(F10<K10,$C$5,$H$5)","v":"บมจ. เอสโซ่ (ประเทศไทย) อ.ศรีราชา จ.ชลบุรี"},1,"AC 60/70"]
[null,"CSS-1",19669.330000000002,{"$f":"D10","v":541},{"$f":"IF(D11=0,0,ROUND(IF($D$6=ข้อมูลขนส่ง!$AE$5,(ROUND(VLOOKUP(D11,รถพ่วงขนส่ง!$M$9:$O$208,2),2)+IF(D11>200,(D11-200)*ข้อมูลขนส่ง!$Y$28,0))*1,(ROUND(VLOOKUP(D11,สิบล้อขนส่ง!$M$9:$O$208,2),2)+IF(D11>200,(D11-200)*ข้อมูลขนส่ง!$X$28,0))*1),2))","v":789.07},20458.400000000001,null,{"$f":"+C11-$J$17","v":19488.600000000002},{"$f":"I10","v":631},{"$f":"IF(I11=0,0,ROUND(IF($I$6=ข้อมูลขนส่ง!$AE$5,(ROUND(VLOOKUP(I11,รถพ่วงขนส่ง!$M$9:$O$208,2),2)+IF(I11>200,(I11-200)*ข้อมูลขนส่ง!$Y$28,0))*1,(ROUND(VLOOKUP(I11,สิบล้อขนส่ง!$M$9:$O$208,2),2)+IF(I11>200,(I11-200)*ข้อมูลขนส่ง!$X$28,0))*1),2))","v":920.47},{"$f":"IF(I11=0,0,ROUND(H11+J11,2))","v":20409.07},null,{"$f":"IF(F11<K11,C11,H11)","v":19488.600000000002},{"$f":"IF(F11<K11,D11,I11)","v":631},{"$f":"+J11","v":920.47},20409.07,{"$f":"IF(F11<K11,$C$5,$H$5)","v":"บมจ. เอสโซ่ (ประเทศไทย) อ.ศรีราชา จ.ชลบุรี"},29315,"PARA AC"]
[null,"CRS-2",19022.669999999998,{"$f":"D11","v":541},{"$f":"IF(D12=0,0,ROUND(IF($D$6=ข้อมูลขนส่ง!$AE$5,(ROUND(VLOOKUP(D12,รถพ่วงขนส่ง!$M$9:$O$208,2),2)+IF(D12>200,(D12-200)*ข้อมูลขนส่ง!$Y$28,0))*1,(ROUND(VLOOKUP(D12,สิบล้อขนส่ง!$M$9:$O$208,2),2)+IF(D12>200,(D12-200)*ข้อมูลขนส่ง!$X$28,0))*1),2))","v":789.07},19811.740000000002,null,18841.939999999999,{"$f":"I11","v":631},{"$f":"IF(I12=0,0,ROUND(IF($I$6=ข้อมูลขนส่ง!$AE$5,(ROUND(VLOOKUP(I12,รถพ่วงขนส่ง!$M$9:$O$208,2),2)+IF(I12>200,(I12-200)*ข้อมูลขนส่ง!$Y$28,0))*1,(ROUND(VLOOKUP(I12,สิบล้อขนส่ง!$M$9:$O$208,2),2)+IF(I12>200,(I12-200)*ข้อมูลขนส่ง!$X$28,0))*1),2))","v":920.47},{"$f":"IF(I12=0,0,ROUND(H12+J12,2))","v":19762.41},null,{"$f":"IF(F12<K12,C12,H12)","v":18841.939999999999},{"$f":"IF(F12<K12,D12,I12)","v":631},920.47,19762.41,{"$f":"IF(F12<K12,$C$5,$H$5)","v":"บมจ. เอสโซ่ (ประเทศไทย) อ.ศรีราชา จ.ชลบุรี"},"กรุงเทพมหานคร"]
[null,{"$f":"IF(ปร.4!V4=ปร.4!U7,\"Para AC\",IF(ปร.4!V4=ปร.4!U8,\"AC 60/70\"))","v":"AC 60/70"},{"$f":"IF(ปร.4!V4=ปร.4!U7,R14,IF(ปร.4!V4=ปร.4!U8,R13))","v":14650},{"$f":"D12","v":541},{"$f":"IF(D13=0,0,ROUND(IF($D$6=ข้อมูลขนส่ง!$AE$5,(ROUND(VLOOKUP(D13,รถพ่วงขนส่ง!$M$9:$O$208,2),2)+IF(D13>200,(D13-200)*ข้อมูลขนส่ง!$Y$28,0))*1,(ROUND(VLOOKUP(D13,สิบล้อขนส่ง!$M$9:$O$208,2),2)+IF(D13>200,(D13-200)*ข้อมูลขนส่ง!$X$28,0))*1),2))","v":789.07},15439.07,null,14469.27,{"$f":"I12","v":631},{"$f":"IF(I13=0,0,ROUND(IF($I$6=ข้อมูลขนส่ง!$AE$5,(ROUND(VLOOKUP(I13,รถพ่วงขนส่ง!$M$9:$O$208,2),2)+IF(I13>200,(I13-200)*ข้อมูลขนส่ง!$Y$28,0))*1,(ROUND(VLOOKUP(I13,สิบล้อขนส่ง!$M$9:$O$208,2),2)+IF(I13>200,(I13-200)*ข้อมูลขนส่ง!$X$28,0))*1),2))","v":920.47},{"$f":"IF(I13=0,0,ROUND(H13+J13,2))","v":15389.74},null,{"$f":"IF(F13<K13,C13,H13)","v":14469.27},{"$f":"IF(F13<K13,D13,I13)","v":631},920.47,15389.74,{"$f":"IF(F13<K13,$C$5,$H$5)","v":"บมจ. เอสโซ่ (ประเทศไทย) อ.ศรีราชา จ.ชลบุรี"},14650,"AC 60/70"]
[null,"MC-70",35650,{"$f":"D13","v":541},{"$f":"IF(D14=0,0,ROUND(IF($D$6=ข้อมูลขนส่ง!$AE$5,(ROUND(VLOOKUP(D14,รถพ่วงขนส่ง!$M$9:$O$208,2),2)+IF(D14>200,(D14-200)*ข้อมูลขนส่ง!$Y$28,0))*1,(ROUND(VLOOKUP(D14,สิบล้อขนส่ง!$M$9:$O$208,2),2)+IF(D14>200,(D14-200)*ข้อมูลขนส่ง!$X$28,0))*1),2))","v":789.07},36439.07,null,35469.269999999997,{"$f":"I13","v":631},{"$f":"IF(I14=0,0,ROUND(IF($I$6=ข้อมูลขนส่ง!$AE$5,(ROUND(VLOOKUP(I14,รถพ่วงขนส่ง!$M$9:$O$208,2),2)+IF(I14>200,(I14-200)*ข้อมูลขนส่ง!$Y$28,0))*1,(ROUND(VLOOKUP(I14,สิบล้อขนส่ง!$M$9:$O$208,2),2)+IF(I14>200,(I14-200)*ข้อมูลขนส่ง!$X$28,0))*1),2))","v":920.47},{"$f":"IF(I14=0,0,ROUND(H14+J14,2))","v":36389.74},null,{"$f":"IF(F14<K14,C14,H14)","v":35469.269999999997},{"$f":"IF(F14<K14,D14,I14)","v":631},920.47,36389.74,{"$f":"IF(F14<K14,$C$5,$H$5)","v":"บมจ. เอสโซ่ (ประเทศไทย) อ.ศรีราชา จ.ชลบุรี"},32750,"PARA AC"]
[null,"CSS-1h (EMA)",null,{"$f":"IF(C15=0,0,ข้อมูลขนส่ง!C48)","v":0},{"$f":"IF(D15=0,0,ROUND(IF($D$6=ข้อมูลขนส่ง!$AE$5,(ROUND(VLOOKUP(D15,รถพ่วงขนส่ง!$M$9:$O$208,2),2)+IF(D15>200,(D15-200)*ข้อมูลขนส่ง!$Y$28,0))*1,(ROUND(VLOOKUP(D15,สิบล้อขนส่ง!$M$9:$O$208,2),2)+IF(D15>200,(D15-200)*ข้อมูลขนส่ง!$X$28,0))*1),2))","v":0},0,null,null,null,null,null,null,{"$f":"C15","v":0},{"$f":"D15","v":0},{"$f":"E15","v":0},0,{"$f":"IF(C15=0,\"\",\"บมจ.ทิปโก้แอสฟัลท์ อ.สูงเนิน จ.นครราชสีมา\")","v":""}]
[null,null,null,null,{"$f":"IF(D16=0,0,ROUND(IF($D$6=ข้อมูลขนส่ง!$AE$5,(ROUND(VLOOKUP(D16,รถพ่วงขนส่ง!$M$9:$O$208,2),2)+IF(D16>200,(D16-200)*ข้อมูลขนส่ง!$Y$28,0))*1,(ROUND(VLOOKUP(D16,สิบล้อขนส่ง!$M$9:$O$208,2),2)+IF(D16>200,(D16-200)*ข้อมูลขนส่ง!$X$28,0))*1),2))","v":0},{"$f":"IF(D16=0,0,ROUND(C16+E16,2))","v":0},null,{"$f":"IF(C16=0,0,C16-$J$7)","v":0},{"$f":"IF(C16=0,0,I10)","v":0},{"$f":"IF(I16=0,0,ROUND(IF($I$6=ข้อมูลขนส่ง!$AE$5,(ROUND(VLOOKUP(I16,รถพ่วงขนส่ง!$M$9:$O$208,2),2)+IF(I16>200,(I16-200)*ข้อมูลขนส่ง!$Y$28,0))*1,(ROUND(VLOOKUP(I16,สิบล้อขนส่ง!$M$9:$O$208,2),2)+IF(I16>200,(I16-200)*ข้อมูลขนส่ง!$X$28,0))*1),2))","v":0},{"$f":"IF(I16=0,0,ROUND(H16+J16,2))","v":0},null,{"$f":"IF(F16<K16,C16,H16)","v":0},{"$f":"IF(F16<K16,D16,I16)","v":0},{"$f":"IF(N16=0,0,ROUND((ROUND(VLOOKUP(N16,รถพ่วงขนส่ง!$M$9:$O$208,2),2)+IF(N16>200,(N16-200)*ข้อมูลขนส่ง!$Y$28,0))*1,2))","v":0},{"$f":"IF(N16=0,0,ROUND(M16+O16,2))","v":0},{"$f":"IF(C16=0,\"\",IF(F16<K16,$C$5,$H$5))","v":""}]
[null,"หมายเหตุ","หักระยะทางขนส่งจาก กรุงเทพฯ - อ.ศรีราชา จ.ชลบุรี  ",null,null,null,null,{"$f":"+ข้อมูลขนส่ง!C43","v":124},"  กม.  =",{"$f":"+ข้อมูลขนส่ง!Z43","v":180.73},"บาท/ตัน",null,"(ใช้ราคาเฉลี่ยน้ำมัน ลิตรละ ",null,null,{"$f":"+ข้อมูลขนส่ง!C6","v":29.5}," บาท / ลิตร ณ  กรุงเทพมหานคร)"]
[]
[]
[null,"หินโม่","ณ วันที่",{"$f":"D4","v":"2020-02-11"}]
[null,"ชนิดหิน","โรงโม่       อ.นากลาง  จ.หนองบัวลำภู",null,null,null,null,"โรงโม่       อ.นากลาง  จ.หนองบัวลำภู",null,null,null,null,null,null,null,"สรุปใช้",null,null,"โรงโม่ศิลาวัฒน์ ตำบล สามัคคี อำเภอ น้ำโสม อุดรธานี 41210"]
[null,null,"ขนส่ง","รถบรรทุก 10 ล้อ + ลากพ่วง",null,null,null,"ขนส่ง","รถบรรทุก 10 ล้อ + ลากพ่วง",null,null,null,null,null,null,null,null,null,"โรงโม่หินต้อยติ่ง ตำบล อุทัยสวรรค์ อำเภอ นากลาง หนองบัวลำภู 39170"]
[null,null,"ราคาที่แหล่ง","ระยะทาง","ค่าขนส่ง","รวม",null,"ราคาที่แหล่ง","ระยะทาง","ค่าขนส่ง","รวม",null,"ราคาที่แหล่ง","ระยะทาง","ค่าขนส่ง","รวม","แหล่งวัสดุ"]
[null,null,"(บาท)","(กม.)","(บาท)","(บาท/ลบ.ม.)",null,"(บาท)","(กม.)","(บาท)","(บาท/ตัน)",null,"(บาท)","(กม.)","(บาท)","(บาท/ตัน)"]
[null,"หินคลุก",170,{"$f":"ข้อมูลขนส่ง!C51","v":62},{"$f":"IF(D25=0,0,ROUND(IF($D$22=ข้อมูลขนส่ง!$AE$5,(ROUND(VLOOKUP(D25,รถพ่วงขนส่ง!$M$9:$O$208,2),2)+IF(D25>200,(D25-200)*ข้อมูลขนส่ง!$Y$28,0))*1,(ROUND(VLOOKUP(D25,สิบล้อขนส่ง!$M$9:$O$208,2),2)+IF(D25>200,(D25-200)*ข้อมูลขนส่ง!$X$28,0))*1),2))","v":90.67},{"$f":"IF(D25=0,0,ROUND(C25+E25,2))","v":260.67},null,170,{"$f":"ข้อมูลขนส่ง!C51","v":62},{"$f":"IF(I25=0,0,ROUND(IF($I$22=ข้อมูลขนส่ง!$AE$5,(ROUND(VLOOKUP(I25,รถพ่วงขนส่ง!$M$9:$O$208,2),2)+IF(I25>200,(I25-200)*ข้อมูลขนส่ง!$Y$28,0))*1,(ROUND(VLOOKUP(I25,สิบล้อขนส่ง!$M$9:$O$208,2),2)+IF(I25>200,(I25-200)*ข้อมูลขนส่ง!$X$28,0))*1),2))","v":90.67},{"$f":"IF(I25=0,0,ROUND(H25+J25,2))","v":260.67},null,{"$f":"IF(F25<K25,C25,H25)","v":170},{"$f":"IF(F25<K25,D25,I25)","v":62},{"$f":"IF(F25<K25,E25,J25)","v":90.67},{"$f":"IF(N25=0,0,ROUND(M25+O25,2))","v":260.67},{"$f":"IF(F25<K25,$C$21,$H$21)","v":"โรงโม่       อ.นากลาง  จ.หนองบัวลำภู"}]
[null,"หินฝุ่น",280,{"$f":"D25","v":62},{"$f":"+E25","v":90.67},{"$f":"IF(D26=0,0,ROUND(C26+E26,2))","v":370.67},null,280,{"$f":"I25","v":62},90.67,{"$f":"IF(I26=0,0,ROUND(H26+J26,2))","v":370.67},null,280,{"$f":"IF(F26<K26,D26,I26)","v":62},{"$f":"IF(F26<K26,E26,J26)","v":90.67},{"$f":"IF(N26=0,0,ROUND(M26+O26,2))","v":370.67},{"$f":"IF(F26<K26,$C$21,$H$21)","v":"โรงโม่       อ.นากลาง  จ.หนองบัวลำภู"}]
[null,"หิน 3/8\"",230,{"$f":"D26","v":62},{"$f":"+E26","v":90.67},320.67,null,230,62,90.67,320.67,null,230,62,90.67,320.67,"โรงโม่       อ.นากลาง  จ.หนองบัวลำภู"]
[null,"หิน 1/2\"",330,{"$f":"D27","v":62},90.67,420.67,null,330,62,90.67,420.67,null,330,62,90.67,420.67,"โรงโม่       อ.นากลาง  จ.หนองบัวลำภู"]
[null,"หิน 3/4\"",290,{"$f":"D28","v":62},90.67,380.67,null,290,62,90.67,380.67,null,290,62,90.67,380.67,"โรงโม่       อ.นากลาง  จ.หนองบัวลำภู"]
[null,"หินใหญ่",220,{"$f":"D29","v":62},90.67,310.67,null,220,62,90.67,310.67,null,220,62,90.67,310.67,"โรงโม่       อ.นากลาง  จ.หนองบัวลำภู"]
[null,null,null,null,{"$f":"IF(D31=0,0,ROUND(IF($D$22=ข้อมูลขนส่ง!$AE$5,(ROUND(VLOOKUP(D31,รถพ่วงขนส่ง!$M$9:$O$208,3),2)+IF(D31>200,(D31-200)*ข้อมูลขนส่ง!$Y$28,0))*1,(ROUND(VLOOKUP(D31,สิบล้อขนส่ง!$M$9:$O$208,3),2)+IF(D31>200,(D31-200)*ข้อมูลขนส่ง!$X$28,0))*1),2))","v":0},0,null,null,{"$f":"IF(H31=0,0,I30)","v":0},{"$f":"IF(I31=0,0,J30)","v":0},0,null,0,0,0,0,{"$f":"IF(C31=0,\"\",IF(F31<K31,$C$5,$H$5))","v":""}]

{"sheet":"ราคาป้าย","index":5,"n_rows":82,"n_cols":9,"rows_kept":82,"cut":false,"hidden":false,"merged":[[70,7,70,8],[2,2,2,4],[0,3,0,4],[70,2,71,4],[70,5,70,6]]}
[null,null,null,"ป้ายและเครื่องหมายจราจร"]
[null,"งานติดตั้งป้ายและเครื่องหมายจราจร (ป้ายจราจร 2)",null,null,null,"ณ วันที่","2016-01-01"]
[null,null,"รายละเอียด",null,null,"ราคา","หน่วย"]
[null,null,"1 ป้ายจราจร"]
[null,null,"     -  แบบ บ1",null,"(แบบที่ 9)",4040,"ชุด"]
[null,null,"     -  แบบ บ2",null,null,2380,"ชุด"]
[null,null,"     -   แบบ บ3-บ55",null,null,2660,"ชุด"]
[null,null,"     -   แบบ ต1-ต27,ต31-ต60,ต75",null,null,2840,"ชุด"]
[null,null,"     -   แบบ ต28-ต30,ต62",null,"(แบบที่ 9)",4040,"ชุด"]
[null,null,"     -   แบบ ต61",null,"(แบบที่ 9)",4830,"ชุด"]
[null,null,"     -   แบบ ต63+ต66  (1 แผ่น)",null,"(แบบที่ 9)",4550,"ชุด"]
[null,null,"     -   แบบ ต63+ต66  (2 แผ่น เสาเดียว)",null,"(แบบที่ 9)",8540,"ชุด"]
[null,null,"     -   แบบ ต64,ต67",null,"(แบบที่ 9)",3920,"ชุด"]
[null,null,"     -   แบบ ต65,ต68,ต70",null,"(แบบที่ 9)",6070,"ชุด"]
[null,null,"     -   แบบ ต69",null,"(แบบที่ 9)",4940,"ชุด"]
[null,null,"     -   แบบ ต71",null,"(แบบที่ 9)",3920,"ชุด"]
[null,null,"     -   แบบ ต72-ต73",null,"(แบบที่ 9)",3920,"ชุด"]
[null,null,"     -   แบบ ต74",null,null,4310,"ชุด"]
[null,null,"     -   แบบ ต76",null,null,2470,"ชุด"]
[null,null,"     -   แบบ ต77",null,null,4240,"ชุด"]
[null,null,"     -   แบบ ต78",null,null,2960,"ชุด"]
[null,null,"     -   แบบ บ3 - บ55 + ต1 - ต27, ต31- ต60",null,null,3490,"ชุด"]
[null,null,"     -   แบบ ต1-ต27+ต73,ต31-ต60+ต73",null,null,4220,"ชุด"]
[null,null,"     -   แบบ ต1-ต27+ต74,ต31-ต60+ต74",null,null,5350,"ชุด"]
[null,null,"     -   แบบ ต1-ต27+ต75,ต31-ต60+ต75",null,null,3670,"ชุด"]
[null,null,"     -   แบบ ต1-ต27+ต76,ต31-ต60+ต76",null,null,3300,"ชุด"]
[null,null,"     -   แบบ ต1-ต27+ต77,ต31-ต60+ต77",null,null,5280,"ชุด"]
[null,null,"     -   แบบ ต1-ต27+ต78,ต31-ต60+ต78",null,null,3790,"ชุด"]
[null,null,"     -   ป้าย หมายเลขทางหลวงชนบท (น-1)",null,null,4380,"ชุด"]
[null,null,"     -   ป้าย หมายเลขทางหลวงชนบท (น-1/1)",null,null,2900,"ชุด"]
[null,null,"     -   ป้าย บอกจุดหมาย ปลายทาง (1-น-2)",null,null,8510,"ชุด"]
[null,null,"     -   ป้าย บอกจุดหมาย ปลายทาง (2-น-2)",null,null,13040,"ชุด"]
[null,null,"     -   ป้าย บอกจุดหมาย ปลายทาง (3-น-2)",null,null,17690,"ชุด"]
[null,null,"     -   ป้าย บอกระยะทาง (1-น-3)",null,null,7920,"ชุด"]
[null,null,"     -   ป้าย บอกระยะทาง (2-น-3)",null,null,11860,"ชุด"]
[null,null,"     -   ป้าย บอกระยะทาง (3-น-3)",null,null,15920,"ชุด"]
[null,null,"     -   ป้าย บอกจุดหมายและระยะทาง (น-4)",null,null,8510,"ชุด"]
[null,null,"     -   ป้าย บอกหมู่บ้าน (น-5)",null,null,5000,"ชุด"]
[null,null,"     -   ป้าย บอกคลองทางน้ำ (น-6)",null,null,3240,"ชุด"]
[null,null,"     -   ป้าย สิ้นสุดสายทาง (น-7)",null,null,3860,"ชุด"]
[null,null,"     -   ป้าย ระบุทิศทาง (น-8 )",null,null,2420,"ชุด"]
[null,null,"     -   ป้าย ระบุทิศทาง (นส-1 ถึง นส-14)",null,null,2520,"ชุด"]
[null,null,"     -   ป้าย น-1+นส-1 ถึง นส-14",null,null,5100,"ชุด"]
[null,null,"     -   ป้าย น-1/1+นส-1 ถึง นส-14",null,null,3410,"ชุด"]
[null,null,"     -   ป้าย น-1+นส-1 ถึง นส-14 + น-1+นส-1 ถึง นส-14",null,null,7980,"ชุด"]
[null,null,"     -   ป้าย น-1+น-1/1+นส-1 ถึง นส-14 + นส-14",null,null,5600,"ชุด"]
[null,null,"     -   ป้าย น-1+น-1/1(2ชิ้น)+นส-1 ถึง นส-14(3ชิ้น)",null,null,7900,"ชุด"]
[null,null,"     -   ป้ายกำหนดน้ำหนักบรรทุก",null,null,9910,"ชุด"]
[null,null,"2 งานหลักนำโค้ง หลักกิโลเมตร หลักเขตทาง"]
[null,null,"      -  หลักนำโค้ง / หลักตำแหน่งท่อ  คสล.",null,null,750,"หลัก"]
[null,null,"      -  หลักกิโลเมตร",null,null,2260,"หลัก"]
[null,null,"       -  หลักเขตทาง",null,null,340,"หลัก"]
[null,null,"3 งานเครื่องหมายจราจรบนผิวทาง"]
[null,null,"       -  สีเหลือง กว้าง",null,null,290,"ตร.ม."]
[null,null,"       -  สีขาว กว้าง",null,null,290,"ตร.ม."]
[null,null,"       -  ทางม้าลาย ( 1 แห่ง = 9.0 ตร.ม.)",null,null,2610,"แห่ง"]
[null,null,"4 หมุดสะท้อนแสง "]
[null,null,"       -  ชนิดทิศทางเดียว",null,null,175,"ชุด"]
[null,null,"       -  ชนิดสองทิศทาง",null,null,215,"ชุด"]
[null,null,"5 สัญญาณไฟกระพริบ"]
[null,null,"      - สัญญาณไฟกระพริบ",null,null,19000,"ชุด"]
[null,null,"      - สัญญาณไฟกระพริบ + บ1",null,null,21100,"ชุด"]
[null,null,"      - สัญญาณไฟกระพริบ + ต",null,null,19900,"ชุด"]
[null,null,"6 RUMBLE STRIP ( 3  จุด = 1 แห่ง = 7.8 ตร.ม.)",null,null,410,"ตร.ม."]
[null,null,"7 TIMBER BARRICADE",null,null,870,"ม."]
[null,null,"8 GUARD RAIL"]
[null,null,"       -  GUARD RAIL (ทางตรง)",null,null,1280,"ม."]
[null,null,"       -  GUARD RAIL (ทางโค้ง)",null,null,1660,"ม."]
[]
[null,"งานจัดการจราจรระหว่างก่อสร้าง",null,null,null,"ณ วันที่","2012-08-27"]
[null,null,"รายละเอียด",null,null,"เช่าติดตั้ง",null,"ซื้อติดตั้ง"]
[null,null,null,null,null,"ราคา","หน่วย","ราคา","หน่วย"]
[null,null,null,"รูปแบบที่ 1",null,3060,"บาท/เดือน",1,"บาท/ชุด"]
[null,null,null,"รูปแบบที่ 2",null,3830,"บาท/เดือน",2,"บาท/ชุด"]
[null,null,null,"รูปแบบที่ 3",null,4980,"บาท/เดือน",3,"บาท/ชุด"]
[null,null,null,"รูปแบบที่ 4",null,5040,"บาท/เดือน",4,"บาท/ชุด"]
[null,null,null,"รูปแบบที่ 5",null,4610,"บาท/เดือน",5,"บาท/ชุด"]
[null,null,null,"รูปแบบที่ 6",null,5140,"บาท/เดือน",6,"บาท/ชุด"]
[null,null,null,"รูปแบบที่ 7",null,6970,"บาท/เดือน",7,"บาท/ชุด"]
[null,null,null,"รูปแบบที่ 8",null,4630,"บาท/เดือน",8,"บาท/ชุด"]
[null,null,null,"รูปแบบที่ 9",null,9200,"บาท/เดือน",9,"บาท/ชุด"]
[null,null,null,"รูปแบบเฉพาะ",null,null,"บาท/เดือน",10,"บาท/ชุด"]

{"sheet":"ดินตัด-ถม","index":6,"n_rows":473,"n_cols":22,"rows_kept":473,"cut":false,"hidden":false,"merged":[[0,10,0,20],[238,10,239,10],[238,11,239,11],[238,12,239,12],[238,13,239,13],[238,14,239,14],[238,16,239,16],[160,17,161,17],[160,18,161,18],[160,19,161,19],[160,20,161,20],[199,16,200,16],[238,17,239,17],[238,18,239,18],[238,19,239,19],[238,20,239,20],[199,17,200,17],[199,18,200,18],[199,19,200,19],[199,20,200,20],[199,10,200,10],[199,11,200,11],[199,12,200,12],[199,13,200,13],[199,14,200,14],[121,17,122,17],[121,18,122,18],[121,19,122,19],[121,20,122,20],[160,10,161,10],[160,11,161,11],[160,12,161,12],[160,13,161,13],[160,14,161,14],[160,16,161,16],[121,10,122,10],[121,11,122,11],[121,12,122,12],[121,13,122,13],[121,14,122,14],[121,16,122,16],[82,20,83,20],[42,20,43,20],[82,10,83,10],[82,19,83,19],[82,14,83,14],[82,18,83,18],[82,16,83,16],[82,17,83,17],[42,17,43,17],[42,18,43,18],[82,11,83,11],[82,12,83,12],[82,13,83,13],[5,20,6,20],[42,10,43,10],[42,11,43,11],[42,12,43,12],[42,13,43,13],[42,14,43,14],[42,16,43,16],[5,13,6,13],[5,14,6,14],[42,19,43,19],[5,16,6,16],[5,17,6,17],[5,18,6,18],[5,19,6,19],[5,12,6,12],[4,2,4,3],[4,4,4,5],[4,1,6,1],[5,10,6,10],[5,11,6,11],[278,18,279,18],[278,19,279,19],[278,11,279,12],[278,13,279,13],[278,14,279,15],[278,16,279,16],[278,17,279,17]]}
[null,null,null,null,null,null,null,null,null,null,{"$f":"\"งาน\"&ข้อมูลโครงการ!$G$2&\" สาย\"&ข้อมูลโครงการ!$G$7","v":"งานก่อสร้างขยายใหล่ทางคอนกรีตเสริมเหล็ก พร้อมระบบระบายน้ำ  2  ข้างทางตามแบบมาตฐานงานทางสำหรับ อปท สายซอยจันทร์สุวรรณ"}]
[null,null,null,null,null,null,null,null,null,null,{"$f":"ปร.5!C8","v":"บ้านกุดแห่ หมู่ 1 ตำบลกุดแห่ อำเภอนากลาง  จังหวัดหนองบัวลำภู         จำนวน      1    แห่ง"}]
[]
[null,"กรณีระหว่างช่วง กม.หรือสะพานให้เว้น 1 บรรทัด",null,null,null,null,null,null,null,null,null,"ช่วง",{"$f":"BackUp!G3","v":"กม.0+000 - กม.0+590 , กม.1+698 - กม.2+098 , กม.2+128 - กม.2+178  "}]
[null,"ตำแหน่ง \n(กม.)","พื้นที่หน้าตัด (ตร.ม.)",null,"ปริมาณ (ลบ.ม.)",null,null,null,null,null,null,null,{"$f":"BackUp!G4","v":""},null,null,null,null,{"$f":"ข้อมูลโครงการ!G7","v":"ซอยจันทร์สุวรรณ"}]
[null,null,null,null,null,null,null,null,null,null,"กม.","ดินตัด\n(ตร.ม.)","ดินถม\n(ตร.ม.)","ดินตัด\n(ลบ.ม.)","ดินถม\n(ลบ.ม.)",null,"กม.","ดินตัด\n(ตร.ม.)","ดินถม\n(ตร.ม.)","ดินตัด\n(ลบ.ม.)","ดินถม\n(ลบ.ม.)"]
[null,null,"ดินตัด","ดินถม","ดินตัด","ดินถม"]
[{"$f":"IF(OR(ISTEXT(B8)=TRUE,B8=\"\"),\"\",B8)","v":0},0,1,1,{"$f":"IF(OR(C8=\"-\",C8=\"\"),0,ROUND(IF(A9=\"\",(($A8-$A7)/2*C8),IF(AND($A9>$A8,$A7=\"\"),($A9-$A8)/2*C8,IF(($A9>$A8),(($A9-$A8)/2*C8)+(($A8-$A7)/2*C8),(($A8-$A7)/2*C8)))),2))","v":12.5},{"$f":"IF(OR(D8=\"-\",D8=\"\"),0,ROUND(IF(A9=\"\",(($A8-$A7)/2*D8),IF(AND($A9>$A8,$A7=\"\"),($A9-$A8)/2*D8,IF(($A9>$A8),(($A9-$A8)/2*D8)+(($A8-$A7)/2*D8),(($A8-$A7)/2*D8)))),2))","v":12.5},null,null,null,null,{"$f":"IF(B8=\"\",\"\",TEXT(B8,\"0+000\"))","v":"0+000"},{"$f":"IF(K8=\"\",\"\",C8)","v":1},{"$f":"IF(K8=\"\",\"\",D8)","v":1},{"$f":"IF(L8=\"\",\"\",E8)","v":12.5},{"$f":"IF(M8=\"\",\"\",F8)","v":12.5},null,{"$f":"IF(B41=\"\",\"\",TEXT(B41,\"0+000\"))","v":"0+825"},{"$f":"IF(Q8=\"\",\"\",C41)","v":0},{"$f":"IF(Q8=\"\",\"\",D41)","v":0},{"$f":"IF(R8=\"\",\"\",E41)","v":0},{"$f":"IF(S8=\"\",\"\",F41)","v":0}]
[{"$f":"IF(OR(ISTEXT(B9)=TRUE,B9=\"\"),\"\",B9)","v":25},25,1,1,25,25,null,null,null,null,"0+025",1,1,25,25,null,"0+850",0,0,0,0]
[50,50,1,1,25,25,null,null,null,null,"0+050",1,1,25,25,null,"0+875",0,0,0,0]
[75,75,1,0.4,25,10,null,null,null,null,"0+075",1,0.4,25,10,null,"0+900",0,0,0,0]
[100,100,2,0.2,50,5,null,null,null,null,"0+100",2,0.2,50,5,null,"0+925",0,0,0,0]
[125,125,2.1,0.3,52.5,7.5,null,null,null,null,"0+125",2.1,0.3,52.5,7.5,null,"0+950",0,0,0,0]
[150,150,1,0.5,25,12.5,null,null,null,null,"0+150",1,0.5,25,12.5,null,"0+975",0,0,0,0]
[175,175,2,0.5,50,12.5,null,null,null,null,"0+175",2,0.5,50,12.5,null,"1+000",0,0,0,0]
[200,200,2,0.5,50,12.5,null,null,null,null,"0+200",2,0.5,50,12.5,null,"","","","",""]
[225,225,2,0.5,50,12.5,null,null,null,null,"0+225",2,0.5,50,12.5,null,"","","","",""]
[250,250,2,0.5,50,12.5,null,null,null,null,"0+250",2,0.5,50,12.5,null,"","","","",""]
[275,275,1,0.5,25,12.5,null,null,null,null,"0+275",1,0.5,25,12.5,null,"","","","",""]
[300,300,1.7,0.5,42.5,12.5,null,null,null,null,"0+300",1.7,0.5,42.5,12.5,null,"","","","",""]
[325,325,2,0.5,50,12.5,null,null,null,null,"0+325",2,0.5,50,12.5,null,"","","","",""]
[350,350,null,null,0,0,null,null,null,null,"0+350",0,0,0,0,null,"","","","",""]
[375,375,null,null,0,0,null,null,null,null,"0+375",0,0,0,0,null,"","","","",""]
[400,400,null,null,0,0,null,null,null,null,"0+400",0,0,0,0,null,"","","","",""]
[425,425,null,null,0,0,null,null,null,null,"0+425",0,0,0,0,null,"","","","",""]
[450,450,null,null,0,0,null,null,null,null,"0+450",0,0,0,0,null,"","","","",""]
[475,475,null,null,0,0,null,null,null,null,"0+475",0,0,0,0,null,"","","","",""]
[500,500,null,null,0,0,null,null,null,null,"0+500",0,0,0,0,null,"","","","",""]
[525,525,null,null,0,0,null,null,null,null,"0+525",0,0,0,0,null,"","","","",""]
[550,550,null,null,0,0,null,null,null,null,"0+550",0,0,0,0,null,"","","","",""]
[575,575,null,null,0,0,null,null,null,null,"0+575",0,0,0,0,null,"","","","",""]
[600,600,null,null,0,0,null,null,null,null,"0+600",0,0,0,0,null,"","","","",""]
[625,625,null,null,0,0,null,null,null,null,"0+625",0,0,0,0,null,"","","","",""]
[650,650,null,null,0,0,null,null,null,null,"0+650",0,0,0,0,null,"","","","",""]
[675,675,null,null,0,0,null,null,null,null,"0+675",0,0,0,0,null,"","","","",""]
[700,700,null,null,0,0,null,null,null,null,"0+700",0,0,0,0,null,"","","","",""]
[725,725,null,null,0,0,null,null,null,null,"0+725",0,0,0,0,null,"","","","",""]
[750,750,null,null,0,0,null,null,null,null,"0+750",0,0,0,0,null,"","","","",""]
[775,775,null,null,0,0,null,null,null,null,"0+775",0,0,0,0,null,"","","","",""]
[800,800,null,null,0,0,null,null,null,null,"0+800",0,0,0,0,null,"","","","",""]
[825,825,null,null,0,0]
[850,850,null,null,0,0,null,null,null,null,null,null,null,null,null,null,"รวมทั้งสิ้น",{"$f":"SUM(L8:L40)+SUM(R8:R40)","v":21.8},{"$f":"SUM(M8:M40)+SUM(S8:S40)","v":7.9},{"$f":"SUM(N8:N40)+SUM(T8:T40)","v":532.5},{"$f":"SUM(O8:O40)+SUM(U8:U40)","v":185},{"$f":"SUM(N8:O40,T8:U40)","v":717.5}]
[875,875,null,null,0,0,null,null,null,null,"กม.","ดินตัด\n(ตร.ม.)","ดินถม\n(ตร.ม.)","ดินตัด\n(ลบ.ม.)","ดินถม\n(ลบ.ม.)",null,"กม.","ดินตัด\n(ตร.ม.)","ดินถม\n(ตร.ม.)","ดินตัด\n(ลบ.ม.)","ดินถม\n(ลบ.ม.)"]
[900,900,null,null,0,0]
[925,925,null,null,0,0,null,null,null,null,"ยอดยกมา",{"$f":"+R42","v":21.8},{"$f":"+S42","v":7.9},{"$f":"+T42","v":532.5},{"$f":"+U42","v":185}]
[950,950,null,null,0,0,null,null,null,null,{"$f":"IF(B74=\"\",\"\",TEXT(B74,\"0+000\"))","v":""},{"$f":"IF(K46=\"\",\"\",C74)","v":""},{"$f":"IF(K46=\"\",\"\",D74)","v":""},{"$f":"IF(L46=\"\",\"\",E74)","v":""},{"$f":"IF(M46=\"\",\"\",F74)","v":""},null,{"$f":"IF(B108=\"\",\"\",TEXT(B108,\"0+000\"))","v":""},{"$f":"IF(Q46=\"\",\"\",C108)","v":""},{"$f":"IF(Q46=\"\",\"\",D108)","v":""},{"$f":"IF(R46=\"\",\"\",E108)","v":""},{"$f":"IF(S46=\"\",\"\",F108)","v":""}]
[975,975,null,null,0,0,null,null,null,null,"","","","","",null,"","","","",""]
[1000,1000,null,null,0,0,null,null,null,null,"","","","","",null,"","","","",""]
["",null,null,null,0,0,null,null,null,null,"","","","","",null,"","","","",""]
["",null,null,null,0,0,null,null,null,null,"","","","","",null,"","","","",""]
["",null,null,null,0,0,null,null,null,null,"","","","","",null,"","","","",""]
["",null,null,null,0,0,null,null,null,null,"","","","","",null,"","","","",""]
["",null,null,null,0,0,null,null,null,null,"","","","","",null,"","","","",""]
["",null,null,null,0,0,null,null,null,null,"","","","","",null,"","","","",""]
["",null,null,null,0,0,null,null,null,null,"","","","","",null,"","","","",""]
["",null,null,null,0,0,null,null,null,null,"","","","","",null,"","","","",""]
["",null,null,null,0,0,null,null,null,null,"","","","","",null,"","","","",""]
["",null,null,null,0,0,null,null,null,null,"","","","","",null,"","","","",""]
["",null,null,null,0,0,null,null,null,null,"","","","","",null,"","","","",""]
["",null,null,null,0,0,null,null,null,null,"","","","","",null,"","","","",""]
["",null,null,null,0,0,null,null,null,null,"","","","","",null,"","","","",""]
["",null,null,null,0,0,null,null,null,null,"","","","","",null,"","","","",""]
["",null,null,null,0,0,null,null,null,null,"","","","","",null,"","","","",""]
["",null,null,null,0,0,null,null,null,null,"","","","","",null,"","","","",""]
["",null,null,null,0,0,null,null,null,null,"","","","","",null,"","","","",""]
["",null,null,null,0,0,null,null,null,null,"","","","","",null,"","","","",""]
["",null,null,null,{"$f":"IF(OR(C67=\"-\",C67=\"\"),0,ROUND(IF(A68=\"\",(($A67-$A66)/2*C67),IF(AND($A68>$A67,$A66=\"\"),($A68-$A67)/2*C67,IF(($A68>$A67),(($A68-$A67)/2*C67)+(($A67-$A66)/2*C67),(($A67-$A66)/2*C67)))),2))","v":0},0,null,null,null,null,"","","","","",null,"","","","",""]
["",null,null,null,{"$f":"IF(OR(C68=\"-\",C68=\"\"),0,ROUND(IF(A69=\"\",(($A68-$A67)/2*C68),IF(AND($A69>$A68,$A67=\"\"),($A69-$A68)/2*C68,IF(($A69>$A68),(($A69-$A68)/2*C68)+(($A68-$A67)/2*C68),(($A68-$A67)/2*C68)))),2))","v":0},0,null,null,null,null,"","","","","",null,"","","","",""]
["",null,null,null,0,0,null,null,null,null,"","","","","",null,"","","","",""]
["",null,null,null,0,0,null,null,null,null,"","","","","",null,"","","","",""]
["",null,null,null,0,0,null,null,null,null,"","","","","",null,"","","","",""]
["",null,null,null,0,{"$f":"IF(OR(D72=\"-\",D72=\"\"),0,ROUND(IF(A73=\"\",(($A72-$A71)/2*D72),IF(AND($A73>$A72,$A71=\"\"),($A73-$A72)/2*D72,IF(($A73>$A72),(($A73-$A72)/2*D72)+(($A72-$A71)/2*D72),(($A72-$A71)/2*D72)))),2))","v":0},null,null,null,null,"","","","","",null,"","","","",""]
[{"$f":"IF(OR(ISTEXT(B73)=TRUE,B73=\"\"),\"\",B73)","v":""},null,null,null,0,0,null,null,null,null,"","","","","",null,"","","","",""]
["",null,null,null,0,0,null,null,null,null,"","","","","",null,"","","","",""]
["",null,null,null,0,0,null,null,null,null,"","","","","",null,"","","","",""]
["",null,null,null,0,0,null,null,null,null,"","","","","",null,"","","","",""]
["",null,null,null,0,0,null,null,null,null,"","","","","",null,"","","","",""]
["",null,null,null,0,{"$f":"IF(OR(D78=\"-\",D78=\"\"),0,ROUND(IF(A79=\"\",(($A78-$A77)/2*D78),IF(AND($A79>$A78,$A77=\"\"),($A79-$A78)/2*D78,IF(($A79>$A78),(($A79-$A78)/2*D78)+(($A78-$A77)/2*D78),(($A78-$A77)/2*D78)))),2))","v":0},null,null,null,null,"","","","","",null,"","","","",""]
["",null,null,null,0,0,null,null,null,null,"","","","","",null,"","","","",""]
["",null,null,null,0,0]
["",null,null,null,0,0,null,null,null,null,null,null,null,null,null,null,"รวมทั้งสิ้น",{"$f":"SUM(L45:L79)+SUM(R45:R79)","v":21.8},{"$f":"SUM(M45:M79)+SUM(S45:S79)","v":7.9},{"$f":"SUM(N45:N79)+SUM(T45:T79)","v":532.5},{"$f":"SUM(O45:O79)+SUM(U45:U79)","v":185},{"$f":"SUM(N46:O79,T46:U79)","v":0}]
["",null,null,null,0,0]
["",null,null,null,0,0,null,null,null,null,"กม.","ดินตัด\n(ตร.ม.)","ดินถม\n(ตร.ม.)","ดินตัด\n(ลบ.ม.)","ดินถม\n(ลบ.ม.)",null,"กม.","ดินตัด\n(ตร.ม.)","ดินถม\n(ตร.ม.)","ดินตัด\n(ลบ.ม.)","ดินถม\n(ลบ.ม.)"]
["",null,null,null,0,0]
["",null,null,null,0,0,null,null,null,null,"ยอดยกมา",{"$f":"+R81","v":21.8},{"$f":"+S81","v":7.9},{"$f":"+T81","v":532.5},{"$f":"+U81","v":185}]
["",null,null,null,0,0,null,null,null,null,{"$f":"IF(B142=\"\",\"\",TEXT(B142,\"0+000\"))","v":""},{"$f":"IF(K86=\"\",\"\",C142)","v":""},{"$f":"IF(K86=\"\",\"\",D142)","v":""},{"$f":"IF(L86=\"\",\"\",E142)","v":""},{"$f":"IF(M86=\"\",\"\",F142)","v":""},null,{"$f":"IF(B175=\"\",\"\",TEXT(B175,\"0+000\"))","v":""},{"$f":"IF(Q86=\"\",\"\",C175)","v":""},{"$f":"IF(Q86=\"\",\"\",D175)","v":""},{"$f":"IF(R86=\"\",\"\",E175)","v":""},{"$f":"IF(S86=\"\",\"\",F175)","v":""}]
["",null,null,null,0,0,null,null,null,null,"","","","","",null,"","","","",""]
["",null,null,null,0,0,null,null,null,null,"","","","","",null,"","","","",""]
["",null,null,null,0,0,null,null,null,null,"","","","","",null,"","","","",""]
["",null,null,null,0,0,null,null,null,null,"","","","","",null,"","","","",""]
["",null,null,null,0,0,null,null,null,null,"","","","","",null,"","","","",""]
["",null,null,null,0,0,null,null,null,null,"","","","","",null,"","","","",""]
["",null,null,null,0,0,null,null,null,null,"","","","","",null,"","","","",""]
["",null,null,null,0,0,null,null,null,null,"","","","","",null,"","","","",""]
["",null,null,null,0,0,null,null,null,null,"","","","","",null,"","","","",""]
["",null,null,null,0,0,null,null,null,null,"","","","","",null,"","","","",""]
["",null,null,null,0,0,null,null,null,null,"","","","","",null,"","","","",""]
["",null,null,null,0,0,null,null,null,null,"","","","","",null,"","","","",""]
["",null,null,null,0,0,null,null,null,null,"","","","","",null,"","","","",""]
["",null,null,null,0,0,null,null,null,null,"","","","","",null,"","","","",""]
["",null,null,null,0,0,null,null,null,null,"","","","","",null,"","","","",""]
["",null,null,null,0,0,null,null,null,null,"","","","","",null,"","","","",""]
["",null,null,null,0,0,null,null,null,null,"","","","","",null,"","","","",""]
["",null,null,null,0,0,null,null,null,null,"","","","","",null,"","","","",""]
["",null,null,null,0,0,null,null,null,null,"","","","","",null,"","","","",""]
["",null,null,null,0,0,null,null,null,null,"","","","","",null,"","","","",""]
["",null,null,null,0,0,null,null,null,null,"","","","","",null,"","","","",""]
["",null,null,null,0,0,null,null,null,null,"","","","","",null,"","","","",""]
["",null,null,null,0,0,null,null,null,null,"","","","","",null,"","","","",""]
["",null,null,null,0,0,null,null,null,null,"","","","","",null,"","","","",""]
["",null,null,null,0,0,null,null,null,null,"","","","","",null,"","","","",""]
["",null,null,null,0,0,null,null,null,null,"","","","","",null,"","","","",""]
["",null,null,null,0,0,null,null,null,null,"","","","","",null,"","","","",""]
["",null,null,null,0,0,null,null,null,null,"","","","","",null,"","","","",""]
["",null,null,null,0,0,null,null,null,null,"","","","","",null,"","","","",""]
["",null,null,null,0,0,null,null,null,null,"","","","","",null,"","","","",""]
["",null,null,null,0,0,null,null,null,null,"","","","","",null,"","","","",""]
["",null,null,null,0,0,null,null,null,null,"","","","","",null,"","","","",""]
["",null,null,null,0,0]
["",null,null,null,0,0,null,null,null,null,null,null,null,null,null,null,"รวมทั้งสิ้น",{"$f":"SUM(L84:L118)+SUM(R84:R118)","v":21.8},{"$f":"SUM(M84:M118)+SUM(S84:S118)","v":7.9},{"$f":"SUM(N84:N118)+SUM(T84:T118)","v":532.5},{"$f":"SUM(O84:O118)+SUM(U84:U118)","v":185},{"$f":"SUM(N86:O118,T86:U118)","v":0}]
["",null,null,null,0,0]
["",null,null,null,0,0,null,null,null,null,"กม.","ดินตัด\n(ตร.ม.)","ดินถม\n(ตร.ม.)","ดินตัด\n(ลบ.ม.)","ดินถม\n(ลบ.ม.)",null,"กม.","ดินตัด\n(ตร.ม.)","ดินถม\n(ตร.ม.)","ดินตัด\n(ลบ.ม.)","ดินถม\n(ลบ.ม.)"]
["",null,null,null,0,0]
["",null,null,null,0,0,null,null,null,null,"ยอดยกมา",{"$f":"+R120","v":21.8},{"$f":"+S120","v":7.9},{"$f":"+T120","v":532.5},{"$f":"+U120","v":185}]
["",null,null,null,0,0,null,null,null,null,{"$f":"IF(B208=\"\",\"\",TEXT(B208,\"0+000\"))","v":""},{"$f":"IF(K125=\"\",\"\",C208)","v":""},{"$f":"IF(K125=\"\",\"\",D208)","v":""},{"$f":"IF(L125=\"\",\"\",E208)","v":""},{"$f":"IF(M125=\"\",\"\",F208)","v":""},null,{"$f":"IF(B241=\"\",\"\",TEXT(B241,\"0+000\"))","v":""},{"$f":"IF(Q125=\"\",\"\",C241)","v":""},{"$f":"IF(Q125=\"\",\"\",D241)","v":""},{"$f":"IF(R125=\"\",\"\",E241)","v":""},{"$f":"IF(S125=\"\",\"\",F241)","v":""}]
["",null,null,null,0,0,null,null,null,null,"","","","","",null,"","","","",""]
["",null,null,null,0,0,null,null,null,null,"","","","","",null,"","","","",""]
["",null,null,null,0,0,null,null,null,null,"","","","","",null,"","","","",""]
["",null,null,null,0,0,null,null,null,null,"","","","","",null,"","","","",""]
["",null,null,null,0,0,null,null,null,null,"","","","","",null,"","","","",""]
["",null,null,null,0,0,null,null,null,null,"","","","","",null,"","","","",""]
["",null,null,null,{"$f":"IF(OR(C132=\"-\",C132=\"\"),0,ROUND(IF(A133=\"\",(($A132-$A131)/2*C132),IF(AND($A133>$A132,$A131=\"\"),($A133-$A132)/2*C132,IF(($A133>$A132),(($A133-$A132)/2*C132)+(($A132-$A131)/2*C132),(($A132-$A131)/2*C132)))),2))","v":0},0,null,null,null,null,"","","","","",null,"","","","",""]
["",null,null,null,0,0,null,null,null,null,"","","","","",null,"","","","",""]
["",null,null,null,0,0,null,null,null,null,"","","","","",null,"","","","",""]
["",null,null,null,0,0,null,null,null,null,"","","","","",null,"","","","",""]
["",null,null,null,0,0,null,null,null,null,"","","","","",null,"","","","",""]
[{"$f":"IF(OR(ISTEXT(B137)=TRUE,B137=\"\"),\"\",B137)","v":""},null,null,null,0,0,null,null,null,null,"","","","","",null,"","","","",""]
["",null,null,null,0,0,null,null,null,null,"","","","","",null,"","","","",""]
["",null,null,null,0,0,null,null,null,null,"","","","","",null,"","","","",""]
["",null,null,null,0,0,null,null,null,null,"","","","","",null,"","","","",""]
["",null,null,null,0,0,null,null,null,null,"","","","","",null,"","","","",""]
["",null,null,null,0,{"$f":"IF(OR(D142=\"-\",D142=\"\"),0,ROUND(IF(A143=\"\",(($A142-$A141)/2*D142),IF(AND($A143>$A142,$A141=\"\"),($A143-$A142)/2*D142,IF(($A143>$A142),(($A143-$A142)/2*D142)+(($A142-$A141)/2*D142),(($A142-$A141)/2*D142)))),2))","v":0},null,null,null,null,"","","","","",null,"","","","",""]
["",null,null,null,0,0,null,null,null,null,"","","","","",null,"","","","",""]
["",null,null,null,0,0,null,null,null,null,"","","","","",null,"","","","",""]
["",null,null,null,0,0,null,null,null,null,"","","","","",null,"","","","",""]
["",null,null,null,0,0,null,null,null,null,"","","","","",null,"","","","",""]
["",null,null,null,0,0,null,null,null,null,"","","","","",null,"","","","",""]
["",null,null,null,0,0,null,null,null,null,"","","","","",null,"","","","",""]
["",null,null,null,0,0,null,null,null,null,"","","","","",null,"","","","",""]
["",null,null,null,0,0,null,null,null,null,"","","","","",null,"","","","",""]
["",null,null,null,0,0,null,null,null,null,"","","","","",null,"","","","",""]
["",null,null,null,0,0,null,null,null,null,"","","","","",null,"","","","",""]
["",null,null,null,0,0,null,null,null,null,"","","","","",null,"","","","",""]
["",null,null,null,0,0,null,null,null,null,"","","","","",null,"","","","",""]
["",null,null,null,0,0,null,null,null,null,"","","","","",null,"","","","",""]
["",null,null,null,0,0,null,null,null,null,"","","","","",null,"","","","",""]
["",null,null,null,0,0,null,null,null,null,"","","","","",null,"","","","",""]
["",null,null,null,0,0]
["",null,null,null,0,0,null,null,null,null,null,null,null,null,null,null,"รวมทั้งสิ้น",{"$f":"SUM(L123:L157)+SUM(R123:R157)","v":21.8},{"$f":"SUM(M123:M157)+SUM(S123:S157)","v":7.9},{"$f":"SUM(N123:N157)+SUM(T123:T157)","v":532.5},{"$f":"SUM(O123:O157)+SUM(U123:U157)","v":185},{"$f":"SUM(N125:O157,T125:U157)","v":0}]
["",null,null,null,0,0]
["",null,null,null,0,0,null,null,null,null,"กม.","ดินตัด\n(ตร.ม.)","ดินถม\n(ตร.ม.)","ดินตัด\n(ลบ.ม.)","ดินถม\n(ลบ.ม.)",null,"กม.","ดินตัด\n(ตร.ม.)","ดินถม\n(ตร.ม.)","ดินตัด\n(ลบ.ม.)","ดินถม\n(ลบ.ม.)"]
["",null,null,null,0,0]
["",null,null,null,0,0,null,null,null,null,"ยอดยกมา",{"$f":"+R159","v":21.8},{"$f":"+S159","v":7.9},{"$f":"+T159","v":532.5},{"$f":"+U159","v":185}]
["",null,null,null,0,0,null,null,null,null,{"$f":"IF(B274=\"\",\"\",TEXT(B274,\"0+000\"))","v":""},{"$f":"IF(K164=\"\",\"\",C274)","v":""},{"$f":"IF(K164=\"\",\"\",D274)","v":""},{"$f":"IF(L164=\"\",\"\",E274)","v":""},{"$f":"IF(M164=\"\",\"\",F274)","v":""},null,{"$f":"IF(B307=\"\",\"\",TEXT(B307,\"0+000\"))","v":""},{"$f":"IF(Q164=\"\",\"\",C307)","v":""},{"$f":"IF(Q164=\"\",\"\",D307)","v":""},{"$f":"IF(R164=\"\",\"\",E307)","v":""},{"$f":"IF(S164=\"\",\"\",F307)","v":""}]
["",null,null,null,0,0,null,null,null,null,"","","","","",null,"","","","",""]
["",null,null,null,0,0,null,null,null,null,"","","","","",null,"","","","",""]
["",null,null,null,0,0,null,null,null,null,"","","","","",null,"","","","",""]
["",null,null,null,0,0,null,null,null,null,"","","","","",null,"","","","",""]
["",null,null,null,0,0,null,null,null,null,"","","","","",null,"","","","",""]
["",null,null,null,0,0,null,null,null,null,"","","","","",null,"","","","",""]
["",null,null,null,0,0,null,null,null,null,"","","","","",null,"","","","",""]
["",null,null,null,0,0,null,null,null,null,"","","","","",null,"","","","",""]
["",null,null,null,0,0,null,null,null,null,"","","","","",null,"","","","",""]
["",null,null,null,0,0,null,null,null,null,"","","","","",null,"","","","",""]
["",null,null,null,0,0,null,null,null,null,"","","","","",null,"","","","",""]
["",null,null,null,0,0,null,null,null,null,"","","","","",null,"","","","",""]
["",null,null,null,0,0,null,null,null,null,"","","","","",null,"","","","",""]
["",null,null,null,0,0,null,null,null,null,"","","","","",null,"","","","",""]
["",null,null,null,0,0,null,null,null,null,"","","","","",null,"","","","",""]
["",null,null,null,0,0,null,null,null,null,"","","","","",null,"","","","",""]
["",null,null,null,0,0,null,null,null,null,"","","","","",null,"","","","",""]
["",null,null,null,0,0,null,null,null,null,"","","","","",null,"","","","",""]
["",null,null,null,0,0,null,null,null,null,"","","","","",null,"","","","",""]
["",null,null,null,0,0,null,null,null,null,"","","","","",null,"","","","",""]
["",null,null,null,0,0,null,null,null,null,"","","","","",null,"","","","",""]
["",null,null,null,0,0,null,null,null,null,"","","","","",null,"","","","",""]
["",null,null,null,0,0,null,null,null,null,"","","","","",null,"","","","",""]
["",null,null,null,0,0,null,null,null,null,"","","","","",null,"","","","",""]
["",null,null,null,0,0,null,null,null,null,"","","","","",null,"","","","",""]
["",null,null,null,0,0,null,null,null,null,"","","","","",null,"","","","",""]
["",null,null,null,0,0,null,null,null,null,"","","","","",null,"","","","",""]
["",null,null,null,0,0,null,null,null,null,"","","","","",null,"","","","",""]
["",null,null,null,0,0,null,null,null,null,"","","","","",null,"","","","",""]
["",null,null,null,0,0,null,null,null,null,"","","","","",null,"","","","",""]
["",null,null,null,0,0,null,null,null,null,"","","","","",null,"","","","",""]
["",null,null,null,{"$f":"IF(OR(C196=\"-\",C196=\"\"),0,ROUND(IF(A197=\"\",(($A196-$A195)/2*C196),IF(AND($A197>$A196,$A195=\"\"),($A197-$A196)/2*C196,IF(($A197>$A196),(($A197-$A196)/2*C196)+(($A196-$A195)/2*C196),(($A196-$A195)/2*C196)))),2))","v":0},0,null,null,null,null,"","","","","",null,"","","","",""]
["",null,null,null,0,0]
["",null,null,null,0,0,null,null,null,null,null,null,null,null,null,null,"รวมทั้งสิ้น",{"$f":"SUM(L162:L196)+SUM(R162:R196)","v":21.8},{"$f":"SUM(M162:M196)+SUM(S162:S196)","v":7.9},{"$f":"SUM(N162:N196)+SUM(T162:T196)","v":532.5},{"$f":"SUM(O162:O196)+SUM(U162:U196)","v":185},{"$f":"SUM(N164:O196,T164:U196)","v":0}]
["",null,null,null,0,0]
["",null,null,null,0,0,null,null,null,null,"กม.","ดินตัด\n(ตร.ม.)","ดินถม\n(ตร.ม.)","ดินตัด\n(ลบ.ม.)","ดินถม\n(ลบ.ม.)",null,"กม.","ดินตัด\n(ตร.ม.)","ดินถม\n(ตร.ม.)","ดินตัด\n(ลบ.ม.)","ดินถม\n(ลบ.ม.)"]
[{"$f":"IF(OR(ISTEXT(B201)=TRUE,B201=\"\"),\"\",B201)","v":""},null,null,null,0,0]
["",null,null,null,0,0,null,null,null,null,"ยอดยกมา",{"$f":"+R198","v":21.8},{"$f":"+S198","v":7.9},{"$f":"+T198","v":532.5},{"$f":"+U198","v":185}]
["",null,null,null,0,0,null,null,null,null,{"$f":"IF(B340=\"\",\"\",TEXT(B340,\"0+000\"))","v":""},{"$f":"IF(K203=\"\",\"\",C340)","v":""},{"$f":"IF(K203=\"\",\"\",D340)","v":""},{"$f":"IF(L203=\"\",\"\",E340)","v":""},{"$f":"IF(M203=\"\",\"\",F340)","v":""},null,{"$f":"IF(B373=\"\",\"\",TEXT(B373,\"0+000\"))","v":""},{"$f":"IF(Q203=\"\",\"\",C373)","v":""},{"$f":"IF(Q203=\"\",\"\",D373)","v":""},{"$f":"IF(R203=\"\",\"\",E373)","v":""},{"$f":"IF(S203=\"\",\"\",F373)","v":""}]
["",null,null,null,0,0,null,null,null,null,"","","","","",null,"","","","",""]
["",null,null,null,0,0,null,null,null,null,"","","","","",null,"","","","",""]
["",null,null,null,0,{"$f":"IF(OR(D206=\"-\",D206=\"\"),0,ROUND(IF(A207=\"\",(($A206-$A205)/2*D206),IF(AND($A207>$A206,$A205=\"\"),($A207-$A206)/2*D206,IF(($A207>$A206),(($A207-$A206)/2*D206)+(($A206-$A205)/2*D206),(($A206-$A205)/2*D206)))),2))","v":0},null,null,null,null,"","","","","",null,"","","","",""]
["",null,null,null,0,0,null,null,null,null,"","","","","",null,"","","","",""]
["",null,null,null,0,0,null,null,null,null,"","","","","",null,"","","","",""]
["",null,null,null,0,0,null,null,null,null,"","","","","",null,"","","","",""]
["",null,null,null,0,0,null,null,null,null,"","","","","",null,"","","","",""]
["",null,null,null,0,0,null,null,null,null,"","","","","",null,"","","","",""]
["",null,null,null,0,0,null,null,null,null,"","","","","",null,"","","","",""]
["",null,null,null,0,0,null,null,null,null,"","","","","",null,"","","","",""]
["",null,null,null,0,0,null,null,null,null,"","","","","",null,"","","","",""]
["",null,null,null,0,0,null,null,null,null,"","","","","",null,"","","","",""]
["",null,null,null,0,0,null,null,null,null,"","","","","",null,"","","","",""]
["",null,null,null,0,0,null,null,null,null,"","","","","",null,"","","","",""]
["",null,null,null,0,0,null,null,null,null,"","","","","",null,"","","","",""]
["",null,null,null,0,0,null,null,null,null,"","","","","",null,"","","","",""]
["",null,null,null,0,0,null,null,null,null,"","","","","",null,"","","","",""]
["",null,null,null,0,0,null,null,null,null,"","","","","",null,"","","","",""]
["",null,null,null,0,0,null,null,null,null,"","","","","",null,"","","","",""]
["",null,null,null,0,0,null,null,null,null,"","","","","",null,"","","","",""]
["",null,null,null,0,0,null,null,null,null,"","","","","",null,"","","","",""]
["",null,null,null,0,0,null,null,null,null,"","","","","",null,"","","","",""]
["",null,null,null,0,0,null,null,null,null,"","","","","",null,"","","","",""]
["",null,null,null,0,0,null,null,null,null,"","","","","",null,"","","","",""]
["",null,null,null,0,0,null,null,null,null,"","","","","",null,"","","","",""]
["",null,null,null,0,0,null,null,null,null,"","","","","",null,"","","","",""]
["",null,null,null,0,0,null,null,null,null,"","","","","",null,"","","","",""]
["",null,null,null,0,0,null,null,null,null,"","","","","",null,"","","","",""]
["",null,null,null,0,0,null,null,null,null,"","","","","",null,"","","","",""]
["",null,null,null,0,0,null,null,null,null,"","","","","",null,"","","","",""]
["",null,null,null,0,0,null,null,null,null,"","","","","",null,"","","","",""]
["",null,null,null,0,0,null,null,null,null,"","","","","",null,"","","","",""]
["",null,null,null,0,0]
["",null,null,null,0,0,null,null,null,null,null,null,null,null,null,null,"รวมทั้งสิ้น",{"$f":"SUM(L201:L235)+SUM(R201:R235)","v":21.8},{"$f":"SUM(M201:M235)+SUM(S201:S235)","v":7.9},{"$f":"SUM(N201:N235)+SUM(T201:T235)","v":532.5},{"$f":"SUM(O201:O235)+SUM(U201:U235)","v":185},{"$f":"SUM(N203:O235,T203:U235)","v":0}]
["",null,null,null,0,0]
["",null,null,null,0,0,null,null,null,null,"กม.","ดินตัด\n(ตร.ม.)","ดินถม\n(ตร.ม.)","ดินตัด\n(ลบ.ม.)","ดินถม\n(ลบ.ม.)",null,"กม.","ดินตัด\n(ตร.ม.)","ดินถม\n(ตร.ม.)","ดินตัด\n(ลบ.ม.)","ดินถม\n(ลบ.ม.)"]
["",null,null,null,0,0]
["",null,null,null,0,0,null,null,null,null,"ยอดยกมา",{"$f":"+R237","v":21.8},{"$f":"+S237","v":7.9},{"$f":"+T237","v":532.5},{"$f":"+U237","v":185}]
["",null,null,null,0,0,null,null,null,null,{"$f":"IF(B406=\"\",\"\",TEXT(B406,\"0+000\"))","v":""},{"$f":"IF(K242=\"\",\"\",C406)","v":""},{"$f":"IF(K242=\"\",\"\",D406)","v":""},{"$f":"IF(L242=\"\",\"\",E406)","v":""},{"$f":"IF(M242=\"\",\"\",F406)","v":""},null,{"$f":"IF(B439=\"\",\"\",TEXT(B439,\"0+000\"))","v":""},{"$f":"IF(Q242=\"\",\"\",C439)","v":""},{"$f":"IF(Q242=\"\",\"\",D439)","v":""},{"$f":"IF(R242=\"\",\"\",E439)","v":""},{"$f":"IF(S242=\"\",\"\",F439)","v":""}]
["",null,null,null,0,0,null,null,null,null,"","","","","",null,"","","","",""]
["",null,null,null,0,0,null,null,null,null,"","","","","",null,"","","","",""]
["",null,null,null,0,0,null,null,null,null,"","","","","",null,"","","","",""]
["",null,null,null,0,0,null,null,null,null,"","","","","",null,"","","","",""]
["",null,null,null,0,0,null,null,null,null,"","","","","",null,"","","","",""]
["",null,null,null,0,0,null,null,null,null,"","","","","",null,"","","","",""]
["",null,null,null,0,0,null,null,null,null,"","","","","",null,"","","","",""]
["",null,null,null,0,0,null,null,null,null,"","","","","",null,"","","","",""]
["",null,null,null,0,0,null,null,null,null,"","","","","",null,"","","","",""]
["",null,null,null,0,0,null,null,null,null,"","","","","",null,"","","","",""]
["",null,null,null,0,0,null,null,null,null,"","","","","",null,"","","","",""]
["",null,null,null,0,0,null,null,null,null,"","","","","",null,"","","","",""]
["",null,null,null,0,0,null,null,null,null,"","","","","",null,"","","","",""]
["",null,null,null,0,0,null,null,null,null,"","","","","",null,"","","","",""]
["",null,null,null,0,0,null,null,null,null,"","","","","",null,"","","","",""]
["",null,null,null,0,0,null,null,null,null,"","","","","",null,"","","","",""]
["",null,null,null,0,0,null,null,null,null,"","","","","",null,"","","","",""]
["",null,null,null,{"$f":"IF(OR(C260=\"-\",C260=\"\"),0,ROUND(IF(A261=\"\",(($A260-$A259)/2*C260),IF(AND($A261>$A260,$A259=\"\"),($A261-$A260)/2*C260,IF(($A261>$A260),(($A261-$A260)/2*C260)+(($A260-$A259)/2*C260),(($A260-$A259)/2*C260)))),2))","v":0},0,null,null,null,null,"","","","","",null,"","","","",""]
["",null,null,null,0,0,null,null,null,null,"","","","","",null,"","","","",""]
["",null,null,null,0,0,null,null,null,null,"","","","","",null,"","","","",""]
["",null,null,null,0,0,null,null,null,null,"","","","","",null,"","","","",""]
["",null,null,null,0,0,null,null,null,null,"","","","","",null,"","","","",""]
[{"$f":"IF(OR(ISTEXT(B265)=TRUE,B265=\"\"),\"\",B265)","v":""},null,null,null,0,0,null,null,null,null,"","","","","",null,"","","","",""]
["",null,null,null,0,0,null,null,null,null,"","","","","",null,"","","","",""]
["",null,null,null,0,0,null,null,null,null,"","","","","",null,"","","","",""]
["",null,null,null,0,0,null,null,null,null,"","","","","",null,"","","","",""]
["",null,null,null,0,0,null,null,null,null,"","","","","",null,"","","","",""]
["",null,null,null,0,{"$f":"IF(OR(D270=\"-\",D270=\"\"),0,ROUND(IF(A271=\"\",(($A270-$A269)/2*D270),IF(AND($A271>$A270,$A269=\"\"),($A271-$A270)/2*D270,IF(($A271>$A270),(($A271-$A270)/2*D270)+(($A270-$A269)/2*D270),(($A270-$A269)/2*D270)))),2))","v":0},null,null,null,null,"","","","","",null,"","","","",""]
["",null,null,null,0,0,null,null,null,null,"","","","","",null,"","","","",""]
["",null,null,null,0,0,null,null,null,null,"","","","","",null,"","","","",""]
["",null,null,null,0,0,null,null,null,null,"","","","","",null,"","","","",""]
["",null,null,null,0,0,null,null,null,null,"","","","","",null,"","","","",""]
["",null,null,null,0,0]
["",null,null,null,0,0,null,null,null,null,null,null,null,null,null,null,"รวมทั้งสิ้น",{"$f":"SUM(L240:L274)+SUM(R240:R274)","v":21.8},{"$f":"SUM(M240:M274)+SUM(S240:S274)","v":7.9},{"$f":"SUM(N240:N274)+SUM(T240:T274)","v":532.5},{"$f":"SUM(O240:O274)+SUM(U240:U274)","v":185},{"$f":"SUM(N242:O274,T242:U274)","v":0}]
["",null,null,null,0,0]
["",null,null,null,0,0,null,null,null,null,"หางานดินถม บริเวณขยายไหล่"]
["",null,null,null,0,0,null,null,null,null,null,"ตำแหน่ง\nกม. - กม.",null,"ขยายข้างละ\n(ม.)","ดินถมสูง\n(ม.)",null,"ดินตัดสูง\n(ม.)","พื้นที่\n(ตร.ม.)","ดินตัด\n(ลบ.ม.)","ดินถม\n(ลบ.ม.)"]
["",null,null,null,0,0,null,null,null,null,null,null,null,null,null,null,null,null,null,null,{"$f":"MAX(BackUp!$AH$252:$AH$255)+BackUp!$G$249*2*O281","v":0}]
["",null,null,null,0,0,null,null,null,null,null,null,null,null,null,null,null,{"$f":"+(M281-L281)*N281*2","v":0},{"$f":"(M281-L281)*(N281+0.2)*2*Q281","v":0},{"$f":"ROUNDDOWN(((N281*2)+(U280)*(M281-L281))*O281,0)","v":0},{"$f":"MAX(BackUp!$AH$252:$AH$255)+BackUp!$G$249*2*O282","v":0}]
["",null,null,null,0,0,null,null,null,null,null,null,null,null,null,null,null,0,0,0,{"$f":"MAX(BackUp!$AH$252:$AH$255)+BackUp!$G$249*2*O283","v":0}]
["",null,null,null,0,0,null,null,null,null,null,null,null,null,null,null,null,0,0,0,{"$f":"MAX(BackUp!$AH$252:$AH$255)+BackUp!$G$249*2*O284","v":0}]
["",null,null,null,0,0,null,null,null,null,null,null,null,null,null,null,null,0,0,0,{"$f":"MAX(BackUp!$AH$252:$AH$255)+BackUp!$G$249*2*O285","v":0}]
["",null,null,null,0,0,null,null,null,null,null,null,null,null,null,null,null,0,0,0,{"$f":"MAX(BackUp!$AH$252:$AH$255)+BackUp!$G$249*2*O286","v":0}]
["",null,null,null,0,0,null,null,null,null,null,null,null,null,null,null,null,0,0,0,{"$f":"MAX(BackUp!$AH$252:$AH$255)+BackUp!$G$249*2*O298","v":0}]
["",null,null,null,0,0,null,null,null,null,null,null,null,null,null,null,null,{"$f":"+(M287-L287)*N287*2","v":0},{"$f":"(M287-L287)*(N287+0.2)*2*Q287","v":0},{"$f":"ROUNDDOWN(((N287*2)+(U280)*(M287-L287))*O287,0)","v":0},{"$f":"MAX(BackUp!$AH$252:$AH$255)+BackUp!$G$249*2*O299","v":0}]
["",null,null,null,0,0,null,null,null,null,null,null,null,null,null,null,null,0,0,{"$f":"ROUNDDOWN(((N288*2)+(U281)*(M288-L288))*O288,0)","v":0}]
["",null,null,null,0,0,null,null,null,null,null,null,null,null,null,null,null,0,0,{"$f":"ROUNDDOWN(((N289*2)+(U282)*(M289-L289))*O289,0)","v":0}]
["",null,null,null,0,0,null,null,null,null,null,null,null,null,null,null,null,0,0,{"$f":"ROUNDDOWN(((N290*2)+(U283)*(M290-L290))*O290,0)","v":0}]
["",null,null,null,0,0,null,null,null,null,null,null,null,null,null,null,null,{"$f":"+(M291-L291)*N291*2","v":0},{"$f":"(M291-L291)*(N291+0.2)*2*Q291","v":0},{"$f":"ROUNDDOWN(((N291*2)+(U280)*(M291-L291))*O291,0)","v":0}]
["",null,null,null,0,0,null,null,null,null,null,null,null,null,null,null,null,{"$f":"+(M292-L292)*N292*2","v":0},{"$f":"(M292-L292)*(N292+0.2)*2*Q292","v":0},0]
["",null,null,null,0,0,null,null,null,null,null,null,null,null,null,null,null,{"$f":"+(M293-L293)*N293*2","v":0},{"$f":"(M293-L293)*(N293+0.2)*2*Q293","v":0},0]
["",null,null,null,0,0,null,null,null,null,null,null,null,null,null,null,null,{"$f":"+(M294-L294)*N294*2","v":0},{"$f":"(M294-L294)*(N294+0.2)*2*Q294","v":0},0]
["",null,null,null,0,0,null,null,null,null,null,null,null,null,null,null,null,0,0,0]
["",null,null,null,0,0,null,null,null,null,null,null,null,null,null,null,null,0,0,0]
["",null,null,null,0,0,null,null,null,null,null,null,null,null,null,null,null,{"$f":"+(M297-L297)*N297*2","v":0},{"$f":"(M297-L297)*(N297+0.2)*2*Q297","v":0},{"$f":"ROUNDDOWN(((N297*2)+(U285)*(M297-L297))*O297,0)","v":0}]
["",null,null,null,0,0,null,null,null,null,null,null,null,null,null,null,null,{"$f":"+(M298-L298)*N298*2","v":0},{"$f":"(M298-L298)*(N298+0.2)*2*Q298","v":0},{"$f":"ROUNDDOWN(((N298*2)+(U286)*(M298-L298))*O298,0)","v":0}]
["",null,null,null,0,0,null,null,null,null,null,null,null,null,null,null,null,{"$f":"+(M299-L299)*N299*2","v":0},{"$f":"(M299-L299)*(N299+0.2)*2*Q299","v":0},{"$f":"ROUNDDOWN(((N299*2)+(U287)*(M299-L299))*O299,0)","v":0}]
["",null,null,null,0,0,null,null,null,null,null,null,null,null,null,null,null,"รวม",{"$f":"SUM(S281:S299)","v":0},{"$f":"SUM(T281:T299)","v":0}]
["",null,null,null,0,0]
["",null,null,null,0,0]
["",null,null,null,0,0]
["",null,null,null,0,0]
["",null,null,null,0,0]
["",null,null,null,0,0]
["",null,null,null,0,0]
["",null,null,null,0,0]
["",null,null,null,0,0]
["",null,null,null,0,0]
["",null,null,null,0,0]
["",null,null,null,0,0]
["",null,null,null,0,0]
["",null,null,null,0,0]
["",null,null,null,0,0]
["",null,null,null,0,0]
["",null,null,null,0,0]
["",null,null,null,0,0]
["",null,null,null,0,0]
["",null,null,null,0,0]
["",null,null,null,0,0]
["",null,null,null,0,0]
["",null,null,null,0,0]
["",null,null,null,{"$f":"IF(OR(C324=\"-\",C324=\"\"),0,ROUND(IF(A325=\"\",(($A324-$A323)/2*C324),IF(AND($A325>$A324,$A323=\"\"),($A325-$A324)/2*C324,IF(($A325>$A324),(($A325-$A324)/2*C324)+(($A324-$A323)/2*C324),(($A324-$A323)/2*C324)))),2))","v":0},0]
["",null,null,null,0,0]
["",null,null,null,0,0]
["",null,null,null,0,0]
["",null,null,null,0,0]
[{"$f":"IF(OR(ISTEXT(B329)=TRUE,B329=\"\"),\"\",B329)","v":""},null,null,null,0,0]
["",null,null,null,0,0]
["",null,null,null,0,0]
["",null,null,null,0,0]
["",null,null,null,0,0]
["",null,null,null,0,{"$f":"IF(OR(D334=\"-\",D334=\"\"),0,ROUND(IF(A335=\"\",(($A334-$A333)/2*D334),IF(AND($A335>$A334,$A333=\"\"),($A335-$A334)/2*D334,IF(($A335>$A334),(($A335-$A334)/2*D334)+(($A334-$A333)/2*D334),(($A334-$A333)/2*D334)))),2))","v":0}]
["",null,null,null,0,0]
["",null,null,null,0,0]
["",null,null,null,0,0]
["",null,null,null,0,0]
["",null,null,null,0,0]
["",null,null,null,0,0]
["",null,null,null,0,0]
["",null,null,null,0,0]
["",null,null,null,0,0]
["",null,null,null,0,0]
["",null,null,null,0,0]
["",null,null,null,0,0]
["",null,null,null,0,0]
["",null,null,null,0,0]
["",null,null,null,0,0]
["",null,null,null,0,0]
["",null,null,null,0,0]
["",null,null,null,0,0]
["",null,null,null,0,0]
["",null,null,null,0,0]
["",null,null,null,0,0]
["",null,null,null,0,0]
["",null,null,null,0,0]
["",null,null,null,0,0]
["",null,null,null,0,0]
["",null,null,null,0,0]
["",null,null,null,0,0]
["",null,null,null,0,0]
["",null,null,null,0,0]
["",null,null,null,0,0]
["",null,null,null,0,0]
["",null,null,null,0,0]
["",null,null,null,0,0]
["",null,null,null,0,0]
["",null,null,null,0,0]
["",null,null,null,0,0]
["",null,null,null,0,0]
["",null,null,null,0,0]
["",null,null,null,0,0]
["",null,null,null,0,0]
["",null,null,null,0,0]
["",null,null,null,0,0]
["",null,null,null,0,0]
["",null,null,null,0,0]
["",null,null,null,0,0]
["",null,null,null,0,0]
["",null,null,null,0,0]
["",null,null,null,0,0]
["",null,null,null,0,0]
["",null,null,null,0,0]
["",null,null,null,0,0]
["",null,null,null,0,0]
["",null,null,null,0,0]
["",null,null,null,{"$f":"IF(OR(C388=\"-\",C388=\"\"),0,ROUND(IF(A389=\"\",(($A388-$A387)/2*C388),IF(AND($A389>$A388,$A387=\"\"),($A389-$A388)/2*C388,IF(($A389>$A388),(($A389-$A388)/2*C388)+(($A388-$A387)/2*C388),(($A388-$A387)/2*C388)))),2))","v":0},0]
["",null,null,null,0,0]
["",null,null,null,0,0]
["",null,null,null,0,0]
["",null,null,null,0,0]
[{"$f":"IF(OR(ISTEXT(B393)=TRUE,B393=\"\"),\"\",B393)","v":""},null,null,null,0,0]
["",null,null,null,0,0]
["",null,null,null,0,0]
["",null,null,null,0,0]
["",null,null,null,0,0]
["",null,null,null,0,{"$f":"IF(OR(D398=\"-\",D398=\"\"),0,ROUND(IF(A399=\"\",(($A398-$A397)/2*D398),IF(AND($A399>$A398,$A397=\"\"),($A399-$A398)/2*D398,IF(($A399>$A398),(($A399-$A398)/2*D398)+(($A398-$A397)/2*D398),(($A398-$A397)/2*D398)))),2))","v":0}]
["",null,null,null,0,0]
["",null,null,null,0,0]
["",null,null,null,0,0]
["",null,null,null,0,0]
["",null,null,null,0,0]
["",null,null,null,0,0]
["",null,null,null,0,0]
["",null,null,null,0,0]
["",null,null,null,0,0]
["",null,null,null,0,0]
["",null,null,null,0,0]
["",null,null,null,0,0]
["",null,null,null,0,0]
["",null,null,null,0,0]
["",null,null,null,0,0]
["",null,null,null,0,0]
["",null,null,null,0,0]
["",null,null,null,0,0]
["",null,null,null,0,0]
["",null,null,null,0,0]
["",null,null,null,0,0]
["",null,null,null,0,0]
["",null,null,null,0,0]
["",null,null,null,0,0]
["",null,null,null,0,0]
["",null,null,null,0,0]
["",null,null,null,0,0]
["",null,null,null,0,0]
["",null,null,null,0,0]
["",null,null,null,0,0]
["",null,null,null,0,0]
["",null,null,null,0,0]
["",null,null,null,0,0]
["",null,null,null,0,0]
["",null,null,null,0,0]
["",null,null,null,0,0]
["",null,null,null,0,0]
["",null,null,null,0,0]
["",null,null,null,0,0]
["",null,null,null,0,0]
["",null,null,null,0,0]
["",null,null,null,0,0]
["",null,null,null,0,0]
["",null,null,null,0,0]
["",null,null,null,0,0]
["",null,null,null,0,0]
["",null,null,null,0,0]
["",null,null,null,0,0]
["",null,null,null,0,0]
["",null,null,null,0,0]
["",null,null,null,0,0]
["",null,null,null,0,0]
["",null,null,null,0,0]
["",null,null,null,{"$f":"IF(OR(C452=\"-\",C452=\"\"),0,ROUND(IF(A453=\"\",(($A452-$A451)/2*C452),IF(AND($A453>$A452,$A451=\"\"),($A453-$A452)/2*C452,IF(($A453>$A452),(($A453-$A452)/2*C452)+(($A452-$A451)/2*C452),(($A452-$A451)/2*C452)))),2))","v":0},0]
["",null,null,null,0,0]
["",null,null,null,0,0]
["",null,null,null,0,0]
["",null,null,null,0,0]
[{"$f":"IF(OR(ISTEXT(B457)=TRUE,B457=\"\"),\"\",B457)","v":""},null,null,null,0,0]
["",null,null,null,0,0]
["",null,null,null,0,0]
["",null,null,null,0,0]
["",null,null,null,0,0]
["",null,null,null,0,{"$f":"IF(OR(D462=\"-\",D462=\"\"),0,ROUND(IF(A463=\"\",(($A462-$A461)/2*D462),IF(AND($A463>$A462,$A461=\"\"),($A463-$A462)/2*D462,IF(($A463>$A462),(($A463-$A462)/2*D462)+(($A462-$A461)/2*D462),(($A462-$A461)/2*D462)))),2))","v":0}]
["",null,null,null,0,0]
["",null,null,null,0,0]
["",null,null,null,0,0]
["",null,null,null,0,0]
["",null,null,null,0,0]
["",null,null,null,0,0]
["",null,null,null,0,0]
["",null,null,null,0,0]
["",null,null,null,0,0]
[null,null,{"$f":"SUM(C8:C207)","v":21.8},{"$f":"SUM(D8:D207)","v":7.9},{"$f":"SUM(E8:E471)","v":532.5},{"$f":"SUM(F8:F471)","v":185}]
[null,null,{"$f":"IF(C472=R120,\"OK\",\"NO\")","v":"OK"},{"$f":"IF(D472=S120,\"OK\",\"NO\")","v":"OK"},{"$f":"IF(E472=T276,\"OK\",\"NO\")","v":"OK"},{"$f":"IF(F472=U276,\"OK\",\"NO\")","v":"OK"}]

{"sheet":"BackUp","index":7,"n_rows":621,"n_cols":125,"rows_kept":621,"cut":false,"hidden":false,"merged":[[570,12,571,14],[466,16,467,17],[464,17,464,18],[518,16,519,17],[466,9,467,11],[430,9,430,11],[0,1,0,19],[237,66,237,67],[237,12,237,13],[237,64,237,65],[407,14,407,15],[490,9,490,11],[349,8,349,9],[107,13,108,13],[110,7,110,11],[215,17,215,19],[175,16,175,18],[191,16,191,18],[199,16,199,18],[222,17,222,19],[239,9,239,11],[210,17,210,19],[269,12,269,13],[171,16,171,18],[235,12,236,12],[172,16,172,18],[227,17,227,19],[220,17,220,19],[387,8,387,9],[518,12,519,14],[19,15,19,17],[213,17,213,19],[557,9,557,11],[238,66,238,67],[244,16,244,17],[244,64,244,65],[244,66,244,67],[246,64,246,65],[246,66,246,67],[239,66,239,67],[243,66,243,67],[325,12,325,13],[429,14,429,15],[431,14,431,15],[497,9,497,11],[491,9,491,11],[470,5,470,8],[468,9,468,11],[473,9,473,11],[483,9,483,11],[542,5,542,8],[544,5,544,8],[548,5,548,8],[523,5,523,8],[326,14,326,15],[240,14,240,15],[542,9,542,11],[518,9,519,11],[506,5,506,8],[518,5,519,8],[385,13,385,14],[251,8,251,9],[245,7,245,8],[238,16,238,17],[574,9,574,11],[610,5,610,8],[611,5,611,8],[238,64,238,65],[239,64,239,65],[271,12,271,13],[271,14,271,15],[282,12,282,13],[262,13,262,14],[263,15,263,16],[299,12,299,13],[308,14,308,15],[312,14,312,15],[243,64,243,65],[543,9,543,11],[544,9,544,11],[593,9,593,11],[594,9,594,11],[595,9,595,11],[596,9,596,11],[597,9,597,11],[598,9,598,11],[599,9,599,11],[600,9,600,11],[601,9,601,11],[547,9,547,11],[587,9,587,11],[570,16,571,17],[557,5,557,8],[556,5,556,8],[563,5,563,8],[564,5,564,8],[619,9,619,11],[611,9,611,11],[612,9,612,11],[613,9,613,11],[614,9,614,11],[615,9,615,11],[616,9,616,11],[617,9,617,11],[602,9,602,11],[603,9,603,11],[604,9,604,11],[605,9,605,11],[606,9,606,11],[607,9,607,11],[608,9,608,11],[609,9,609,11],[588,9,588,11],[589,9,589,11],[590,9,590,11],[591,9,591,11],[592,9,592,11],[610,9,610,11],[618,9,618,11],[584,5,584,8],[585,5,585,8],[586,5,586,8],[572,9,572,11],[573,9,573,11],[480,9,480,11],[508,9,508,11],[505,9,505,11],[506,9,506,11],[474,5,474,8],[524,5,524,8],[526,5,526,8],[501,5,501,8],[503,5,503,8],[538,5,538,8],[531,9,531,11],[532,9,532,11],[533,9,533,11],[534,9,534,11],[531,5,531,8],[481,9,481,11],[525,9,525,11],[526,9,526,11],[495,9,495,11],[484,9,484,11],[495,5,495,8],[496,9,496,11],[482,9,482,11],[501,9,501,11],[502,9,502,11],[492,9,492,11],[493,9,493,11],[241,16,241,17],[242,16,242,17],[468,5,468,8],[469,5,469,8],[466,3,467,4],[427,9,427,11],[424,12,424,13],[385,6,385,7],[466,12,467,14],[428,14,428,15],[428,9,428,11],[356,11,356,12],[340,12,340,13],[355,15,355,16],[270,2,270,3],[337,2,337,3],[324,2,324,3],[325,2,325,3],[339,2,339,3],[323,2,323,3],[307,2,307,3],[316,2,316,3],[331,2,331,3],[312,2,312,3],[303,14,303,15],[386,13,386,14],[318,14,318,15],[293,2,293,3],[274,2,274,3],[304,2,304,3],[295,2,295,3],[296,2,296,3],[7,9,7,10],[127,9,127,10],[154,9,154,10],[344,12,344,13],[333,12,333,13],[217,7,217,9],[209,7,209,9],[256,8,256,9],[152,9,152,10],[238,5,238,6],[243,5,243,6],[245,9,245,11],[245,12,245,13],[245,14,245,15],[304,12,304,13],[316,14,316,15],[304,14,304,15],[306,14,306,15],[272,14,272,15],[273,12,273,13],[307,14,307,15],[36,8,36,9],[83,15,83,16],[52,13,53,13],[12,15,12,17],[13,15,13,17],[14,15,14,17],[15,15,15,17],[16,15,16,17],[17,15,17,17],[18,15,18,17],[225,7,225,9],[297,2,297,3],[322,2,322,3],[320,12,320,13],[317,14,317,15],[303,2,303,3],[305,2,305,3],[306,2,306,3],[330,14,330,15],[302,12,302,13],[289,12,289,13],[313,14,313,15],[301,12,301,13],[306,12,306,13],[303,12,303,13],[287,12,287,13],[289,2,289,3],[280,12,280,13],[295,12,295,13],[314,12,314,13],[315,12,315,13],[316,12,316,13],[284,2,284,3],[328,14,328,15],[324,14,324,15],[267,14,267,15],[276,2,276,3],[272,2,272,3],[254,1,254,4],[253,8,253,9],[254,8,254,9],[267,2,267,3],[332,2,332,3],[283,12,283,13],[284,12,284,13],[248,12,248,13],[300,14,300,15],[291,14,291,15],[275,2,275,3],[263,6,263,7],[262,6,262,7],[278,12,278,13],[310,1,311,1],[261,6,261,7],[280,14,280,15],[294,2,294,3],[302,2,302,3],[292,12,292,13],[293,14,293,15],[291,12,291,13],[307,12,307,13],[308,12,308,13],[312,12,312,13],[277,2,277,3],[327,12,327,13],[323,14,323,15],[332,14,332,15],[472,9,472,11],[469,9,469,11],[470,9,470,11],[389,4,389,5],[391,4,391,5],[392,4,392,5],[464,7,464,8],[407,7,407,8],[405,7,405,8],[432,14,432,15],[433,14,433,15],[409,14,409,15],[431,9,431,11],[431,12,431,13],[425,14,425,15],[423,12,423,13],[429,7,429,8],[420,14,420,15],[408,7,408,8],[405,12,405,13],[403,12,403,13],[424,7,424,8],[466,5,467,8],[408,14,408,15],[430,14,430,15],[391,11,391,12],[416,12,416,13],[423,7,423,8],[405,14,405,15],[406,12,406,13],[403,7,403,8],[404,12,404,13],[235,2,236,4],[279,2,279,3],[280,2,280,3],[281,2,281,3],[282,2,282,3],[328,2,328,3],[329,2,329,3],[330,2,330,3],[285,2,285,3],[315,2,315,3],[245,5,245,6],[404,7,404,8],[300,2,300,3],[349,6,349,7],[237,7,237,8],[260,6,260,7],[433,7,433,8],[384,6,384,7],[382,8,382,9],[376,6,376,7],[360,4,360,5],[366,6,366,7],[352,6,352,7],[359,6,359,7],[359,8,359,9],[398,7,398,8],[391,8,391,9],[406,9,406,11],[403,9,403,11],[406,7,406,8],[427,7,427,8],[417,7,417,8],[466,2,467,2],[426,9,426,11],[421,9,421,11],[393,6,393,7],[389,8,389,9],[416,7,416,8],[518,2,519,2],[518,3,519,4],[510,5,510,8],[511,5,511,8],[481,5,481,8],[482,5,482,8],[498,9,498,11],[543,5,543,8],[537,9,537,11],[545,9,545,11],[483,5,483,8],[484,5,484,8],[507,5,507,8],[475,5,475,8],[476,5,476,8],[477,5,477,8],[486,5,486,8],[497,5,497,8],[498,5,498,8],[500,9,500,11],[478,9,478,11],[479,9,479,11],[538,9,538,11],[536,9,536,11],[505,5,505,8],[500,5,500,8],[539,9,539,11],[540,9,540,11],[529,5,529,8],[508,5,508,8],[502,5,502,8],[510,9,510,11],[512,9,512,11],[509,9,509,11],[536,5,536,8],[525,5,525,8],[527,5,527,8],[499,5,499,8],[488,9,488,11],[489,9,489,11],[534,5,534,8],[528,5,528,8],[493,5,493,8],[504,5,504,8],[491,5,491,8],[492,5,492,8],[530,5,530,8],[513,5,513,8],[400,7,400,8],[417,12,417,13],[407,9,407,11],[570,2,571,2],[570,3,571,4],[570,9,571,11],[528,9,528,11],[514,5,514,8],[515,5,515,8],[520,5,520,8],[509,5,509,8],[529,9,529,11],[530,9,530,11],[515,9,515,11],[520,9,520,11],[521,9,521,11],[522,9,522,11],[523,9,523,11],[524,9,524,11],[562,5,562,8],[546,9,546,11],[541,5,541,8],[512,5,512,8],[548,9,548,11],[549,9,549,11],[550,9,550,11],[521,5,521,8],[522,5,522,8],[547,5,547,8],[560,9,560,11],[561,9,561,11],[562,9,562,11],[430,7,430,8],[431,7,431,8],[422,9,422,11],[546,5,546,8],[433,12,433,13],[399,9,399,11],[421,7,421,8],[425,7,425,8],[429,12,429,13],[433,9,433,11],[409,12,409,13],[475,9,475,11],[476,9,476,11],[477,9,477,11],[496,5,496,8],[513,9,513,11],[514,9,514,11],[471,5,471,8],[472,5,472,8],[478,5,478,8],[489,5,489,8],[490,5,490,8],[473,5,473,8],[409,6,409,7],[402,7,402,8],[404,9,404,11],[416,9,416,11],[422,7,422,8],[418,12,418,13],[429,9,429,11],[405,9,405,11],[399,12,399,13],[393,11,393,12],[401,12,401,13],[390,8,390,9],[487,9,487,11],[488,5,488,8],[486,9,486,11],[494,5,494,8],[487,5,487,8],[485,5,485,8],[474,9,474,11],[511,9,511,11],[503,9,503,11],[507,9,507,11],[419,14,419,15],[426,14,426,15],[427,14,427,15],[417,14,417,15],[494,9,494,11],[499,9,499,11],[422,12,422,13],[423,14,423,15],[426,7,426,8],[432,9,432,11],[455,7,455,8],[456,7,456,8],[457,7,457,8],[458,7,458,8],[459,7,459,8],[460,7,460,8],[461,7,461,8],[462,7,462,8],[463,7,463,8],[430,12,430,13],[438,17,438,18],[432,12,432,13],[403,14,403,15],[418,7,418,8],[419,7,419,8],[398,14,398,15],[401,7,401,8],[389,13,389,14],[389,6,389,7],[385,8,385,9],[386,6,386,7],[381,11,381,12],[387,13,387,14],[384,13,384,14],[401,14,401,15],[402,14,402,15],[399,7,399,8],[418,14,418,15],[408,12,408,13],[402,9,402,11],[398,12,398,13],[390,13,390,14],[390,11,390,12],[400,12,400,13],[406,14,406,15],[404,14,404,15],[408,9,408,11],[417,9,417,11],[381,6,381,7],[402,12,402,13],[401,9,401,11],[398,9,398,11],[387,11,387,12],[389,11,389,12],[388,13,388,14],[368,8,368,9],[360,8,360,9],[364,4,364,5],[444,17,444,18],[445,17,445,18],[446,17,446,18],[411,8,411,9],[424,14,424,15],[420,9,420,11],[419,9,419,11],[427,12,427,13],[416,14,416,15],[412,8,412,9],[428,7,428,8],[428,12,428,13],[420,7,420,8],[422,14,422,15],[420,12,420,13],[432,7,432,8],[423,9,423,11],[424,9,424,11],[425,9,425,11],[413,9,413,11],[418,9,418,11],[421,12,421,13],[440,17,440,18],[419,12,419,13],[439,17,439,18],[386,4,386,5],[387,4,387,5],[386,11,386,12],[385,11,385,12],[384,4,384,5],[376,8,376,9],[380,4,380,5],[388,6,388,7],[388,8,388,9],[388,11,388,12],[387,6,387,7],[392,8,392,9],[385,4,385,5],[367,6,367,7],[367,8,367,9],[367,11,367,12],[392,13,392,14],[392,11,392,12],[378,11,378,12],[384,11,384,12],[383,11,383,12],[384,8,384,9],[390,6,390,7],[392,6,392,7],[391,13,391,14],[391,6,391,7],[350,13,350,14],[359,2,359,3],[375,6,375,7],[370,13,370,14],[365,13,365,14],[373,13,373,14],[382,6,382,7],[369,6,369,7],[369,8,369,9],[371,13,371,14],[370,11,370,12],[373,4,373,5],[365,6,365,7],[365,8,365,9],[364,6,364,7],[354,2,354,3],[354,13,354,14],[355,6,355,7],[355,13,355,14],[362,3,363,3],[373,6,373,7],[380,11,380,12],[372,6,372,7],[373,8,373,9],[375,8,375,9],[372,11,372,12],[369,4,369,5],[382,13,382,14],[380,13,380,14],[358,13,358,14],[356,2,356,3],[348,8,348,9],[360,15,360,16],[360,13,360,14],[364,13,364,14],[354,8,354,9],[351,8,351,9],[359,15,359,16],[357,13,357,14],[366,11,366,12],[359,11,359,12],[352,4,352,5],[351,15,351,16],[370,6,370,7],[375,13,375,14],[382,4,382,5],[374,4,374,5],[373,11,373,12],[349,4,349,5],[364,11,364,12],[358,8,358,9],[358,11,358,12],[357,6,357,7],[368,13,368,14],[360,11,360,12],[365,4,365,5],[365,11,365,12],[362,13,362,14],[364,8,364,9],[351,6,351,7],[351,13,351,14],[352,11,352,12],[351,11,351,12],[331,14,331,15],[356,15,356,16],[353,4,353,5],[356,4,356,5],[388,4,388,5],[371,4,371,5],[371,6,371,7],[371,8,371,9],[381,13,381,14],[383,4,383,5],[374,8,374,9],[356,6,356,7],[355,11,355,12],[368,4,368,5],[368,11,368,12],[354,6,354,7],[348,4,348,5],[356,8,356,9],[353,15,353,16],[372,13,372,14],[367,13,367,14],[357,8,357,9],[358,15,358,16],[352,13,352,14],[372,8,372,9],[369,11,369,12],[369,13,369,14],[350,4,350,5],[351,4,351,5],[338,14,338,15],[339,12,339,13],[362,16,363,16],[396,3,397,3],[376,11,376,12],[399,14,399,15],[375,4,375,5],[378,3,379,3],[360,6,360,7],[370,8,370,9],[371,11,371,12],[352,8,352,9],[366,8,366,9],[355,8,355,9],[393,13,393,14],[353,6,353,7],[370,4,370,5],[381,4,381,5],[358,2,358,3],[357,4,357,5],[355,4,355,5],[353,13,353,14],[356,13,356,14],[383,13,383,14],[382,11,382,12],[374,11,374,12],[383,8,383,9],[383,6,383,7],[374,6,374,7],[376,13,376,14],[355,2,355,3],[353,2,353,3],[352,2,352,3],[357,2,357,3],[367,4,367,5],[133,18,133,19],[219,17,219,19],[223,17,223,19],[173,16,173,18],[196,16,196,18],[211,17,211,19],[177,16,177,18],[184,16,184,18],[349,2,349,3],[333,2,333,3],[317,2,317,3],[299,14,299,15],[278,2,278,3],[269,2,269,3],[273,2,273,3],[93,8,93,9],[239,1,240,1],[265,1,266,1],[286,2,286,3],[287,2,287,3],[338,2,338,3],[344,2,344,3],[318,12,318,13],[321,12,321,13],[322,12,322,13],[284,14,284,15],[343,14,343,15],[329,14,329,15],[305,12,305,13],[334,12,334,13],[319,12,319,13],[323,12,323,13],[72,13,73,13],[60,8,60,9],[79,15,79,16],[77,8,77,9],[78,8,78,9],[79,8,79,9],[86,15,86,16],[81,8,81,9],[350,8,350,9],[240,16,240,17],[231,17,231,19],[74,18,74,19],[75,15,75,16],[76,15,76,16],[77,15,77,16],[130,18,130,19],[133,16,133,17],[134,16,134,17],[129,18,129,19],[93,18,93,19],[93,15,93,16],[136,18,136,19],[145,18,145,19],[132,18,132,19],[130,16,130,17],[134,18,134,19],[81,15,81,16],[82,15,82,16],[237,14,237,15],[212,7,212,9],[95,18,95,19],[96,18,96,19],[132,16,132,17],[83,18,83,19],[91,15,91,16],[90,18,90,19],[91,18,91,19],[92,18,92,19],[35,15,35,17],[39,17,40,17],[34,15,34,17],[29,15,29,17],[55,18,55,19],[80,15,80,16],[82,18,82,19],[151,16,151,17],[151,18,151,19],[96,15,96,16],[32,15,32,17],[33,15,33,17],[77,18,77,19],[54,18,54,19],[95,15,95,16],[94,18,94,19],[58,18,58,19],[60,18,60,19],[76,18,76,19],[80,18,80,19],[74,15,74,16],[64,18,64,19],[67,18,67,19],[63,18,63,19],[68,18,68,19],[69,18,69,19],[62,18,62,19],[99,15,99,16],[128,16,128,17],[129,16,129,17],[131,16,131,17],[122,13,122,14],[120,13,120,14],[82,8,82,9],[83,8,83,9],[89,8,89,9],[90,8,90,9],[124,13,124,14],[112,7,112,11],[119,13,119,14],[23,15,23,17],[25,15,25,17],[26,15,26,17],[56,18,56,19],[57,18,57,19],[65,18,65,19],[66,18,66,19],[59,18,59,19],[87,15,87,16],[131,18,131,19],[66,8,66,9],[61,8,61,9],[62,8,62,9],[63,8,63,9],[74,8,74,9],[65,8,65,9],[78,18,78,19],[72,11,73,11],[210,7,210,9],[140,18,140,19],[150,18,150,19],[147,18,147,19],[149,18,149,19],[141,16,141,17],[147,16,147,17],[189,16,189,18],[208,17,208,19],[135,16,135,17],[98,15,98,16],[113,7,113,11],[114,7,114,11],[115,7,115,11],[59,8,59,9],[84,15,84,16],[85,15,85,16],[79,18,79,19],[86,18,86,19],[87,18,87,19],[88,18,88,19],[84,18,84,19],[89,18,89,19],[72,15,72,16],[85,18,85,19],[78,15,78,16],[98,18,98,19],[139,18,139,19],[144,16,144,17],[144,18,144,19],[97,18,97,19],[61,18,61,19],[52,1,53,1],[259,6,259,7],[259,8,259,9],[235,1,236,1],[52,3,53,3],[41,3,41,4],[42,3,42,4],[43,3,43,4],[44,3,44,4],[45,3,45,4],[46,3,46,4],[47,3,47,4],[49,3,49,4],[75,8,75,9],[76,8,76,9],[68,8,68,9],[69,8,69,9],[72,1,73,1],[75,5,75,6],[99,5,99,6],[85,8,85,9],[98,8,98,9],[89,5,89,6],[248,1,248,4],[208,7,208,9],[251,1,251,4],[54,8,54,9],[55,8,55,9],[237,5,237,6],[244,5,244,6],[255,8,255,9],[86,8,86,9],[81,5,81,6],[82,5,82,6],[83,5,83,6],[390,4,390,5],[353,11,353,12],[91,8,91,9],[92,8,92,9],[94,8,94,9],[95,8,95,9],[96,8,96,9],[97,8,97,9],[109,7,109,11],[80,5,80,6],[334,2,334,3],[335,2,335,3],[336,2,336,3],[320,2,320,3],[321,2,321,3],[340,2,340,3],[105,9,105,12],[99,8,99,9],[237,9,237,11],[220,7,220,9],[221,7,221,9],[231,7,231,9],[228,7,228,9],[330,12,330,13],[297,12,297,13],[252,8,252,9],[116,8,116,9],[206,7,207,9],[87,8,87,9],[8,15,8,17],[9,15,9,17],[9,8,9,9],[10,8,10,9],[11,8,11,9],[12,8,12,9],[13,8,13,9],[14,8,14,9],[15,8,15,9],[16,8,16,9],[24,8,24,9],[34,8,34,9],[35,8,35,9],[213,7,213,9],[230,7,230,9],[229,7,229,9],[24,11,24,12],[18,8,18,9],[19,8,19,9],[17,8,17,9],[23,8,23,9],[25,8,25,9],[26,8,26,9],[10,11,10,12],[11,11,11,12],[12,11,12,12],[13,11,13,12],[215,7,215,9],[218,7,218,9],[57,8,57,9],[58,8,58,9],[51,8,51,11],[14,11,14,12],[15,11,15,12],[52,11,53,11],[35,11,35,12],[36,11,36,12],[64,8,64,9],[85,5,85,6],[72,3,73,3],[72,5,72,6],[88,8,88,9],[39,2,40,2],[56,8,56,9],[283,2,283,3],[271,2,271,3],[86,5,86,6],[214,7,214,9],[219,7,219,9],[239,7,239,8],[238,9,238,11],[238,7,238,8],[252,1,252,4],[48,3,48,4],[98,5,98,6],[243,9,243,11],[243,7,243,8],[239,5,239,6],[250,1,250,4],[226,7,226,9],[126,2,127,2],[222,7,222,9],[211,7,211,9],[206,2,207,3],[160,16,160,18],[203,16,203,18],[156,16,156,18],[158,16,158,18],[165,16,165,18],[140,16,140,17],[146,16,146,17],[209,17,209,19],[243,14,243,15],[243,16,243,17]],"merged_total":1470,"flags":["merged_cut"]}
[null,{"$f":"+'ดินตัด-ถม'!$K$1","v":"งานก่อสร้างขยายใหล่ทางคอนกรีตเสริมเหล็ก พร้อมระบบระบายน้ำ  2  ข้างทางตามแบบมาตฐานงานทางสำหรับ อปท สายซอยจันทร์สุวรรณ"},null,null,null,null,null,null,null,null,null,null,null,null,null,null,null,null,null,null,null,null,null,null,null,null,null,null,null,null,null,null,null,null,null,"."]
[null,{"$f":"'ดินตัด-ถม'!K2","v":"บ้านกุดแห่ หมู่ 1 ตำบลกุดแห่ อำเภอนากลาง  จังหวัดหนองบัวลำภู         จำนวน      1    แห่ง"}]
[null,null,null,null,{"$f":"\"ช่วง\"","v":"ช่วง"},null,{"$f":"BX127","v":"กม.0+000 - กม.0+590 , กม.1+698 - กม.2+098 , กม.2+128 - กม.2+178  "}]
[null,null,null,null,null,null,{"$f":"BX128","v":""}]
[null,"สรุปงานรื้อย้ายงานทาง"]
[null,null,null,null,null,null,"     กว้าง"," ระยะทาง ","     ขุดรื้อผิวลาดยางเดิม",null,null,"  ขุดรื้อผิวคอนกรีตเดิม",null,"  หินคลุกเดิม(ขนกอง) "]
[null,null,"    ที่","                   ช่วง กม. - กม.",null,null,"      (ม.)","     (กม.)","               (ตร.ม.)",null,null,"             (ตร.ม.)",null,"   (ตร.ม.)","(ลบ.ม.(แน่น))",null,"หมายเหตุ"]
[null,null,null,null,null,null,null,null,"หนา (ม.)",0.05,null,"หนา (ม.)",0.1,"หนา (ม.)",0.2]
[null,null,{"$f":"IF(H9=0,0,1)","v":0},null,null,null,null,{"$f":"(F9-D9)/1000","v":0},{"$f":"IF(P9=$BD$10,G9*H9*1000,0)","v":0},null,null,{"$f":"IF(P9=$BD$11,G9*H9*1000,0)","v":0},null,{"$f":"IF(P9=$BD$12,ROUND(G9*H9*1000,0),0)","v":0},{"$f":"IF(N9=\"\",\"\",IF(N9=0,0,ROUND(N9*$O$8,2)))","v":0}]
[null,null,{"$f":"IF(H10=0,0,MAX($C$9:C9)+1)","v":0},null,null,null,null,0,0,null,null,0,null,0,0,null,null,null,null,null,null,null,null,null,null,null,null,null,null,null,null,null,null,null,null,null,null,null,null,null,null,null,null,null,null,null,null,null,null,null,null,null,null,null,null,"งานรื้อผิวจราจรลาดยางเดิม"]
[null,null,{"$f":"IF(H11=0,0,MAX($C$9:C10)+1)","v":0},null,null,null,null,0,0,null,null,0,null,0,0,null,null,null,null,null,null,null,null,null,null,null,null,null,null,null,null,null,null,null,null,null,null,null,null,null,null,null,null,null,null,null,null,null,null,null,null,null,null,null,null,"งานรื้อผิวคอนกรีตเดิม(ขนทิ้ง)"]
[null,null,{"$f":"IF(H12=0,0,MAX($C$9:C11)+1)","v":0},null,null,null,null,0,0,null,null,0,null,0,0,null,null,null,null,null,null,null,null,null,null,null,null,null,null,null,null,null,null,null,null,null,null,null,null,null,null,null,null,null,null,null,null,null,null,null,null,null,null,null,null,"งานรื้อพื้นทางหินคลุกเดิม(ขนกอง)"]
[null,null,{"$f":"IF(H13=0,0,MAX($C$9:C12)+1)","v":0},null,null,null,null,0,0,null,null,0,null,0,0]
[null,null,{"$f":"IF(H14=0,0,MAX($C$9:C13)+1)","v":0},null,null,null,null,0,0,null,null,0,null,0,0]
[null,null,{"$f":"IF(H15=0,0,MAX($C$9:C14)+1)","v":0},null,null,null,null,0,0,null,null,0,null,0,0]
[null,null,{"$f":"IF(H16=0,0,MAX($C$9:C15)+1)","v":0},null,null,null,null,0,0,null,null,0,null,0,0]
[null,null,{"$f":"IF(H17=0,0,MAX($C$9:C16)+1)","v":0},null,null,null,null,0,0,null,null,0,null,0,0]
[null,null,{"$f":"IF(H18=0,0,MAX($C$9:C17)+1)","v":0},null,null,null,null,0,0,null,null,0,null,0,0]
[null,null,{"$f":"IF(H19=0,0,MAX($C$9:C18)+1)","v":0},null,null,null,null,0,0,null,null,0,null,0,0]
[null,null,{"$f":"IF(H20=0,0,MAX($C$9:C19)+1)","v":0},null,null,null,null,0,0,null,null,0,null,0,0]
[null,null,null,null,null,null,null,{"$f":"(F21-D21)/1000","v":0},0,null,null,0,null,0,{"$f":"IF(N21=\"\",\"\",IF(N21=0,0,ROUND(N21*$O$8,2)))","v":0}]
[null,null,null,null,null,null,null,0,0,null,null,0,null,0,0]
[null,null,null,null,null,null,null,0,0,null,null,0,null,0,0]
[null,null,null,null,null,null,null,0,0,null,null,0,null,0,0]
[null,null,null,null,null,null,null,{"$f":"(F25-D25)/1000","v":0},0,null,null,0,null,0,{"$f":"IF(N25=\"\",\"\",IF(N25=0,0,ROUND(N25*$O$8,2)))","v":0}]
[null,null,null,null,null,null,null,{"$f":"(F26-D26)/1000","v":0},0,null,null,0,null,0,{"$f":"IF(N26=\"\",\"\",IF(N26=0,0,ROUND(N26*$O$8,2)))","v":0}]
[null,null,null,null,null,null,null,0,0,null,null,0,null,0,0]
[null,null,null,null,null,null,null,0,0,null,null,0,null,0,0]
[null,null,null,null,null,null,null,0,0,null,null,0,null,0,0]
[null,null,{"$f":"IF(H30=0,0,MAX($C$9:C16)+1)","v":0},null,null,null,null,0,0,null,null,0,null,0,0]
[null,null,{"$f":"IF(H31=0,0,MAX($C$9:C30)+1)","v":0},null,null,null,null,0,0,null,null,0,null,0,0]
[null,null,{"$f":"IF(H32=0,0,MAX($C$9:C31)+1)","v":0},null,null,null,null,0,0,null,null,0,null,0,0]
[null,null,{"$f":"IF(H33=0,0,MAX($C$9:C32)+1)","v":0},null,null,null,null,0,0,null,null,0,null,0,0]
[null,null,{"$f":"IF(H34=0,0,MAX($C$9:C16)+1)","v":0},null,null,null,null,0,0,null,null,0,null,0,0]
[null,null,{"$f":"IF(H35=0,0,MAX($C$9:C34)+1)","v":0},null,null,null,null,0,0,null,null,0,null,0,0]
[null,null,{"$f":"IF(H36=0,0,MAX($C$9:C35)+1)","v":0},null,null,null,null,0,0,null,null,0,null,0,0]
[null,null,null,null,null,"รวม",null,{"$f":"SUM(H9:H36)","v":0},{"$f":"SUM(I9:J36)","v":0},null,null,{"$f":"SUM(L9:M36)","v":0},null,{"$f":"SUM(N9:N36)","v":0},{"$f":"SUM(O9:O36)","v":0}]
[]
[null,"สรุปงานรื้อสะพานและท่อลอดเหลี่ยมเดิม"]
[null,null,"ที่","ตำแหน่ง\n(กม.)",null,"                                                         ท่อลอดเหลี่ยมเดิม",null,null,null,null,null,null,null,"                        สะพานเดิม",null,null,null,"หมายเหตุ",null,null,null,null,null,null,null,null,null,null,null,null,null,null,null,null,null,null,null,null,null,null,null,null,null,null,null,null,null,null,null,null,null,null,null,null,null,"ท่อลอดเหลี่ยม",null,null,null,null,null,"สะพาน"]
[null,null,null,null,null,"ช่อง","-","กว้าง","x","สูง",null,"x","ยาว","กว้าง","x","ยาว",null,null,null,null,null,null,null,null,null,null,null,null,null,null,null,null,null,null,null,null,null,null,null,null,null,null,null,null,null,null,null,null,null,null,null,null,null,null,null,"กว้าง","สูง","หูช้าง",null,null,"รวม","พื้น","อื่นๆ","รวม"]
[null,null,{"$f":"IF(SUM(D42:E42)=0,0,1)","v":0},null,null,null,null,null,null,null,null,null,null,null,null,null,null,null,null,null,null,null,null,null,null,null,null,null,null,null,null,null,null,null,null,null,null,null,null,null,null,null,null,null,null,null,null,null,null,null,null,null,null,null,null,{"$f":"H42*2*F42*M42*0.25","v":0},{"$f":"J42*(F42+1)*M42*0.25","v":0},{"$f":"(H42+J42)/2-H42*0.1","v":0},{"$f":"J42*1.5","v":0},{"$f":"((F42*H42+(BF42-H42/2))*BG42*0.25*2)+(J42*0.9*BG42*0.25*4)","v":0},{"$f":"BD42+BE42+BH42","v":0},{"$f":"(N42+1)*P42*0.5","v":0},{"$f":"BJ42*0.5","v":0},{"$f":"BJ42+BK42","v":0}]
[null,null,{"$f":"IF(SUM(D43:E43)=0,0,MAX($C$42:C42)+1)","v":0},null,null,null,null,null,null,null,null,null,null,null,null,null,null,null,null,null,null,null,null,null,null,null,null,null,null,null,null,null,null,null,null,null,null,null,null,null,null,null,null,null,null,null,null,null,null,null,null,null,null,null,null,{"$f":"H43*2*F43*M43*0.25","v":0},{"$f":"J43*(F43+1)*M43*0.25","v":0},{"$f":"(H43+J43)/2-H43*0.1","v":0},{"$f":"J43*1.5","v":0},{"$f":"((F43*H43+(BF43-H43/2))*BG43*0.25*2)+(J43*0.9*BG43*0.25*4)","v":0},0,{"$f":"(N43+1)*P43*0.5","v":0},0,0]
[null,null,{"$f":"IF(SUM(D44:E44)=0,0,MAX($C$42:C43)+1)","v":0},null,null,null,null,null,null,null,null,null,null,null,null,null,null,null,null,null,null,null,null,null,null,null,null,null,null,null,null,null,null,null,null,null,null,null,null,null,null,null,null,null,null,null,null,null,null,null,null,null,null,null,null,{"$f":"H44*2*F44*M44*0.25","v":0},{"$f":"J44*(F44+1)*M44*0.25","v":0},{"$f":"(H44+J44)/2-H44*0.1","v":0},{"$f":"J44*1.5","v":0},{"$f":"((F44*H44+(BF44-H44/2))*BG44*0.25*2)+(J44*0.9*BG44*0.25*4)","v":0},0,{"$f":"(N44+1)*P44*0.5","v":0},0,0]
[null,null,{"$f":"IF(SUM(D45:E45)=0,0,MAX($C$42:C44)+1)","v":0},null,null,null,null,null,null,null,null,null,null,null,null,null,null,null,null,null,null,null,null,null,null,null,null,null,null,null,null,null,null,null,null,null,null,null,null,null,null,null,null,null,null,null,null,null,null,null,null,null,null,null,null,{"$f":"H45*2*F45*M45*0.25","v":0},{"$f":"J45*(F45+1)*M45*0.25","v":0},{"$f":"(H45+J45)/2-H45*0.1","v":0},{"$f":"J45*1.5","v":0},{"$f":"((F45*H45+(BF45-H45/2))*BG45*0.25*2)+(J45*0.9*BG45*0.25*4)","v":0},0,{"$f":"(N45+1)*P45*0.5","v":0},0,0]
[null,null,{"$f":"IF(SUM(D46:E46)=0,0,MAX($C$42:C45)+1)","v":0},null,null,null,null,null,null,null,null,null,null,null,null,null,null,null,null,null,null,null,null,null,null,null,null,null,null,null,null,null,null,null,null,null,null,null,null,null,null,null,null,null,null,null,null,null,null,null,null,null,null,null,null,{"$f":"H46*2*F46*M46*0.25","v":0},{"$f":"J46*(F46+1)*M46*0.25","v":0},{"$f":"(H46+J46)/2-H46*0.1","v":0},{"$f":"J46*1.5","v":0},{"$f":"((F46*H46+(BF46-H46/2))*BG46*0.25*2)+(J46*0.9*BG46*0.25*4)","v":0},0,{"$f":"(N46+1)*P46*0.5","v":0},0,0]
[]
[null,null,{"$f":"IF(SUM(D48:E48)=0,0,MAX($C$42:C46)+1)","v":0},null,null,null,null,null,null,null,null,null,null,null,null,null,null,null,null,null,null,null,null,null,null,null,null,null,null,null,null,null,null,null,null,null,null,null,null,null,null,null,null,null,null,null,null,null,null,null,null,null,null,null,null,{"$f":"H48*2*F48*M48*0.25","v":0},{"$f":"J48*(F48+1)*M48*0.25","v":0},{"$f":"(H48+J48)/2-H48*0.1","v":0},{"$f":"J48*1.5","v":0},{"$f":"((F48*H48+(BF48-H48/2))*BG48*0.25*2)+(J48*0.9*BG48*0.25*4)","v":0},0,{"$f":"(N48+1)*P48*0.5","v":0},0,0]
[null,null,{"$f":"IF(SUM(D49:E49)=0,0,MAX($C$42:C48)+1)","v":0},null,null,null,null,null,null,null,null,null,null,null,null,null,null,null,null,null,null,null,null,null,null,null,null,null,null,null,null,null,null,null,null,null,null,null,null,null,null,null,null,null,null,null,null,null,null,null,null,null,null,null,null,{"$f":"H49*2*F49*M49*0.25","v":0},{"$f":"J49*(F49+1)*M49*0.25","v":0},{"$f":"(H49+J49)/2-H49*0.1","v":0},{"$f":"J49*1.5","v":0},{"$f":"((F49*H49+(BF49-H49/2))*BG49*0.25*2)+(J49*0.9*BG49*0.25*4)","v":0},0,{"$f":"(N49+1)*P49*0.5","v":0},0,0]
[null,null,{"$f":"IF(SUM(D50:E50)=0,0,MAX($C$42:C49)+1)","v":0},null,null,null,null,null,null,null,null,null,null,null,null,null,null,null,null,null,null,null,null,null,null,null,null,null,null,null,null,null,null,null,null,null,null,null,null,null,null,null,null,null,null,null,null,null,null,null,null,null,null,null,null,{"$f":"H50*2*F50*M50*0.25","v":0},{"$f":"J50*(F50+1)*M50*0.25","v":0},{"$f":"(H50+J50)/2-H50*0.1","v":0},{"$f":"J50*1.5","v":0},{"$f":"((F50*H50+(BF50-H50/2))*BG50*0.25*2)+(J50*0.9*BG50*0.25*4)","v":0},0,{"$f":"(N50+1)*P50*0.5","v":0},0,0]
[null,null,null,null,null,null,null,null,null,null,null,null,null,null,null,null,null,null,null,null,null,null,null,null,null,null,null,null,null,null,null,null,null,null,null,null,null,null,null,null,null,null,null,null,null,null,null,null,null,null,null,null,null,null,null,null,null,null,null,"รวม",{"$f":"SUM(BI42:BI50)","v":0},null,null,{"$f":"SUM(BL42:BL50)","v":0}]
[null,"สรุปงานกรุยทางถางป่า",null,null,null,null,null,null,"ขนาดกลาง"]
[null,"ที่",null,"ตำแหน่ง\n(กม.-กม.)",null,"    กรุยทางถางป่า (ม.)",null," ระยะทาง ","       กรุยทางถางป่า",null,null,"ที่",null,"ตำแหน่ง\n(กม.-กม.)",null,"    กรุยทางถางป่า (ม.)",null," ระยะทาง ","      เกลี่ยปรับแต่ง"]
[null,null,null,null,null,"       LT","       RT","    (กม.)","               (ตร.ม.)",null,null,null,null,null,null,"       LT","       RT","    (กม.)","  คันทางเดิม (ตร.ม.)"]
[null,{"$f":"IF(H55=0,0,1)","v":0},null,{"$f":"IF(AND(C55<=0,E55<=0),\"\",\"-\")","v":""},null,2,2,{"$f":"(E55-C55)/1000","v":0},{"$f":"(F55+G55)*H55*1000","v":0},null,null,{"$f":"IF(R55=0,0,MAX($B55:B$70)+1)","v":0},null,"-",null,null,null,{"$f":"(O55-M55)/1000","v":0},{"$f":"(P55+Q55)*R55*1000","v":0}]
[null,{"$f":"IF(H56=0,0,MAX($B$55:B55)+1)","v":0},null,"",null,null,null,{"$f":"(E56-C56)/1000","v":0},{"$f":"(F56+G56)*H56*1000","v":0},null,null,{"$f":"IF(P56=0,0,MAX($L$55:L55)+1)","v":0},null,{"$f":"IF(AND(M56<=0,O56<=0),\"\",\"-\")","v":""},null,null,null,{"$f":"(O56-M56)/1000","v":0},{"$f":"(P56+Q56)*R56*1000","v":0}]
[null,{"$f":"IF(H57=0,0,MAX($B$55:B56)+1)","v":0},null,"",null,null,null,{"$f":"(E57-C57)/1000","v":0},{"$f":"(F57+G57)*H57*1000","v":0},null,null,{"$f":"IF(P57=0,0,MAX($L$55:L56)+1)","v":0},null,{"$f":"IF(AND(M57<=0,O57<=0),\"\",\"-\")","v":""},null,null,null,{"$f":"(O57-M57)/1000","v":0},{"$f":"(P57+Q57)*R57*1000","v":0}]
[null,{"$f":"IF(H58=0,0,MAX($B$55:B57)+1)","v":0},null,{"$f":"IF(AND(C58<=0,E58<=0),\"\",\"-\")","v":""},null,null,null,0,{"$f":"(F58+G58)*H58*1000","v":0},null,null,{"$f":"IF(P58=0,0,MAX($L$55:L57)+1)","v":0},null,"",null,null,null,0,{"$f":"(P58+Q58)*R58*1000","v":0}]
[null,{"$f":"IF(H59=0,0,MAX($B$55:B58)+1)","v":0},null,"",null,null,null,0,0,null,null,{"$f":"IF(P59=0,0,MAX($L$55:L58)+1)","v":0},null,"",null,null,null,0,0]
[null,{"$f":"IF(H60=0,0,MAX($B$55:B59)+1)","v":0},null,"",null,null,null,0,0,null,null,{"$f":"IF(P60=0,0,MAX($L$55:L59)+1)","v":0},null,"",null,null,null,0,0]
[null,{"$f":"IF(H61=0,0,MAX($B$55:B60)+1)","v":0},null,"",null,null,null,0,0,null,null,{"$f":"IF(P61=0,0,MAX($L$55:L60)+1)","v":0},null,"",null,null,null,0,0]
[null,{"$f":"IF(H62=0,0,MAX($B$55:B61)+1)","v":0},null,"",null,null,null,0,0,null,null,{"$f":"IF(P62=0,0,MAX($L$55:L61)+1)","v":0},null,"",null,null,null,0,0]
[null,{"$f":"IF(H63=0,0,MAX($B$55:B62)+1)","v":0},null,"",null,null,null,0,0,null,null,{"$f":"IF(P63=0,0,MAX($L$55:L62)+1)","v":0},null,"",null,null,null,0,0]
[null,{"$f":"IF(H64=0,0,MAX($B$55:B63)+1)","v":0},null,"",null,null,null,0,0,null,null,{"$f":"IF(P64=0,0,MAX($L$55:L63)+1)","v":0},null,"",null,null,null,0,0]
[null,{"$f":"IF(H65=0,0,MAX($B$55:B64)+1)","v":0},null,"",null,null,null,0,0,null,null,{"$f":"IF(P65=0,0,MAX($L$55:L64)+1)","v":0},null,"",null,null,null,0,0]
[null,{"$f":"IF(H66=0,0,MAX($B$55:B65)+1)","v":0},null,"",null,null,null,0,0,null,null,{"$f":"IF(P66=0,0,MAX($L$55:L65)+1)","v":0},null,"",null,null,null,0,0]
[null,{"$f":"IF(H67=0,0,MAX($B$55:B66)+1)","v":0},null,"",null,null,null,0,0,null,null,{"$f":"IF(P67=0,0,MAX($L$55:L66)+1)","v":0},null,"",null,null,null,0,0]
[null,{"$f":"IF(H68=0,0,MAX($B$55:B67)+1)","v":0},null,"",null,null,null,0,0,null,null,{"$f":"IF(P68=0,0,MAX($L$55:L67)+1)","v":0},null,"",null,null,null,0,0]
[null,{"$f":"IF(H69=0,0,MAX($B$55:B68)+1)","v":0},null,"",null,null,null,0,0,null,null,{"$f":"IF(P69=0,0,MAX($L$55:L68)+1)","v":0},null,"",null,null,null,0,0]
[null,{"$f":"IF(H70=0,0,MAX($B$55:B69)+1)","v":0},null,"",null,null,null,0,0,null,null,{"$f":"IF(P70=0,0,MAX($L$55:L69)+1)","v":0},null,"",null,null,null,0,0]
[null,null,null,null,null,null,null,null,null,null,null,null,null,null,null,"รวม",null,{"$f":"SUM(H55:H70)+SUM(R55:R70)","v":0},{"$f":"SUM(I55:J70,S55:T70)","v":0}]
[null,"สรุปงานเกลี่ยปรับแต่ง"]
[null,"ที่",null,"ตำแหน่ง\n(กม.-กม.)",null,"เกลี่ยแต่งคันทางเดิม(ม.)",null," ระยะทาง ","      เกลี่ยปรับแต่ง",null,null,"ที่",null,"ตำแหน่ง\n(กม.-กม.)",null,"เกลี่ยแต่งคันทางเดิม(ม.)",null," ระยะทาง ","      เกลี่ยปรับแต่ง",null,null,null,null,null,null,null,null,null,null,null,null,null,null,null,null,null,null,null,null,null,null,null,null,null,null,null,null,null,null,null,null,null,null,null,null,"ลูกรัง หนา"]
[null,null,null,null,null,"หินคลุก หนา",0.1,"    (กม.)","  คันทางเดิม (ตร.ม.)",null,null,null,null,null,null,{"$f":"F74","v":"หินคลุก หนา"},{"$f":"G74","v":0.1},"    (กม.)","  คันทางเดิม (ตร.ม.)",null,null,null,null,null,null,null,null,null,null,null,null,null,null,null,null,null,null,null,null,null,null,null,null,null,null,null,null,null,null,null,null,null,null,null,null,"หินคลุก หนา"]
[null,{"$f":"IF(H75=0,0,MAX($B74:B$74)+1)","v":0},null,{"$f":"IF(AND(C75<=0,E75<=0),\"\",\"-\")","v":""},null,8,null,{"$f":"(E75-C75)/1000","v":0},{"$f":"F75*H75*1000","v":0},null,null,{"$f":"IF(R75=0,0,MAX($B$75:$B$100,$L$74:L74)+1)","v":0},null,{"$f":"IF(AND(M75<=0,O75<=0),\"\",\"-\")","v":""},null,null,null,{"$f":"(O75-M75)/1000","v":0},{"$f":"P75*R75*1000","v":0}]
[null,{"$f":"IF(H76=0,0,MAX($B$74:B75)+1)","v":0},null,"",null,null,null,{"$f":"(E76-C76)/1000","v":0},0,null,null,{"$f":"IF(R76=0,0,MAX($B$75:$B$100,$L$74:L75)+1)","v":0},null,"",null,null,null,0,0]
[null,{"$f":"IF(H77=0,0,MAX($B$74:B76)+1)","v":0},null,"",null,null,null,0,0,null,null,{"$f":"IF(R77=0,0,MAX($B$75:$B$100,$L$74:L76)+1)","v":0},null,"",null,null,null,0,0]
[null,{"$f":"IF(H78=0,0,MAX($B$74:B77)+1)","v":0},null,"",null,null,null,0,0,null,null,{"$f":"IF(R78=0,0,MAX($B$75:$B$100,$L$74:L77)+1)","v":0},null,"",null,null,null,0,0]
[null,{"$f":"IF(H79=0,0,MAX($B$74:B78)+1)","v":0},null,"",null,null,null,0,0,null,null,{"$f":"IF(R79=0,0,MAX($B$75:$B$100,$L$74:L78)+1)","v":0},null,"",null,null,null,0,0]
[null,{"$f":"IF(H80=0,0,MAX($B$74:B79)+1)","v":0},null,"",null,null,null,0,0,null,null,{"$f":"IF(R80=0,0,MAX($B$75:$B$100,$L$74:L79)+1)","v":0},null,"",null,null,null,{"$f":"(O80-M80)/1000","v":0},{"$f":"P80*R80*1000","v":0}]
[null,{"$f":"IF(H81=0,0,MAX($B$74:B80)+1)","v":0},null,"",null,null,null,0,{"$f":"F81*H81*1000","v":0},null,null,{"$f":"IF(R81=0,0,MAX($B$75:$B$100,$L$74:L80)+1)","v":0},null,"",null,null,null,0,0]
[null,{"$f":"IF(H82=0,0,MAX($B$74:B81)+1)","v":0},null,"",null,null,null,0,0,null,null,{"$f":"IF(R82=0,0,MAX($B$75:$B$100,$L$74:L81)+1)","v":0},null,null,null,null,null,0,0]
[null,{"$f":"IF(H83=0,0,MAX($B$74:B82)+1)","v":0},null,"",null,null,null,0,0,null,null,{"$f":"IF(R83=0,0,MAX($B$75:$B$100,$L$74:L82)+1)","v":0},null,null,null,null,null,0,0]
[null,{"$f":"IF(H84=0,0,MAX($B$74:B83)+1)","v":0},null,"",null,null,null,0,0,null,null,{"$f":"IF(R84=0,0,MAX($B$75:$B$100,$L$74:L83)+1)","v":0},null,null,null,null,null,0,0]
[null,{"$f":"IF(H85=0,0,MAX($B$74:B84)+1)","v":0},null,"",null,null,null,0,0,null,null,{"$f":"IF(R85=0,0,MAX($B$75:$B$100,$L$74:L84)+1)","v":0},null,null,null,null,null,0,0]
[null,{"$f":"IF(H86=0,0,MAX($B$74:B85)+1)","v":0},null,"",null,null,null,0,0,null,null,{"$f":"IF(R86=0,0,MAX($B$75:$B$100,$L$74:L85)+1)","v":0},null,null,null,null,null,0,0]
[null,{"$f":"IF(H87=0,0,MAX($B$74:B86)+1)","v":0},null,"",null,null,null,0,0,null,null,{"$f":"IF(R87=0,0,MAX($B$75:$B$100,$L$74:L86)+1)","v":0},null,null,null,null,null,0,0]
[null,{"$f":"IF(H88=0,0,MAX($B$74:B87)+1)","v":0},null,"",null,null,null,0,0,null,null,{"$f":"IF(R88=0,0,MAX($B$75:$B$100,$L$74:L87)+1)","v":0},null,null,null,null,null,0,0]
[null,{"$f":"IF(H89=0,0,MAX($B$74:B88)+1)","v":0},null,"",null,null,null,0,0,null,null,{"$f":"IF(R89=0,0,MAX($B$75:$B$100,$L$74:L88)+1)","v":0},null,null,null,null,null,0,0]
[null,{"$f":"IF(H90=0,0,MAX($B$74:B89)+1)","v":0},null,"",null,null,null,0,0,null,null,{"$f":"IF(R90=0,0,MAX($B$75:$B$100,$L$74:L89)+1)","v":0},null,null,null,null,null,0,0]
[null,{"$f":"IF(H91=0,0,MAX($B$74:B90)+1)","v":0},null,"",null,null,null,0,0,null,null,{"$f":"IF(R91=0,0,MAX($B$75:$B$100,$L$74:L90)+1)","v":0},null,null,null,null,null,0,0]
[null,{"$f":"IF(H92=0,0,MAX($B$74:B91)+1)","v":0},null,null,null,null,null,0,0,null,null,{"$f":"IF(R92=0,0,MAX($B$75:$B$100,$L$74:L91)+1)","v":0},null,null,null,null,null,0,0]
[null,{"$f":"IF(H93=0,0,MAX($B$74:B92)+1)","v":0},null,null,null,null,null,0,0,null,null,{"$f":"IF(R93=0,0,MAX($B$75:$B$100,$L$74:L92)+1)","v":0},null,"",null,null,null,0,0]
[null,{"$f":"IF(H94=0,0,MAX($B$74:B93)+1)","v":0},null,null,null,null,null,0,0,null,null,{"$f":"IF(R94=0,0,MAX($B$75:$B$100,$L$74:L93)+1)","v":0},null,{"$f":"IF(AND(M94<=0,O94<=0),\"\",\"-\")","v":""},null,null,null,0,0]
[null,{"$f":"IF(H95=0,0,MAX($B$74:B94)+1)","v":0},null,null,null,null,null,0,0,null,null,{"$f":"IF(R95=0,0,MAX($B$75:$B$100,$L$74:L94)+1)","v":0},null,"",null,null,null,0,0]
[null,{"$f":"IF(H96=0,0,MAX($B$74:B95)+1)","v":0},null,null,null,null,null,0,0,null,null,{"$f":"IF(R96=0,0,MAX($B$75:$B$100,$L$74:L95)+1)","v":0},null,"",null,null,null,0,0]
[null,{"$f":"IF(H97=0,0,MAX($B$74:B96)+1)","v":0},null,null,null,null,null,0,0,null,null,{"$f":"IF(R97=0,0,MAX($B$75:$B$100,$L$74:L96)+1)","v":0},null,"",null,null,null,0,0]
[null,{"$f":"IF(H98=0,0,MAX($B$74:B97)+1)","v":0},null,null,null,null,null,0,0,null,null,{"$f":"IF(R98=0,0,MAX($B$75:$B$100,$L$74:L97)+1)","v":0},null,"",null,null,null,0,0]
[null,{"$f":"IF(H99=0,0,MAX($B$74:B98)+1)","v":0},null,null,null,null,null,0,0,null,null,{"$f":"IF(R99=0,0,MAX($B$75:$B$100,$L$74:L98)+1)","v":0},null,"",null,null,null,0,0]
[null,{"$f":"IF(H100=0,0,MAX($B$74:B99)+1)","v":0},null,null,null,null,null,0,0,null,null,{"$f":"IF(R100=0,0,MAX($B$75:$B$100,$L$74:L99)+1)","v":0},null,"",null,null,null,0,0]
[null,null,null,null,null,null,null,null,null,null,null,null,null,null,"รวม",null,null,{"$f":"SUM(H75:H100,R75:R100)","v":0},{"$f":"SUM(I75:J100,S75:T100)","v":0}]
[]
[null,"สรุปงานดินตัดและดินถม"]
[null,null,null,"                     ปริมาณดินตัด ",null,null,"                                                                         ปริมาณดินถม (ลบ.ม.)"]
[null,null,null,"                        (ลบ.ม.)",null,null,"             จากดินตัด",null,0.5,"             จากนอกโครงการ",null,null,null,"                          รวม"]
[null,null,null,{"$f":"ROUND('ดินตัด-ถม'!T276+'ดินตัด-ถม'!S300,2)","v":532.5},null,null,{"$f":"ROUND(IF(ROUND(D106*I105,0)>N106,N106,ROUND(D106*I105,0)),2)","v":185},null,null,{"$f":"ROUND(IF(G106>N106,0,N106-G106),2)","v":0},null,null,null,{"$f":"ROUND('ดินตัด-ถม'!U276+'ดินตัด-ถม'!T300,2)","v":185}]
[null,"สรุปงานปรับปรุงโครงสร้างถนนเดิม"]
[null,null,null,"ที่",null,"ตำแหน่ง\n(กม.-กม.)",null,"         ปรับปรุงโครงสร้างถนนเดิม Deep  Patch",null,null,null,null,null,"หมายเหตุ"]
[null,null,null,null,null,null,null,"                                 (ตร.ม.)"]
[null,null,null,{"$f":"IF(H110=0,0,1)","v":0}]
[null,null,null,{"$f":"IF(H111=0,0,MAX($D110:D$110)+1)","v":0}]
[null,null,null,{"$f":"IF(H112=0,0,MAX($D$110:D111)+1)","v":0}]
[null,null,null,{"$f":"IF(H113=0,0,MAX($D$110:D112)+1)","v":0}]
[null,null,null,{"$f":"IF(H114=0,0,MAX($D$110:D113)+1)","v":0}]
[null,null,null,{"$f":"IF(H115=0,0,MAX($D$110:D114)+1)","v":0}]
[null,null,null,{"$f":"IF(H116=0,0,MAX($D$110:D115)+1)","v":0}]
[null,null,null,null,null,"รวม",null,null,{"$f":"SUM(H110:L116)","v":0}]
[null,"สรุปงานก่อสร้างสะพานและท่อลอดเหลี่ยม"]
[null,null,null,"ที่",null,"ตำแหน่ง (กม.-กม.)",null,"                                         รายละเอียด",null,null,null,null,null,"     หลักตำแหน่งท่อ",null,"                                หมายเหตุ"]
[null,null,null,{"$f":"IF(E120=0,0,1)","v":0}]
[null,null,null,{"$f":"IF(E121=0,0,MAX($D$120:D120)+1)","v":0}]
[null,null,null,{"$f":"IF(E122=0,0,MAX($D$120:D121)+1)","v":0}]
[null,null,null,{"$f":"IF(E123=0,0,MAX($D$120:D122)+1)","v":0}]
[null,null,null,{"$f":"IF(E124=0,0,MAX($D$120:D123)+1)","v":0}]
[null,null,null,null,null,null,null,null,null,null,null,null,null,{"$f":"SUM(N120:O124)","v":0}]
[null,"สรุปผิวจราจรและไหล่ทาง",null,null,null,null,null,null,null,null,null,null,null,null,null,null,null,null,null,null,null,null,null,null,null,null,null,null,null,null,null,null,null,null,null,null,null,null,null,null,null,null,null,null,null,null,null,null,null,null,null,null,null,null,null,null,null,null,null,null,null,"ผิวทาง",null,null,"ไหล่ทาง"]
[null,null,"ตำแหน่ง\n(กม.-กม.)",null,"                     ความกว้าง",null,null,null,"  ระยะทาง","                 ก่อสร้าง",null,null,"  Recycling พร้อมปูผิว",null,"        เสริมผิว AC",null,"                        ชนิด/ประเภท",null,null,null,null,null,null,null,null,null,null,null,null,null,null,null,null,null,null,null,null,null,null,null,null,null,null,null,null,null,null,null,null,null,null,null,null,null,null,null,null,null,null,null,null,"ลาดยาง",null,null,null,null,null," Expansion  Joint","Contraction  Joint"," Longitudinal  Joint"," Expansion  Joint","Contraction  Joint"," Longitudinal  Joint",null,null,{"$f":"IF(AND(CD129=\"\",CD133<>\"\"),CD133,IF(CD133=\"\",CD129&\"  \"&CD137,CD129))","v":"กม.0+000 - กม.0+590 , กม.1+698 - กม.2+098 , กม.2+128 - กม.2+178  "},null,null,null,null,null,null,null,null,null,null,null,null,null,null,null,null,null,null,null,null,"ก่อสร้าง",null,null,"ก่อสร้าง คสล.",null,null,"   Recycling",null,null,"ก่อสร้าง +  Recycling",null,null,"เสริมผิว AC",null,null,"หินคลุก",null,null,null,"ลูกรัง",null,null,null,"Approach Slab ",null,null,"เช็ค Approach"]
[null,null,null,null,"             ผิวทาง",null,"        ไหล่ทางข้างละ",null,null,"พ.ท.ผิวทาง",null,"พ.ท.ไหล่ทาง","พ.ท.ผิวทาง","พ.ท.ไหล่ทาง","พ.ท.ผิวทาง","พ.ท.ไหล่ทาง","                   ผิวทาง",null,"         ไหล่ทาง",null,null,null,null,null,null,null,null,null,null,null,null,null,null,null,null,null,null,null,null,null,null,null,null,null,null,null,null,null,null,null,null,null,null,null,null,null,null,null,null,null,null,"คสล.",null,null,null,null,null,200,10,null,200,10,"ไม่คิดงาน",null,null,{"$f":"IF(AND(CD129=\"\",CD133<>\"\"),\"\",IF(CD133=\"\",\"\",CD133&\"  \"&CD137))","v":""},null,null,null,"ระยะทาง",null,null,null,null,null,null,null,null,null,null,null,null,null,null,null,null,"ผิว","ไหล่","ระยะ","ผิว","ไหล่","ระยะ","ผิว","ไหล่","ระยะ","ผิว","ไหล่","ระยะ","ผิว","ไหล่","ระยะ","ผิว","ไหล่","ระยะทำผิว","ระยะทำไหล่","ผิว","ไหล่","ระยะทำผิว","ระยะทำไหล่","ระยะ","พท.","จำนวน",null,"พท.","ระยะ"]
[null,0,{"$f":"IF(AND(B129<=0,D129<=0),\"\",\"-\")","v":"-"},590,6,null,1,null,{"$f":"IF(AND(SUM(B129:D129)=0,SUM(E129:H129)<>0),I128,(D129-B129)/1000)","v":0.59},{"$f":"IF(OR(Q129=$BJ$127,Q129=$BJ$128,Q129=$BJ$130,Q129=$BJ$132,Q129=$BJ$133),IF(F129=\"\",(I129*1000*E129),(I129*1000*(E129+F129)*0.5)),0)","v":3540},null,{"$f":"IF(OR(S129=$BJ$127,S129=$BJ$128,S129=$BJ$130,S129=$BJ$132,S129=$BJ$133),IF(H129=\"\",(I129*1000*G129*2),(I129*1000*(G129+H129)*0.5*2)),0)","v":1180},{"$f":"IF(OR(Q129=$BJ$129,Q129=$BJ$130),IF(F129=\"\",(I129*1000*E129),(I129*1000*(E129+F129)*0.5)),0)","v":0},{"$f":"IF(OR(S129=$BJ$129,S129=$BJ$130),IF(H129=\"\",(I129*1000*G129*2),(I129*1000*(G129+H129)*0.5*2)),0)","v":0},{"$f":"IF(Q129=$BJ$131,IF(F129=\"\",(I129*1000*E129),(I129*1000*(E129+F129)*0.5)),0)","v":0},{"$f":"IF(S129=$BJ$131,IF(H129=\"\",(I129*1000*G129*2),(I129*1000*(G129+H129)*0.5*2)),0)","v":0},"คสล.",null,"คสล.",null,null,null,null,null,null,null,null,null,null,null,null,null,null,null,null,null,null,null,null,null,null,null,null,null,null,null,null,null,null,null,null,null,null,null,null,{"$f":"IF(OR(Q129=$BE$127,Q129=$BE$129),I129,0)","v":0},null,null,null,null,null,"Recycling",null,null,null,null,{"$f":"IF(AND(Q129=$BJ$128,S129=$BJ$128),(IF(F129=0,E129,(E129+F129)/2))+(IF(H129=0,G129,(G129+H129)/2)),IF(AND(Q129=$BJ$128,S129<>$BJ$128),(IF(F129=0,E129,(E129+F129)/2)),IF(AND(Q129<>$BJ$128,S129=$BJ$128),(IF(H129=0,G129,(G129+H129)/2)),0)))","v":7},{"$f":"IF(Q129<>$BJ$128,0,ROUND(I129*1000/BQ128,0)-1)","v":58},{"$f":"IF(I129=0,0,ROUNDDOWN((ROUNDUP(I129*1000/$BQ$128,0)-1)*E129-BP129,0))","v":290},{"$f":"I129*1000","v":590},{"$f":"IF(I129=0,0,ROUNDDOWN(IF(BR130<>0,(ROUNDUP(I129*1000/$BP$128,0)*G129*2),((ROUNDUP(I129*1000/$BP$128,0)-1)*G129*2)),0))","v":6},{"$f":"IF(I129=0,0,ROUNDDOWN((ROUNDUP(I129*1000/$BQ$128,0)-1)*(G129*2)-BP129,0))","v":58},{"$f":"IF($BU$128=\"คิดงาน\",I129*1000,0)","v":0},null,null,{"$f":"IF(CO129=\"\",\"\",\"กม.\"&TEXT(CO129,\"0+000\")&\" - กม.\"&TEXT(CQ129,\"0+000\"))","v":"กม.0+000 - กม.0+590"},null,null,{"$f":"IF(CQ129=MAX($CM$129:$CM$152),\"\",IF(BX129=\"\",\"\",\" , \"))","v":" , "},{"$f":"I129","v":0.59},null,{"$f":"BX129&CA129&BX130&CA130&BX131&CA131&BX132&CA132","v":"กม.0+000 - กม.0+590 , กม.1+698 - กม.2+098 , กม.2+128 - กม.2+178"},null,{"$f":"CN129","v":0},{"$f":"IF(B129=\"\",\"\",B129)","v":0},"-",{"$f":"IF(D129=\"\",\"\",D129)","v":590},null,{"$f":"CG129","v":0},"-",{"$f":"IF(MAX($CI$128:CI128)=CI129,\"\",IF(AND(CG130<>\"\",CJ130=0),\"\",CI129))","v":590},{"$f":"IF(AND(CK129<>\"\",CM129<>\"\"),0,CN128+1)","v":0},{"$f":"IF(CR129=1,MAX($CK$129:CK129),\"\")","v":0},"-",{"$f":"IF(CR129=1,CM129,\"\")","v":590},{"$f":"TYPE(CM129)","v":1},{"$f":"IF(Q129=$BJ$127,J129,0)","v":0},{"$f":"IF(S129=$BJ$127,L129,0)","v":0},{"$f":"IF(CS129+CT129=0,0,IF(AND(CS129<>0,CT129<>0),$I129,IF(AND(CT129=0,$G129+$H129=0),$I129,IF(AND(CT129=0,$G129+$H129<>0),0,$I129))))","v":0},{"$f":"IF(Q129=$BJ$128,J129,0)","v":3540},{"$f":"IF(S129=$BJ$128,L129,0)","v":1180},{"$f":"IF(CV129+CW129=0,0,IF(AND(CV129<>0,CW129<>0),$I129,IF(AND(CW129=0,$G129+$H129=0),$I129,IF(AND(CW129=0,$G129+$H129<>0),0,$I129))))","v":0.59},{"$f":"IF(Q129=$BJ$129,M129,0)","v":0},{"$f":"IF(S129=$BJ$129,N129,0)","v":0},{"$f":"IF(CY129+CZ129=0,0,IF(AND(CY129<>0,CZ129<>0),$I129,IF(AND(CZ129=0,$G129+$H129=0),$I129,IF(AND(CZ129=0,$G129+$H129<>0),0,$I129))))","v":0},{"$f":"IF(Q129=$BJ$130,M129,0)","v":0},{"$f":"IF(S129=$BJ$130,N129,0)","v":0},{"$f":"IF(DB129+DC129=0,0,IF(AND(DB129<>0,DC129<>0),$I129,IF(AND(DC129=0,$G129+$H129=0),$I129,IF(AND(DC129=0,$G129+$H129<>0),0,$I129))))","v":0},{"$f":"O129","v":0},{"$f":"P129","v":0},{"$f":"IF(DE129+DF129=0,0,IF(AND(DE129<>0,DF129<>0),$I129,IF(AND(DF129=0,$G129+$H129=0),$I129,IF(AND(DF129=0,$G129+$H129<>0),0,$I129))))","v":0},{"$f":"IF(Q129=$BJ$132,J129,0)","v":0},{"$f":"IF(S129=$BJ$132,L129,0)","v":0},{"$f":"IF(DH129=0,0,I129)","v":0},{"$f":"IF(DI129=0,0,I129)","v":0},{"$f":"IF(Q129=$BJ$133,J129,0)","v":0},{"$f":"IF(S129=$BJ$133,L129,0)","v":0},{"$f":"IF(DL129=0,0,I129)","v":0},{"$f":"IF(DM129=0,0,I129)","v":0},{"$f":"IF(Q129=$BJ$135,I129*1000,0)","v":0},{"$f":"IF(Q129=$BJ$135,E129*I129*1000-(E129*I129*1000)/DP129*0.2,0)","v":0},{"$f":"IF(DP129=0,0,1)","v":0},{"$f":"IF(OR(AND(D128=B129,Q129=$BJ$135,Q128=$BJ$133),AND(D129=B130,Q129=$BJ$135,Q130=$BJ$133)),1,0)","v":0},{"$f":"IF(DS129=0,0,DQ129)","v":0},{"$f":"IF(DS129=0,0,DP129)","v":0}]
[null,1698,{"$f":"IF(AND(B130<=0,D130<=0),\"\",\"-\")","v":"-"},2098,null,null,null,null,{"$f":"IF(AND(SUM(B130:D130)=0,SUM(E130:H130)<>0),I129,(D130-B130)/1000)","v":0.4},0,null,0,0,{"$f":"IF(OR(S130=$BJ$129,S130=$BJ$130),IF(H130=\"\",(I130*1000*G130*2),(I130*1000*(G130+H130)*0.5*2)),0)","v":0},0,{"$f":"IF(S130=$BJ$131,IF(H130=\"\",(I130*1000*G130*2),(I130*1000*(G130+H130)*0.5*2)),0)","v":0},null,null,null,null,null,null,null,null,null,null,null,null,null,null,null,null,null,null,null,null,null,null,null,null,null,null,null,null,null,null,null,null,null,null,null,null,null,null,null,0.4,null,null,null,null,null,"ก่อสร้าง&Recycling",null,null,null,null,0,{"$f":"IF(I130=0,0,ROUNDDOWN(IF(BR131<>0,(ROUNDUP(I130*1000/$BP$128,0)*E130),((ROUNDUP(I130*1000/$BP$128,0)-1)*E130)),0))","v":0},0,400,0,0,0,null,null,{"$f":"IF(CO130=\"\",\"\",\"กม.\"&TEXT(CO130,\"0+000\")&\" - กม.\"&TEXT(CQ130,\"0+000\"))","v":"กม.1+698 - กม.2+098"},null,null," , ",{"$f":"IF(IF(B130>=MAX($B$129:B129),1,0)+IF(D130>MAX($D$129:D129),1,0)=2,I130,0)","v":0.4},null,null,null,{"$f":"IF(CG130=\"\",\"\",CN130)","v":0},1698,"-",2098,{"$f":"IF(CG130=\"\",0,CG130-CI129)","v":1108},{"$f":"IF(CJ130<=0,\"\",CG130)","v":1698},"-",{"$f":"IF(MAX($CI$128:CI129)=CI130,\"\",IF(AND(CG131<>\"\",CJ131=0),\"\",CI130))","v":2098},0,{"$f":"IF(CR130=1,MAX($CK$129:CK130),\"\")","v":1698},"-",{"$f":"IF(CR130=1,CM130,\"\")","v":2098},{"$f":"TYPE(CM130)","v":1},0,0,0,0,0,0,0,{"$f":"IF(S130=$BJ$129,N130,0)","v":0},0,0,0,0,0,0,0,{"$f":"IF(Q130=$BJ$132,J130,0)","v":0},{"$f":"IF(S130=$BJ$132,L130,0)","v":0},{"$f":"IF(DH130=0,0,I130)","v":0},{"$f":"IF(DI130=0,0,I130)","v":0},0,0,{"$f":"IF(DL130=0,0,I130)","v":0},{"$f":"IF(DM130=0,0,I130)","v":0},0,0,0,0,0,0]
[null,2128,"-",2178,null,null,null,null,0.05,0,null,0,0,{"$f":"IF(OR(S131=$BJ$129,S131=$BJ$130),IF(H131=\"\",(I131*1000*G131*2),(I131*1000*(G131+H131)*0.5*2)),0)","v":0},0,0,null,null,null,null,null,null,null,null,null,null,null,null,null,null,null,null,null,null,null,null,null,null,null,null,null,null,null,null,null,null,null,null,null,null,null,null,null,null,null,0.05,null,null,null,null,null,"เสริมผิว",null,null,null,null,0,0,0,50,0,0,0,null,null,"กม.2+128 - กม.2+178",null,null,"",{"$f":"IF(IF(B131>=MAX($B$129:B130),1,0)+IF(D131>MAX($D$129:D130),1,0)=2,I131,0)","v":0.05},null,null,null,{"$f":"IF(CG131=\"\",\"\",CN131)","v":0},2128,"-",2178,30,2128,"-",{"$f":"IF(MAX($CI$128:CI130)=CI131,\"\",IF(AND(CG132<>\"\",CJ132=0),\"\",CI131))","v":2178},0,{"$f":"IF(CR131=1,MAX($CK$129:CK131),\"\")","v":2128},"-",{"$f":"IF(CR131=1,CM131,\"\")","v":2178},{"$f":"TYPE(CM131)","v":1},0,0,0,0,0,0,0,0,0,0,0,0,0,0,0,0,0,0,0,0,0,0,0,0,{"$f":"IF(Q131=$BJ$135,E131*I131*1000-(E131*I131*1000)/DP131*0.2,0)","v":0},{"$f":"IF(DP131=0,0,1)","v":0},{"$f":"IF(OR(AND(D130=B131,Q131=$BJ$135,Q130=$BJ$133),AND(D131=B132,Q131=$BJ$135,Q132=$BJ$133)),1,0)","v":0},{"$f":"IF(DS131=0,0,DQ131)","v":0},{"$f":"IF(DS131=0,0,DP131)","v":0}]
[null,null,"",null,null,null,null,null,0,0,null,0,0,0,0,0,null,null,null,null,null,null,null,null,null,null,null,null,null,null,null,null,null,null,null,null,null,null,null,null,null,null,null,null,null,null,null,null,null,null,null,null,null,null,null,0,null,null,null,null,null,"หินคลุก",null,null,null,null,0,0,0,0,0,0,0,null,null,"",null,null,"",{"$f":"IF(IF(B132>=MAX($B$129:B131),1,0)+IF(D132>MAX($D$129:D131),1,0)=2,I132,0)","v":0},null,null,null,{"$f":"IF(CG132=\"\",\"\",CN132)","v":""},"","-","",0,"","-",{"$f":"IF(MAX($CI$128:CI131)=CI132,\"\",IF(AND(CG133<>\"\",CJ133=0),\"\",CI132))","v":""},1,{"$f":"IF(CR132=1,MAX($CK$129:CK132),\"\")","v":""},"-","",2,0,0,0,0,0,0,0,0,0,0,0,0,0,0,0,0,0,0,0,0,0,0,0,0,{"$f":"IF(Q132=$BJ$135,E132*I132*1000-(E132*I132*1000)/DP132*0.2,0)","v":0},{"$f":"IF(DP132=0,0,1)","v":0},{"$f":"IF(OR(AND(D131=B132,Q132=$BJ$135,Q131=$BJ$133),AND(D132=B133,Q132=$BJ$135,Q133=$BJ$133)),1,0)","v":0},{"$f":"IF(DS132=0,0,DQ132)","v":0},{"$f":"IF(DS132=0,0,DP132)","v":0}]
[null,null,"",null,null,null,null,null,0,{"$f":"IF(OR(Q133=$BJ$127,Q133=$BJ$128,Q133=$BJ$130,Q133=$BJ$132,Q133=$BJ$133),IF(F133=\"\",(I133*1000*E133),(I133*1000*(E133+F133)*0.5)),0)","v":0},null,0,0,0,0,0,null,null,null,null,null,null,null,null,null,null,null,null,null,null,null,null,null,null,null,null,null,null,null,null,null,null,null,null,null,null,null,null,null,null,null,null,null,null,null,0,null,null,null,null,null,"ลูกรัง",null,null,null,null,0,0,0,0,0,0,0,null,null,"",null,null,"",{"$f":"IF(IF(B133>=MAX($B$129:B132),1,0)+IF(D133>MAX($D$129:D132),1,0)=2,I133,0)","v":0},null,{"$f":"BX133&CA133&BX134&CA134&BX135&CA135&BX136&CA136","v":""},null,{"$f":"IF(CG133=\"\",\"\",CN133)","v":""},"","-","",0,"","-",{"$f":"IF(MAX($CI$128:CI132)=CI133,\"\",IF(AND(CG134<>\"\",CJ134=0),\"\",CI133))","v":""},2,{"$f":"IF(CR133=1,MAX($CK$129:CK133),\"\")","v":""},"-","",{"$f":"TYPE(CM133)","v":2},0,0,0,0,0,0,0,0,0,0,0,0,0,0,{"$f":"IF(DE133+DF133=0,0,IF(AND(DE133<>0,DF133<>0),$I133,IF(AND(DF133=0,$G133+$H133=0),$I133,IF(AND(DF133=0,$G133+$H133<>0),0,$I133))))","v":0},0,0,0,0,0,0,0,0,0,0,0,0,0,0]
[null,null,"",null,null,null,null,null,0,{"$f":"IF(OR(Q134=$BJ$127,Q134=$BJ$128,Q134=$BJ$130,Q134=$BJ$132,Q134=$BJ$133),IF(F134=\"\",(I134*1000*E134),(I134*1000*(E134+F134)*0.5)),0)","v":0},null,{"$f":"IF(OR(S134=$BJ$127,S134=$BJ$128,S134=$BJ$130,S134=$BJ$132,S134=$BJ$133),IF(H134=\"\",(I134*1000*G134*2),(I134*1000*(G134+H134)*0.5*2)),0)","v":0},0,0,0,0,null,null,null,null,null,null,null,null,null,null,null,null,null,null,null,null,null,null,null,null,null,null,null,null,null,null,null,null,null,null,null,null,null,null,null,null,null,null,null,0,null,null,null,null,null,"สะพาน",null,null,null,null,0,0,0,0,0,0,0,null,null,"",null,null,"",{"$f":"IF(IF(B134>=MAX($B$129:B133),1,0)+IF(D134>MAX($D$129:D133),1,0)=2,I134,0)","v":0},null,null,null,{"$f":"IF(CG134=\"\",\"\",CN134)","v":""},"","-","",0,{"$f":"IF(CJ134<=0,\"\",CG134)","v":""},"-",{"$f":"IF(MAX($CI$128:CI133)=CI134,\"\",IF(AND(CG135<>\"\",CJ135=0),\"\",CI134))","v":""},3,{"$f":"IF(CR134=1,MAX($CK$129:CK134),\"\")","v":""},"-","",{"$f":"TYPE(CM134)","v":2},0,0,0,0,0,0,0,0,0,0,0,0,0,0,0,0,0,0,0,0,0,0,0,0,0,0,0,0,0]
[null,null,"",null,null,null,null,null,0,0,null,{"$f":"IF(OR(S135=$BJ$127,S135=$BJ$128,S135=$BJ$130,S135=$BJ$132,S135=$BJ$133),IF(H135=\"\",(I135*1000*G135*2),(I135*1000*(G135+H135)*0.5*2)),0)","v":0},0,0,0,0,null,null,null,null,null,null,null,null,null,null,null,null,null,null,null,null,null,null,null,null,null,null,null,null,null,null,null,null,null,null,null,null,null,null,null,null,null,null,null,0,null,null,null,null,null,"Approach Slab ",null,null,null,null,0,0,0,0,0,0,0,null,null,"",null,null,"",{"$f":"IF(IF(B135>=MAX($B$129:B134),1,0)+IF(D135>MAX($D$129:D134),1,0)=2,I135,0)","v":0},null,null,null,{"$f":"IF(CN135=1,CF134+CN135,0)","v":0},"","-","",0,"","-",{"$f":"IF(MAX($CI$128:CI134)=CI135,\"\",IF(AND(CG136<>\"\",CJ136=0),\"\",CI135))","v":""},{"$f":"IF(AND(CK135<>\"\",CM135<>\"\"),0,CN134+1)","v":4},{"$f":"IF(CR135=1,MAX($CK$129:CK135),\"\")","v":""},"-","",2,0,0,0,0,0,0,0,0,0,0,0,0,0,0,0,0,0,0,0,0,0,0,0,0,0,0,0,0,0]
[null,null,"",null,null,null,null,null,0,0,null,0,0,0,0,0,null,null,null,null,null,null,null,null,null,null,null,null,null,null,null,null,null,null,null,null,null,null,null,null,null,null,null,null,null,null,null,null,null,null,null,null,null,null,null,0,null,null,null,null,null,"ท่อลอดเหลี่ยม",null,null,null,null,0,0,0,0,0,0,0,null,null,"",null,null,"",{"$f":"IF(IF(B136>=MAX($B$129:B135),1,0)+IF(D136>MAX($D$129:D135),1,0)=2,I136,0)","v":0},null,null,null,0,"","-","",{"$f":"IF(CG136=\"\",0,CG136-CI135)","v":0},"","-",{"$f":"IF(MAX($CI$128:CI135)=CI136,\"\",IF(AND(CG137<>\"\",CJ137=0),\"\",CI136))","v":""},{"$f":"IF(CG136=\"\",0,IF(CG136-CI135<=0,1,0))","v":0},{"$f":"IF(CR136=1,MAX($CK$129:CK136),\"\")","v":""},"-","",2,0,0,0,0,0,0,0,0,0,0,0,0,0,0,0,0,0,0,0,0,0,0,0,0,0,0,0,0,0]
[null,null,"",null,null,null,null,null,0,0,null,0,0,0,0,0,null,null,null,null,null,null,null,null,null,null,null,null,null,null,null,null,null,null,null,null,null,null,null,null,null,null,null,null,null,null,null,null,null,null,null,null,null,null,null,0,null,null,null,null,null,null,null,null,null,null,0,0,0,0,0,0,0,null,null,"",null,null,"",{"$f":"IF(IF(B137>=MAX($B$129:B136),1,0)+IF(D137>MAX($D$129:D136),1,0)=2,I137,0)","v":0},null,{"$f":"BX137&CA137&BX138&CA138&BX139&CA139&BX140&CA140","v":""},null,0,"","-","",0,{"$f":"IF(CJ137=0,\"\",CG137)","v":""},"-",{"$f":"IF(MAX($CI$128:CI136)=CI137,\"\",IF(AND(CG138<>\"\",CJ138=0),\"\",CI137))","v":""},0,{"$f":"IF(CR137=1,MAX($CK$129:CK137),\"\")","v":""},"-","",2,0,0,0,0,0,0,0,0,0,0,0,0,0,0,0,0,0,0,0,0,0,0,0,0,0,0,0,0,0]
[null,null,"",null,null,null,null,null,0,0,null,0,0,0,0,0,null,null,null,null,null,null,null,null,null,null,null,null,null,null,null,null,null,null,null,null,null,null,null,null,null,null,null,null,null,null,null,null,null,null,null,null,null,null,null,0,null,null,null,null,null,null,null,null,null,null,0,0,0,0,0,0,0,null,null,"",null,null,"",{"$f":"IF(IF(B138>=MAX($B$129:B137),1,0)+IF(D138>MAX($D$129:D137),1,0)=2,I138,0)","v":0},null,null,null,0,"","-","",0,"","-",{"$f":"IF(MAX($CI$128:CI137)=CI138,\"\",IF(AND(CG139<>\"\",CJ139=0),\"\",CI138))","v":""},0,{"$f":"IF(CR138=1,MAX($CK$129:CK138),\"\")","v":""},"-","",2,0,0,0,0,0,0,0,0,0,0,0,0,0,0,0,0,0,0,0,0,0,0,0,0,0,0,0,0,0]
[null,null,"",null,null,null,null,null,0,0,null,0,0,0,0,0,null,null,null,null,null,null,null,null,null,null,null,null,null,null,null,null,null,null,null,null,null,null,null,null,null,null,null,null,null,null,null,null,null,null,null,null,null,null,null,0,null,null,null,null,null,null,null,null,null,null,0,0,0,0,0,0,0,null,null,"",null,null,"",{"$f":"IF(IF(B139>=MAX($B$129:B138),1,0)+IF(D139>MAX($D$129:D138),1,0)=2,I139,0)","v":0},null,null,null,0,"","-","",0,"","-",{"$f":"IF(MAX($CI$128:CI138)=CI139,\"\",IF(AND(CG140<>\"\",CJ140=0),\"\",CI139))","v":""},0,{"$f":"IF(CR139=1,MAX($CK$129:CK139),\"\")","v":""},"-","",2,0,0,0,0,0,0,0,0,0,0,0,0,0,0,0,0,0,0,0,0,0,0,0,0,0,0,0,0,0]
[null,null,"",null,null,null,null,null,0,0,null,0,0,0,0,0,null,null,null,null,null,null,null,null,null,null,null,null,null,null,null,null,null,null,null,null,null,null,null,null,null,null,null,null,null,null,null,null,null,null,null,null,null,null,null,0,null,null,null,null,null,null,null,null,null,null,0,0,0,0,0,0,0,null,null,"",null,null,"",{"$f":"IF(IF(B140>=MAX($B$129:B139),1,0)+IF(D140>MAX($D$129:D139),1,0)=2,I140,0)","v":0},null,null,null,0,"","-","",0,"","-",{"$f":"IF(MAX($CI$128:CI139)=CI140,\"\",IF(AND(CG141<>\"\",CJ141=0),\"\",CI140))","v":""},0,{"$f":"IF(CR140=1,MAX($CK$129:CK140),\"\")","v":""},"-","",2,0,0,0,0,0,0,0,0,0,0,0,0,0,0,0,0,0,0,0,0,0,0,0,0,0,0,0,0,0]
[null,null,"",null,null,null,null,null,0,0,null,0,0,0,0,0,null,null,null,null,null,null,null,null,null,null,null,null,null,null,null,null,null,null,null,null,null,null,null,null,null,null,null,null,null,null,null,null,null,null,null,null,null,null,null,0,null,null,null,null,null,null,null,null,null,null,0,0,0,0,0,0,0,null,null,"",null,null,"",{"$f":"IF(IF(B141>=MAX($B$129:B140),1,0)+IF(D141>MAX($D$129:D140),1,0)=2,I141,0)","v":0},null,{"$f":"BX141&CA141&BX142&CA142&BX143&CA143&BX144&CA144","v":""},null,0,"","-","",0,"","-",{"$f":"IF(MAX($CI$128:CI140)=CI141,\"\",IF(AND(CG142<>\"\",CJ142=0),\"\",CI141))","v":""},0,{"$f":"IF(CR141=1,MAX($CK$129:CK141),\"\")","v":""},"-","",2,0,0,0,0,0,0,0,0,0,0,0,0,0,0,0,0,0,0,0,0,0,0,0,0,0,0,0,0,0]
[null,null,null,null,null,null,null,null,0,0,null,0,0,0,0,0,null,null,null,null,null,null,null,null,null,null,null,null,null,null,null,null,null,null,null,null,null,null,null,null,null,null,null,null,null,null,null,null,null,null,null,null,null,null,null,0,null,null,null,null,null,null,null,null,null,null,0,0,0,0,0,0,0,null,null,{"$f":"IF(CO142=\"\",\"\",\"กม.\"&TEXT(CO142,\"0+000\")&\" - กม.\"&TEXT(CQ142,\"0+000\"))","v":""},null,null,"",{"$f":"IF(IF(B142>=MAX($B$129:B141),1,0)+IF(D142>MAX($D$129:D141),1,0)=2,I142,0)","v":0},null,null,null,{"$f":"IF(CN142=1,CF141+CN142,0)","v":0},"","-","",{"$f":"IF(CG142=\"\",0,CG142-CI141)","v":0},{"$f":"IF(CJ142=0,\"\",CG142)","v":""},"-",{"$f":"IF(MAX($CI$128:CI141)=CI142,\"\",IF(AND(CG143<>\"\",CJ143=0),\"\",CI142))","v":""},{"$f":"IF(CG142=\"\",0,IF(CG142-CI141<=0,1,0))","v":0},{"$f":"IF(CR142=1,MAX($CK$129:CK142),\"\")","v":""},"-",{"$f":"IF(CR142=1,CM142,\"\")","v":""},{"$f":"TYPE(CM142)","v":2},0,0,0,0,0,0,0,0,0,0,0,0,0,0,0,0,0,0,0,0,0,0,0,0,0,0,0,0,0]
[null,null,null,null,null,null,null,null,0,0,null,0,0,0,0,0,null,null,null,null,null,null,null,null,null,null,null,null,null,null,null,null,null,null,null,null,null,null,null,null,null,null,null,null,null,null,null,null,null,null,null,null,null,null,null,0,null,null,null,null,null,null,null,null,null,null,0,0,0,0,0,0,0,null,null,"",null,null,"",{"$f":"IF(IF(B143>=MAX($B$129:B142),1,0)+IF(D143>MAX($D$129:D142),1,0)=2,I143,0)","v":0},null,null,null,0,"","-","",0,"","-",{"$f":"IF(MAX($CI$128:CI142)=CI143,\"\",IF(AND(CG144<>\"\",CJ144=0),\"\",CI143))","v":""},0,{"$f":"IF(CR143=1,MAX($CK$129:CK143),\"\")","v":""},"-","",2,0,0,0,0,0,0,0,0,0,0,0,0,0,0,0,0,0,0,0,0,0,0,0,0,0,0,0,0,0]
[null,null,null,null,null,null,null,null,0,0,null,0,0,0,0,0,null,null,null,null,null,null,null,null,null,null,null,null,null,null,null,null,null,null,null,null,null,null,null,null,null,null,null,null,null,null,null,null,null,null,null,null,null,null,null,0,null,null,null,null,null,null,null,null,null,null,0,0,0,0,0,0,0,null,null,"",null,null,"",{"$f":"IF(IF(B144>=MAX($B$129:B143),1,0)+IF(D144>MAX($D$129:D143),1,0)=2,I144,0)","v":0},null,null,null,0,"","-","",0,"","-",{"$f":"IF(MAX($CI$128:CI143)=CI144,\"\",IF(AND(CG145<>\"\",CJ145=0),\"\",CI144))","v":""},0,{"$f":"IF(CR144=1,MAX($CK$129:CK144),\"\")","v":""},"-","",2,0,0,0,0,0,0,0,0,0,0,0,0,0,0,0,0,0,0,0,0,0,0,0,0,0,0,0,0,0]
[null,null,null,null,null,null,null,null,0,0,null,0,0,0,0,0,null,null,null,null,null,null,null,null,null,null,null,null,null,null,null,null,null,null,null,null,null,null,null,null,null,null,null,null,null,null,null,null,null,null,null,null,null,null,null,0,null,null,null,null,null,null,null,null,null,null,0,0,0,0,0,0,0,null,null,"",null,null,"",{"$f":"IF(IF(B145>=MAX($B$129:B144),1,0)+IF(D145>MAX($D$129:D144),1,0)=2,I145,0)","v":0},null,{"$f":"BX145&CA145&BX146&CA146&BX147&CA147&BX148&CA148","v":""},null,0,"","-","",0,"","-",{"$f":"IF(MAX($CI$128:CI144)=CI145,\"\",IF(AND(CG146<>\"\",CJ146=0),\"\",CI145))","v":""},0,{"$f":"IF(CR145=1,MAX($CK$129:CK145),\"\")","v":""},"-","",2,0,0,0,0,0,0,0,0,0,0,0,0,0,0,0,0,0,0,0,0,0,0,0,0,0,0,0,0,0]
[null,null,null,null,null,null,null,null,0,0,null,0,0,0,0,0,null,null,null,null,null,null,null,null,null,null,null,null,null,null,null,null,null,null,null,null,null,null,null,null,null,null,null,null,null,null,null,null,null,null,null,null,null,null,null,0,null,null,null,null,null,null,null,null,null,null,0,0,0,0,0,0,0,null,null,"",null,null,"",{"$f":"IF(IF(B146>=MAX($B$129:B145),1,0)+IF(D146>MAX($D$129:D145),1,0)=2,I146,0)","v":0},null,null,null,0,"","-","",0,"","-",{"$f":"IF(MAX($CI$128:CI145)=CI146,\"\",IF(AND(CG147<>\"\",CJ147=0),\"\",CI146))","v":""},0,{"$f":"IF(CR146=1,MAX($CK$129:CK146),\"\")","v":""},"-","",2,0,0,0,0,0,0,0,0,0,0,0,0,0,0,0,0,0,0,0,0,0,0,0,0,0,0,0,0,0]
[null,null,null,null,null,null,null,null,0,0,null,0,0,0,0,0,null,null,null,null,null,null,null,null,null,null,null,null,null,null,null,null,null,null,null,null,null,null,null,null,null,null,null,null,null,null,null,null,null,null,null,null,null,null,null,0,null,null,null,null,null,null,null,null,null,null,0,0,0,0,0,0,0,null,null,"",null,null,"",{"$f":"IF(IF(B147>=MAX($B$129:B146),1,0)+IF(D147>MAX($D$129:D146),1,0)=2,I147,0)","v":0},null,null,null,{"$f":"IF(CN147=1,CF146+CN147,0)","v":0},{"$f":"IF(B147=\"\",\"\",B147)","v":""},"-",{"$f":"IF(D147=\"\",\"\",D147)","v":""},{"$f":"IF(CG147=\"\",0,CG147-CI146)","v":0},{"$f":"IF(CJ147=0,\"\",CG147)","v":""},"-",{"$f":"IF(MAX($CI$128:CI146)=CI147,\"\",IF(AND(CG148<>\"\",CJ148=0),\"\",CI147))","v":""},{"$f":"IF(CG147=\"\",0,IF(CG147-CI146<=0,1,0))","v":0},{"$f":"IF(CR147=1,MAX($CK$129:CK147),\"\")","v":""},"-",{"$f":"IF(CR147=1,CM147,\"\")","v":""},2,0,0,0,0,0,0,0,0,0,0,0,0,0,0,0,0,0,0,0,0,0,0,0,0,0,0,0,0,0]
[null,null,null,null,null,null,null,null,0,0,null,0,0,0,0,0,null,null,null,null,null,null,null,null,null,null,null,null,null,null,null,null,null,null,null,null,null,null,null,null,null,null,null,null,null,null,null,null,null,null,null,null,null,null,null,0,null,null,null,null,null,null,null,null,null,null,0,0,0,0,0,0,0,null,null,"",null,null,"",{"$f":"IF(IF(B148>=MAX($B$129:B147),1,0)+IF(D148>MAX($D$129:D147),1,0)=2,I148,0)","v":0},null,null,null,0,"","-","",0,"","-",{"$f":"IF(MAX($CI$128:CI147)=CI148,\"\",IF(AND(CG149<>\"\",CJ149=0),\"\",CI148))","v":""},0,{"$f":"IF(CR148=1,MAX($CK$129:CK148),\"\")","v":""},"-","",2,0,0,0,0,0,0,0,0,0,0,0,0,0,0,0,0,0,0,0,0,0,0,0,0,0,0,0,0,0]
[null,null,null,null,null,null,null,null,0,0,null,0,0,0,0,0,null,null,null,null,null,null,null,null,null,null,null,null,null,null,null,null,null,null,null,null,null,null,null,null,null,null,null,null,null,null,null,null,null,null,null,null,null,null,null,0,null,null,null,null,null,null,null,null,null,null,0,0,0,0,0,0,0,null,null,"",null,null,"",{"$f":"IF(IF(B149>=MAX($B$129:B148),1,0)+IF(D149>MAX($D$129:D148),1,0)=2,I149,0)","v":0},null,{"$f":"BX149&CA149&BX150&CA150&BX151&CA151&BX152&CA152","v":""},null,0,"","-","",0,"","-",{"$f":"IF(MAX($CI$128:CI148)=CI149,\"\",IF(AND(CG150<>\"\",CJ150=0),\"\",CI149))","v":""},0,{"$f":"IF(CR149=1,MAX($CK$129:CK149),\"\")","v":""},"-","",2,0,0,0,0,0,0,0,0,0,0,0,0,0,0,0,0,0,0,0,0,0,0,0,0,0,0,0,0,0]
[null,null,null,null,null,null,null,null,0,0,null,0,0,0,0,0,null,null,null,null,null,null,null,null,null,null,null,null,null,null,null,null,null,null,null,null,null,null,null,null,null,null,null,null,null,null,null,null,null,null,null,null,null,null,null,0,null,null,null,null,null,null,null,null,null,null,0,0,0,0,0,0,0,null,null,"",null,null,"",{"$f":"IF(IF(B150>=MAX($B$129:B149),1,0)+IF(D150>MAX($D$129:D149),1,0)=2,I150,0)","v":0},null,null,null,0,"","-","",0,"","-",{"$f":"IF(MAX($CI$128:CI149)=CI150,\"\",IF(AND(CG151<>\"\",CJ151=0),\"\",CI150))","v":""},0,{"$f":"IF(CR150=1,MAX($CK$129:CK150),\"\")","v":""},"-","",2,0,0,0,0,0,0,0,0,0,0,0,0,0,0,0,0,0,0,0,0,0,0,0,0,0,0,0,0,0]
[null,null,null,null,null,null,null,null,0,0,null,0,0,0,0,0,null,null,null,null,null,null,null,null,null,null,null,null,null,null,null,null,null,null,null,null,null,null,null,null,null,null,null,null,null,null,null,null,null,null,null,null,null,null,null,0,null,null,null,null,null,null,null,null,null,null,0,0,0,0,0,0,0,null,null,"",null,null,"",{"$f":"IF(IF(B151>=MAX($B$129:B150),1,0)+IF(D151>MAX($D$129:D150),1,0)=2,I151,0)","v":0},null,null,null,0,"","-","",0,"","-",{"$f":"IF(MAX($CI$128:CI150)=CI151,\"\",IF(AND(CG152<>\"\",CJ152=0),\"\",CI151))","v":""},0,{"$f":"IF(CR151=1,MAX($CK$129:CK151),\"\")","v":""},"-","",2,0,0,0,0,0,0,0,0,0,0,0,0,0,0,0,0,0,0,0,0,0,0,0,0,0,0,0,0,0]
[null,null,null,null,null,null,null,null,0,0,null,0,0,0,0,0,null,null,null,null,null,null,null,null,null,null,null,null,null,null,null,null,null,null,null,null,null,null,null,null,null,null,null,null,null,null,null,null,null,null,null,null,null,null,null,0,null,null,null,null,null,null,null,null,null,null,0,{"$f":"IF(I152=0,0,ROUNDDOWN(IF(#REF!<>0,(ROUNDUP(I152*1000/$BP$128,0)*E152),((ROUNDUP(I152*1000/$BP$128,0)-1)*E152)),0))","v":0},0,0,{"$f":"IF(I152=0,0,ROUNDDOWN(IF(#REF!<>0,(ROUNDUP(I152*1000/$BP$128,0)*G152*2),((ROUNDUP(I152*1000/$BP$128,0)-1)*G152*2)),0))","v":0},0,0,null,null,"",null,null,"",{"$f":"IF(IF(B152>=MAX($B$129:B151),1,0)+IF(D152>MAX($D$129:D151),1,0)=2,I152,0)","v":0},null,null,null,0,"","-","",0,"","-",{"$f":"IF(MAX($CI$128:CI151)=CI152,\"\",IF(AND(CG153<>\"\",CJ153=0),\"\",CI152))","v":""},0,{"$f":"IF(CR152=1,MAX($CK$129:CK152),\"\")","v":""},"-","",2,0,0,0,0,0,0,0,0,0,0,0,0,0,0,0,0,0,0,0,0,0,0,0,0,0,0,0,0,0]
[null,null,null,null,null,null,null,null,0.35599999999999998,{"$f":"SUM(J129:J152)","v":3540},null,1180,0,0,0,0,null,null,null,null,null,null,null,null,null,null,null,null,null,null,null,null,null,null,null,null,null,null,null,null,null,null,null,null,null,null,null,null,null,null,null,null,null,null,null,{"$f":"SUM(BD129:BD152)","v":0.45},null,null,null,null,null,null,null,null,null,null,null,{"$f":"SUM(BP129:BP152)","v":58},290,1040,6,58,0,null,null,null,null,null,null,{"$f":"SUM(CB129:CB152)","v":1.04},null,null,null,null,null,null,null,null,null,null,null,null,null,null,null,null,{"$f":"SUM(CS129:CS152)","v":0},0,0,3540,1180,0.59,0,0,0,0,0,0,0,0,0,{"$f":"SUM(DH129:DH152)","v":0},{"$f":"SUM(DI129:DI152)","v":0},{"$f":"SUM(DJ129:DJ152)","v":0},{"$f":"SUM(DK129:DK152)","v":0},0,0,{"$f":"SUM(DN129:DN152)","v":0},{"$f":"SUM(DO129:DO152)","v":0},{"$f":"SUM(DP129:DP152)","v":0},{"$f":"SUM(DQ129:DQ152)","v":0},{"$f":"SUM(DR129:DR152)*1.75","v":0},{"$f":"SUM(DS129:DS152)*1.75","v":0},{"$f":"SUM(DT129:DT152)","v":0},{"$f":"SUM(DU129:DU152)","v":0}]
[null,"สรุปพื้นที่ Widening (ตร.ม.)"]
[null,null,"ที่","Curve NO.","   PI.STA.","    Sta.Att.","  Sta.Att.to","  Sta.Rem.","Sta.Rem.to"," Widening",null,"   หลักโค้ง","        พท.","   หักหน้า","   หักหลัง","     เหลือ","                   หมายเหตุ",null,null,null,null,null,null,null,null,null,null,null,null,null,null,null,null,null,null,null,null,null,null,null,null,null,null,null,null,null,null,null,null,null,null,null,null,null,null,"ช่วงก่อสร้าง",null,null,"พื้นที่","ลาดยาง","Pavement In-Place Recycling","เสริมผิว AC","คสล.","หินคลุก","ลูกรัง"]
[null,null,{"$f":"IF(E156=0,0,1)","v":0},null,null,null,null,null,null,null,null,null,{"$f":"ROUNDDOWN(IF(AND(G156=0,I156=0),(H156-F156)*2/3*J156,IF(AND(F156=0,G156=0),(((I156-BE156)/(I156-H156)*J156)*0.5*(I156-BE156)),IF(AND(H156=0,I156=0),((BE156-F156)/(G156-F156)*J156*0.5*(BE156-F156)),((G156-F156)*0.5+(H156-G156)+(I156-H156)*0.5)*J156))),2)","v":0},{"$f":"IF(J156=0,0,IF(OR(F156>BE156,I156<BD156),ERROR.TYPE(7),ROUND(IF(BD156<=F156,0,IF(BD156>H156,((((G156-F156)*0.5+(H156-G156))*J156)+((ROUND((I156-BD156)/(I156-H156),3)*J156+J156)*0.5*(BD156-H156))),IF(BD156>G156,(((G156-F156)*0.5+(BD156-G156))*J156),IF(BD156>F156,((ROUND((BD156-F156)/(G156-F156),3)*J156)*0.5*(BD156-F156)))))),2)))","v":0},{"$f":"IF(J156=0,0,IF(I156<BD156,\"#N/A\",ROUND(IF(BE156>=I156,0,IF(BE156>H156,((ROUND((I156-BE156)/(I156-H156),3)*J156)*0.5*(I156-BE156)),IF(BE156>G156,(((H156-BE156)+(I156-H156)*0.5)*J156),IF(BE156>F156,((((H156-G156)+(I156-H156)*0.5)*J156)+((ROUND((BE156-F156)/(G156-F156),3)*J156+J156)*0.5*(G156-BE156))))))),2)))","v":0},{"$f":"+M156-N156-O156","v":0},null,null,null,null,null,null,null,null,null,null,null,null,null,null,null,null,null,null,null,null,null,null,null,null,null,null,null,null,null,null,null,null,null,null,null,null,null,null,null,{"$f":"IF(AND(E156=0,J156=0),0,VLOOKUP(E156,$CO$129:$CQ$152,1,TRUE))","v":0},{"$f":"IF(E156=0,0,VLOOKUP(E156,$CO$129:$CQ$152,3,TRUE))","v":0},null,null,{"$f":"IF(Q156=\"\",P156,0)+IF(Q156=BH$155,P156,0)","v":0},{"$f":"IF(Q156=BI$155,P156,0)","v":0},{"$f":"IF(Q156=BJ$155,P156,0)","v":0},{"$f":"IF(Q156=BK$155,P156,0)","v":0},{"$f":"IF(Q156=BL$155,P156,0)","v":0},{"$f":"IF(Q156=BM$155,P156,0)","v":0}]
[null,null,{"$f":"IF(E157=0,0,MAX($C$156:C156)+1)","v":0},null,null,null,null,null,null,null,null,null,{"$f":"ROUNDDOWN(IF(AND(G157=0,I157=0),(H157-F157)*2/3*J157,IF(AND(F157=0,G157=0),(((I157-BE157)/(I157-H157)*J157)*0.5*(I157-BE157)),IF(AND(H157=0,I157=0),((BE157-F157)/(G157-F157)*J157*0.5*(BE157-F157)),((G157-F157)*0.5+(H157-G157)+(I157-H157)*0.5)*J157))),2)","v":0},{"$f":"IF(J157=0,0,IF(OR(F157>BE157,I157<BD157),ERROR.TYPE(7),ROUND(IF(BD157<=F157,0,IF(BD157>H157,((((G157-F157)*0.5+(H157-G157))*J157)+((ROUND((I157-BD157)/(I157-H157),3)*J157+J157)*0.5*(BD157-H157))),IF(BD157>G157,(((G157-F157)*0.5+(BD157-G157))*J157),IF(BD157>F157,((ROUND((BD157-F157)/(G157-F157),3)*J157)*0.5*(BD157-F157)))))),2)))","v":0},0,0,null,null,null,null,null,null,null,null,null,null,null,null,null,null,null,null,null,null,null,null,null,null,null,null,null,null,null,null,null,null,null,null,null,null,null,null,null,null,null,0,0,null,null,0,0,0,0,{"$f":"IF(Q157=BL$155,P157,0)","v":0},0]
[null,null,{"$f":"IF(E158=0,0,MAX($C$156:C157)+1)","v":0},null,null,null,null,null,null,null,null,null,0,0,0,0,null,null,null,null,null,null,null,null,null,null,null,null,null,null,null,null,null,null,null,null,null,null,null,null,null,null,null,null,null,null,null,null,null,null,null,null,null,null,null,0,0,null,null,0,0,0,0,0,0]
[null,null,{"$f":"IF(E159=0,0,MAX($C$156:C158)+1)","v":0},null,null,null,null,null,null,null,null,null,0,0,0,0,null,null,null,null,null,null,null,null,null,null,null,null,null,null,null,null,null,null,null,null,null,null,null,null,null,null,null,null,null,null,null,null,null,null,null,null,null,null,null,0,0,null,null,0,0,0,0,0,0]
[null,null,{"$f":"IF(E160=0,0,MAX($C$156:C159)+1)","v":0},null,null,null,null,null,null,null,null,null,0,0,0,0,null,null,null,null,null,null,null,null,null,null,null,null,null,null,null,null,null,null,null,null,null,null,null,null,null,null,null,null,null,null,null,null,null,null,null,null,null,null,null,0,0,null,null,0,0,0,0,0,0]
[null,null,{"$f":"IF(E161=0,0,MAX($C$156:C160)+1)","v":0},null,null,null,null,null,null,null,null,null,0,0,0,0,null,null,null,null,null,null,null,null,null,null,null,null,null,null,null,null,null,null,null,null,null,null,null,null,null,null,null,null,null,null,null,null,null,null,null,null,null,null,null,0,0,null,null,0,0,0,0,0,0]
[null,null,{"$f":"IF(E162=0,0,MAX($C$156:C161)+1)","v":0},null,null,null,null,null,null,null,null,null,0,0,0,0,null,null,null,null,null,null,null,null,null,null,null,null,null,null,null,null,null,null,null,null,null,null,null,null,null,null,null,null,null,null,null,null,null,null,null,null,null,null,null,0,0,null,null,0,0,0,0,0,0]
[null,null,{"$f":"IF(E163=0,0,MAX($C$156:C162)+1)","v":0},null,null,null,null,null,null,null,null,null,0,0,0,0,null,null,null,null,null,null,null,null,null,null,null,null,null,null,null,null,null,null,null,null,null,null,null,null,null,null,null,null,null,null,null,null,null,null,null,null,null,null,null,0,0,null,null,0,0,0,0,0,0]
[null,null,{"$f":"IF(E164=0,0,MAX($C$156:C163)+1)","v":0},null,null,null,null,null,null,null,null,null,0,0,0,0,null,null,null,null,null,null,null,null,null,null,null,null,null,null,null,null,null,null,null,null,null,null,null,null,null,null,null,null,null,null,null,null,null,null,null,null,null,null,null,0,0,null,null,0,0,0,0,0,0]
[null,null,{"$f":"IF(E165=0,0,MAX($C$156:C164)+1)","v":0},null,null,null,null,null,null,null,null,null,0,0,0,0,null,null,null,null,null,null,null,null,null,null,null,null,null,null,null,null,null,null,null,null,null,null,null,null,null,null,null,null,null,null,null,null,null,null,null,null,null,null,null,0,0,null,null,0,0,0,0,0,0]
[null,null,{"$f":"IF(E166=0,0,MAX($C$156:C165)+1)","v":0},null,null,null,null,null,null,null,null,null,0,0,0,0,null,null,null,null,null,null,null,null,null,null,null,null,null,null,null,null,null,null,null,null,null,null,null,null,null,null,null,null,null,null,null,null,null,null,null,null,null,null,null,0,0,null,null,0,0,0,0,0,0]
[null,null,{"$f":"IF(E167=0,0,MAX($C$156:C166)+1)","v":0},null,null,null,null,null,null,null,null,null,0,0,0,0,null,null,null,null,null,null,null,null,null,null,null,null,null,null,null,null,null,null,null,null,null,null,null,null,null,null,null,null,null,null,null,null,null,null,null,null,null,null,null,0,0,null,null,0,0,0,0,0,0]
[null,null,{"$f":"IF(E168=0,0,MAX($C$156:C167)+1)","v":0},null,null,null,null,null,null,null,null,null,0,0,0,0,null,null,null,null,null,null,null,null,null,null,null,null,null,null,null,null,null,null,null,null,null,null,null,null,null,null,null,null,null,null,null,null,null,null,null,null,null,null,null,0,0,null,null,0,0,0,0,0,0]
[null,null,{"$f":"IF(E169=0,0,MAX($C$156:C168)+1)","v":0},null,null,null,null,null,null,null,null,null,0,0,0,0,null,null,null,null,null,null,null,null,null,null,null,null,null,null,null,null,null,null,null,null,null,null,null,null,null,null,null,null,null,null,null,null,null,null,null,null,null,null,null,0,0,null,null,0,0,0,0,0,0]
[null,null,{"$f":"IF(E170=0,0,MAX($C$156:C169)+1)","v":0},null,null,null,null,null,null,null,null,null,0,0,0,0,null,null,null,null,null,null,null,null,null,null,null,null,null,null,null,null,null,null,null,null,null,null,null,null,null,null,null,null,null,null,null,null,null,null,null,null,null,null,null,0,0,null,null,0,0,0,0,0,0]
[null,null,{"$f":"IF(E171=0,0,MAX($C$156:C170)+1)","v":0},null,null,null,null,null,null,null,null,null,0,0,0,0,null,null,null,null,null,null,null,null,null,null,null,null,null,null,null,null,null,null,null,null,null,null,null,null,null,null,null,null,null,null,null,null,null,null,null,null,null,null,null,0,0,null,null,0,0,0,0,0,0]
[null,null,{"$f":"IF(E172=0,0,MAX($C$156:C171)+1)","v":0},null,null,null,null,null,null,null,null,null,0,0,0,0,null,null,null,null,null,null,null,null,null,null,null,null,null,null,null,null,null,null,null,null,null,null,null,null,null,null,null,null,null,null,null,null,null,null,null,null,null,null,null,0,0,null,null,0,0,0,0,0,0]
[null,null,{"$f":"IF(E173=0,0,MAX($C$156:C172)+1)","v":0},null,null,null,null,null,null,null,null,null,0,0,0,0,null,null,null,null,null,null,null,null,null,null,null,null,null,null,null,null,null,null,null,null,null,null,null,null,null,null,null,null,null,null,null,null,null,null,null,null,null,null,null,0,0,null,null,0,0,0,0,0,0]
[null,null,{"$f":"IF(E174=0,0,MAX($C$156:C173)+1)","v":0},null,null,null,null,null,null,null,null,null,0,0,0,0,null,null,null,null,null,null,null,null,null,null,null,null,null,null,null,null,null,null,null,null,null,null,null,null,null,null,null,null,null,null,null,null,null,null,null,null,null,null,null,0,0,null,null,0,0,0,0,0,0]
[null,null,{"$f":"IF(E175=0,0,MAX($C$156:C174)+1)","v":0},null,null,null,null,null,null,null,null,null,0,0,0,0,null,null,null,null,null,null,null,null,null,null,null,null,null,null,null,null,null,null,null,null,null,null,null,null,null,null,null,null,null,null,null,null,null,null,null,null,null,null,null,0,0,null,null,0,0,0,0,0,0]
[null,null,{"$f":"IF(E176=0,0,MAX($C$156:C175)+1)","v":0},null,null,null,null,null,null,null,null,null,0,0,0,0,null,null,null,null,null,null,null,null,null,null,null,null,null,null,null,null,null,null,null,null,null,null,null,null,null,null,null,null,null,null,null,null,null,null,null,null,null,null,null,0,0,null,null,0,0,0,0,0,0]
[null,null,{"$f":"IF(E177=0,0,MAX($C$156:C176)+1)","v":0},null,null,null,null,null,null,null,null,null,0,0,0,0,null,null,null,null,null,null,null,null,null,null,null,null,null,null,null,null,null,null,null,null,null,null,null,null,null,null,null,null,null,null,null,null,null,null,null,null,null,null,null,0,0,null,null,0,0,0,0,0,0]
[null,null,{"$f":"IF(E178=0,0,MAX($C$156:C177)+1)","v":0},null,null,null,null,null,null,null,null,null,0,0,0,0,null,null,null,null,null,null,null,null,null,null,null,null,null,null,null,null,null,null,null,null,null,null,null,null,null,null,null,null,null,null,null,null,null,null,null,null,null,null,null,0,0,null,null,0,0,0,0,0,0]
[null,null,{"$f":"IF(E179=0,0,MAX($C$156:C178)+1)","v":0},null,null,null,null,null,null,null,null,null,0,0,{"$f":"IF(J179=0,0,IF(I179<BD179,\"#N/A\",ROUND(IF(BE179>=I179,0,IF(BE179>H179,((ROUND((I179-BE179)/(I179-H179),3)*J179)*0.5*(I179-BE179)),IF(BE179>G179,(((H179-BE179)+(I179-H179)*0.5)*J179),IF(BE179>F179,((((H179-G179)+(I179-H179)*0.5)*J179)+((ROUND((BE179-F179)/(G179-F179),3)*J179+J179)*0.5*(G179-BE179))))))),2)))","v":0},0,null,null,null,null,null,null,null,null,null,null,null,null,null,null,null,null,null,null,null,null,null,null,null,null,null,null,null,null,null,null,null,null,null,null,null,null,null,null,null,0,0,null,null,0,0,0,0,0,0]
[null,null,{"$f":"IF(E180=0,0,MAX($C$156:C179)+1)","v":0},null,null,null,null,null,null,null,null,null,0,0,0,0,null,null,null,null,null,null,null,null,null,null,null,null,null,null,null,null,null,null,null,null,null,null,null,null,null,null,null,null,null,null,null,null,null,null,null,null,null,null,null,0,0,null,null,0,0,0,0,0,0]
[null,null,{"$f":"IF(E181=0,0,MAX($C$156:C180)+1)","v":0},null,null,null,null,null,null,null,null,null,0,0,0,0,null,null,null,null,null,null,null,null,null,null,null,null,null,null,null,null,null,null,null,null,null,null,null,null,null,null,null,null,null,null,null,null,null,null,null,null,null,null,null,0,0,null,null,0,0,0,0,0,0]
[null,null,{"$f":"IF(E182=0,0,MAX($C$156:C181)+1)","v":0},null,null,null,null,null,null,null,null,null,0,0,0,0,null,null,null,null,null,null,null,null,null,null,null,null,null,null,null,null,null,null,null,null,null,null,null,null,null,null,null,null,null,null,null,null,null,null,null,null,null,null,null,0,0,null,null,0,0,0,0,0,0]
[null,null,{"$f":"IF(E183=0,0,MAX($C$156:C182)+1)","v":0},null,null,null,null,null,null,null,null,null,0,0,0,0,null,null,null,null,null,null,null,null,null,null,null,null,null,null,null,null,null,null,null,null,null,null,null,null,null,null,null,null,null,null,null,null,null,null,null,null,null,null,null,0,0,null,null,0,0,0,0,0,0]
[null,null,{"$f":"IF(E184=0,0,MAX($C$156:C183)+1)","v":0},null,null,null,null,null,null,null,null,null,0,0,0,0,null,null,null,null,null,null,null,null,null,null,null,null,null,null,null,null,null,null,null,null,null,null,null,null,null,null,null,null,null,null,null,null,null,null,null,null,null,null,null,0,0,null,null,0,0,0,0,0,0]
[null,null,{"$f":"IF(E185=0,0,MAX($C$156:C184)+1)","v":0},null,null,null,null,null,null,null,null,null,0,0,0,0,null,null,null,null,null,null,null,null,null,null,null,null,null,null,null,null,null,null,null,null,null,null,null,null,null,null,null,null,null,null,null,null,null,null,null,null,null,null,null,0,0,null,null,0,0,0,0,0,0]
[null,null,{"$f":"IF(E186=0,0,MAX($C$156:C185)+1)","v":0},null,null,null,null,null,null,null,null,null,0,0,0,0,null,null,null,null,null,null,null,null,null,null,null,null,null,null,null,null,null,null,null,null,null,null,null,null,null,null,null,null,null,null,null,null,null,null,null,null,null,null,null,0,0,null,null,0,0,0,0,0,0]
[null,null,{"$f":"IF(E187=0,0,MAX($C$156:C186)+1)","v":0},null,null,null,null,null,null,null,null,null,0,0,0,0,null,null,null,null,null,null,null,null,null,null,null,null,null,null,null,null,null,null,null,null,null,null,null,null,null,null,null,null,null,null,null,null,null,null,null,null,null,null,null,0,0,null,null,0,0,0,0,0,0]
[null,null,{"$f":"IF(E188=0,0,MAX($C$156:C187)+1)","v":0},null,null,null,null,null,null,null,null,null,0,0,0,{"$f":"+M188-N188-O188","v":0},null,null,null,null,null,null,null,null,null,null,null,null,null,null,null,null,null,null,null,null,null,null,null,null,null,null,null,null,null,null,null,null,null,null,null,null,null,null,null,{"$f":"IF(AND(E188=0,J188=0),0,VLOOKUP(E188,$CO$129:$CQ$152,1,TRUE))","v":0},{"$f":"IF(E188=0,0,VLOOKUP(E188,$CO$129:$CQ$152,3,TRUE))","v":0},null,null,{"$f":"IF(Q188=\"\",P188,0)+IF(Q188=BH$155,P188,0)","v":0},{"$f":"IF(Q188=BI$155,P188,0)","v":0},{"$f":"IF(Q188=BJ$155,P188,0)","v":0},{"$f":"IF(Q188=BK$155,P188,0)","v":0},0,{"$f":"IF(Q188=BM$155,P188,0)","v":0}]
[null,null,{"$f":"IF(E189=0,0,MAX($C$156:C188)+1)","v":0},null,null,null,null,null,null,null,null,null,0,0,0,0,null,null,null,null,null,null,null,null,null,null,null,null,null,null,null,null,null,null,null,null,null,null,null,null,null,null,null,null,null,null,null,null,null,null,null,null,null,null,null,0,0,null,null,0,0,0,0,0,0]
[null,null,{"$f":"IF(E190=0,0,MAX($C$156:C189)+1)","v":0},null,null,null,null,null,null,null,null,null,0,0,0,0,null,null,null,null,null,null,null,null,null,null,null,null,null,null,null,null,null,null,null,null,null,null,null,null,null,null,null,null,null,null,null,null,null,null,null,null,null,null,null,0,0,null,null,0,0,0,0,0,0]
[null,null,{"$f":"IF(E191=0,0,MAX($C$156:C190)+1)","v":0},null,null,null,null,null,null,null,null,null,0,0,0,0,null,null,null,null,null,null,null,null,null,null,null,null,null,null,null,null,null,null,null,null,null,null,null,null,null,null,null,null,null,null,null,null,null,null,null,null,null,null,null,0,0,null,null,0,0,0,0,0,0]
[null,null,{"$f":"IF(E192=0,0,MAX($C$156:C191)+1)","v":0},null,null,null,null,null,null,null,null,null,0,0,0,0,null,null,null,null,null,null,null,null,null,null,null,null,null,null,null,null,null,null,null,null,null,null,null,null,null,null,null,null,null,null,null,null,null,null,null,null,null,null,null,0,0,null,null,0,0,0,0,0,0]
[null,null,{"$f":"IF(E193=0,0,MAX($C$156:C192)+1)","v":0},null,null,null,null,null,null,null,null,null,0,0,0,0,null,null,null,null,null,null,null,null,null,null,null,null,null,null,null,null,null,null,null,null,null,null,null,null,null,null,null,null,null,null,null,null,null,null,null,null,null,null,null,0,0,null,null,0,0,0,0,0,0]
[null,null,{"$f":"IF(E194=0,0,MAX($C$156:C193)+1)","v":0},null,null,null,null,null,null,null,null,null,0,0,0,0,null,null,null,null,null,null,null,null,null,null,null,null,null,null,null,null,null,null,null,null,null,null,null,null,null,null,null,null,null,null,null,null,null,null,null,null,null,null,null,0,0,null,null,0,0,0,0,0,0]
[null,null,{"$f":"IF(E195=0,0,MAX($C$156:C194)+1)","v":0},null,null,null,null,null,null,null,null,null,0,0,0,0,null,null,null,null,null,null,null,null,null,null,null,null,null,null,null,null,null,null,null,null,null,null,null,null,null,null,null,null,null,null,null,null,null,null,null,null,null,null,null,0,0,null,null,0,0,0,0,0,0]
[null,null,{"$f":"IF(E196=0,0,MAX($C$156:C195)+1)","v":0},null,null,null,null,null,null,null,null,null,0,0,0,0,null,null,null,null,null,null,null,null,null,null,null,null,null,null,null,null,null,null,null,null,null,null,null,null,null,null,null,null,null,null,null,null,null,null,null,null,null,null,null,0,0,null,null,0,0,0,0,0,0]
[null,null,{"$f":"IF(E197=0,0,MAX($C$156:C196)+1)","v":0},null,null,null,null,null,null,null,null,null,0,0,0,0,null,null,null,null,null,null,null,null,null,null,null,null,null,null,null,null,null,null,null,null,null,null,null,null,null,null,null,null,null,null,null,null,null,null,null,null,null,null,null,0,0,null,null,0,0,0,0,0,0]
[null,null,{"$f":"IF(E198=0,0,MAX($C$156:C197)+1)","v":0},null,null,null,null,null,null,null,null,null,0,0,0,0,null,null,null,null,null,null,null,null,null,null,null,null,null,null,null,null,null,null,null,null,null,null,null,null,null,null,null,null,null,null,null,null,null,null,null,null,null,null,null,0,0,null,null,0,0,0,0,0,0]
[null,null,{"$f":"IF(E199=0,0,MAX($C$156:C198)+1)","v":0},null,null,null,null,null,null,null,null,null,0,0,0,0,null,null,null,null,null,null,null,null,null,null,null,null,null,null,null,null,null,null,null,null,null,null,null,null,null,null,null,null,null,null,null,null,null,null,null,null,null,null,null,0,0,null,null,0,0,0,0,0,0]
[null,null,{"$f":"IF(E200=0,0,MAX($C$156:C199)+1)","v":0},null,null,null,null,null,null,null,null,null,0,0,0,0,null,null,null,null,null,null,null,null,null,null,null,null,null,null,null,null,null,null,null,null,null,null,null,null,null,null,null,null,null,null,null,null,null,null,null,null,null,null,null,0,0,null,null,0,0,0,0,0,0]
[null,null,{"$f":"IF(E201=0,0,MAX($C$156:C200)+1)","v":0},null,null,null,null,null,null,null,null,null,0,0,0,0,null,null,null,null,null,null,null,null,null,null,null,null,null,null,null,null,null,null,null,null,null,null,null,null,null,null,null,null,null,null,null,null,null,null,null,null,null,null,null,0,0,null,null,0,0,0,0,0,0]
[null,null,{"$f":"IF(E202=0,0,MAX($C$156:C201)+1)","v":0},null,null,null,null,null,null,null,null,null,0,0,0,0,null,null,null,null,null,null,null,null,null,null,null,null,null,null,null,null,null,null,null,null,null,null,null,null,null,null,null,null,null,null,null,null,null,null,null,null,null,null,null,0,0,null,null,0,0,0,0,0,0]
[null,null,{"$f":"IF(E203=0,0,MAX($C$156:C202)+1)","v":0},null,null,null,null,null,null,null,null,null,0,0,0,0,null,null,null,null,null,null,null,null,null,null,null,null,null,null,null,null,null,null,null,null,null,null,null,null,null,null,null,null,null,null,null,null,null,null,null,null,null,null,null,0,0,null,null,0,0,0,0,{"$f":"IF(Q203=BL$155,P203,0)","v":0},0]
[null,null,{"$f":"IF(E204=0,0,MAX($C$156:C203)+1)","v":0},null,null,null,null,null,null,null,null,null,0,0,0,0,null,null,null,null,null,null,null,null,null,null,null,null,null,null,null,null,null,null,null,null,null,null,null,null,null,null,null,null,null,null,null,null,null,null,null,null,null,null,null,0,0,null,null,0,0,0,0,0,0]
[null,null,null,null,null,null,null,null,null,null,null,{"$f":"SUM(L156:L204)","v":0},null,null,null,{"$f":"SUM(P156:P204)","v":0},null,null,null,null,null,null,null,null,null,null,null,null,null,null,null,null,null,null,null,null,null,null,null,null,null,null,null,null,null,null,null,null,null,null,null,null,null,null,null,null,null,null,null,{"$f":"ROUND(SUM(BH156:BH204),2)","v":0},0,0,0,0,0]
[null,"สรุปงานทางเชื่อมทางแยก"]
[null,"ที่","ตำแหน่ง\n(กม.)",null,"            ขนาด(ม.)",null,"พท.ผิวทาง","หมายเหตุ",null,null,null,"ที่","ตำแหน่ง\n(กม.)",null,"                 ขนาด(ม.)",null," พท.ผิวทาง","หมายเหตุ",null,null,null,null,null,null,null,null,null,null,null,null,null,null,null,null,null,null,null,null,null,null,null,null,null,null,null,null,null,null,null,null,null,null,null,null,null,"พื้นที่","ลาดยาง","ลาดยาง","Pavement In-Place Recycling","Pavement In-Place Recycling","เสริมผิว AC",{"$f":"BI207","v":"เสริมผิว AC"},"คสล.","คสล.","หินคลุก","หินคลุก","ลูกรัง","ลูกรัง","ระยะทาง",null,"LT"]
[null,null,null,null,"      กว้าง","      ยาว","    (ตร.ม.)",null,null,null,null,null,null,null,"      กว้าง","      ยาว","    (ตร.ม.)",null,null,null,null,null,null,null,null,null,null,null,null,null,null,null,null,null,null,null,null,null,null,null,null,null,null,null,null,null,null,null,null,null,null,null,null,null,null,null,"ผิวทาง","ผิวทาง","ผิวทาง","ผิวทาง","ผิวทาง","ผิวทาง","ผิวทาง","ผิวทาง","ผิวทาง","ผิวทาง","ผิวทาง","ผิวทาง",null,null,"RT"]
[null,{"$f":"IF(G209=0,0,1)","v":1},null,null,8,133,{"$f":"+E209*F209","v":1064},"คสล.",null,null,null,{"$f":"IF(Q209=0,0,MAX($B$209:$B$233,$L$208:L208)+1)","v":0},null,null,null,null,{"$f":"+O209*P209","v":0},null,null,null,null,null,null,null,null,null,null,null,null,null,null,null,null,null,null,null,null,null,null,null,null,null,null,null,null,null,null,null,null,null,null,null,null,null,null,null,{"$f":"IF($H209=BE$207,G209,0)","v":0},{"$f":"IF($R209=BF$207,Q209,0)","v":0},{"$f":"IF($H209=BG$207,G209,0)","v":0},{"$f":"IF($R209=BH$207,Q209,0)","v":0},{"$f":"IF($H209=BI$207,G209,0)","v":0},{"$f":"IF($R209=BJ$207,Q209,0)","v":0},{"$f":"IF($H209=BK$207,G209,0)","v":1064},{"$f":"IF($R209=BL$207,Q209,0)","v":0},{"$f":"IF($H209=BM$207,G209,0)","v":0},{"$f":"IF($R209=BN$207,Q209,0)","v":0},{"$f":"IF($H209=BO$207,G209,0)","v":0},{"$f":"IF($R209=BP$207,Q209,0)","v":0},{"$f":"IF(H209=\"\",F209/1000,0)+IF(AND($D209=\"\",$H209=BE$207),F209/1000,0)","v":0},{"$f":"IF(R209=\"\",P209/1000,0)+IF(AND($N209=\"\",$R209=BE$207),P209/1000,0)","v":0}]
[null,{"$f":"IF(G210=0,0,MAX(B$209:$B209)+1)","v":0},null,null,null,null,0,null,null,null,null,{"$f":"IF(Q210=0,0,MAX($B$209:$B$233,$L$208:L209)+1)","v":0},null,null,null,null,0,null,null,null,null,null,null,null,null,null,null,null,null,null,null,null,null,null,null,null,null,null,null,null,null,null,null,null,null,null,null,null,null,null,null,null,null,null,null,null,{"$f":"IF($H210=BE$207,G210,0)","v":0},0,{"$f":"IF($H210=BG$207,G210,0)","v":0},0,{"$f":"IF($H210=BI$207,G210,0)","v":0},0,{"$f":"IF($H210=BK$207,G210,0)","v":0},0,{"$f":"IF($H210=BM$207,G210,0)","v":0},{"$f":"IF($R210=BN$207,Q210,0)","v":0},{"$f":"IF($H210=BO$207,G210,0)","v":0},0,0,0]
[null,{"$f":"IF(G211=0,0,MAX(B$209:$B210)+1)","v":0},null,null,null,null,0,null,null,null,null,{"$f":"IF(Q211=0,0,MAX($B$209:$B$233,$L$208:L210)+1)","v":0},null,null,null,null,0,null,null,null,null,null,null,null,null,null,null,null,null,null,null,null,null,null,null,null,null,null,null,null,null,null,null,null,null,null,null,null,null,null,null,null,null,null,null,null,0,0,0,0,0,0,0,0,0,0,0,0,0,0]
[null,{"$f":"IF(G212=0,0,MAX(B$209:$B211)+1)","v":0},null,null,null,null,0,null,null,null,null,{"$f":"IF(Q212=0,0,MAX($B$209:$B$233,$L$208:L211)+1)","v":0},null,null,null,null,0,null,null,null,null,null,null,null,null,null,null,null,null,null,null,null,null,null,null,null,null,null,null,null,null,null,null,null,null,null,null,null,null,null,null,null,null,null,null,null,0,0,0,0,0,0,0,0,0,0,0,0,0,0]
[null,{"$f":"IF(G213=0,0,MAX(B$209:$B212)+1)","v":0},null,null,null,null,0,null,null,null,null,{"$f":"IF(Q213=0,0,MAX($B$209:$B$233,$L$208:L212)+1)","v":0},null,null,null,null,0,null,null,null,null,null,null,null,null,null,null,null,null,null,null,null,null,null,null,null,null,null,null,null,null,null,null,null,null,null,null,null,null,null,null,null,null,null,null,null,0,0,0,0,0,0,0,0,0,0,0,0,0,0]
[null,{"$f":"IF(G214=0,0,MAX(B$209:$B213)+1)","v":0},null,null,null,null,0,null,null,null,null,{"$f":"IF(Q214=0,0,MAX($B$209:$B$233,$L$208:L213)+1)","v":0},null,null,null,null,0,null,null,null,null,null,null,null,null,null,null,null,null,null,null,null,null,null,null,null,null,null,null,null,null,null,null,null,null,null,null,null,null,null,null,null,null,null,null,null,0,0,0,0,0,0,0,0,0,0,0,0,0,0]
[null,{"$f":"IF(G215=0,0,MAX(B$209:$B214)+1)","v":0},null,null,null,null,0,null,null,null,null,{"$f":"IF(Q215=0,0,MAX($B$209:$B$233,$L$208:L214)+1)","v":0},null,null,null,null,0,null,null,null,null,null,null,null,null,null,null,null,null,null,null,null,null,null,null,null,null,null,null,null,null,null,null,null,null,null,null,null,null,null,null,null,null,null,null,null,{"$f":"IF($H215=BE$207,G215,0)","v":0},0,{"$f":"IF($H215=BG$207,G215,0)","v":0},0,{"$f":"IF($H215=BI$207,G215,0)","v":0},0,{"$f":"IF($H215=BK$207,G215,0)","v":0},0,{"$f":"IF($H215=BM$207,G215,0)","v":0},0,{"$f":"IF($H215=BO$207,G215,0)","v":0},0,0,0]
[null,{"$f":"IF(G216=0,0,MAX(B$209:$B215)+1)","v":0},null,null,null,null,0,null,null,null,null,{"$f":"IF(Q216=0,0,MAX($B$209:$B$233,$L$208:L215)+1)","v":0},null,null,null,null,0,null,null,null,null,null,null,null,null,null,null,null,null,null,null,null,null,null,null,null,null,null,null,null,null,null,null,null,null,null,null,null,null,null,null,null,null,null,null,null,0,0,0,0,0,0,0,0,0,0,0,0,0,0]
[null,{"$f":"IF(G217=0,0,MAX(B$209:$B216)+1)","v":0},null,null,null,null,{"$f":"+E217*F217","v":0},null,null,null,null,{"$f":"IF(Q217=0,0,MAX($B$209:$B$233,$L$208:L216)+1)","v":0},null,null,null,null,0,null,null,null,null,null,null,null,null,null,null,null,null,null,null,null,null,null,null,null,null,null,null,null,null,null,null,null,null,null,null,null,null,null,null,null,null,null,null,null,0,0,0,0,0,0,0,0,0,0,0,0,0,0]
[null,{"$f":"IF(G218=0,0,MAX(B$209:$B217)+1)","v":0},null,null,null,null,0,null,null,null,null,{"$f":"IF(Q218=0,0,MAX($B$209:$B$233,$L$208:L217)+1)","v":0},null,null,null,null,0,null,null,null,null,null,null,null,null,null,null,null,null,null,null,null,null,null,null,null,null,null,null,null,null,null,null,null,null,null,null,null,null,null,null,null,null,null,null,null,0,0,0,0,0,0,0,0,0,0,0,0,0,0]
[null,{"$f":"IF(G219=0,0,MAX(B$209:$B218)+1)","v":0},null,null,null,null,0,null,null,null,null,{"$f":"IF(Q219=0,0,MAX($B$209:$B$233,$L$208:L218)+1)","v":0},null,null,null,null,0,null,null,null,null,null,null,null,null,null,null,null,null,null,null,null,null,null,null,null,null,null,null,null,null,null,null,null,null,null,null,null,null,null,null,null,null,null,null,null,0,0,0,0,0,0,0,0,0,0,0,0,0,0]
[null,{"$f":"IF(G220=0,0,MAX(B$209:$B219)+1)","v":0},null,null,null,null,0,null,null,null,null,{"$f":"IF(Q220=0,0,MAX($B$209:$B$233,$L$208:L219)+1)","v":0},null,null,null,null,0,null,null,null,null,null,null,null,null,null,null,null,null,null,null,null,null,null,null,null,null,null,null,null,null,null,null,null,null,null,null,null,null,null,null,null,null,null,null,null,0,0,0,0,0,0,0,0,0,0,0,0,0,0]
[null,{"$f":"IF(G221=0,0,MAX(B$209:$B220)+1)","v":0},null,null,null,null,0,null,null,null,null,{"$f":"IF(Q221=0,0,MAX($B$209:$B$233,$L$208:L220)+1)","v":0},null,null,null,null,0,null,null,null,null,null,null,null,null,null,null,null,null,null,null,null,null,null,null,null,null,null,null,null,null,null,null,null,null,null,null,null,null,null,null,null,null,null,null,null,0,0,0,0,0,0,0,0,0,0,0,0,0,0]
[null,{"$f":"IF(G222=0,0,MAX(B$209:$B221)+1)","v":0},null,null,null,null,0,null,null,null,null,{"$f":"IF(Q222=0,0,MAX($B$209:$B$233,$L$208:L221)+1)","v":0},null,null,null,null,0,null,null,null,null,null,null,null,null,null,null,null,null,null,null,null,null,null,null,null,null,null,null,null,null,null,null,null,null,null,null,null,null,null,null,null,null,null,null,null,0,0,0,0,0,0,0,0,0,0,0,0,0,0]
[null,{"$f":"IF(G223=0,0,MAX(B$209:$B222)+1)","v":0},null,null,null,null,{"$f":"+E223*F223","v":0},null,null,null,null,{"$f":"IF(Q223=0,0,MAX($B$209:$B$233,$L$208:L222)+1)","v":0},null,null,null,null,{"$f":"+O223*P223","v":0},null,null,null,null,null,null,null,null,null,null,null,null,null,null,null,null,null,null,null,null,null,null,null,null,null,null,null,null,null,null,null,null,null,null,null,null,null,null,null,{"$f":"IF($H223=BE$207,G223,0)","v":0},{"$f":"IF($R223=BF$207,Q223,0)","v":0},{"$f":"IF($H223=BG$207,G223,0)","v":0},{"$f":"IF($R223=BH$207,Q223,0)","v":0},{"$f":"IF($H223=BI$207,G223,0)","v":0},{"$f":"IF($R223=BJ$207,Q223,0)","v":0},{"$f":"IF($H223=BK$207,G223,0)","v":0},{"$f":"IF($R223=BL$207,Q223,0)","v":0},0,0,0,0,0,0]
[null,{"$f":"IF(G224=0,0,MAX(B$209:$B223)+1)","v":0},null,null,null,null,0,null,null,null,null,{"$f":"IF(Q224=0,0,MAX($B$209:$B$233,$L$208:L223)+1)","v":0},null,null,null,null,0,null,null,null,null,null,null,null,null,null,null,null,null,null,null,null,null,null,null,null,null,null,null,null,null,null,null,null,null,null,null,null,null,null,null,null,null,null,null,null,0,0,0,0,0,0,0,0,0,0,0,0,0,0]
[null,{"$f":"IF(G225=0,0,MAX(B$209:$B224)+1)","v":0},null,null,null,null,0,null,null,null,null,{"$f":"IF(Q225=0,0,MAX($B$209:$B$233,$L$208:L224)+1)","v":0},null,null,null,null,0,null,null,null,null,null,null,null,null,null,null,null,null,null,null,null,null,null,null,null,null,null,null,null,null,null,null,null,null,null,null,null,null,null,null,null,null,null,null,null,0,0,0,0,0,0,0,0,0,0,0,0,0,0]
[null,{"$f":"IF(G226=0,0,MAX(B$209:$B222)+1)","v":0},null,null,null,null,0,null,null,null,null,{"$f":"IF(Q226=0,0,MAX($B$209:$B$233,$L$208:L225)+1)","v":0},null,null,null,null,0,null,null,null,null,null,null,null,null,null,null,null,null,null,null,null,null,null,null,null,null,null,null,null,null,null,null,null,null,null,null,null,null,null,null,null,null,null,null,null,0,0,0,0,0,0,0,0,0,0,0,0,0,0]
[null,{"$f":"IF(G227=0,0,MAX(B$209:$B226)+1)","v":0},null,null,null,null,0,null,null,null,null,{"$f":"IF(Q227=0,0,MAX($B$209:$B$233,$L$208:L226)+1)","v":0},null,null,null,null,0,null,null,null,null,null,null,null,null,null,null,null,null,null,null,null,null,null,null,null,null,null,null,null,null,null,null,null,null,null,null,null,null,null,null,null,null,null,null,null,0,0,0,0,0,0,0,0,0,0,0,0,0,0]
[null,{"$f":"IF(G228=0,0,MAX(B$209:$B227)+1)","v":0},null,null,null,null,0,null,null,null,null,{"$f":"IF(Q228=0,0,MAX($B$209:$B$233,$L$208:L227)+1)","v":0},null,null,null,null,0,null,null,null,null,null,null,null,null,null,null,null,null,null,null,null,null,null,null,null,null,null,null,null,null,null,null,null,null,null,null,null,null,null,null,null,null,null,null,null,0,0,0,0,0,0,0,0,0,0,0,0,0,0]
[null,{"$f":"IF(G229=0,0,MAX(B$209:$B228)+1)","v":0},null,null,null,null,0,null,null,null,null,{"$f":"IF(Q229=0,0,MAX($B$209:$B$233,$L$208:L228)+1)","v":0},null,null,null,null,0,null,null,null,null,null,null,null,null,null,null,null,null,null,null,null,null,null,null,null,null,null,null,null,null,null,null,null,null,null,null,null,null,null,null,null,null,null,null,null,0,0,0,0,0,0,0,0,0,0,0,0,0,0]
[null,{"$f":"IF(G230=0,0,MAX(B$209:$B229)+1)","v":0},null,null,null,null,0,null,null,null,null,{"$f":"IF(Q230=0,0,MAX($B$209:$B$233,$L$208:L229)+1)","v":0},null,null,null,null,0,null,null,null,null,null,null,null,null,null,null,null,null,null,null,null,null,null,null,null,null,null,null,null,null,null,null,null,null,null,null,null,null,null,null,null,null,null,null,null,0,0,0,0,0,0,0,0,0,0,0,0,0,0]
[null,{"$f":"IF(G231=0,0,MAX(B$209:$B230)+1)","v":0},null,null,null,null,0,null,null,null,null,{"$f":"IF(Q231=0,0,MAX($B$209:$B$233,$L$208:L230)+1)","v":0},null,null,null,null,0,null,null,null,null,null,null,null,null,null,null,null,null,null,null,null,null,null,null,null,null,null,null,null,null,null,null,null,null,null,null,null,null,null,null,null,null,null,null,null,0,0,0,0,0,0,0,0,0,0,0,0,0,0]
[null,{"$f":"IF(G232=0,0,MAX(B$209:$B231)+1)","v":0},null,null,null,null,0,null,null,null,null,{"$f":"IF(Q232=0,0,MAX($B$209:$B$233,$L$208:L231)+1)","v":0},null,null,null,null,0,null,null,null,null,null,null,null,null,null,null,null,null,null,null,null,null,null,null,null,null,null,null,null,null,null,null,null,null,null,null,null,null,null,null,null,null,null,null,null,0,0,0,0,0,0,0,0,0,0,0,0,0,0]
[null,{"$f":"IF(G233=0,0,MAX(B$209:$B232)+1)","v":0},null,null,null,null,0,null,null,null,null,{"$f":"IF(Q233=0,0,MAX($B$209:$B$233,$L$208:L232)+1)","v":0},null,null,null,null,0,null,null,null,null,null,null,null,null,null,null,null,null,null,null,null,null,null,null,null,null,null,null,null,null,null,null,null,null,null,null,null,null,null,null,null,null,null,null,null,0,0,0,0,0,0,0,0,0,0,0,0,0,0]
[null,null,null,null,null,null,null,null,null,null,null,null,null,null,"รวม",null,{"$f":"SUM(G209:G233,Q209:Q233)","v":1064},null,null,null,null,null,null,null,null,null,null,null,null,null,null,null,null,null,null,null,null,null,null,null,null,null,null,null,null,null,null,null,null,null,null,null,null,null,null,null,null,{"$f":"SUM(BE209:BE233,BF209:BF233)","v":0},null,{"$f":"SUM(BG209:BG233,BH209:BH233)","v":0},null,{"$f":"SUM(BI209:BI233,BJ209:BJ233)","v":0},null,{"$f":"SUM(BK209:BK233,BL209:BL233)","v":1064},null,{"$f":"SUM(BM209:BM233,BN209:BN233)","v":0},null,{"$f":"SUM(BO209:BO233,BP209:BP233)","v":0},{"$f":"IF(R249=1,SUM(BQ209:BR233),0)","v":0}]
[null,"สรุปพื้นที่ผิวทางและไหล่ทาง"]
[null,"ชนิดผิว","ประเภท",null,null,"                         ผิวทาง+ไหล่ทาง",null,null,null,"            ทางเชื่อม",null,null," widening","เผื่อ","                             รวม (ตร.ม.)",null,null,null,null,null,null,null,null,null,null,null,null,null,null,null,null,null,null,null,null,null,null,null,null,null,null,null,null,null,null,null,null,null,null,null,null,null,null,null,null,"สรุปผิวทาง+ไหล่ทาง"]
[null,null,null,null,null,"            ผิวทาง",null,"          ไหล่ทาง",null,"             ผิวจราจร",null,null,null,null,"          ผิวจราจร",null,"         ไหล่ทาง",null,null,null,null,null,null,null,null,null,null,null,null,null,null,null,null,null,null,null,null,null,null,null,null,null,null,null,null,null,null,null,null,null,null,null,null,null,null,null,null,null,"ผิวทาง","ไหล่ทาง","ระยะ","ทางเชื่อม","widening",null,"          ผิวจราจร",null,"         ไหล่ทาง"]
[null,null,"ก่อสร้าง",null,null,{"$f":"ROUND(BG238,2)","v":0},null,{"$f":"ROUND(BH238,2)","v":0},null,{"$f":"ROUND(BJ238,2)","v":0},null,null,{"$f":"ROUND(BK238,2)","v":0},null,{"$f":"ROUND(F238+J238+M238,2)","v":0},null,{"$f":"ROUND(H238,2)","v":0},null,null,null,null,null,null,null,null,null,null,null,null,null,null,null,null,null,null,null,null,null,null,null,null,null,null,null,null,null,null,null,null,null,null,null,null,null,null,"ก่อสร้างลาดยาง",null,null,{"$f":"CS153+DB153","v":0},{"$f":"CT153+DC153","v":0},{"$f":"IF((CU153+DD153)=0,0,CU153+DD153)","v":0},{"$f":"BF234","v":0},{"$f":"BH205","v":0},null,{"$f":"ROUNDDOWN(F238+J238+M238,2)","v":0},null,{"$f":"ROUNDDOWN(H238,0)","v":0}]
[null,null,"Pavement In-Place Recycling",null,null,0,null,0,null,0,null,null,{"$f":"ROUNDDOWN(IF(AND(BK239=0,N237=0),0,IF(AND(BK239<>0,N237=0),BK239,IF(AND(BK239<>0,N237<>0),F239*N237+BK239,F239*N237))),0)","v":0},null,0,null,0,null,null,null,null,null,null,null,null,null,null,null,null,null,null,null,null,null,null,null,null,null,null,null,null,null,null,null,null,null,null,null,null,null,null,null,null,null,null,"Recycling",null,null,{"$f":"CY153+DB153","v":0},{"$f":"CZ153+DC153","v":0},{"$f":"IF(DA153=0,0,DA153)","v":0},{"$f":"BH234","v":0},{"$f":"BI205","v":0},null,{"$f":"ROUNDDOWN(F239+J239+M239,0)","v":0},null,{"$f":"ROUNDDOWN(H239,0)","v":0}]
[null,"ลาดยาง","เสริมผิว",null,null,0,null,0,null,0,null,null,{"$f":"ROUNDDOWN(IF(AND(BK240=0,N237=0),0,IF(AND(BK240<>0,N237=0),BK240,IF(AND(BK240<>0,N237<>0),F240*N237+BK240,F240*N237))),0)","v":0},null,0,null,0,null,null,null,null,null,null,null,null,null,null,null,null,null,null,null,null,null,null,null,null,null,null,null,null,null,null,null,null,null,null,null,null,null,null,null,null,null,null,"เสริมผิว AC",null,null,{"$f":"DE153","v":0},{"$f":"DF153","v":0},{"$f":"IF(DG153=0,0,DG153)","v":0},{"$f":"BJ234","v":0},{"$f":"BJ205","v":0},null,{"$f":"ROUNDDOWN(F240+J240+M240,0)","v":0},null,{"$f":"ROUNDDOWN(H240,0)","v":0}]
[null,null,"Tack Coat",null,null,null,null,null,null,null,null,null,null,null,{"$f":"BM240","v":0},null,{"$f":"BO240","v":0}]
[null,null,"Prime Coat",null,null,null,null,null,null,null,null,null,null,null,{"$f":"BackUp!BM238+BackUp!BM239-BackUp!DB153","v":0},null,{"$f":"BackUp!BO238+BackUp!BO239-BackUp!DC153","v":0}]
[null,null,null,"      รวม",null,null,null,null,null,null,null,null,null,null,{"$f":"SUM(O241:P242)","v":0},null,{"$f":"SUM(Q241:R242)","v":0},null,null,null,null,null,null,null,null,null,null,null,null,null,null,null,null,null,null,null,null,null,null,null,null,null,null,null,null,null,null,null,null,null,null,null,null,null,null,null,null,null,null,null,{"$f":"IF(E244+T244=G251+G250,BI244,0)","v":0}]
[null,"คสล.","ก่อสร้าง","   หนา (ม.)",0.15,{"$f":"ROUND(BG244,2)","v":3540},null,{"$f":"ROUND(BH244,2)","v":1180},null,{"$f":"ROUND(BJ244,2)","v":1064},null,null,{"$f":"ROUND(BK244,2)","v":0},null,{"$f":"ROUND(BM244,2)","v":4604},null,{"$f":"ROUND(BO244,2)","v":1180},null,"ทรายหนา (ม.)",0,null,null,null,null,null,null,null,null,null,null,null,null,null,null,null,null,null,null,null,null,null,null,null,null,null,null,null,null,null,null,null,null,null,null,null,"ก่อสร้าง คสล.",null,null,{"$f":"CV153","v":3540},{"$f":"CW153","v":1180},{"$f":"IF(CX153=0,0,CX153-$DR$153)","v":0.59},{"$f":"BL234","v":1064},{"$f":"BK205","v":0},null,{"$f":"ROUNDDOWN(F244+J244+M244,0)","v":4604},null,{"$f":"ROUNDDOWN(H244,0)","v":1180},null,{"$f":"IF(E244+T244=G251+G250,0,BI244*1000*G252*BC253)","v":88.5},null,{"$f":"IF(E244+T244=G251+G250,\"\",\"+(\"&TEXT((BI244)*1000,\"#,###.##\")&\"x\"&G252&\"x\"&BC253&\")\")","v":"+(590.x0.2x0.75)"},null,null,null,"ปริมาณลูกรังใต้ คสล. กรณีความหนารวมทรายไม่เท่ากับหินคลุก"]
[null,"หินคลุก",null,null,null,{"$f":"ROUND(BG245,2)","v":0},null,{"$f":"ROUND(BH245,2)","v":0},null,{"$f":"ROUND(BJ245,2)","v":0},null,null,{"$f":"ROUND(BK245,2)","v":0},null,{"$f":"ROUND(F245+J245+M245,2)","v":0},null,{"$f":"ROUND(H245,2)","v":0},null,null,null,null,null,null,null,null,null,null,null,null,null,null,null,null,null,null,null,null,null,null,null,null,null,null,null,null,null,null,null,null,null,null,null,null,null,null,"หินคลุก",null,null,{"$f":"DH153","v":0},{"$f":"DI153","v":0},{"$f":"IF(DJ153=0,0,DJ153)","v":0},{"$f":"BN234","v":0},{"$f":"BL205","v":0},null,{"$f":"ROUNDDOWN(F245+J245+M245,0)","v":0},null,{"$f":"ROUNDDOWN(H245,0)","v":0}]
[null,"ลูกรัง",null,null,null,{"$f":"ROUND(BG247,2)","v":0},null,{"$f":"ROUND(BH247,2)","v":0},null,{"$f":"ROUND(BJ247,2)","v":0},null,null,{"$f":"ROUND(BK247,2)","v":0},null,{"$f":"ROUND(F246+J246+M246,2)","v":0},null,{"$f":"ROUND(H246,2)","v":0},null,null,null,null,null,null,null,null,null,null,null,null,null,null,null,null,null,null,null,null,null,null,null,null,null,null,null,null,null,null,null,null,null,null,null,null,null,null,null,null,null,null,null,{"$f":"IF(DK153=0,0,DK153)","v":0},"ระยะไหล่หินคลุก"]
[null,null,null,null,null,null,null,null,null,null,null,null,null,null,null,null,null,null,null,null,null,null,null,null,null,null,null,null,null,null,null,null,null,null,null,null,null,null,null,null,null,null,null,null,null,null,null,null,null,null,null,null,null,null,null,"ลูกรัง",null,null,{"$f":"DL153","v":0},{"$f":"DM153","v":0},{"$f":"IF(DN153=0,0,DN153)","v":0},{"$f":"BP234","v":0},{"$f":"BM205","v":0},null,{"$f":"ROUNDDOWN(F246+J246+M246,0)","v":0},null,{"$f":"ROUNDDOWN(H246,0)","v":0},null,"Approach",{"$f":"IF(DQ153=0,\"\",\"+(\"&TEXT((DQ153),\"#,###.##\")&\"x\"&(G251+G252-0.25)&\")+(\"&TEXT((DP153-DR153),\"#,###.##\")&\"x\"&(G251+G252-0.25)&\"x\"&BG253&\")\")","v":""}]
[null,"สรุปงานโครงสร้างทาง",null,null,null,null,null,null,null,null,null,null,null,null,null,null,null,null,null,null,null,null,null,null,null,null,null,null,null,null,null,null,null,null,null,null,null,null,null,null,null,null,null,null,null,null,null,null,null,null,null,null,null,null,null,null,null,null,null,null,{"$f":"IF(DO153=0,0,DO153)","v":0},"ระยะไหล่ลูกรัง"]
[null,"ข้อมูลโครงสร้างทาง",null,null,null,"side slpoe",1.5,null,"ปริมาณ(ลบ.ม.)",null,null,null,"หมายเหตุ",null,null,null,null,"      ๏   ความยาวทางเชื่อม",null,null,null,null,null,null,null,null,null,null,null,null,null,null,null,null,null,null,null,null,null,null,null,null,null,null,null,null,null,null,null,null,null,null,null,null,null,"ด้านข้าง",null,null,null,null,null,null,null,null,null,null,null,null,null,null,null,null,null,null,null,"ชั้นพื้นทาง หินคลุก"]
[null,null,null,null,null,{"$f":"IF(G250=0,\"\",\"ความหนา\")","v":""},null,{"$f":"IF(G250=0,\"\",\"ม.        \")","v":""},{"$f":"IF(BI238+BI244+S252=0,ROUND((BM238+BO238)*G250,2),ROUND((BM238+BO238)*G250+(BI238+BI244+S252/1000-(S257/2)/1000)*1000*BD251*G250,2))","v":0},null,{"$f":"IF(I250=0,0,IF(OR(BI238+S252=0,(BI238+S252/1000-S257/2/1000)=0),\"(\"&TEXT((BM238+BO238),\"#,000\")&\"x\"&G250&\")\",\"(\"&TEXT((BM238+BO238),\"#,000\")&\"x\"&G250&\")+(\"&TEXT((BI238+S252/1000-S257/2/1000)*1000,\"#,000\")&\"x\"&G250&\"x\"&BD251&\"))\"))","v":0},null,null,null,null,null,null,"     ที่นำมาคิด เพิ่มปริมาณงาน",null,null,null,null,null,null,null,null,null,null,null,null,null,null,null,null,null,null,null,null,null,null,null,null,null,null,null,null,null,null,null,null,null,null,null,null,"คสล.","หินคลุก","ลูกรัง","Re ขุดลึก",null,null,null,null,null,null,null,null,null,null,null,null,null,null,null,null,null,"ชั้นพื้นทาง Soil Cement"]
[null,null,null,null,null,{"$f":"IF(G251=0,\"\",\"ความหนา\")","v":""},null,{"$f":"IF(G251=0,\"\",\"ม.        \")","v":""},{"$f":"BQ251","v":0},null,{"$f":"IF(I251=0,\"\",BR251)","v":""},null,null,null,null,null,null,"     โครงสร้างทาง",null,null,null,"เดิม",null,null,null,null,null,null,null,null,null,null,null,null,null,null,null,null,null,null,null,null,null,null,null,null,null,null,null,null,null,null,null,null,null,{"$f":"(G250*G249)","v":0},null,0.3,null,null,null,null,null,null,null,"หินคลุก",null,null,{"$f":"IF(BI238+S252=0,ROUND((BM238+BO238)*G251,2),ROUND((BM238+BO238)*G251+(BI238+S252/1000-(S257/2)/1000)*1000*BD252*G251,2))","v":0},{"$f":"IF(I251=0,0,IF(OR(BI238+S252=0,(BI238+S252/1000-S257/2/1000)=0),\"(\"&TEXT((BM238+BO238),\"#,###.##\")&\"x\"&G251&\")\",\"(\"&TEXT((BM238+BO238),\"#,###.##\")&\"x\"&G251&\")+(\"&TEXT((BI238+S252/1000-S257/2/1000)*1000,\"#,###.##\")&\"x\"&G251&\"x\"&BD252&\")\"))","v":0},null,null,null,null,null,"ชั้นพื้นทาง หินคลุกเดิม(จากการรื้อ)"]
[null,"ชั้นพื้นทาง หินคลุก",null,null,null,{"$f":"IF(G252=0,\"\",\"ความหนา\")","v":"ความหนา"},0.2,{"$f":"IF(G252=0,\"\",\"ม.        \")","v":"ม.        "},{"$f":"BQ252","v":1245.3},null,{"$f":"IF(I252=0,\"\",BR252)","v":"(5,784.x0.2)"},null,null,null,null,null,null,null,null,"ม.",null,null,null,null,null,null,null,null,null,null,null,null,null,null,null,null,null,null,null,null,null,null,null,null,null,null,null,null,null,null,null,null,null,null,null,{"$f":"(G250*G249*2+G251*G249)","v":0},null,0.25,"Approach",null,null,null,null,null,null,"ลูกรัง",null,null,{"$f":"IF(BI238+BI243+BI245+BI246+BI248+S252=0,ROUND((BM238+BO238+BM244+BM245+BO244+BO245+BO247)*G252,2),ROUND((BM238+BO238+BM244+BM245+BO244+BO245+BO247)*G252+(BI238+BI243+BI245+BI246+BI248+S252/1000-(S257/2)/1000)*1000*BD253*G252,2))+(IF(DQ153=0,0,(((DQ153-DT153)*(G251+G252-0.25))+((DP153-DU153)-(DR153-DS153))*(G251+G252-0.25)*BG253)))+BQ244","v":1245.3},{"$f":"IF(I252=0,0,IF(OR(BI238+BI243+BI245+BI246+S252=0,(BI238+BI243+BI245+BI246+BI248+S252/1000-S257/2/1000)=0),\"(\"&TEXT((BM238+BO238+BM244+BM245+BO244+BO245+BO247),\"#,###.##\")&\"x\"&G252&\")\",\"(\"&TEXT((BM238+BO238+BM244+BM245+BO244+BO245+BO247),\"#,###.##\")&\"x\"&G252&\")+(\"&TEXT((BI238+BI243+BI245+BI246+BI248+S252/1000-S257/2/1000)*1000,\"#,###.##\")&\"x\"&G252&\"x\"&BD253&\")\"))&BR244&BR247","v":"(5,784.x0.2)"},null,null,null,null,null,"ชั้นพื้นทาง หินคลุก",null,null,null,"ชั้นรองพื้นทาง ลูกรัง"]
[null,"ชั้นวัสดุคัดเลือก",null,null,null,{"$f":"IF(G253=0,\"\",\"ความหนา\")","v":""},null,{"$f":"IF(G253=0,\"\",\"ม.        \")","v":""},{"$f":"BQ253","v":0},null,{"$f":"IF(I253=0,\"\",BR253)","v":""},null,null,null,null,null,null,null,null,null,null,null,null,null,null,null,null,null,null,null,null,null,null,null,null,null,null,null,null,null,null,null,null,null,null,null,null,null,null,null,null,null,null,null,{"$f":"(G250*G249*2+(E244+T244)*G249*2+G252*G249)","v":0.75},{"$f":"(G250*G249*2+G251*G249*2+G252*G249)","v":0.30000000000000004},{"$f":"(G252*G249)","v":0.30000000000000004},0.2,{"$f":"(0.25*G249*2+(G251+G252-0.25)*G249)","v":0.67500000000000004},null,null,null,null,"ด้านข้าง",null,"คัดเลือก",null,null,{"$f":"IF(BI238+BI244+BI246+BI248+S252=0,ROUND((DQ153+BM238+BO238+BM244+BO244+BM245+BM247)*G253,2),ROUND((DQ153+BM238+BO238+BM244+BO244+BM245+BM247)*G253+((DP153-DR153)/1000+BI238+BI244+BI246+BI248+S252/1000-(S257/2)/1000)*1000*BD254*G253,2))+(IF(DT153=0,0,(((DT153)*(G252+G253-0.25))+((DU153)-(DS153))*(G252+G253-0.25)*BE254)))","v":0},{"$f":"IF(G253=0,0,IF(OR(BI238+BI244+BI246+BI248+S252=0,(BI238+BI244+BI246+BI248+S252/1000-S257/2/1000)=0),\"(\"&TEXT((DQ153+BM238+BO238+BM244+BO244+BM245+BM247),\"#,###.##\")&\"x\"&G253&\")\",\"(\"&TEXT((DQ153+BM238+BO238+BM244+BO244+BM245+BM247),\"#,###.##\")&\"x\"&G253&\")+(\"&TEXT(((DP153-DR153)/1000+BI238+BI244+BI246+BI248+S252/1000-S257/2/1000)*1000,\"#,###.##\")&\"x\"&G253&\"x\"&BD254&\")\"))","v":0},null,null,null,null,null,"ชั้นรองพื้นทาง Soil Cement"]
[null,{"$f":"IF(O245<>0,BZ254,BZ255)","v":"ผิวทางลูกรัง"},null,null,null,{"$f":"IF(G254=0,\"\",\"ความหนา\")","v":"ความหนา"},0.2,{"$f":"IF(G254=0,\"\",\"ม.        \")","v":"ม.        "},{"$f":"BQ254","v":0},null,{"$f":"IF(I254=0,\"\",BR254)","v":""},null,null,null,null,null,null,"      ๏   ความยาว(รวม 2 ข้าง)",null,null,null,null,null,null,null,null,null,null,null,null,null,null,null,null,null,null,null,null,null,null,null,null,null,null,null,null,null,null,null,null,null,null,null,null,null,{"$f":"(G250*G249*2+G251*G249*2+G252*G249*2+G253*G249)","v":0.60000000000000009},{"$f":"(G251*G249*2+G252*G249)","v":0.30000000000000004},0.15,null,null,null,null,null,{"$f":"G254*G249","v":0.30000000000000004},null,"ผิวลูกรัง/หินคลุก",null,null,{"$f":"IF(O245<>0,(IF(OR(BI245=0,BM245=0),ROUND(BM245*G254,2),ROUND(BM245*G254+(BI245+S252/1000-(S257/2)/1000)*1000*BL254*G254,2))),IF(O246<>0,(IF(OR(BI247=0,BM247=0),ROUND(BM247*G254,2),ROUND(BM247*G254+(BI247+S252/1000-(S257/2)/1000)*1000*BL254*G254,2))),0))","v":0},{"$f":"IF(O245<>0,(IF(BQ254=0,0,IF(OR((BI245+S252/1000-S257/2/1000)=0,BM245=0),\"(\"&TEXT((BM245),\"#,###.##\")&\"x\"&G254&\")\",\"(\"&TEXT((BM245),\"#,###.##\")&\"x\"&G254&\")+(\"&TEXT((BI245+S252/1000-S257/2/1000)*1000,\"#,###.##\")&\"x\"&G254&\"x\"&BL254&\")\"))),IF(O246<>0,(IF(BQ254=0,0,IF(OR((BI247+S252/1000-S257/2/1000)=0,BM247=0),\"(\"&TEXT((BM247),\"#,###.##\")&\"x\"&G254&\")\",\"(\"&TEXT((BM247),\"#,###.##\")&\"x\"&G254&\")+(\"&TEXT((BI247+S252/1000-S257/2/1000)*1000,\"#,###.##\")&\"x\"&G254&\"x\"&BL254&\")\"))),0))","v":0},null,null,null,null,null,"ไหล่ทางหินคลุก",null,"ผิวทางหินคลุก"]
[null,{"$f":"IF(Q245<>0,BX254,BX255)","v":"ไหล่ทางลูกรัง"},null,null,null,{"$f":"IF(G255=0,\"\",\"ความหนา\")","v":""},{"$f":"IF(AND(O244+O238<>0,Q245+Q246<>0),E244+T244,0)","v":0},{"$f":"IF(G255=0,\"\",\"ม.        \")","v":""},{"$f":"BQ255","v":0},null,{"$f":"IF(I255=0,\"\",BR255)","v":""},null,null,null,null,null,null,"     ที่นำมา หัก ปริมาณงาน",null,null,null,null,null,null,null,null,null,null,null,null,null,null,null,null,null,null,null,null,null,null,null,null,null,null,null,null,null,null,null,null,null,null,null,null,null,{"$f":"(G255*G249)","v":0},null,null,null,null,null,null,null,{"$f":"G255*G249","v":0},null,"ไหล่ลูกรัง/หินคลุก",null,null,{"$f":"IF(Q245<>0,(IF(BI246=0,ROUND(BO245*G255,2),ROUND(BO245*G255+(BI246+S252/1000-(S257/2)/1000)*1000*BL255*G255,2))),IF(Q246<>0,(IF(BI248=0,ROUND(BO247*G255,2),ROUND(BO247*G255+(BI248+S252/1000-(S257/2)/1000)*1000*BL255*G255,2))),0))","v":0},{"$f":"IF(Q245<>0,(IF(BQ255=0,0,IF(OR(BI246+S252=0,(BI246+S252/1000-S257/2/1000)=0),\"(\"&TEXT((BO245),\"#,###.##\")&\"x\"&G255&\")\",\"(\"&TEXT((BO245),\"#,###.##\")&\"x\"&G255&\")+(\"&TEXT((BI246+S252/1000-S257/2/1000)*1000,\"#,###.##\")&\"x\"&G255&\"x\"&BL255&\")\"))),IF(Q246<>0,(IF(BQ255=0,0,IF(OR(BI248+S252=0,(BI248+S252/1000-S257/2/1000)=0),\"(\"&TEXT((BO247),\"#,###.##\")&\"x\"&G255&\")\",\"(\"&TEXT((BO247),\"#,###.##\")&\"x\"&G255&\")+(\"&TEXT((BI248+S252/1000-S257/2/1000)*1000,\"#,###.##\")&\"x\"&G255&\"x\"&BL255&\")\"))),0))","v":0},null,null,null,null,null,"ไหล่ทางลูกรัง",null,"ผิวทางลูกรัง"]
[null,"งาน Pavement In-Place Recycling ขุดลึกเฉลี่ย",null,null,null,null,0.2,{"$f":"IF(G256=0,\"\",\"ม.        \")","v":"ม.        "},null,null,null,null,null,null,null,null,null,"     โครงสร้างทาง"]
[null,"หินคลุกปรับระดับ Pavement In-Place Recycling",null,null,null,null,null,{"$f":"IF(G257=0,\"\",\"ม.        \")","v":""},{"$f":"ROUNDDOWN((BackUp!BM239+BackUp!BO239)*BackUp!G257*1.5,0)","v":0},null,null,null,null,null,null,null,null,null,null,"ม."]
[]
[null,"สรุปงานท่อระบายน้ำ"]
[null,null,null,null,"ขนาด",null,"Ø 0.40 ม.",null,"Ø 0.60 ม.",null,null,"Ø 0.80 ม.",null,"Ø 1.00 ม.",null,"Ø 1.20 ม."]
[null,null,null,null,"จำนวน (ม.)",null,{"$f":"1414-N361","v":1272.5999999999999},null,{"$f":"BG346+BP346+BY346-CH346","v":0},null,null,{"$f":"BI346+BR346+CA346-CI346","v":0},null,{"$f":"BK346+BT346+CC346-CJ346","v":0},null,{"$f":"BM346+BV346+CE346-CK346","v":0}]
[null,null,null,null,"HW - 1 แถว  (ด้าน)",null,"-",null,{"$f":"BH346","v":0},null,null,{"$f":"BJ346","v":0},null,{"$f":"BL346","v":0},null,{"$f":"BN346","v":0}]
[null,null,null,null,"HW -2 แถว  (ด้าน)",null,"-",null,{"$f":"BQ346","v":0},null,null,{"$f":"BS346","v":0},null,{"$f":"BU346","v":0},null,{"$f":"BW346","v":0}]
[null,null,null,null,"HW -3 แถว  (ด้าน)",null,"-",null,{"$f":"BZ346","v":0},null,null,{"$f":"CB346","v":0},null,{"$f":"CD346","v":0},null,{"$f":"CF346","v":0}]
[null,"รายละเอียดท่อ คสล. ชนิดกลม",null,null,null,null,null,null,null,null,null,null,null,null,null,null,null,null,null,null,null,null,null,null,null,null,null,null,null,null,null,null,null,null,null,null,null,null,null,null,null,null,null,null,null,null,null,null,null,null,null,null,null,null,null,"คงไว้",null,1,null,null,null,null,null,null,null,null,2,null,null,null,null,null,null,null,null,3]
[null,"ที่","              ตำแหน่ง",null,"                                                                ท่อระบายน้ำ คลส.",null,null,null,null,null,null,null,"           หลักบอก",null,"เพิ่มกำแพงปากท่อ(ด้าน)",null,null,"หมายเหตุ",null,null,null,null,null,null,null,null,null,null,null,null,null,null,null,null,null,null,null,null,null,null,null,null,null,null,null,null,null,null,null,null,null,null,null,null,null,"ทช-ท-3003",null,"Ø 0.40 ม.","Ø 0.60 ม.",null,"Ø 0.80 ม.",null,"Ø 1.00 ม.",null,"Ø 1.20 ม.",null,"Ø 0.40 ม.","Ø 0.60 ม.",null,"Ø 0.80 ม.",null,"Ø 1.00 ม.",null,"Ø 1.20 ม.",null,"Ø 0.40 ม.","Ø 0.60 ม.",null,"Ø 0.80 ม.",null,"Ø 1.00 ม.",null,"Ø 1.20 ม.",null,"ท่อเดิม"]
[null,null,"                (กม.)",null,"แถว","-","ขนาด","x","ยาว","=",null,"รวม","          ตำแหน่งท่อ",null,"ทช-5-103/45",null,null,null,null,null,null,null,null,null,null,null,null,null,null,null,null,null,null,null,null,null,null,null,null,null,null,null,null,null,null,null,null,null,null,null,null,null,null,null,null,"ทช-5-103/45",null,"จำนวน","จำนวน","HW","จำนวน","HW","จำนวน","HW","จำนวน","HW","จำนวน","จำนวน","HW","จำนวน","HW","จำนวน","HW","จำนวน","HW","จำนวน","จำนวน","HW","จำนวน","HW","จำนวน","HW","จำนวน","HW","Ø 0.40 ม.","Ø 0.60 ม.","Ø 0.80 ม.","Ø 1.00 ม.","Ø 1.20 ม."]
[null,{"$f":"IF(SUM(L268:P268)=0,0,1)","v":0},600,null,null,{"$f":"IF(AND(E268<=0,G268<=0),\"\",\"-\")","v":"-"},0.6,{"$f":"IF(AND(E268<=0,G268<=0),\"\",\"x\")","v":"x"},12,{"$f":"IF(AND(E268<=0,G268<=0),\"\",\"=\")","v":"="},null,{"$f":"+E268*I268","v":0},null,null,null,null,null,null,null,null,null,null,null,null,null,null,null,null,null,null,null,null,null,null,null,null,null,null,null,null,null,null,null,null,null,null,null,null,null,null,null,null,null,null,null,1,0.4,{"$f":"IF(AND(E268=1,G268=0.4),L268,0)","v":0},{"$f":"IF(AND(E268=1,G268=0.6),L268,0)","v":0},{"$f":"IF(AND(E268=1,G268=0.6,O268<>0),O268,0)","v":0},{"$f":"IF(AND(E268=1,G268=0.8),L268,0)","v":0},{"$f":"IF(AND(E268=1,G268=0.8,O268<>0),O268,0)","v":0},{"$f":"IF(AND(E268=1,G268=1),L268,0)","v":0},{"$f":"IF(AND(E268=1,G268=1,O268<>0),O268,0)","v":0},{"$f":"IF(AND(E268=1,G268=1.2),L268,0)","v":0},{"$f":"IF(AND(E268=1,G268=1.2,O268<>0),O268,0)","v":0},{"$f":"IF(AND(E268=2,G268=0.4),L268,0)","v":0},{"$f":"IF(AND(E268=2,G268=0.6),L268,0)","v":0},{"$f":"IF(AND(E268=2,G268=0.6,O268<>0),O268,0)","v":0},{"$f":"IF(AND(E268=2,G268=0.8),L268,0)","v":0},{"$f":"IF(AND(E268=2,G268=0.8,O268<>0),O268,0)","v":0},{"$f":"IF(AND(E268=2,G268=1),L268,0)","v":0},{"$f":"IF(AND(E268=2,G268=1,O268<>0),O268,0)","v":0},{"$f":"IF(AND(E268=2,G268=1.2),L268,0)","v":0},{"$f":"IF(AND(E268=2,G268=1.2,O268<>0),O268,0)","v":0},{"$f":"IF(AND(E268=3,G268=0.4),L268,0)","v":0},{"$f":"IF(AND(E268=3,G268=0.6),L268,0)","v":0},{"$f":"IF(AND(E268=3,G268=0.6,O268<>0),O268,0)","v":0},{"$f":"IF(AND(E268=3,G268=0.8),L268,0)","v":0},{"$f":"IF(AND(E268=3,G268=0.8,O268<>0),O268,0)","v":0},{"$f":"IF(AND(E268=3,G268=1),L268,0)","v":0},{"$f":"IF(AND(E268=3,G268=1,O268<>0),O268,0)","v":0},{"$f":"IF(AND(E268=3,G268=1.2),L268,0)","v":0},{"$f":"IF(AND(E268=3,G268=1.2,O268<>0),O268,0)","v":0},{"$f":"IF(AND(G268=0.4,T268=\"คงไว้\"),L268,0)","v":0},{"$f":"IF(AND(G268=0.6,T268=\"คงไว้\"),L268,0)","v":0},{"$f":"IF(AND(G268=0.8,T268=\"คงไว้\"),L268,0)","v":0},{"$f":"IF(AND(G268=1,T268=\"คงไว้\"),L268,0)","v":0},{"$f":"IF(AND(G268=1.2,T268=\"คงไว้\"),L268,0)","v":0}]
[null,{"$f":"IF(SUM(L269:P269)=0,0,MAX(B$268:$B268)+1)","v":0},800,null,null,{"$f":"IF(AND(E269<=0,G269<=0),\"\",\"-\")","v":"-"},0.6,{"$f":"IF(AND(E269<=0,G269<=0),\"\",\"x\")","v":"x"},12,{"$f":"IF(AND(E269<=0,G269<=0),\"\",\"=\")","v":"="},null,{"$f":"+E269*I269","v":0},null,null,null,null,null,null,null,null,null,null,null,null,null,null,null,null,null,null,null,null,null,null,null,null,null,null,null,null,null,null,null,null,null,null,null,null,null,null,null,null,null,null,null,2,0.6,0,0,0,0,0,0,0,0,0,0,0,0,0,0,0,0,0,0,0,0,0,0,0,0,0,0,0,0,0,0,0,0]
[null,{"$f":"IF(SUM(L270:P270)=0,0,MAX(B$268:$B269)+1)","v":0},null,null,null,null,null,"",null,"",null,0,null,null,null,null,null,null,null,null,null,null,null,null,null,null,null,null,null,null,null,null,null,null,null,null,null,null,null,null,null,null,null,null,null,null,null,null,null,null,null,null,null,null,null,3,0.8,0,0,0,0,0,0,0,0,0,0,0,0,0,0,0,0,0,0,0,0,0,0,0,0,0,0,0,0,0,0,0,0]
[null,{"$f":"IF(SUM(L271:P271)=0,0,MAX(B$268:$B270)+1)","v":0},null,null,null,null,null,"",null,"",null,0,null,null,null,null,null,null,null,null,null,null,null,null,null,null,null,null,null,null,null,null,null,null,null,null,null,null,null,null,null,null,null,null,null,null,null,null,null,null,null,null,null,null,null,null,1,0,0,0,0,0,0,0,0,0,0,0,0,0,0,0,0,0,0,0,0,0,0,0,0,0,0,0,0,0,0,0,0]
[null,{"$f":"IF(SUM(L272:P272)=0,0,MAX(B$268:$B271)+1)","v":0},null,null,null,"",null,"",null,"",null,0,null,null,null,null,null,null,null,null,null,null,null,null,null,null,null,null,null,null,null,null,null,null,null,null,null,null,null,null,null,null,null,null,null,null,null,null,null,null,null,null,null,null,null,null,1.2,0,0,0,0,0,0,0,0,0,0,0,0,0,0,0,0,0,0,0,0,0,0,0,0,0,0,0,0,0,0,0,0]
[null,{"$f":"IF(SUM(L273:P273)=0,0,MAX(B$268:$B272)+1)","v":0},null,null,null,"",null,"",null,"",null,0,null,null,null,null,null,null,null,null,null,null,null,null,null,null,null,null,null,null,null,null,null,null,null,null,null,null,null,null,null,null,null,null,null,null,null,null,null,null,null,null,null,null,null,null,null,0,0,0,0,0,0,0,0,0,0,0,0,0,0,0,0,0,0,0,0,0,0,0,0,0,0,0,0,0,0,0,0]
[null,{"$f":"IF(SUM(L274:P274)=0,0,MAX(B$268:$B273)+1)","v":0},null,null,null,"",null,"",null,"",null,0,null,null,null,null,null,null,null,null,null,null,null,null,null,null,null,null,null,null,null,null,null,null,null,null,null,null,null,null,null,null,null,null,null,null,null,null,null,null,null,null,null,null,null,null,null,0,0,0,0,0,0,0,0,0,0,0,0,0,0,0,0,0,0,0,0,0,0,0,0,0,0,0,0,0,0,0,0]
[null,{"$f":"IF(SUM(L275:P275)=0,0,MAX(B$268:$B274)+1)","v":0},null,null,null,"",null,"",null,"",null,0,null,null,null,null,null,null,null,null,null,null,null,null,null,null,null,null,null,null,null,null,null,null,null,null,null,null,null,null,null,null,null,null,null,null,null,null,null,null,null,null,null,null,null,null,null,0,0,0,0,0,0,0,0,0,0,0,0,0,0,0,0,0,0,0,0,0,0,0,0,0,0,0,0,0,0,0,0]
[null,{"$f":"IF(SUM(L276:P276)=0,0,MAX(B$268:$B275)+1)","v":0},null,null,null,"",null,"",null,"",null,0,null,null,null,null,null,null,null,null,null,null,null,null,null,null,null,null,null,null,null,null,null,null,null,null,null,null,null,null,null,null,null,null,null,null,null,null,null,null,null,null,null,null,null,null,null,0,0,0,0,0,0,0,0,0,0,0,0,0,0,0,0,0,0,0,0,0,0,0,0,0,0,0,0,0,0,0,0]
[null,{"$f":"IF(SUM(L277:P277)=0,0,MAX(B$268:$B276)+1)","v":0},null,null,null,"",null,"",null,"",null,0,null,null,null,null,null,null,null,null,null,null,null,null,null,null,null,null,null,null,null,null,null,null,null,null,null,null,null,null,null,null,null,null,null,null,null,null,null,null,null,null,null,null,null,null,null,0,0,0,0,0,0,0,0,0,0,0,0,0,0,0,0,0,0,0,0,0,0,0,0,0,0,0,0,0,0,0,0]
[null,{"$f":"IF(SUM(L278:P278)=0,0,MAX(B$268:$B277)+1)","v":0},null,null,null,"",null,"",null,"",null,0,null,null,null,null,null,null,null,null,null,null,null,null,null,null,null,null,null,null,null,null,null,null,null,null,null,null,null,null,null,null,null,null,null,null,null,null,null,null,null,null,null,null,null,null,null,0,0,0,0,0,0,0,0,0,0,0,0,0,0,0,0,0,0,0,0,0,0,0,0,0,0,0,0,0,0,0,0]
[null,{"$f":"IF(SUM(L279:P279)=0,0,MAX(B$268:$B278)+1)","v":0},null,null,null,"",null,"",null,"",null,0,null,null,null,null,null,null,null,null,null,null,null,null,null,null,null,null,null,null,null,null,null,null,null,null,null,null,null,null,null,null,null,null,null,null,null,null,null,null,null,null,null,null,null,null,null,0,0,0,0,0,0,0,0,0,0,0,0,0,0,0,0,0,0,0,0,0,0,0,0,0,0,0,0,0,0,0,0]
[null,{"$f":"IF(SUM(L280:P280)=0,0,MAX(B$268:$B279)+1)","v":0},null,null,null,"",null,"",null,"",null,0,null,null,null,null,null,null,null,null,null,null,null,null,null,null,null,null,null,null,null,null,null,null,null,null,null,null,null,null,null,null,null,null,null,null,null,null,null,null,null,null,null,null,null,null,null,0,0,0,0,0,0,0,0,0,0,0,0,0,0,0,0,0,0,0,0,0,0,0,0,0,0,0,0,0,0,0,0]
[null,{"$f":"IF(SUM(L281:P281)=0,0,MAX(B$268:$B280)+1)","v":0},null,null,null,"",null,"",null,"",null,{"$f":"E281*I281","v":0},null,null,null,null,null,null,null,null,null,null,null,null,null,null,null,null,null,null,null,null,null,null,null,null,null,null,null,null,null,null,null,null,null,null,null,null,null,null,null,null,null,null,null,null,null,0,0,0,0,0,0,0,0,0,0,0,0,0,0,0,0,0,0,0,0,0,0,0,0,0,0,0,0,0,0,0,0]
[null,{"$f":"IF(SUM(L282:P282)=0,0,MAX(B$268:$B281)+1)","v":0},null,null,null,"",null,"",null,"",null,0,null,null,null,null,null,null,null,null,null,null,null,null,null,null,null,null,null,null,null,null,null,null,null,null,null,null,null,null,null,null,null,null,null,null,null,null,null,null,null,null,null,null,null,null,null,0,0,0,0,0,0,0,0,0,0,0,0,0,0,0,0,0,0,0,0,0,0,0,0,0,0,0,0,0,0,0,0]
[null,{"$f":"IF(SUM(L283:P283)=0,0,MAX(B$268:$B282)+1)","v":0},null,null,null,"",null,"",null,"",null,0,null,null,null,null,null,null,null,null,null,null,null,null,null,null,null,null,null,null,null,null,null,null,null,null,null,null,null,null,null,null,null,null,null,null,null,null,null,null,null,null,null,null,null,null,null,0,0,0,0,0,0,0,0,0,0,0,0,0,0,0,0,0,0,0,0,0,0,0,0,0,0,0,0,0,0,0,0]
[null,{"$f":"IF(SUM(L284:P284)=0,0,MAX(B$268:$B283)+1)","v":0},null,null,null,"",null,"",null,"",null,0,null,null,null,null,null,null,null,null,null,null,null,null,null,null,null,null,null,null,null,null,null,null,null,null,null,null,null,null,null,null,null,null,null,null,null,null,null,null,null,null,null,null,null,null,null,0,0,0,0,0,0,0,0,0,0,0,0,0,0,0,0,0,0,0,0,0,0,0,0,0,0,0,0,0,0,0,0]
[null,{"$f":"IF(SUM(L285:P285)=0,0,MAX(B$268:$B284)+1)","v":0},null,null,null,"",null,"",null,"",null,0,null,null,null,null,null,null,null,null,null,null,null,null,null,null,null,null,null,null,null,null,null,null,null,null,null,null,null,null,null,null,null,null,null,null,null,null,null,null,null,null,null,null,null,null,null,0,0,0,0,0,0,0,0,0,0,0,0,0,0,0,0,0,0,0,0,0,0,0,0,0,0,0,0,0,0,0,0]
[null,{"$f":"IF(SUM(L286:P286)=0,0,MAX(B$268:$B285)+1)","v":0},null,null,null,"",null,"",null,"",null,0,null,null,null,null,null,null,null,null,null,null,null,null,null,null,null,null,null,null,null,null,null,null,null,null,null,null,null,null,null,null,null,null,null,null,null,null,null,null,null,null,null,null,null,null,null,0,0,0,0,0,0,0,0,0,0,0,0,0,0,0,0,0,0,0,0,0,0,0,0,0,0,0,0,0,0,0,0]
[null,{"$f":"IF(SUM(L287:P287)=0,0,MAX(B$268:$B286)+1)","v":0},null,null,null,"",null,"",null,"",null,0,null,null,null,null,null,null,null,null,null,null,null,null,null,null,null,null,null,null,null,null,null,null,null,null,null,null,null,null,null,null,null,null,null,null,null,null,null,null,null,null,null,null,null,null,null,0,0,0,0,0,0,0,0,0,0,0,0,0,0,0,0,0,0,0,0,0,0,0,0,0,0,0,0,0,0,0,0]
[null,{"$f":"IF(SUM(L288:P288)=0,0,MAX(B$268:$B287)+1)","v":0},null,null,null,"",null,"",null,"",null,0,null,null,null,null,null,null,null,null,null,null,null,null,null,null,null,null,null,null,null,null,null,null,null,null,null,null,null,null,null,null,null,null,null,null,null,null,null,null,null,null,null,null,null,null,null,0,0,0,0,0,0,0,0,0,0,0,0,0,0,0,0,0,0,0,0,0,0,0,0,0,0,0,0,0,0,0,0]
[null,{"$f":"IF(SUM(L289:P289)=0,0,MAX(B$268:$B288)+1)","v":0},null,null,null,"",null,"",null,"",null,0,null,null,null,null,null,null,null,null,null,null,null,null,null,null,null,null,null,null,null,null,null,null,null,null,null,null,null,null,null,null,null,null,null,null,null,null,null,null,null,null,null,null,null,null,null,0,0,0,0,0,0,0,0,0,0,0,0,0,0,0,0,0,0,0,0,0,0,0,0,0,0,0,0,0,0,0,0]
[null,{"$f":"IF(SUM(L290:P290)=0,0,MAX(B$268:$B289)+1)","v":0},null,null,null,"",null,"",null,"",null,0,null,null,null,null,null,null,null,null,null,null,null,null,null,null,null,null,null,null,null,null,null,null,null,null,null,null,null,null,null,null,null,null,null,null,null,null,null,null,null,null,null,null,null,null,null,0,0,0,0,0,0,0,0,0,0,0,0,0,0,0,0,0,0,0,0,0,0,0,0,0,0,0,0,0,0,0,0]
[null,{"$f":"IF(SUM(L291:P291)=0,0,MAX(B$268:$B290)+1)","v":0},null,null,null,"",null,"",null,"",null,0,null,null,null,null,null,null,null,null,null,null,null,null,null,null,null,null,null,null,null,null,null,null,null,null,null,null,null,null,null,null,null,null,null,null,null,null,null,null,null,null,null,null,null,null,null,0,0,0,0,0,0,0,0,0,0,0,0,0,0,0,0,0,0,0,0,0,0,0,0,0,0,0,0,0,0,0,0]
[null,{"$f":"IF(SUM(L292:P292)=0,0,MAX(B$268:$B291)+1)","v":0},null,null,null,"",null,"",null,"",null,0,null,null,null,null,null,null,null,null,null,null,null,null,null,null,null,null,null,null,null,null,null,null,null,null,null,null,null,null,null,null,null,null,null,null,null,null,null,null,null,null,null,null,null,null,null,0,0,0,0,0,0,0,0,0,0,0,0,0,0,0,0,0,0,0,0,0,0,0,0,0,0,0,0,0,0,0,0]
[null,{"$f":"IF(SUM(L293:P293)=0,0,MAX(B$268:$B292)+1)","v":0},null,null,null,"",null,"",null,"",null,0,null,null,null,null,null,null,null,null,null,null,null,null,null,null,null,null,null,null,null,null,null,null,null,null,null,null,null,null,null,null,null,null,null,null,null,null,null,null,null,null,null,null,null,null,null,0,0,0,0,0,0,0,0,0,0,0,0,0,0,0,0,0,0,0,0,0,0,0,0,0,0,0,0,0,0,0,0]
[null,{"$f":"IF(SUM(L294:P294)=0,0,MAX(B$268:$B293)+1)","v":0},null,null,null,"",null,"",null,"",null,0,null,null,null,null,null,null,null,null,null,null,null,null,null,null,null,null,null,null,null,null,null,null,null,null,null,null,null,null,null,null,null,null,null,null,null,null,null,null,null,null,null,null,null,null,null,0,0,0,0,0,0,0,0,0,0,0,0,0,0,0,0,0,0,0,0,0,0,0,0,0,0,0,0,0,0,0,0]
[null,{"$f":"IF(SUM(L295:P295)=0,0,MAX(B$268:$B294)+1)","v":0},null,null,null,"",null,"",null,"",null,0,null,null,null,null,null,null,null,null,null,null,null,null,null,null,null,null,null,null,null,null,null,null,null,null,null,null,null,null,null,null,null,null,null,null,null,null,null,null,null,null,null,null,null,null,null,0,0,0,0,0,0,0,0,0,0,0,0,0,0,0,0,0,0,0,0,0,0,0,0,0,0,0,0,0,0,0,0]
[null,{"$f":"IF(SUM(L296:P296)=0,0,MAX(B$268:$B295)+1)","v":0},null,null,null,"",null,"",null,"",null,0,null,null,null,null,null,null,null,null,null,null,null,null,null,null,null,null,null,null,null,null,null,null,null,null,null,null,null,null,null,null,null,null,null,null,null,null,null,null,null,null,null,null,null,null,null,0,0,0,0,0,0,0,0,0,0,0,0,0,0,0,0,0,0,0,0,0,0,0,0,0,0,0,0,0,0,0,0]
[null,{"$f":"IF(SUM(L297:P297)=0,0,MAX(B$268:$B296)+1)","v":0},null,null,null,"",null,"",null,"",null,0,null,null,null,null,null,null,null,null,null,null,null,null,null,null,null,null,null,null,null,null,null,null,null,null,null,null,null,null,null,null,null,null,null,null,null,null,null,null,null,null,null,null,null,null,null,0,0,0,0,0,0,0,0,0,0,0,0,0,0,0,0,0,0,0,0,0,0,0,0,0,0,0,0,0,0,0,0]
[null,{"$f":"IF(SUM(L298:P298)=0,0,MAX(B$268:$B297)+1)","v":0},null,null,null,"",null,"",null,"",null,0,null,null,null,null,null,null,null,null,null,null,null,null,null,null,null,null,null,null,null,null,null,null,null,null,null,null,null,null,null,null,null,null,null,null,null,null,null,null,null,null,null,null,null,null,null,0,0,0,0,0,0,0,0,0,0,0,0,0,0,0,0,0,0,0,0,0,0,0,0,0,0,0,0,0,0,0,0]
[null,{"$f":"IF(SUM(L299:P299)=0,0,MAX(B$268:$B298)+1)","v":0},null,null,null,"",null,"",null,"",null,0,null,null,null,null,null,null,null,null,null,null,null,null,null,null,null,null,null,null,null,null,null,null,null,null,null,null,null,null,null,null,null,null,null,null,null,null,null,null,null,null,null,null,null,null,null,0,0,0,0,0,0,0,0,0,0,0,0,0,0,0,0,0,0,0,0,0,0,0,0,0,0,0,0,0,0,0,0]
[null,{"$f":"IF(SUM(L300:P300)=0,0,MAX(B$268:$B299)+1)","v":0},null,null,null,"",null,"",null,"",null,{"$f":"E300*I300","v":0},null,null,null,null,null,null,null,null,null,null,null,null,null,null,null,null,null,null,null,null,null,null,null,null,null,null,null,null,null,null,null,null,null,null,null,null,null,null,null,null,null,null,null,null,null,0,0,0,0,0,0,{"$f":"IF(AND(E300=1,G300=1,O300<>0),O300,0)","v":0},{"$f":"IF(AND(E300=1,G300=1.2),L300,0)","v":0},{"$f":"IF(AND(E300=1,G300=1.2,O300<>0),O300,0)","v":0},{"$f":"IF(AND(E300=2,G300=0.4),L300,0)","v":0},{"$f":"IF(AND(E300=2,G300=0.6),L300,0)","v":0},{"$f":"IF(AND(E300=2,G300=0.6,O300<>0),O300,0)","v":0},{"$f":"IF(AND(E300=2,G300=0.8),L300,0)","v":0},{"$f":"IF(AND(E300=2,G300=0.8,O300<>0),O300,0)","v":0},{"$f":"IF(AND(E300=2,G300=1),L300,0)","v":0},{"$f":"IF(AND(E300=2,G300=1,O300<>0),O300,0)","v":0},{"$f":"IF(AND(E300=2,G300=1.2),L300,0)","v":0},{"$f":"IF(AND(E300=2,G300=1.2,O300<>0),O300,0)","v":0},{"$f":"IF(AND(E300=3,G300=0.4),L300,0)","v":0},{"$f":"IF(AND(E300=3,G300=0.6),L300,0)","v":0},{"$f":"IF(AND(E300=3,G300=0.6,O300<>0),O300,0)","v":0},{"$f":"IF(AND(E300=3,G300=0.8),L300,0)","v":0},{"$f":"IF(AND(E300=3,G300=0.8,O300<>0),O300,0)","v":0},{"$f":"IF(AND(E300=3,G300=1),L300,0)","v":0},{"$f":"IF(AND(E300=3,G300=1,O300<>0),O300,0)","v":0},{"$f":"IF(AND(E300=3,G300=1.2),L300,0)","v":0},{"$f":"IF(AND(E300=3,G300=1.2,O300<>0),O300,0)","v":0},{"$f":"IF(AND(G300=0.4,T300=\"คงไว้\"),L300,0)","v":0},{"$f":"IF(AND(G300=0.6,T300=\"คงไว้\"),L300,0)","v":0},{"$f":"IF(AND(G300=0.8,T300=\"คงไว้\"),L300,0)","v":0},{"$f":"IF(AND(G300=1,T300=\"คงไว้\"),L300,0)","v":0},{"$f":"IF(AND(G300=1.2,T300=\"คงไว้\"),L300,0)","v":0}]
[null,{"$f":"IF(SUM(L301:P301)=0,0,MAX(B$268:$B300)+1)","v":0},null,null,null,"",null,"",null,"",null,{"$f":"E301*I301","v":0},null,null,null,null,null,null,null,null,null,null,null,null,null,null,null,null,null,null,null,null,null,null,null,null,null,null,null,null,null,null,null,null,null,null,null,null,null,null,null,null,null,null,null,null,null,0,0,0,0,0,0,0,0,0,0,0,0,0,0,0,0,0,0,0,0,0,0,0,0,0,0,0,0,0,0,0,0]
[null,{"$f":"IF(SUM(L302:P302)=0,0,MAX(B$268:$B301)+1)","v":0},null,null,null,"",null,"",null,"",null,{"$f":"E302*I302","v":0},null,null,null,null,null,null,null,null,null,null,null,null,null,null,null,null,null,null,null,null,null,null,null,null,null,null,null,null,null,null,null,null,null,null,null,null,null,null,null,null,null,null,null,null,null,0,0,0,0,0,0,0,0,0,0,0,0,0,0,0,0,0,0,0,0,0,0,0,0,0,0,0,0,0,0,0,0]
[null,{"$f":"IF(SUM(L303:P303)=0,0,MAX(B$268:$B302)+1)","v":0},null,null,null,"",null,"",null,"",null,{"$f":"E303*I303","v":0},null,null,null,null,null,null,null,null,null,null,null,null,null,null,null,null,null,null,null,null,null,null,null,null,null,null,null,null,null,null,null,null,null,null,null,null,null,null,null,null,null,null,null,null,null,0,0,0,0,0,0,0,0,0,0,0,0,0,0,0,0,0,0,0,0,0,0,0,0,0,0,0,0,0,0,0,0]
[null,{"$f":"IF(SUM(L304:P304)=0,0,MAX(B$268:$B303)+1)","v":0},null,null,null,"",null,"",null,"",null,0,null,null,null,null,null,null,null,null,null,null,null,null,null,null,null,null,null,null,null,null,null,null,null,null,null,null,null,null,null,null,null,null,null,null,null,null,null,null,null,null,null,null,null,null,null,0,0,0,0,0,0,0,0,0,0,0,0,0,0,0,0,0,0,0,0,0,0,0,0,0,0,0,0,0,0,0,0]
[null,{"$f":"IF(SUM(L305:P305)=0,0,MAX(B$268:$B304)+1)","v":0},null,null,null,"",null,"",null,"",null,0,null,null,null,null,null,null,null,null,null,null,null,null,null,null,null,null,null,null,null,null,null,null,null,null,null,null,null,null,null,null,null,null,null,null,null,null,null,null,null,null,null,null,null,null,null,0,0,0,0,0,0,0,0,0,0,0,0,0,0,0,0,0,0,0,0,0,0,0,0,0,0,0,0,0,0,0,0]
[null,{"$f":"IF(SUM(L306:P306)=0,0,MAX(B$268:$B305)+1)","v":0},null,null,null,"",null,"",null,"",null,{"$f":"E306*I306","v":0},null,null,null,null,null,null,null,null,null,null,null,null,null,null,null,null,null,null,null,null,null,null,null,null,null,null,null,null,null,null,null,null,null,null,null,null,null,null,null,null,null,null,null,null,null,0,0,0,0,0,0,0,0,0,0,0,0,0,0,0,0,0,0,0,0,0,0,0,0,0,0,0,0,0,0,0,0]
[null,{"$f":"IF(SUM(L307:P307)=0,0,MAX(B$268:$B306)+1)","v":0},null,null,null,"",null,"",null,"",null,0,null,null,null,null,null,null,null,null,null,null,null,null,null,null,null,null,null,null,null,null,null,null,null,null,null,null,null,null,null,null,null,null,null,null,null,null,null,null,null,null,null,null,null,null,null,0,0,0,0,0,0,0,0,0,0,0,0,0,0,0,0,0,0,0,0,0,0,0,0,0,0,0,0,0,0,0,0]
[null,{"$f":"IF(SUM(L308:P308)=0,0,MAX(B$268:$B307)+1)","v":0},null,null,null,"",null,"",null,"",null,0,null,null,null,null,null,null,null,null,null,null,null,null,null,null,null,null,null,null,null,null,null,null,null,null,null,null,null,null,null,null,null,null,null,null,null,null,null,null,null,null,null,null,null,null,null,0,0,0,0,0,0,0,0,0,0,0,0,0,0,0,0,0,0,0,0,0,0,0,0,0,0,0,0,0,0,0,0]
[{"$f":"COUNTIF(B268:B309,\">=1\")+COUNTIF(D120:D124,\">=1\")","v":0},{"$f":"IF(SUM(L309:P309)=0,0,MAX(B$268:$B308)+1)","v":0},null,null,null,null,null,null,null,null,null,0,null,null,null,null,null,null,null,null,null,null,null,null,null,null,null,null,null,null,null,null,null,null,null,null,null,null,null,null,null,null,null,null,null,null,null,null,null,null,null,null,null,null,null,null,null,0,0,0,0,0,0,0,0,0,0,0,0,0,0,0,0,0,0,0,0,0,0,0,0,0,0,0,0,0,0,0,0]
[null,"รายละเอียดท่อ คสล. ชนิดกลม (ต่อ)"]
[null,"ที่","              ตำแหน่ง",null,"                                                               ท่อระบายน้ำ คลส.",null,null,null,null,null,null,null,"             หลักบอก",null,"เพิ่มกำแพงปากท่อ(ด้าน)",null,null,"หมายเหตุ"]
[null,null,"                (กม.)",null,"แถว","-","ขนาด","x","ยาว","=",null,"รวม","           ตำแหน่งท่อ",null,{"$f":"O267","v":"ทช-5-103/45"},null,null,null,null,null,null,null,null,null,null,null,null,null,null,null,null,null,null,null,null,null,null,null,null,null,null,null,null,null,null,null,null,null,null,null,null,null,null,null,null,null,null,"ท่อ คสล.(ต่อ)"]
[null,{"$f":"IF(SUM(L313:P313)=0,0,MAX(B$268:$B312)+1)","v":0},null,null,null,null,null,null,null,null,null,0,null,null,null,null,null,null,null,null,null,null,null,null,null,null,null,null,null,null,null,null,null,null,null,null,null,null,null,null,null,null,null,null,null,null,null,null,null,null,null,null,null,null,null,null,null,{"$f":"IF(AND(E313=1,G313=0.4),L313,0)","v":0},{"$f":"IF(AND(E313=1,G313=0.6),L313,0)","v":0},{"$f":"IF(AND(E313=1,G313=0.6,O313<>0),O313,0)","v":0},{"$f":"IF(AND(E313=1,G313=0.8),L313,0)","v":0},{"$f":"IF(AND(E313=1,G313=0.8,O313<>0),O313,0)","v":0},{"$f":"IF(AND(E313=1,G313=1),L313,0)","v":0},{"$f":"IF(AND(E313=1,G313=1,O313<>0),O313,0)","v":0},{"$f":"IF(AND(E313=1,G313=1.2),L313,0)","v":0},{"$f":"IF(AND(E313=1,G313=1.2,O313<>0),O313,0)","v":0},{"$f":"IF(AND(E313=2,G313=0.4),L313,0)","v":0},{"$f":"IF(AND(E313=2,G313=0.6),L313,0)","v":0},{"$f":"IF(AND(E313=2,G313=0.6,O313<>0),O313,0)","v":0},{"$f":"IF(AND(E313=2,G313=0.8),L313,0)","v":0},{"$f":"IF(AND(E313=2,G313=0.8,O313<>0),O313,0)","v":0},{"$f":"IF(AND(E313=2,G313=1),L313,0)","v":0},{"$f":"IF(AND(E313=2,G313=1,O313<>0),O313,0)","v":0},{"$f":"IF(AND(E313=2,G313=1.2),L313,0)","v":0},{"$f":"IF(AND(E313=2,G313=1.2,O313<>0),O313,0)","v":0},{"$f":"IF(AND(E313=3,G313=0.4),L313,0)","v":0},{"$f":"IF(AND(E313=3,G313=0.6),L313,0)","v":0},{"$f":"IF(AND(E313=3,G313=0.6,O313<>0),O313,0)","v":0},{"$f":"IF(AND(E313=3,G313=0.8),L313,0)","v":0},{"$f":"IF(AND(E313=3,G313=0.8,O313<>0),O313,0)","v":0},{"$f":"IF(AND(E313=3,G313=1),L313,0)","v":0},{"$f":"IF(AND(E313=3,G313=1,O313<>0),O313,0)","v":0},{"$f":"IF(AND(E313=3,G313=1.2),L313,0)","v":0},{"$f":"IF(AND(E313=3,G313=1.2,O313<>0),O313,0)","v":0},{"$f":"IF(AND(G313=0.4,T313=\"คงไว้\"),L313,0)","v":0},{"$f":"IF(AND(G313=0.6,T313=\"คงไว้\"),L313,0)","v":0},{"$f":"IF(AND(G313=0.8,T313=\"คงไว้\"),L313,0)","v":0},{"$f":"IF(AND(G313=1,T313=\"คงไว้\"),L313,0)","v":0},{"$f":"IF(AND(G313=1.2,T313=\"คงไว้\"),L313,0)","v":0}]
[null,{"$f":"IF(SUM(L314:P314)=0,0,MAX(B$268:$B313)+1)","v":0},null,null,null,null,null,null,null,null,null,0,null,null,null,null,null,null,null,null,null,null,null,null,null,null,null,null,null,null,null,null,null,null,null,null,null,null,null,null,null,null,null,null,null,null,null,null,null,null,null,null,null,null,null,null,null,0,0,0,0,0,0,0,0,0,0,0,0,0,0,0,0,0,0,0,0,0,0,0,0,0,0,0,0,0,0,0,0]
[null,{"$f":"IF(SUM(L315:P315)=0,0,MAX(B$268:$B314)+1)","v":0},null,null,null,null,null,null,null,null,null,0,null,null,null,null,null,null,null,null,null,null,null,null,null,null,null,null,null,null,null,null,null,null,null,null,null,null,null,null,null,null,null,null,null,null,null,null,null,null,null,null,null,null,null,null,null,0,0,0,0,0,0,0,0,0,0,0,0,0,0,0,0,0,0,0,0,0,0,0,0,0,0,0,0,0,0,0,0]
[null,{"$f":"IF(SUM(L316:P316)=0,0,MAX(B$268:$B315)+1)","v":0},null,null,null,null,null,null,null,null,null,0,null,null,null,null,null,null,null,null,null,null,null,null,null,null,null,null,null,null,null,null,null,null,null,null,null,null,null,null,null,null,null,null,null,null,null,null,null,null,null,null,null,null,null,null,null,0,0,0,0,0,0,0,0,0,0,0,0,0,0,0,0,0,0,0,0,0,0,0,0,0,0,0,0,0,0,0,0]
[null,{"$f":"IF(SUM(L317:P317)=0,0,MAX(B$268:$B316)+1)","v":0},null,null,null,null,null,null,null,null,null,0,null,null,null,null,null,null,null,null,null,null,null,null,null,null,null,null,null,null,null,null,null,null,null,null,null,null,null,null,null,null,null,null,null,null,null,null,null,null,null,null,null,null,null,null,null,0,0,0,0,0,0,0,0,0,0,0,0,0,0,0,0,0,0,0,0,0,0,0,0,0,0,0,0,0,0,0,0]
[null,{"$f":"IF(SUM(L318:P318)=0,0,MAX(B$268:$B317)+1)","v":0},null,null,null,null,null,null,null,null,null,{"$f":"E318*I318","v":0},null,null,null,null,null,null,null,null,null,null,null,null,null,null,null,null,null,null,null,null,null,null,null,null,null,null,null,null,null,null,null,null,null,null,null,null,null,null,null,null,null,null,null,null,null,0,0,0,0,0,0,0,0,0,0,0,0,0,0,0,0,0,0,0,0,0,0,0,0,0,0,0,0,0,0,0,0]
[null,{"$f":"IF(SUM(L319:P319)=0,0,MAX(B$268:$B318)+1)","v":0},null,null,null,null,null,null,null,null,null,0,null,null,null,null,null,null,null,null,null,null,null,null,null,null,null,null,null,null,null,null,null,null,null,null,null,null,null,null,null,null,null,null,null,null,null,null,null,null,null,null,null,null,null,null,null,0,0,0,0,0,0,0,0,0,0,0,0,0,0,0,0,0,0,0,0,0,0,0,0,0,0,0,0,0,0,0,0]
[null,{"$f":"IF(SUM(L320:P320)=0,0,MAX(B$268:$B319)+1)","v":0},null,null,null,null,null,null,null,null,null,0,null,null,null,null,null,null,null,null,null,null,null,null,null,null,null,null,null,null,null,null,null,null,null,null,null,null,null,null,null,null,null,null,null,null,null,null,null,null,null,null,null,null,null,null,null,0,0,0,0,0,0,0,0,0,0,0,0,0,0,0,0,0,0,0,0,0,0,0,0,0,0,0,0,0,0,0,0]
[null,{"$f":"IF(SUM(L321:P321)=0,0,MAX(B$268:$B320)+1)","v":0},null,null,null,null,null,null,null,null,null,0,null,null,null,null,null,null,null,null,null,null,null,null,null,null,null,null,null,null,null,null,null,null,null,null,null,null,null,null,null,null,null,null,null,null,null,null,null,null,null,null,null,null,null,null,null,0,0,0,0,0,0,0,0,0,0,0,0,0,0,0,0,0,0,0,0,0,0,0,0,0,0,0,0,0,0,0,0]
[null,{"$f":"IF(SUM(L322:P322)=0,0,MAX(B$268:$B321)+1)","v":0},null,null,null,null,null,null,null,null,null,0,null,null,null,null,null,null,null,null,null,null,null,null,null,null,null,null,null,null,null,null,null,null,null,null,null,null,null,null,null,null,null,null,null,null,null,null,null,null,null,null,null,null,null,null,null,0,0,0,0,0,0,0,0,0,0,0,0,0,0,0,0,0,0,0,0,0,0,0,0,0,0,0,0,0,0,0,0]
[null,{"$f":"IF(SUM(L323:P323)=0,0,MAX(B$268:$B322)+1)","v":0},null,null,null,null,null,null,null,null,null,0,null,null,null,null,null,null,null,null,null,null,null,null,null,null,null,null,null,null,null,null,null,null,null,null,null,null,null,null,null,null,null,null,null,null,null,null,null,null,null,null,null,null,null,null,null,0,0,0,0,0,0,0,0,0,0,0,0,0,0,0,0,0,0,0,0,0,0,0,0,0,0,0,0,0,0,0,0]
[null,{"$f":"IF(SUM(L324:P324)=0,0,MAX(B$268:$B323)+1)","v":0},null,null,null,null,null,null,null,null,null,0,null,null,null,null,null,null,null,null,null,null,null,null,null,null,null,null,null,null,null,null,null,null,null,null,null,null,null,null,null,null,null,null,null,null,null,null,null,null,null,null,null,null,null,null,null,0,0,0,0,0,0,0,0,0,0,0,0,0,0,0,0,0,0,0,0,0,0,0,0,0,0,0,0,0,0,0,0]
[null,{"$f":"IF(SUM(L325:P325)=0,0,MAX(B$268:$B324)+1)","v":0},null,null,null,null,null,null,null,null,null,0,null,null,null,null,null,null,null,null,null,null,null,null,null,null,null,null,null,null,null,null,null,null,null,null,null,null,null,null,null,null,null,null,null,null,null,null,null,null,null,null,null,null,null,null,null,0,0,0,0,0,0,0,0,0,0,0,0,0,0,0,0,0,0,0,0,0,0,0,0,0,0,0,0,0,0,0,0]
[null,{"$f":"IF(SUM(L326:P326)=0,0,MAX(B$268:$B325)+1)","v":0},null,null,null,null,null,null,null,null,null,0,null,null,null,null,null,null,null,null,null,null,null,null,null,null,null,null,null,null,null,null,null,null,null,null,null,null,null,null,null,null,null,null,null,null,null,null,null,null,null,null,null,null,null,null,null,0,0,0,0,0,0,0,0,0,0,0,0,0,0,0,0,0,0,0,0,0,0,0,0,0,0,0,0,0,0,0,0]
[null,{"$f":"IF(SUM(L327:P327)=0,0,MAX(B$268:$B326)+1)","v":0},null,null,null,null,null,null,null,null,null,0,null,null,null,null,null,null,null,null,null,null,null,null,null,null,null,null,null,null,null,null,null,null,null,null,null,null,null,null,null,null,null,null,null,null,null,null,null,null,null,null,null,null,null,null,null,0,0,0,0,0,0,0,0,0,0,0,0,0,0,0,0,0,0,0,0,0,0,0,0,0,0,0,0,0,0,0,0]
[null,{"$f":"IF(SUM(L328:P328)=0,0,MAX(B$268:$B327)+1)","v":0},null,null,null,null,null,null,null,null,null,0,null,null,null,null,null,null,null,null,null,null,null,null,null,null,null,null,null,null,null,null,null,null,null,null,null,null,null,null,null,null,null,null,null,null,null,null,null,null,null,null,null,null,null,null,null,0,0,0,0,0,0,0,0,0,0,0,0,0,0,0,0,0,0,0,0,0,0,0,0,0,0,0,0,0,0,0,0]
[null,{"$f":"IF(SUM(L329:P329)=0,0,MAX(B$268:$B328)+1)","v":0},null,null,null,null,null,null,null,null,null,0,null,null,null,null,null,null,null,null,null,null,null,null,null,null,null,null,null,null,null,null,null,null,null,null,null,null,null,null,null,null,null,null,null,null,null,null,null,null,null,null,null,null,null,null,null,0,0,0,0,0,0,0,0,0,0,0,0,0,0,0,0,0,0,0,0,0,0,0,0,0,0,0,0,0,0,0,0]
[null,{"$f":"IF(SUM(L330:P330)=0,0,MAX(B$268:$B329)+1)","v":0},null,null,null,null,null,null,null,null,null,0,null,null,null,null,null,null,null,null,null,null,null,null,null,null,null,null,null,null,null,null,null,null,null,null,null,null,null,null,null,null,null,null,null,null,null,null,null,null,null,null,null,null,null,null,null,0,0,0,0,0,0,0,0,0,0,0,0,0,0,0,0,0,0,0,0,0,0,0,0,0,0,0,0,0,0,0,0]
[null,{"$f":"IF(SUM(L331:P331)=0,0,MAX(B$268:$B330)+1)","v":0},null,null,null,null,null,null,null,null,null,0,null,null,null,null,null,null,null,null,null,null,null,null,null,null,null,null,null,null,null,null,null,null,null,null,null,null,null,null,null,null,null,null,null,null,null,null,null,null,null,null,null,null,null,null,null,0,0,0,0,0,0,0,0,0,0,0,0,0,0,0,0,0,0,0,0,0,0,0,0,0,0,0,0,0,0,0,0]
[null,{"$f":"IF(SUM(L332:P332)=0,0,MAX(B$268:$B331)+1)","v":0},null,null,null,null,null,null,null,null,null,0,null,null,null,null,null,null,null,null,null,null,null,null,null,null,null,null,null,null,null,null,null,null,null,null,null,null,null,null,null,null,null,null,null,null,null,null,null,null,null,null,null,null,null,null,null,0,0,0,0,0,0,0,0,0,0,0,0,0,0,0,0,0,0,0,0,0,0,0,0,0,0,0,0,0,0,0,0]
[null,{"$f":"IF(SUM(L333:P333)=0,0,MAX(B$268:$B332)+1)","v":0},null,null,null,null,null,null,null,null,null,0,null,null,null,null,null,null,null,null,null,null,null,null,null,null,null,null,null,null,null,null,null,null,null,null,null,null,null,null,null,null,null,null,null,null,null,null,null,null,null,null,null,null,null,null,null,0,0,0,0,0,0,0,0,0,0,0,0,0,0,0,0,0,0,0,0,0,0,0,0,0,0,0,0,0,0,0,0]
[null,{"$f":"IF(SUM(L334:P334)=0,0,MAX(B$268:$B333)+1)","v":0},null,null,null,null,null,null,null,null,null,0,null,null,null,null,null,null,null,null,null,null,null,null,null,null,null,null,null,null,null,null,null,null,null,null,null,null,null,null,null,null,null,null,null,null,null,null,null,null,null,null,null,null,null,null,null,0,0,0,0,0,0,0,0,0,0,0,0,0,0,0,0,0,0,0,0,0,0,0,0,0,0,0,0,0,0,0,0]
[null,{"$f":"IF(SUM(L335:P335)=0,0,MAX(B$268:$B334)+1)","v":0},null,null,null,null,null,null,null,null,null,0,null,null,null,null,null,null,null,null,null,null,null,null,null,null,null,null,null,null,null,null,null,null,null,null,null,null,null,null,null,null,null,null,null,null,null,null,null,null,null,null,null,null,null,null,null,0,0,0,0,0,0,0,0,0,0,0,0,0,0,0,0,0,0,0,0,0,0,0,0,0,0,0,0,0,0,0,0]
[null,{"$f":"IF(SUM(L336:P336)=0,0,MAX(B$268:$B335)+1)","v":0},null,null,null,null,null,null,null,null,null,0,null,null,null,null,null,null,null,null,null,null,null,null,null,null,null,null,null,null,null,null,null,null,null,null,null,null,null,null,null,null,null,null,null,null,null,null,null,null,null,null,null,null,null,null,null,0,0,0,0,0,0,0,0,0,0,0,0,0,0,0,0,0,0,0,0,0,0,0,0,0,0,0,0,0,0,0,0]
[null,{"$f":"IF(SUM(L337:P337)=0,0,MAX(B$268:$B336)+1)","v":0},null,null,null,null,null,null,null,null,null,0,null,null,null,null,null,null,null,null,null,null,null,null,null,null,null,null,null,null,null,null,null,null,null,null,null,null,null,null,null,null,null,null,null,null,null,null,null,null,null,null,null,null,null,null,null,0,0,0,0,0,0,0,0,0,0,0,0,0,0,0,0,0,0,0,0,0,0,0,0,0,0,0,0,0,0,0,0]
[null,{"$f":"IF(SUM(L338:P338)=0,0,MAX(B$268:$B337)+1)","v":0},null,null,null,null,null,null,null,null,null,0,null,null,null,null,null,null,null,null,null,null,null,null,null,null,null,null,null,null,null,null,null,null,null,null,null,null,null,null,null,null,null,null,null,null,null,null,null,null,null,null,null,null,null,null,null,0,0,0,0,0,0,0,0,0,0,0,0,0,0,0,0,0,0,0,0,0,0,0,0,0,0,0,0,0,0,0,0]
[null,{"$f":"IF(SUM(L339:P339)=0,0,MAX(B$268:$B338)+1)","v":0},null,null,null,null,null,null,null,null,null,0,null,null,null,null,null,null,null,null,null,null,null,null,null,null,null,null,null,null,null,null,null,null,null,null,null,null,null,null,null,null,null,null,null,null,null,null,null,null,null,null,null,null,null,null,null,0,0,0,0,0,0,0,0,0,0,0,0,0,0,0,0,0,0,0,0,0,0,0,0,0,0,0,0,0,0,0,0]
[null,{"$f":"IF(SUM(L340:P340)=0,0,MAX(B$268:$B339)+1)","v":0},null,null,null,null,null,null,null,null,null,0,null,null,null,null,null,null,null,null,null,null,null,null,null,null,null,null,null,null,null,null,null,null,null,null,null,null,null,null,null,null,null,null,null,null,null,null,null,null,null,null,null,null,null,null,null,0,0,0,0,0,0,0,0,0,0,0,0,0,0,0,0,0,0,0,0,0,0,0,0,0,0,0,0,0,0,0,0]
[null,{"$f":"IF(SUM(L341:P341)=0,0,MAX(B$268:$B340)+1)","v":0},null,null,null,null,null,null,null,null,null,{"$f":"E341*I341","v":0},null,null,null,null,null,null,null,null,null,null,null,null,null,null,null,null,null,null,null,null,null,null,null,null,null,null,null,null,null,null,null,null,null,null,null,null,null,null,null,null,null,null,null,null,null,0,0,0,0,0,0,0,0,0,0,0,0,0,0,0,0,0,0,0,0,0,0,0,0,0,0,0,0,0,0,0,0]
[null,{"$f":"IF(SUM(L342:P342)=0,0,MAX(B$268:$B341)+1)","v":0},null,null,null,null,null,null,null,null,null,0,null,null,null,null,null,null,null,null,null,null,null,null,null,null,null,null,null,null,null,null,null,null,null,null,null,null,null,null,null,null,null,null,null,null,null,null,null,null,null,null,null,null,null,null,null,0,0,0,0,0,0,0,0,0,0,0,0,0,0,0,0,0,0,0,0,0,0,0,0,0,0,0,0,0,0,0,0]
[null,{"$f":"IF(SUM(L343:P343)=0,0,MAX(B$268:$B342)+1)","v":0},null,null,null,null,null,null,null,null,null,0,null,null,null,null,null,null,null,null,null,null,null,null,null,null,null,null,null,null,null,null,null,null,null,null,null,null,null,null,null,null,null,null,null,null,null,null,null,null,null,null,null,null,null,null,null,0,0,0,0,0,0,0,0,0,0,0,0,0,0,0,0,0,0,0,0,0,0,0,0,0,0,0,0,0,0,0,0]
[null,{"$f":"IF(SUM(L344:P344)=0,0,MAX(B$268:$B343)+1)","v":0},null,null,null,null,null,null,null,null,null,0,null,null,null,null,null,null,null,null,null,null,null,null,null,null,null,null,null,null,null,null,null,null,null,null,null,null,null,null,null,null,null,null,null,null,null,null,null,null,null,null,null,null,null,null,null,0,0,0,0,0,0,0,0,0,0,0,0,0,0,0,0,0,0,0,0,0,0,0,0,0,0,0,0,0,0,0,0]
[null,{"$f":"IF(SUM(L345:P345)=0,0,MAX(B$268:$B344)+1)","v":0},null,null,null,null,null,null,null,null,null,0,null,null,null,null,null,null,null,null,null,null,null,null,null,null,null,null,null,null,null,null,null,null,null,null,null,null,null,null,null,null,null,null,null,null,null,null,null,null,null,null,null,null,null,null,null,0,0,0,0,0,0,0,0,0,0,0,0,0,0,0,0,0,0,0,0,0,0,0,0,0,0,0,0,0,0,0,0]
[null,null,null,null,null,null,null,"รวม",null,null,null,null,{"$f":"SUM(M268:N345)","v":0},null,null,null,null,null,null,null,null,null,null,null,null,null,null,null,null,null,null,null,null,null,null,null,null,null,null,null,null,null,null,null,null,null,null,null,null,null,null,null,null,null,null,null,null,{"$f":"SUM(BF268:BF345)","v":0},{"$f":"SUM(BG268:BG345)","v":0},{"$f":"SUM(BH268:BH345)","v":0},0,0,0,0,0,0,0,0,0,0,0,0,0,0,0,0,0,0,0,0,0,0,0,0,0,0,0,0,0]
[null,"สรุปงานรางระบายน้ำ คสล."]
[null,"ที่","              ตำแหน่ง",null,"  รางระบายน้ำเปิด (ม.)",null,"  รางตัวยูพร้อมฝา (ม.)",null,"           รางตื้น (ม.)",null,null,"       รางเร็จรูป  (ม.)",null,"  บ่อพัก คสล.  พร้อมฝา ",null,"  บ่อพัก คสล.  พร้อมฝา ",null,null,"หมายเหตุ"]
[null,null,"             (กม.-กม.)",null,"(รน-303/56)",null,"(รน-301/56)","ข-30","(บร-402/56)",null,null,null,null,"        (บ่อ)","(ทถ-5-301)","        (บ่อ)","(บร-402/56)"]
[null,{"$f":"IF(SUM(E350:Q350)=0,0,1)","v":0},"0-800",null,null,null,null,null,null,null,null,null,null,null,null,null,null,"LT"]
[null,{"$f":"IF(SUM(E351:Q351)=0,0,MAX($B$350:B350)+1)","v":0},"0-8",null,null,null,null,null,null,null,null,null,null,null,null,null,null,"RT"]
[null,{"$f":"IF(SUM(E352:Q352)=0,0,MAX($B$350:B351)+1)","v":0}]
[null,{"$f":"IF(SUM(E353:Q353)=0,0,MAX($B$350:B352)+1)","v":0}]
[null,{"$f":"IF(SUM(E354:Q354)=0,0,MAX($B$350:B353)+1)","v":0}]
[null,{"$f":"IF(SUM(E355:Q355)=0,0,MAX($B$350:B354)+1)","v":0}]
[null,{"$f":"IF(SUM(E356:Q356)=0,0,MAX($B$350:B355)+1)","v":0}]
[null,{"$f":"IF(SUM(E357:Q357)=0,0,MAX($B$350:B356)+1)","v":0}]
[null,{"$f":"IF(SUM(E358:Q358)=0,0,MAX($B$350:B357)+1)","v":0}]
[null,{"$f":"IF(SUM(E359:Q359)=0,0,MAX($B$350:B358)+1)","v":0}]
[null,{"$f":"IF(SUM(E360:Q360)=0,0,MAX($B$350:B359)+1)","v":0}]
[{"$f":"SUM(C313:C360)","v":0},null,"รวม",null,{"$f":"SUM(E350:F360)","v":0},null,{"$f":"SUM(G350:H360)","v":0},null,{"$f":"SUM(I350:J360)","v":0},null,null,{"$f":"SUM(L350:M360)","v":0},null,{"$f":"1414/10","v":141.4},null,{"$f":"SUM(P350:Q360)","v":0}]
[null,"สรุปงานป้องกันการกัดเซาะ"]
[null,null,null,"ที่","             ตำแหน่ง",null," Gabion - 1 x 1 x 1 ม.",null,"  Mattres  - 2 x 3 x 0.3 ม.",null,null,"           เรียงหิน",null,"Concrete Slope Protection",null,null,"หมายเหตุ"]
[null,null,null,null,"            (กม.-กม.)",null,"           (กล่อง)",null,"              (กล่อง)",null,null,"           (ตร..ม.)",null,"             (ตร..ม.)"]
[null,null,null,{"$f":"IF(SUM(G365:O365)=0,0,1)","v":0}]
[null,null,null,{"$f":"IF(SUM(G366:O366)=0,0,MAX($D$365:D365)+1)","v":0}]
[null,null,null,{"$f":"IF(SUM(G367:O367)=0,0,MAX($D$365:D366)+1)","v":0}]
[null,null,null,{"$f":"IF(SUM(G368:O368)=0,0,MAX($D$365:D367)+1)","v":0}]
[null,null,null,{"$f":"IF(SUM(G369:O369)=0,0,MAX($D$365:D368)+1)","v":0}]
[null,null,null,{"$f":"IF(SUM(G370:O370)=0,0,MAX($D$365:D369)+1)","v":0}]
[null,null,null,{"$f":"IF(SUM(G371:O371)=0,0,MAX($D$365:D370)+1)","v":0}]
[null,null,null,{"$f":"IF(SUM(G372:O372)=0,0,MAX($D$365:D371)+1)","v":0}]
[null,null,null,{"$f":"IF(SUM(G373:O373)=0,0,MAX($D$365:D372)+1)","v":0}]
[null,null,null,{"$f":"IF(SUM(G374:O374)=0,0,MAX($D$365:D373)+1)","v":0}]
[null,null,null,{"$f":"IF(SUM(G375:O375)=0,0,MAX($D$365:D374)+1)","v":0}]
[null,null,null,{"$f":"IF(SUM(G376:O376)=0,0,MAX($D$365:D375)+1)","v":0}]
[{"$f":"COUNTIF(B313:B345,\">=1\")+COUNTIF(B350:B360,\">=1\")+COUNTIF(D365:D376,\">=1\")","v":0},null,null,null,"รวม",null,{"$f":"SUM(G365:H376)","v":0},null,{"$f":"SUM(I365:J376)","v":0},null,null,{"$f":"SUM(L365:M376)","v":0},null,{"$f":"SUM(N365:O376)","v":0}]
[null,"สรุปงานไฟฟ้าแสงสว่าง"]
[null,null,null,"ที่","             ตำแหน่ง",null,"     จำนวนเสาไฟฟ้า",null,"     ระยะห่างระหว่างเสา",null,null,"ไฟฟ้าพลังงานแสงอาทิตย์",null,"      ขยายเขตไฟฟ้าและ",null,null,"หมายเหตุ"]
[null,null,null,null,"            (กม.-กม.)",null,"             (ต้น)",null,"                  (ม.)",null,null,"                 (ต้น)",null,"   ติดตั้งหม้อแปลง (จุด)"]
[null,null,null,{"$f":"IF(SUM(G381:O381)=0,0,1)","v":0},null,null,null,null,null,null,null,null,null,null,null,null,null,null,null,null,null,null,null,null,null,null,null,null,null,null,null,null,null,null,null,null,null,null,null,null,null,null,null,null,null,null,null,null,null,null,null,null,{"$f":"IF(G381=0,0,G381-1)","v":0},{"$f":"I381*BA381","v":0}]
[null,null,null,{"$f":"IF(SUM(G382:O382)=0,0,MAX($D$381:D381)+1)","v":0},null,null,null,null,null,null,null,null,null,null,null,null,null,null,null,null,null,null,null,null,null,null,null,null,null,null,null,null,null,null,null,null,null,null,null,null,null,null,null,null,null,null,null,null,null,null,null,null,0,0]
[null,null,null,{"$f":"IF(SUM(G383:O383)=0,0,MAX($D$381:D382)+1)","v":0},null,null,null,null,null,null,null,null,null,null,null,null,null,null,null,null,null,null,null,null,null,null,null,null,null,null,null,null,null,null,null,null,null,null,null,null,null,null,null,null,null,null,null,null,null,null,null,null,0,0]
[null,null,null,{"$f":"IF(SUM(G384:O384)=0,0,MAX($D$381:D383)+1)","v":0},null,null,null,null,null,null,null,null,null,null,null,null,null,null,null,null,null,null,null,null,null,null,null,null,null,null,null,null,null,null,null,null,null,null,null,null,null,null,null,null,null,null,null,null,null,null,null,null,0,0]
[null,null,null,{"$f":"IF(SUM(G385:O385)=0,0,MAX($D$381:D384)+1)","v":0},null,null,null,null,null,null,null,null,null,null,null,null,null,null,null,null,null,null,null,null,null,null,null,null,null,null,null,null,null,null,null,null,null,null,null,null,null,null,null,null,null,null,null,null,null,null,null,null,0,0]
[null,null,null,{"$f":"IF(SUM(G386:O386)=0,0,MAX($D$381:D385)+1)","v":0},null,null,null,null,null,null,null,null,null,null,null,null,null,null,null,null,null,null,null,null,null,null,null,null,null,null,null,null,null,null,null,null,null,null,null,null,null,null,null,null,null,null,null,null,null,null,null,null,0,0]
[null,null,null,{"$f":"IF(SUM(G387:O387)=0,0,MAX($D$381:D386)+1)","v":0},null,null,null,null,null,null,null,null,null,null,null,null,null,null,null,null,null,null,null,null,null,null,null,null,null,null,null,null,null,null,null,null,null,null,null,null,null,null,null,null,null,null,null,null,null,null,null,null,0,0]
[null,null,null,{"$f":"IF(SUM(G388:O388)=0,0,MAX($D$381:D387)+1)","v":0},null,null,null,null,null,null,null,null,null,null,null,null,null,null,null,null,null,null,null,null,null,null,null,null,null,null,null,null,null,null,null,null,null,null,null,null,null,null,null,null,null,null,null,null,null,null,null,null,0,0]
[null,null,null,{"$f":"IF(SUM(G389:O389)=0,0,MAX($D$381:D388)+1)","v":0},null,null,null,null,null,null,null,null,null,null,null,null,null,null,null,null,null,null,null,null,null,null,null,null,null,null,null,null,null,null,null,null,null,null,null,null,null,null,null,null,null,null,null,null,null,null,null,null,0,0]
[null,null,null,{"$f":"IF(SUM(G390:O390)=0,0,MAX($D$381:D389)+1)","v":0},null,null,null,null,null,null,null,null,null,null,null,null,null,null,null,null,null,null,null,null,null,null,null,null,null,null,null,null,null,null,null,null,null,null,null,null,null,null,null,null,null,null,null,null,null,null,null,null,0,0]
[null,null,null,{"$f":"IF(SUM(G391:O391)=0,0,MAX($D$381:D390)+1)","v":0},null,null,null,null,null,null,null,null,null,null,null,null,null,null,null,null,null,null,null,null,null,null,null,null,null,null,null,null,null,null,null,null,null,null,null,null,null,null,null,null,null,null,null,null,null,null,null,null,0,0]
[null,null,null,{"$f":"IF(SUM(G392:O392)=0,0,MAX($D$381:D391)+1)","v":0},null,null,null,null,null,null,null,null,null,null,null,null,null,null,null,null,null,null,null,null,null,null,null,null,null,null,null,null,null,null,null,null,null,null,null,null,null,null,null,null,null,null,null,null,null,null,null,null,0,0]
[null,null,null,{"$f":"IF(SUM(G393:O393)=0,0,MAX($D$381:D392)+1)","v":0},null,null,null,null,null,null,null,null,null,null,null,null,null,null,null,null,null,null,null,null,null,null,null,null,null,null,null,null,null,null,null,null,null,null,null,null,null,null,null,null,null,null,null,null,null,null,null,null,0,0]
[null,null,null,null,"รวม",null,{"$f":"SUM(G381:H393)","v":0},null,"   เฉลี่ย",{"$f":"IF(SUM(I381:J393)=0,0,ROUNDDOWN(BB394/BA394,1))","v":0},null,{"$f":"SUM(L381:M393)","v":0},null,{"$f":"SUM(N381:O393)","v":0},null,null,null,null,null,null,null,null,null,null,null,null,null,null,null,null,null,null,null,null,null,null,null,null,null,null,null,null,null,null,null,null,null,null,null,null,null,null,{"$f":"SUM(BA381:BA393)","v":0},{"$f":"SUM(BB381:BB393)","v":0}]
[]
[null,"สรุปงานปลูกหญ้า"]
[null,null,null,"ที่",null,"ตำแหน่ง",null,"         แบบปักแถว",null,"            แบบปูแผ่น",null,null,"          แบบปักแถว",null,"             แบบปูแผ่น",null,null,"หมายเหตุ"]
[null,null,null,null,null,"(กม.-กม.)",null,"      กว้างข้างละ (ม.)",null,"       กว้างข้างละ (ม.)",null,null,"         พื้นที่ (ตร.ม.)",null,"            พื้นที่ (ตร.ม.)"]
[null,null,null,{"$f":"IF(SUM(H399:P399)=0,0,1)","v":0},null,null,null,null,null,null,null,null,{"$f":"BD399*H399*2","v":0},null,{"$f":"BD399*J399*2","v":0},null,null,null,null,null,null,null,null,null,null,null,null,null,null,null,null,null,null,null,null,null,null,null,null,null,null,null,null,null,null,null,null,null,null,null,null,null,null,null,null,{"$f":"G399-E399","v":0}]
[null,null,null,{"$f":"IF(SUM(H400:P400)=0,0,MAX($D$399:D399)+1)","v":0},null,null,null,null,null,null,null,null,0,null,0,null,null,null,null,null,null,null,null,null,null,null,null,null,null,null,null,null,null,null,null,null,null,null,null,null,null,null,null,null,null,null,null,null,null,null,null,null,null,null,null,0]
[null,null,null,{"$f":"IF(SUM(H401:P401)=0,0,MAX($D$399:D400)+1)","v":0},null,null,null,null,null,null,null,null,0,null,0,null,null,null,null,null,null,null,null,null,null,null,null,null,null,null,null,null,null,null,null,null,null,null,null,null,null,null,null,null,null,null,null,null,null,null,null,null,null,null,null,0]
[null,null,null,{"$f":"IF(SUM(H402:P402)=0,0,MAX($D$399:D401)+1)","v":0},null,null,null,null,null,null,null,null,0,null,0,null,null,null,null,null,null,null,null,null,null,null,null,null,null,null,null,null,null,null,null,null,null,null,null,null,null,null,null,null,null,null,null,null,null,null,null,null,null,null,null,0]
[null,null,null,{"$f":"IF(SUM(H403:P403)=0,0,MAX($D$399:D402)+1)","v":0},null,null,null,null,null,null,null,null,0,null,0,null,null,null,null,null,null,null,null,null,null,null,null,null,null,null,null,null,null,null,null,null,null,null,null,null,null,null,null,null,null,null,null,null,null,null,null,null,null,null,null,0]
[null,null,null,{"$f":"IF(SUM(H404:P404)=0,0,MAX($D$399:D403)+1)","v":0},null,null,null,null,null,null,null,null,0,null,0,null,null,null,null,null,null,null,null,null,null,null,null,null,null,null,null,null,null,null,null,null,null,null,null,null,null,null,null,null,null,null,null,null,null,null,null,null,null,null,null,0]
[null,null,null,{"$f":"IF(SUM(H405:P405)=0,0,MAX($D$399:D404)+1)","v":0},null,null,null,null,null,null,null,null,0,null,0,null,null,null,null,null,null,null,null,null,null,null,null,null,null,null,null,null,null,null,null,null,null,null,null,null,null,null,null,null,null,null,null,null,null,null,null,null,null,null,null,0]
[null,null,null,{"$f":"IF(SUM(H406:P406)=0,0,MAX($D$399:D405)+1)","v":0},null,null,null,null,null,null,null,null,0,null,0,null,null,null,null,null,null,null,null,null,null,null,null,null,null,null,null,null,null,null,null,null,null,null,null,null,null,null,null,null,null,null,null,null,null,null,null,null,null,null,null,0]
[null,null,null,{"$f":"IF(SUM(H407:P407)=0,0,MAX($D$399:D406)+1)","v":0},null,null,null,null,null,null,null,null,0,null,0,null,null,null,null,null,null,null,null,null,null,null,null,null,null,null,null,null,null,null,null,null,null,null,null,null,null,null,null,null,null,null,null,null,null,null,null,null,null,null,null,0]
[null,null,null,{"$f":"IF(SUM(H408:P408)=0,0,MAX($D$399:D407)+1)","v":0},null,null,null,null,null,null,null,null,0,null,0,null,null,null,null,null,null,null,null,null,null,null,null,null,null,null,null,null,null,null,null,null,null,null,null,null,null,null,null,null,null,null,null,null,null,null,null,null,null,null,null,0]
[null,null,null,{"$f":"IF(SUM(H409:P409)=0,0,MAX($D$399:D408)+1)","v":0},null,null,null,null,null,null,null,null,0,null,0,null,null,null,null,null,null,null,null,null,null,null,null,null,null,null,null,null,null,null,null,null,null,null,null,null,null,null,null,null,null,null,null,null,null,null,null,null,null,null,null,0]
[null,null,null,null,null,null,"รวม",null,null,null,null,null,{"$f":"SUM(M399:N409)","v":0},null,{"$f":"SUM(O399:P409)","v":0}]
[null,"งานจัดการจราจรระหว่างก่อสร้าง"]
[null,null,null,null,null,null,"แบบ","เช่าติดตั้ง","รูปแบบที่ 2",null,null,"จำนวน",1,"ชุด"]
[null,null,null,null,null,null,"แบบ","เช่าติดตั้ง","รูปแบบที่ 4",null,null,"จำนวน",null,"ชุด"]
[null,"สรุปงานตีเส้นจราจร",null,null,null,null,null,"กว้าง","=",0.1,null,null,"ม."]
[null,null,null,"ที่",null,"ตำแหน่ง",null,"            ระยะทาง",null,"          เส้นกลางทึบ",null,null,"           พื้นที่สีขาว",null,"         พื้นที่สีเหลือง",null,null,"หมายเหตุ"]
[null,null,null,null,null,"(กม.-กม.)",null,"                (กม.)",null,"                (กม.)",null,null,"             (ตร.ม.)",null,"             (ตร.ม.)"]
[null,null,null,{"$f":"IF(H417=0,0,1)","v":1},17000,{"$f":"IF(AND(E417<=0,G417<=0),\"\",\"-\")","v":"-"},17250,{"$f":"(G417-E417)/1000","v":0.25},null,null,null,null,{"$f":"H417*$J$414*2*1000","v":50},null,{"$f":"IF(J417=H417,H417*1000*$J$414,(H417-J417)*1000*$J$414/4+J417*1000*$J$414)","v":6.25}]
[null,null,null,{"$f":"IF(H418=0,0,MAX($D$417:D417)+1)","v":2},17250,null,17300,0.05,null,{"$f":"+H418","v":0.05},null,null,{"$f":"H418*$J$414*2*1000","v":10.000000000000002},null,5]
[null,null,null,{"$f":"IF(H419=0,0,MAX($D$417:D418)+1)","v":3},17300,{"$f":"IF(AND(E419<=0,G419<=0),\"\",\"-\")","v":"-"},18000,{"$f":"(G419-E419)/1000","v":0.7},null,{"$f":"+H419","v":0.7},null,null,{"$f":"H419*$J$414*2*1000","v":139.99999999999997},null,70]
[null,null,null,{"$f":"IF(H420=0,0,MAX($D$417:D419)+1)","v":0},null,null,null,0,null,{"$f":"+H420","v":0},null,null,0,null,0]
[null,null,null,{"$f":"IF(H421=0,0,MAX($D$417:D420)+1)","v":0},null,"",null,0,null,{"$f":"+H421","v":0},null,null,0,null,0]
[null,null,null,{"$f":"IF(H422=0,0,MAX($D$417:D421)+1)","v":0},null,"",null,0,null,null,null,null,0,null,0]
[null,null,null,{"$f":"IF(H423=0,0,MAX($D$417:D422)+1)","v":0},null,"",null,0,null,{"$f":"+H423","v":0},null,null,0,null,0]
[null,null,null,{"$f":"IF(H424=0,0,MAX($D$417:D423)+1)","v":0},null,"",null,0,null,null,null,null,0,null,0]
[null,null,null,{"$f":"IF(H425=0,0,MAX($D$417:D424)+1)","v":0},null,"",null,0,null,null,null,null,0,null,0]
[null,null,null,{"$f":"IF(H426=0,0,MAX($D$417:D425)+1)","v":0},null,"",null,0,null,null,null,null,0,null,0]
[null,null,null,{"$f":"IF(H427=0,0,MAX($D$417:D426)+1)","v":0},null,"",null,0,null,null,null,null,0,null,0]
[null,null,null,{"$f":"IF(H428=0,0,MAX($D$417:D427)+1)","v":0},null,"",null,0,null,null,null,null,0,null,0]
[null,null,null,{"$f":"IF(H429=0,0,MAX($D$417:D428)+1)","v":0},null,"",null,0,null,null,null,null,0,null,0]
[null,null,null,{"$f":"IF(H430=0,0,MAX($D$417:D429)+1)","v":0},null,"",null,0,null,null,null,null,0,null,0]
[null,null,null,{"$f":"IF(H431=0,0,MAX($D$417:D430)+1)","v":0},null,"",null,0,null,null,null,null,0,null,0]
[null,null,null,{"$f":"IF(H432=0,0,MAX($D$417:D431)+1)","v":0},null,"",null,0,null,null,null,null,0,null,0]
[null,null,null,{"$f":"IF(H433=0,0,MAX($D$417:D432)+1)","v":0},null,null,null,0,null,null,null,null,0,null,0]
[null,null,null,null,null,"รวม",null,{"$f":"ROUNDDOWN(SUM(H417:I433),3)","v":1},null,{"$f":"ROUNDDOWN(SUM(J417:L433),3)","v":0.75},null,null,{"$f":"ROUND(SUM(M417:N433),2)","v":200},null,{"$f":"ROUND(SUM(O417:P433),2)","v":81.25}]
[null,"สรุปงานเครื่องหมายจราจร",null,null,null,null,null,null,null,null,null,null,null,null,null,null,null,null,null,null,null,null,null,null,null,null,null,null,null,null,null,null,null,null,null,null,null,null,null,null,null,null,null,null,null,null,null,null,null,null,null,null,null,null,null,"LT","RT"]
[null,null,"        ที่","                                  รายการ",null,null,null,"             จำนวน",null,null,null,null,"        ที่","                                  รายการ",null,null,null,"             จำนวน"]
[null,null,1,"ป้าย บ1",null,null,null,{"$f":"BD$621","v":0},null,null,null,null,30,"ป้าย 1-น3",null,null,null,{"$f":"CG$621","v":0}]
[null,null,2,"ป้าย บ2",null,null,null,{"$f":"BE$621","v":0},null,null,null,null,31,"ป้าย 2-น3",null,null,null,{"$f":"CH$621","v":0}]
[null,null,3,"ป้าย บ3-บ55",null,null,null,{"$f":"BF$621","v":0},null,null,null,null,32,"ป้าย 3-น3",null,null,null,{"$f":"CI$621","v":0}]
[null,null,4,"ป้าย ต1-ต27,ต31-ต60,ต75",null,null,null,{"$f":"BG$621","v":10},null,null,null,null,33,"ป้าย น4",null,null,null,{"$f":"CJ$621","v":0}]
[null,null,5,"ป้าย ต28-ต30,ต62",null,null,null,{"$f":"BH$621","v":0},null,null,null,null,34,"ป้าย น5",null,null,null,{"$f":"CK$621","v":0}]
[null,null,6,"ป้าย ต61",null,null,null,{"$f":"BI$621","v":0},null,null,null,null,35,"ป้าย น6",null,null,null,{"$f":"CL$621","v":0}]
[null,null,7,"ป้าย ต63+ต66(1แผ่น เสาเดี่ยว)",null,null,null,{"$f":"BJ$621","v":0},null,null,null,null,36,"ป้าย น7",null,null,null,{"$f":"CM$621","v":0}]
[null,null,8,"ป้าย ต63+ต66(2แผ่น เสาเดี่ยว)",null,null,null,{"$f":"BK$621","v":0},null,null,null,null,37,"ป้าย น8",null,null,null,{"$f":"CN$621","v":0}]
[null,null,9,"ป้าย ต64,ต67",null,null,null,{"$f":"BL$621","v":0},null,null,null,null,38,"ป้าย นส1-นส14",null,null,null,{"$f":"CO$621","v":0}]
[null,null,10,"ป้าย ต65,ต68,ต70",null,null,null,{"$f":"BM$621","v":0},null,null,null,null,39,"ป้าย น1+นส1-นส14",null,null,null,{"$f":"CP$621","v":0}]
[null,null,11,"ป้าย ต69",null,null,null,{"$f":"BN$621","v":0},null,null,null,null,40,"ป้าย น1/1+นส1-นส14",null,null,null,{"$f":"CQ$621","v":0}]
[null,null,12,"ป้าย ต71",null,null,null,{"$f":"BO$621","v":0},null,null,null,null,41,"ป้าย น1+นส1-นส14+น1+นส1-นส14",null,null,null,{"$f":"CR$621","v":0}]
[null,null,13,"ป้าย ต72-ต73",null,null,null,{"$f":"BP$621","v":0},null,null,null,null,42,"ป้าย น1+น1/1+นส1-นส14+นส14",null,null,null,{"$f":"CS$621","v":0}]
[null,null,14,"ป้าย ต74",null,null,null,{"$f":"BQ$621","v":0},null,null,null,null,43,"ป้าย น1+น1/1(2ชิ้น)+นส1-นส14(3ชิ้น)",null,null,null,{"$f":"CT$621","v":0}]
[null,null,15,"ป้าย ต76",null,null,null,{"$f":"BR$621","v":0},null,null,null,null,44,"ป้าย กำหนดน้ำหนักบรรทุก",null,null,null,{"$f":"CU$621","v":0}]
[null,null,16,"ป้าย ต77",null,null,null,{"$f":"BS$621","v":0},null,null,null,null,45,"Guard Rail ทางตรง",null,null,null,{"$f":"CV$621","v":0}]
[null,null,17,"ป้าย ต78",null,null,null,{"$f":"BT$621","v":0},null,null,null,null,46,"Guard Rail ทางโค้ง/คอสะพาน",null,null,null,{"$f":"CW$621","v":0}]
[null,null,18,"ป้าย บ3-บ55+ต1-ต27,ต31-ต60",null,null,null,{"$f":"BU$621","v":0},null,null,null,null,47,"Timber Barricade",null,null,null,{"$f":"CX$621","v":0}]
[null,null,19,"ป้าย ต1-ต27+ต73,ต31-ต60+ต73",null,null,null,{"$f":"BV$621","v":0},null,null,null,null,48,"หลักกิโลเมตร",null,null,null,{"$f":"CY$621","v":0}]
[null,null,20,"ป้าย ต1-ต27+ต74,ต31-ต60+ต74",null,null,null,{"$f":"BW$621","v":0},null,null,null,null,49,"หลักเขตทาง",null,null,null,{"$f":"CZ$621","v":0}]
[null,null,21,"ป้าย ต1-ต27+ต75,ต31-ต60+ต75",null,null,null,{"$f":"BX$621","v":0},null,null,null,null,50,"หมุดสะท้อนแสง(ทางเดียว)",null,null,null,{"$f":"DA$621","v":0}]
[null,null,22,"ป้าย ต1-ต27+ต76,ต31-ต60+ต76",null,null,null,{"$f":"BY$621","v":0},null,null,null,null,51,"หมุดสะท้อนแสง(สองทาง)",null,null,null,{"$f":"DB$621","v":0}]
[null,null,23,"ป้าย ต1-ต27+ต77,ต31-ต60+ต77",null,null,null,{"$f":"BZ$621","v":0},null,null,null,null,52,"RUMBLE STRIP",null,null,null,{"$f":"DC$621","v":7}]
[null,null,24,"ป้าย ต1-ต27+ต78,ต31-ต60+ต78",null,null,null,{"$f":"CA$621","v":0},null,null,null,null,53,"ทางม้าลาย",null,null,null,{"$f":"DD$621","v":0}]
[null,null,25,"ป้าย น1",null,null,null,{"$f":"CB$621","v":0},null,null,null,null,54,"สัญญาณไฟกระพริบ",null,null,null,{"$f":"DE$621","v":0}]
[null,null,26,"ป้าย น1/1",null,null,null,{"$f":"CC$621","v":0},null,null,null,null,55,"สัญญาณไฟกระพริบ + บ1",null,null,null,{"$f":"DF$621","v":2}]
[null,null,27,"ป้าย 1-น2",null,null,null,{"$f":"CD$621","v":0},null,null,null,null,56,"สัญญาณไฟกระพริบ + ต",null,null,null,{"$f":"DG$621","v":0}]
[null,null,28,"ป้าย 2-น2",null,null,null,{"$f":"CE$621","v":0},null,null,null,null,57,"หลักนำโค้ง +หลักบอกตำแหน่งท่อ คสล.",null,null,null,{"$f":"BackUp!L205+BackUp!N125+BackUp!M346","v":0}]
[null,null,29,"ป้าย 3-น2",null,null,null,{"$f":"CF$621","v":0}]
[null,"รายละเอียดเครื่องหมายจราจร"]
[null,null,"ที่","ตำแหน่ง\n(กม.)",null,"รายการ",null,null,null,"จำนวน",null,null,"รายละเอียด",null,null,null,"หมายเหตุ",null,null,null,null,null,null,null,null,null,null,null,null,null,null,null,null,null,null,null,null,null,null,null,null,null,null,null,null,null,null,null,null,null,null,null,null,null,null,"ป้าย"]
[null,null,null,null,null,null,null,null,null,null,null,null,null,null,null,null,null,null,null,null,null,null,null,null,null,null,null,null,null,null,null,null,null,null,null,null,null,null,null,null,null,null,null,null,null,null,null,null,null,null,null,null,null,null,null,"ป้าย บ1","ป้าย บ2","ป้าย บ3-บ55","ป้าย ต1-ต27,ต31-ต60,ต75","ป้าย ต28-ต30,ต62","ป้าย ต61","ป้าย ต63+ต66(1แผ่น)","ป้าย ต63+ต66(2แผ่น)","ป้าย ต64,ต67","ป้าย ต65,ต68,ต70","ป้าย ต69","ป้าย ต71","ป้าย ต72-ต73","ป้าย ต74","ป้าย ต76","ป้าย ต77","ป้าย ต78","ป้าย บ3-บ55+ต1-ต27,ต31-ต60","ป้าย ต1-ต27+ต73,ต31-ต60+ต73","ป้าย ต1-ต27+ต74,ต31-ต60+ต74","ป้าย ต1-ต27+ต75,ต31-ต60+ต75","ป้าย ต1-ต27+ต76,ต31-ต60+ต76","ป้าย ต1-ต27+ต77,ต31-ต60+ต77","ป้าย ต1-ต27+ต78,ต31-ต60+ต78","ป้าย น1","ป้าย น1/1","ป้าย 1-น2","ป้าย 2-น2","ป้าย 3-น2","ป้าย 1-น3","ป้าย 2-น3","ป้าย 3-น3","ป้าย น4","ป้าย น5","ป้าย น6","ป้าย น7","ป้าย น8","ป้าย นส1-นส14","ป้าย น1+นส1-นส14","ป้าย น1/1+นส1-นส14","ป้าย น1+นส1-นส14+น1+นส1-นส14","ป้าย น1+น1/1+นส1-นส14+นส14","ป้าย น1+น1/1(2ชิ้น)+นส1-นส14(3ชิ้น)","ป้าย กำหนดน้ำหนักบรรทุก","Guard Rail ทางตรง","Guard Rail ทางโค้ง/คอสะพาน","Timber Barricade","หลักกิโลเมตร","หลักเขตทาง","หมุดสะท้อนแสง(ทางเดียว)","หมุดสะท้อนแสง(สองทาง)","RUMBLE STRIP","ทางม้าลาย","ไฟกระพริบ","ไฟกระพริบ+บ1","ไฟกระพริบ+ต"]
[null,null,1,null,null,"ป้าย ต1-ต27,ต31-ต60,ต75",null,null,null,10,null,null,null,null,null,"ราคามาตรฐานเครื่องหมายจราจร",null,null,null,null,null,null,null,null,null,null,null,null,{"$f":"COUNTIF(M469:M477,\"ต-2\")","v":0},null,null,null,null,null,null,null,null,null,null,null,null,null,null,null,null,null,null,null,null,null,null,null,null,null,null,{"$f":"IF($BD$468=$F469,$J469,0)","v":0},{"$f":"IF($BE$468=$F469,$J469,0)","v":0},{"$f":"IF($BF$468=$F469,$J469,0)","v":0},{"$f":"IF($BG$468=$F469,$J469,0)","v":10},{"$f":"IF($BH$468=$F469,$J469,0)","v":0},{"$f":"IF($BI$468=$F469,$J469,0)","v":0},{"$f":"IF($BJ$468=$F469,$J469,0)","v":0},{"$f":"IF($BK$468=$F469,$J469,0)","v":0},{"$f":"IF($BL$468=$F469,$J469,0)","v":0},{"$f":"IF($BM$468=$F469,$J469,0)","v":0},{"$f":"IF($BN$468=$F469,$J469,0)","v":0},{"$f":"IF($BO$468=$F469,$J469,0)","v":0},{"$f":"IF($BP$468=$F469,$J469,0)","v":0},{"$f":"IF($BQ$468=$F469,$J469,0)","v":0},{"$f":"IF($BR$468=$F469,$J469,0)","v":0},{"$f":"IF($BS$468=$F469,$J469,0)","v":0},{"$f":"IF($BT$468=$F469,$J469,0)","v":0},{"$f":"IF($BU$468=$F469,$J469,0)","v":0},{"$f":"IF($BV$468=$F469,$J469,0)","v":0},{"$f":"IF($BW$468=$F469,$J469,0)","v":0},{"$f":"IF($BX$468=$F469,$J469,0)","v":0},{"$f":"IF($BY$468=$F469,$J469,0)","v":0},{"$f":"IF($BZ$468=$F469,$J469,0)","v":0},{"$f":"IF($CA$468=$F469,$J469,0)","v":0},{"$f":"IF($CB$468=$F469,$J469,0)","v":0},{"$f":"IF($CC$468=$F469,$J469,0)","v":0},{"$f":"IF($CD$468=$F469,$J469,0)","v":0},{"$f":"IF($CE$468=$F469,$J469,0)","v":0},{"$f":"IF($CF$468=$F469,$J469,0)","v":0},{"$f":"IF($CG$468=$F469,$J469,0)","v":0},{"$f":"IF($CH$468=$F469,$J469,0)","v":0},{"$f":"IF($CI$468=$F469,$J469,0)","v":0},{"$f":"IF($CJ$468=$F469,$J469,0)","v":0},{"$f":"IF($CK$468=$F469,$J469,0)","v":0},{"$f":"IF($CL$468=$F469,$J469,0)","v":0},{"$f":"IF($CM$468=$F469,$J469,0)","v":0},{"$f":"IF($CN$468=$F469,$J469,0)","v":0},{"$f":"IF($CO$468=$F469,$J469,0)","v":0},{"$f":"IF($CP$468=$F469,$J469,0)","v":0},{"$f":"IF($CQ$468=$F469,$J469,0)","v":0},{"$f":"IF($CR$468=$F469,$J469,0)","v":0},{"$f":"IF($CS$468=$F469,$J469,0)","v":0},{"$f":"IF($CT$468=$F469,$J469,0)","v":0},{"$f":"IF($CU$468=$F469,$J469,0)","v":0},{"$f":"IF($CV$468=$F469,$J469,0)","v":0},{"$f":"IF($CW$468=$F469,$J469,0)","v":0},{"$f":"IF($CX$468=$F469,$J469,0)","v":0},{"$f":"IF($CY$468=$F469,$J469,0)","v":0},{"$f":"IF($CZ$468=$F469,$J469,0)","v":0},{"$f":"IF($DA$468=$F469,$J469,0)","v":0},{"$f":"IF($DB$468=$F469,$J469,0)","v":0},{"$f":"IF($DC$468=$F469,$J469,0)","v":0},{"$f":"IF($DD$468=$F469,$J469,0)","v":0},{"$f":"IF($DE$468=$F469,$J469,0)","v":0},{"$f":"IF($DF$468=$F469,$J469,0)","v":0},{"$f":"IF($DG$468=$F469,$J469,0)","v":0}]
[null,null,{"$f":"IF(F470=0,0,MAX($C$469:C469)+1)","v":2},null,null,"RUMBLE STRIP",null,null,null,7,null,null,null,null,null,"สำนักสำรวจและออกแบบ",null,null,null,null,null,null,null,null,null,null,null,null,null,null,null,null,null,null,null,null,null,null,null,null,null,null,null,null,null,null,null,null,null,null,null,null,null,null,null,0,0,0,0,0,0,0,0,0,0,0,0,0,0,0,0,0,0,0,0,0,0,0,0,0,0,0,0,0,0,0,0,0,0,0,0,0,0,0,0,0,0,0,0,0,0,0,0,0,0,0,7,0,0,0,0]
[null,null,{"$f":"IF(F471=0,0,MAX($C$469:C470)+1)","v":3},null,null,"ไฟกระพริบ+บ1",null,null,null,2,null,null,null,null,null,"กลุ่มตรวจสอบแบบแปลนประมาณราคา",null,null,null,null,null,null,null,null,null,null,null,null,null,null,null,null,null,null,null,null,null,null,null,null,null,null,null,null,null,null,null,null,null,null,null,null,null,null,null,0,0,0,0,0,0,0,0,0,0,0,0,0,0,0,0,0,0,0,0,0,0,0,0,0,0,0,0,0,0,0,0,0,0,0,0,0,0,0,0,0,0,0,0,0,0,0,0,0,0,0,0,0,0,2,0]
[null,null,{"$f":"IF(F472=0,0,MAX($C$469:C471)+1)","v":0},null,null,null,null,null,null,null,null,null,null,null,null,"ที่ คค 0728.7/2 วันที่ 4 มกราคม 2559",null,null,null,null,null,null,null,null,null,null,null,null,null,null,null,null,null,null,null,null,null,null,null,null,null,null,null,null,null,null,null,null,null,null,null,null,null,null,null,0,0,0,0,0,0,0,0,0,0,0,0,0,0,0,0,0,0,0,0,0,0,0,0,0,0,0,0,0,0,0,0,0,0,0,0,0,0,0,0,0,0,0,0,0,0,0,0,0,0,0,0,0,0,0,0]
[null,null,{"$f":"IF(F473=0,0,MAX($C$469:C472)+1)","v":0},null,null,null,null,null,null,null,null,null,null,null,null,null,null,null,null,null,null,null,null,null,null,null,null,null,null,null,null,null,null,null,null,null,null,null,null,null,null,null,null,null,null,null,null,null,null,null,null,null,null,null,null,0,0,0,0,0,0,0,0,0,0,0,0,0,0,0,0,0,0,0,0,0,0,0,0,0,0,0,0,0,0,0,0,0,0,0,0,0,0,0,0,0,0,0,0,0,0,0,0,0,0,0,0,0,0,0,0]
[null,null,{"$f":"IF(F474=0,0,MAX($C$469:C473)+1)","v":0},null,null,null,null,null,null,null,null,null,null,null,null,null,null,null,null,null,null,null,null,null,null,null,null,null,null,null,null,null,null,null,null,null,null,null,null,null,null,null,null,null,null,null,null,null,null,null,null,null,null,null,null,0,0,0,0,0,0,0,0,0,0,0,0,0,0,0,0,0,0,0,0,0,0,0,0,0,0,0,0,0,0,0,0,0,0,0,0,0,0,0,0,0,0,0,0,0,0,0,0,0,0,0,0,0,0,0,0]
[null,null,{"$f":"IF(F475=0,0,MAX($C$469:C474)+1)","v":0},null,null,null,null,null,null,null,null,null,null,null,null,null,null,null,null,null,null,null,null,null,null,null,null,null,null,null,null,null,null,null,null,null,null,null,null,null,null,null,null,null,null,null,null,null,null,null,null,null,null,null,null,0,0,0,0,0,0,0,0,0,0,0,0,0,0,0,0,0,0,0,0,0,0,0,0,0,0,0,0,0,0,0,0,0,0,0,0,0,0,0,0,0,0,0,0,0,0,0,0,0,0,0,0,0,0,0,0]
[null,null,{"$f":"IF(F476=0,0,MAX($C$469:C475)+1)","v":0},null,null,null,null,null,null,null,null,null,null,null,null,null,null,null,null,null,null,null,null,null,null,null,null,null,null,null,null,null,null,null,null,null,null,null,null,null,null,null,null,null,null,null,null,null,null,null,null,null,null,null,null,0,0,0,0,0,0,0,0,0,0,0,0,0,0,0,0,0,0,0,0,0,0,0,0,0,0,0,0,0,0,0,0,0,0,0,0,0,0,0,0,0,0,0,0,0,0,0,0,0,0,0,0,0,0,0,0]
[null,null,{"$f":"IF(F477=0,0,MAX($C$469:C476)+1)","v":0},null,null,null,null,null,null,null,null,null,null,null,null,null,null,null,null,null,null,null,null,null,null,null,null,null,null,null,null,null,null,null,null,null,null,null,null,null,null,null,null,null,null,null,null,null,null,null,null,null,null,null,null,0,0,0,0,0,0,0,0,0,0,0,0,0,0,0,0,0,0,0,0,0,0,0,0,0,0,0,0,0,0,0,0,0,0,0,0,0,0,0,0,0,0,0,0,0,0,0,0,0,0,0,0,0,0,0,0]
[null,null,{"$f":"IF(F478=0,0,MAX($C$469:C477)+1)","v":0},null,null,null,null,null,null,null,null,null,null,null,null,null,null,null,null,null,null,null,null,null,null,null,null,null,null,null,null,null,null,null,null,null,null,null,null,null,null,null,null,null,null,null,null,null,null,null,null,null,null,null,null,0,0,0,0,0,0,0,0,0,0,0,0,0,0,0,0,0,0,0,0,0,0,0,0,0,0,0,0,0,0,0,0,0,0,0,0,0,0,0,0,0,0,0,0,0,0,0,0,0,0,0,0,0,0,0,0]
[null,null,{"$f":"IF(F479=0,0,MAX($C$469:C478)+1)","v":0},null,null,null,null,null,null,null,null,null,null,null,null,null,null,null,null,null,null,null,null,null,null,null,null,null,null,null,null,null,null,null,null,null,null,null,null,null,null,null,null,null,null,null,null,null,null,null,null,null,null,null,null,0,0,0,0,0,0,0,0,0,0,0,0,0,0,0,0,0,0,0,0,0,0,0,0,0,0,0,0,0,0,0,0,0,0,0,0,0,0,0,0,0,0,0,0,0,0,0,0,0,0,0,0,0,0,0,0]
[null,null,{"$f":"IF(F480=0,0,MAX($C$469:C479)+1)","v":0},null,null,null,null,null,null,null,null,null,null,null,null,null,null,null,null,null,null,null,null,null,null,null,null,null,null,null,null,null,null,null,null,null,null,null,null,null,null,null,null,null,null,null,null,null,null,null,null,null,null,null,null,0,0,0,0,0,0,0,0,0,0,0,0,0,0,0,0,0,0,0,0,0,0,0,0,0,0,0,0,0,0,0,0,0,0,0,0,0,0,0,0,0,0,0,0,0,0,0,0,0,0,0,0,0,0,0,0]
[null,null,{"$f":"IF(F481=0,0,MAX($C$469:C480)+1)","v":0},null,null,null,null,null,null,null,null,null,null,null,null,null,null,null,null,null,null,null,null,null,null,null,null,null,null,null,null,null,null,null,null,null,null,null,null,null,null,null,null,null,null,null,null,null,null,null,null,null,null,null,null,0,0,0,0,0,0,0,0,0,0,0,0,0,0,0,0,0,0,0,0,0,0,0,0,0,0,0,0,0,0,0,0,0,0,0,0,0,0,0,0,0,0,0,0,0,0,0,0,0,0,0,0,0,0,0,0]
[null,null,{"$f":"IF(F482=0,0,MAX($C$469:C481)+1)","v":0},null,null,null,null,null,null,null,null,null,null,null,null,null,null,null,null,null,null,null,null,null,null,null,null,null,null,null,null,null,null,null,null,null,null,null,null,null,null,null,null,null,null,null,null,null,null,null,null,null,null,null,null,0,0,0,0,0,0,0,0,0,0,0,0,0,0,0,0,0,0,0,0,0,0,0,0,0,0,0,0,0,0,0,0,0,0,0,0,0,0,0,0,0,0,0,0,0,0,0,0,0,0,0,0,0,0,0,0]
[null,null,{"$f":"IF(F483=0,0,MAX($C$469:C482)+1)","v":0},null,null,null,null,null,null,null,null,null,null,null,null,null,null,null,null,null,null,null,null,null,null,null,null,null,null,null,null,null,null,null,null,null,null,null,null,null,null,null,null,null,null,null,null,null,null,null,null,null,null,null,null,0,0,0,0,0,0,0,0,0,0,0,0,0,0,0,0,0,0,0,0,0,0,0,0,0,0,0,0,0,0,0,0,0,0,0,0,0,0,0,0,0,0,0,0,0,0,0,0,0,0,0,0,0,0,0,0]
[null,null,{"$f":"IF(F484=0,0,MAX($C$469:C483)+1)","v":0},null,null,null,null,null,null,null,null,null,null,null,null,null,null,null,null,null,null,null,null,null,null,null,null,null,null,null,null,null,null,null,null,null,null,null,null,null,null,null,null,null,null,null,null,null,null,null,null,null,null,null,null,0,0,0,0,0,0,0,0,0,0,0,0,0,0,0,0,0,0,0,0,0,0,0,0,0,0,0,0,0,0,0,0,0,0,0,0,0,0,0,0,0,0,0,0,0,0,0,0,0,0,0,0,0,0,0,0]
[null,null,{"$f":"IF(F485=0,0,MAX($C$469:C484)+1)","v":0},null,null,null,null,null,null,null,null,null,null,null,null,null,null,null,null,null,null,null,null,null,null,null,null,null,null,null,null,null,null,null,null,null,null,null,null,null,null,null,null,null,null,null,null,null,null,null,null,null,null,null,null,0,0,0,0,0,0,0,0,0,0,0,0,0,0,0,0,0,0,0,0,0,0,0,0,0,0,0,0,0,0,0,0,0,0,0,0,0,0,0,0,0,0,0,0,0,0,0,0,0,0,0,0,0,0,0,0]
[null,null,{"$f":"IF(F486=0,0,MAX($C$469:C485)+1)","v":0},null,null,null,null,null,null,null,null,null,null,null,null,null,null,null,null,null,null,null,null,null,null,null,null,null,null,null,null,null,null,null,null,null,null,null,null,null,null,null,null,null,null,null,null,null,null,null,null,null,null,null,null,0,0,0,0,0,0,0,0,0,0,0,0,0,0,0,0,0,0,0,0,0,0,0,0,0,0,0,0,0,0,0,0,0,0,0,0,0,0,0,0,0,0,0,0,0,0,0,0,0,0,0,0,0,0,0,0]
[null,null,{"$f":"IF(F487=0,0,MAX($C$469:C486)+1)","v":0},null,null,null,null,null,null,null,null,null,null,null,null,null,null,null,null,null,null,null,null,null,null,null,null,null,null,null,null,null,null,null,null,null,null,null,null,null,null,null,null,null,null,null,null,null,null,null,null,null,null,null,null,0,0,0,0,0,0,0,0,0,0,0,0,0,0,0,0,0,0,0,0,0,0,0,0,0,0,0,0,0,0,0,0,0,0,0,0,0,0,0,0,0,0,0,0,0,0,0,0,0,0,0,0,0,0,0,0]
[null,null,{"$f":"IF(F488=0,0,MAX($C$469:C487)+1)","v":0},null,null,null,null,null,null,null,null,null,null,null,null,null,null,null,null,null,null,null,null,null,null,null,null,null,null,null,null,null,null,null,null,null,null,null,null,null,null,null,null,null,null,null,null,null,null,null,null,null,null,null,null,0,0,0,0,0,0,0,0,0,0,0,0,0,0,0,0,0,0,0,0,0,0,0,0,0,0,0,0,0,0,0,0,0,0,0,0,0,0,0,0,0,0,0,0,0,0,0,0,0,0,0,0,0,0,0,0]
[null,null,{"$f":"IF(F489=0,0,MAX($C$469:C488)+1)","v":0},null,null,null,null,null,null,null,null,null,null,null,null,null,null,null,null,null,null,null,null,null,null,null,null,null,null,null,null,null,null,null,null,null,null,null,null,null,null,null,null,null,null,null,null,null,null,null,null,null,null,null,null,0,0,0,0,0,0,0,0,0,0,0,0,0,0,0,0,0,0,0,0,0,0,0,0,0,0,0,0,0,0,0,0,0,0,0,0,0,0,0,0,0,0,0,0,0,0,0,0,0,0,0,0,0,0,0,0]
[null,null,{"$f":"IF(F490=0,0,MAX($C$469:C489)+1)","v":0},null,null,null,null,null,null,null,null,null,null,null,null,null,null,null,null,null,null,null,null,null,null,null,null,null,null,null,null,null,null,null,null,null,null,null,null,null,null,null,null,null,null,null,null,null,null,null,null,null,null,null,null,0,0,0,0,0,0,0,0,0,0,0,0,0,0,0,0,0,0,0,0,0,0,0,0,0,0,0,0,0,0,0,0,0,0,0,0,0,0,0,0,0,0,0,0,0,0,0,0,0,0,0,0,0,0,0,0]
[null,null,{"$f":"IF(F491=0,0,MAX($C$469:C490)+1)","v":0},null,null,null,null,null,null,null,null,null,null,null,null,null,null,null,null,null,null,null,null,null,null,null,null,null,null,null,null,null,null,null,null,null,null,null,null,null,null,null,null,null,null,null,null,null,null,null,null,null,null,null,null,0,0,0,0,0,0,0,0,0,0,0,0,0,0,0,0,0,0,0,0,0,0,0,0,0,0,0,0,0,0,0,0,0,0,0,0,0,0,0,0,0,0,0,0,0,0,0,0,0,0,0,0,0,0,0,0]
[null,null,{"$f":"IF(F492=0,0,MAX($C$469:C491)+1)","v":0},null,null,null,null,null,null,null,null,null,null,null,null,null,null,null,null,null,null,null,null,null,null,null,null,null,null,null,null,null,null,null,null,null,null,null,null,null,null,null,null,null,null,null,null,null,null,null,null,null,null,null,null,0,0,0,0,0,0,0,0,0,0,0,0,0,0,0,0,0,0,0,0,0,0,0,0,0,0,0,0,0,0,0,0,0,0,0,0,0,0,0,0,0,0,0,0,0,0,0,0,0,0,0,0,0,0,0,0]
[null,null,{"$f":"IF(F493=0,0,MAX($C$469:C492)+1)","v":0},null,null,null,null,null,null,null,null,null,null,null,null,null,null,null,null,null,null,null,null,null,null,null,null,null,null,null,null,null,null,null,null,null,null,null,null,null,null,null,null,null,null,null,null,null,null,null,null,null,null,null,null,0,0,0,0,0,0,0,0,0,0,0,0,0,0,0,0,0,0,0,0,0,0,0,0,0,0,0,0,0,0,0,0,0,0,0,0,0,0,0,0,0,0,0,0,0,0,0,0,0,0,0,0,0,0,0,0]
[null,null,{"$f":"IF(F494=0,0,MAX($C$469:C493)+1)","v":0},null,null,null,null,null,null,null,null,null,null,null,null,null,null,null,null,null,null,null,null,null,null,null,null,null,null,null,null,null,null,null,null,null,null,null,null,null,null,null,null,null,null,null,null,null,null,null,null,null,null,null,null,0,0,0,0,0,0,0,0,0,0,0,0,0,0,0,0,0,0,0,0,0,0,0,0,0,0,0,0,0,0,0,0,0,0,0,0,0,0,0,0,0,0,0,0,0,0,0,0,0,0,0,0,0,0,0,0]
[null,null,{"$f":"IF(F495=0,0,MAX($C$469:C494)+1)","v":0},null,null,null,null,null,null,null,null,null,null,null,null,null,null,null,null,null,null,null,null,null,null,null,null,null,null,null,null,null,null,null,null,null,null,null,null,null,null,null,null,null,null,null,null,null,null,null,null,null,null,null,null,0,0,0,0,0,0,0,0,0,0,0,0,0,0,0,0,0,0,0,0,0,0,0,0,0,0,0,0,0,0,0,0,0,0,0,0,0,0,0,0,0,0,0,0,0,0,0,0,0,0,0,0,0,0,0,0]
[null,null,{"$f":"IF(F496=0,0,MAX($C$469:C495)+1)","v":0},null,null,null,null,null,null,null,null,null,null,null,null,null,null,null,null,null,null,null,null,null,null,null,null,null,null,null,null,null,null,null,null,null,null,null,null,null,null,null,null,null,null,null,null,null,null,null,null,null,null,null,null,0,0,0,0,0,0,0,0,0,0,0,0,0,0,0,0,0,0,0,0,0,0,0,0,0,0,0,0,0,0,0,0,0,0,0,0,0,0,0,0,0,0,0,0,0,0,0,0,0,0,0,0,0,0,0,0]
[null,null,{"$f":"IF(F497=0,0,MAX($C$469:C496)+1)","v":0},null,null,null,null,null,null,null,null,null,null,null,null,null,null,null,null,null,null,null,null,null,null,null,null,null,null,null,null,null,null,null,null,null,null,null,null,null,null,null,null,null,null,null,null,null,null,null,null,null,null,null,null,0,0,0,0,0,0,0,0,0,0,0,0,0,0,0,0,0,0,0,0,0,0,0,0,0,0,0,0,0,0,0,0,0,0,0,0,0,0,0,0,0,0,0,0,0,0,0,0,0,0,0,0,0,0,0,0]
[null,null,{"$f":"IF(F498=0,0,MAX($C$469:C497)+1)","v":0},null,null,null,null,null,null,null,null,null,null,null,null,null,null,null,null,null,null,null,null,null,null,null,null,null,null,null,null,null,null,null,null,null,null,null,null,null,null,null,null,null,null,null,null,null,null,null,null,null,null,null,null,0,0,0,0,0,0,0,0,0,0,0,0,0,0,0,0,0,0,0,0,0,0,0,0,0,0,0,0,0,0,0,0,0,0,0,0,0,0,0,0,0,0,0,0,0,0,0,0,0,0,0,0,0,0,0,0]
[null,null,{"$f":"IF(F499=0,0,MAX($C$469:C498)+1)","v":0},null,null,null,null,null,null,null,null,null,null,null,null,null,null,null,null,null,null,null,null,null,null,null,null,null,null,null,null,null,null,null,null,null,null,null,null,null,null,null,null,null,null,null,null,null,null,null,null,null,null,null,null,0,0,0,0,0,0,0,0,0,0,0,0,0,0,0,0,0,0,0,0,0,0,0,0,0,0,0,0,0,0,0,0,0,0,0,0,0,0,0,0,0,0,0,0,0,0,0,0,0,0,0,0,0,0,0,0]
[null,null,{"$f":"IF(F500=0,0,MAX($C$469:C499)+1)","v":0},null,null,null,null,null,null,null,null,null,null,null,null,null,null,null,null,null,null,null,null,null,null,null,null,null,null,null,null,null,null,null,null,null,null,null,null,null,null,null,null,null,null,null,null,null,null,null,null,null,null,null,null,0,0,0,0,0,0,0,0,0,0,0,0,0,0,0,0,0,0,0,0,0,0,0,0,0,0,0,0,0,0,0,0,0,0,0,0,0,0,0,0,0,0,0,0,0,0,0,0,0,0,0,0,0,0,0,0]
[null,null,{"$f":"IF(F501=0,0,MAX($C$469:C500)+1)","v":0},null,null,null,null,null,null,null,null,null,null,null,null,null,null,null,null,null,null,null,null,null,null,null,null,null,null,null,null,null,null,null,null,null,null,null,null,null,null,null,null,null,null,null,null,null,null,null,null,null,null,null,null,{"$f":"IF($BD$468=$F501,$J501,0)","v":0},{"$f":"IF($BE$468=$F501,$J501,0)","v":0},{"$f":"IF($BF$468=$F501,$J501,0)","v":0},{"$f":"IF($BG$468=$F501,$J501,0)","v":0},{"$f":"IF($BH$468=$F501,$J501,0)","v":0},{"$f":"IF($BI$468=$F501,$J501,0)","v":0},{"$f":"IF($BJ$468=$F501,$J501,0)","v":0},{"$f":"IF($BK$468=$F501,$J501,0)","v":0},{"$f":"IF($BL$468=$F501,$J501,0)","v":0},{"$f":"IF($BM$468=$F501,$J501,0)","v":0},{"$f":"IF($BN$468=$F501,$J501,0)","v":0},{"$f":"IF($BO$468=$F501,$J501,0)","v":0},{"$f":"IF($BP$468=$F501,$J501,0)","v":0},{"$f":"IF($BQ$468=$F501,$J501,0)","v":0},{"$f":"IF($BR$468=$F501,$J501,0)","v":0},{"$f":"IF($BS$468=$F501,$J501,0)","v":0},{"$f":"IF($BT$468=$F501,$J501,0)","v":0},{"$f":"IF($BU$468=$F501,$J501,0)","v":0},{"$f":"IF($BV$468=$F501,$J501,0)","v":0},{"$f":"IF($BW$468=$F501,$J501,0)","v":0},{"$f":"IF($BX$468=$F501,$J501,0)","v":0},{"$f":"IF($BY$468=$F501,$J501,0)","v":0},{"$f":"IF($BZ$468=$F501,$J501,0)","v":0},{"$f":"IF($CA$468=$F501,$J501,0)","v":0},{"$f":"IF($CB$468=$F501,$J501,0)","v":0},{"$f":"IF($CC$468=$F501,$J501,0)","v":0},{"$f":"IF($CD$468=$F501,$J501,0)","v":0},{"$f":"IF($CE$468=$F501,$J501,0)","v":0},{"$f":"IF($CF$468=$F501,$J501,0)","v":0},{"$f":"IF($CG$468=$F501,$J501,0)","v":0},{"$f":"IF($CH$468=$F501,$J501,0)","v":0},{"$f":"IF($CI$468=$F501,$J501,0)","v":0},{"$f":"IF($CJ$468=$F501,$J501,0)","v":0},{"$f":"IF($CK$468=$F501,$J501,0)","v":0},{"$f":"IF($CL$468=$F501,$J501,0)","v":0},{"$f":"IF($CM$468=$F501,$J501,0)","v":0},{"$f":"IF($CN$468=$F501,$J501,0)","v":0},{"$f":"IF($CO$468=$F501,$J501,0)","v":0},{"$f":"IF($CP$468=$F501,$J501,0)","v":0},{"$f":"IF($CQ$468=$F501,$J501,0)","v":0},{"$f":"IF($CR$468=$F501,$J501,0)","v":0},{"$f":"IF($CS$468=$F501,$J501,0)","v":0},{"$f":"IF($CT$468=$F501,$J501,0)","v":0},{"$f":"IF($CU$468=$F501,$J501,0)","v":0},{"$f":"IF($CV$468=$F501,$J501,0)","v":0},{"$f":"IF($CW$468=$F501,$J501,0)","v":0},{"$f":"IF($CX$468=$F501,$J501,0)","v":0},{"$f":"IF($CY$468=$F501,$J501,0)","v":0},{"$f":"IF($CZ$468=$F501,$J501,0)","v":0},{"$f":"IF($DA$468=$F501,$J501,0)","v":0},{"$f":"IF($DB$468=$F501,$J501,0)","v":0},{"$f":"IF($DC$468=$F501,$J501,0)","v":0},{"$f":"IF($DD$468=$F501,$J501,0)","v":0},{"$f":"IF($DE$468=$F501,$J501,0)","v":0},{"$f":"IF($DF$468=$F501,$J501,0)","v":0},{"$f":"IF($DG$468=$F501,$J501,0)","v":0}]
[null,null,{"$f":"IF(F502=0,0,MAX($C$469:C501)+1)","v":0},null,null,null,null,null,null,null,null,null,null,null,null,null,null,null,null,null,null,null,null,null,null,null,null,null,null,null,null,null,null,null,null,null,null,null,null,null,null,null,null,null,null,null,null,null,null,null,null,null,null,null,null,0,0,0,0,0,0,0,0,0,0,0,0,0,0,0,0,0,0,0,0,0,0,0,0,0,0,0,0,0,0,0,0,0,0,0,0,0,0,0,0,0,0,0,0,0,0,0,0,0,0,0,0,0,0,0,0]
[null,null,{"$f":"IF(F503=0,0,MAX($C$469:C502)+1)","v":0},null,null,null,null,null,null,null,null,null,null,null,null,null,null,null,null,null,null,null,null,null,null,null,null,null,null,null,null,null,null,null,null,null,null,null,null,null,null,null,null,null,null,null,null,null,null,null,null,null,null,null,null,0,0,0,0,0,0,0,0,0,0,0,0,0,0,0,0,0,0,0,0,0,0,0,0,0,0,0,0,0,0,0,0,0,0,0,0,0,0,0,0,0,0,0,0,0,0,0,0,0,0,0,0,0,0,0,0]
[null,null,{"$f":"IF(F504=0,0,MAX($C$469:C503)+1)","v":0},null,null,null,null,null,null,null,null,null,null,null,null,null,null,null,null,null,null,null,null,null,null,null,null,null,null,null,null,null,null,null,null,null,null,null,null,null,null,null,null,null,null,null,null,null,null,null,null,null,null,null,null,0,0,0,0,0,0,0,0,0,0,0,0,0,0,0,0,0,0,0,0,0,0,0,0,0,0,0,0,0,0,0,0,0,0,0,0,0,0,0,0,0,0,0,0,0,0,0,0,0,0,0,0,0,0,0,0]
[null,null,{"$f":"IF(F505=0,0,MAX($C$469:C504)+1)","v":0},null,null,null,null,null,null,null,null,null,null,null,null,null,null,null,null,null,null,null,null,null,null,null,null,null,null,null,null,null,null,null,null,null,null,null,null,null,null,null,null,null,null,null,null,null,null,null,null,null,null,null,null,0,0,0,0,0,0,0,0,0,0,0,0,0,0,0,0,0,0,0,0,0,0,0,0,0,0,0,0,0,0,0,0,0,0,0,0,0,0,0,0,0,0,0,0,0,0,0,0,0,0,0,0,0,0,0,0]
[null,null,{"$f":"IF(F506=0,0,MAX($C$469:C505)+1)","v":0},null,null,null,null,null,null,null,null,null,null,null,null,null,null,null,null,null,null,null,null,null,null,null,null,null,null,null,null,null,null,null,null,null,null,null,null,null,null,null,null,null,null,null,null,null,null,null,null,null,null,null,null,{"$f":"IF($BD$468=$F506,$J506,0)","v":0},{"$f":"IF($BE$468=$F506,$J506,0)","v":0},{"$f":"IF($BF$468=$F506,$J506,0)","v":0},{"$f":"IF($BG$468=$F506,$J506,0)","v":0},{"$f":"IF($BH$468=$F506,$J506,0)","v":0},{"$f":"IF($BI$468=$F506,$J506,0)","v":0},{"$f":"IF($BJ$468=$F506,$J506,0)","v":0},{"$f":"IF($BK$468=$F506,$J506,0)","v":0},{"$f":"IF($BL$468=$F506,$J506,0)","v":0},{"$f":"IF($BM$468=$F506,$J506,0)","v":0},{"$f":"IF($BN$468=$F506,$J506,0)","v":0},{"$f":"IF($BO$468=$F506,$J506,0)","v":0},{"$f":"IF($BP$468=$F506,$J506,0)","v":0},{"$f":"IF($BQ$468=$F506,$J506,0)","v":0},{"$f":"IF($BR$468=$F506,$J506,0)","v":0},{"$f":"IF($BS$468=$F506,$J506,0)","v":0},{"$f":"IF($BT$468=$F506,$J506,0)","v":0},{"$f":"IF($BU$468=$F506,$J506,0)","v":0},{"$f":"IF($BV$468=$F506,$J506,0)","v":0},{"$f":"IF($BW$468=$F506,$J506,0)","v":0},{"$f":"IF($BX$468=$F506,$J506,0)","v":0},{"$f":"IF($BY$468=$F506,$J506,0)","v":0},{"$f":"IF($BZ$468=$F506,$J506,0)","v":0},{"$f":"IF($CA$468=$F506,$J506,0)","v":0},{"$f":"IF($CB$468=$F506,$J506,0)","v":0},{"$f":"IF($CC$468=$F506,$J506,0)","v":0},{"$f":"IF($CD$468=$F506,$J506,0)","v":0},{"$f":"IF($CE$468=$F506,$J506,0)","v":0},{"$f":"IF($CF$468=$F506,$J506,0)","v":0},{"$f":"IF($CG$468=$F506,$J506,0)","v":0},{"$f":"IF($CH$468=$F506,$J506,0)","v":0},{"$f":"IF($CI$468=$F506,$J506,0)","v":0},{"$f":"IF($CJ$468=$F506,$J506,0)","v":0},{"$f":"IF($CK$468=$F506,$J506,0)","v":0},{"$f":"IF($CL$468=$F506,$J506,0)","v":0},{"$f":"IF($CM$468=$F506,$J506,0)","v":0},{"$f":"IF($CN$468=$F506,$J506,0)","v":0},{"$f":"IF($CO$468=$F506,$J506,0)","v":0},{"$f":"IF($CP$468=$F506,$J506,0)","v":0},{"$f":"IF($CQ$468=$F506,$J506,0)","v":0},{"$f":"IF($CR$468=$F506,$J506,0)","v":0},{"$f":"IF($CS$468=$F506,$J506,0)","v":0},{"$f":"IF($CT$468=$F506,$J506,0)","v":0},{"$f":"IF($CU$468=$F506,$J506,0)","v":0},{"$f":"IF($CV$468=$F506,$J506,0)","v":0},{"$f":"IF($CW$468=$F506,$J506,0)","v":0},{"$f":"IF($CX$468=$F506,$J506,0)","v":0},{"$f":"IF($CY$468=$F506,$J506,0)","v":0},{"$f":"IF($CZ$468=$F506,$J506,0)","v":0},{"$f":"IF($DA$468=$F506,$J506,0)","v":0},{"$f":"IF($DB$468=$F506,$J506,0)","v":0},{"$f":"IF($DC$468=$F506,$J506,0)","v":0},{"$f":"IF($DD$468=$F506,$J506,0)","v":0},{"$f":"IF($DE$468=$F506,$J506,0)","v":0},{"$f":"IF($DF$468=$F506,$J506,0)","v":0},{"$f":"IF($DG$468=$F506,$J506,0)","v":0}]
[null,null,{"$f":"IF(F507=0,0,MAX($C$469:C506)+1)","v":0},null,null,null,null,null,null,null,null,null,null,null,null,null,null,null,null,null,null,null,null,null,null,null,null,null,null,null,null,null,null,null,null,null,null,null,null,null,null,null,null,null,null,null,null,null,null,null,null,null,null,null,null,{"$f":"IF($BD$468=$F507,$J507,0)","v":0},{"$f":"IF($BE$468=$F507,$J507,0)","v":0},{"$f":"IF($BF$468=$F507,$J507,0)","v":0},{"$f":"IF($BG$468=$F507,$J507,0)","v":0},{"$f":"IF($BH$468=$F507,$J507,0)","v":0},{"$f":"IF($BI$468=$F507,$J507,0)","v":0},{"$f":"IF($BJ$468=$F507,$J507,0)","v":0},{"$f":"IF($BK$468=$F507,$J507,0)","v":0},{"$f":"IF($BL$468=$F507,$J507,0)","v":0},{"$f":"IF($BM$468=$F507,$J507,0)","v":0},{"$f":"IF($BN$468=$F507,$J507,0)","v":0},{"$f":"IF($BO$468=$F507,$J507,0)","v":0},{"$f":"IF($BP$468=$F507,$J507,0)","v":0},{"$f":"IF($BQ$468=$F507,$J507,0)","v":0},{"$f":"IF($BR$468=$F507,$J507,0)","v":0},{"$f":"IF($BS$468=$F507,$J507,0)","v":0},{"$f":"IF($BT$468=$F507,$J507,0)","v":0},{"$f":"IF($BU$468=$F507,$J507,0)","v":0},{"$f":"IF($BV$468=$F507,$J507,0)","v":0},{"$f":"IF($BW$468=$F507,$J507,0)","v":0},{"$f":"IF($BX$468=$F507,$J507,0)","v":0},{"$f":"IF($BY$468=$F507,$J507,0)","v":0},{"$f":"IF($BZ$468=$F507,$J507,0)","v":0},{"$f":"IF($CA$468=$F507,$J507,0)","v":0},{"$f":"IF($CB$468=$F507,$J507,0)","v":0},{"$f":"IF($CC$468=$F507,$J507,0)","v":0},{"$f":"IF($CD$468=$F507,$J507,0)","v":0},{"$f":"IF($CE$468=$F507,$J507,0)","v":0},{"$f":"IF($CF$468=$F507,$J507,0)","v":0},{"$f":"IF($CG$468=$F507,$J507,0)","v":0},{"$f":"IF($CH$468=$F507,$J507,0)","v":0},{"$f":"IF($CI$468=$F507,$J507,0)","v":0},{"$f":"IF($CJ$468=$F507,$J507,0)","v":0},{"$f":"IF($CK$468=$F507,$J507,0)","v":0},{"$f":"IF($CL$468=$F507,$J507,0)","v":0},{"$f":"IF($CM$468=$F507,$J507,0)","v":0},{"$f":"IF($CN$468=$F507,$J507,0)","v":0},{"$f":"IF($CO$468=$F507,$J507,0)","v":0},{"$f":"IF($CP$468=$F507,$J507,0)","v":0},{"$f":"IF($CQ$468=$F507,$J507,0)","v":0},{"$f":"IF($CR$468=$F507,$J507,0)","v":0},{"$f":"IF($CS$468=$F507,$J507,0)","v":0},{"$f":"IF($CT$468=$F507,$J507,0)","v":0},{"$f":"IF($CU$468=$F507,$J507,0)","v":0},{"$f":"IF($CV$468=$F507,$J507,0)","v":0},{"$f":"IF($CW$468=$F507,$J507,0)","v":0},{"$f":"IF($CX$468=$F507,$J507,0)","v":0},{"$f":"IF($CY$468=$F507,$J507,0)","v":0},{"$f":"IF($CZ$468=$F507,$J507,0)","v":0},{"$f":"IF($DA$468=$F507,$J507,0)","v":0},{"$f":"IF($DB$468=$F507,$J507,0)","v":0},{"$f":"IF($DC$468=$F507,$J507,0)","v":0},{"$f":"IF($DD$468=$F507,$J507,0)","v":0},{"$f":"IF($DE$468=$F507,$J507,0)","v":0},{"$f":"IF($DF$468=$F507,$J507,0)","v":0},{"$f":"IF($DG$468=$F507,$J507,0)","v":0}]
[null,null,{"$f":"IF(F508=0,0,MAX($C$469:C507)+1)","v":0},null,null,null,null,null,null,null,null,null,null,null,null,null,null,null,null,null,null,null,null,null,null,null,null,null,null,null,null,null,null,null,null,null,null,null,null,null,null,null,null,null,null,null,null,null,null,null,null,null,null,null,null,0,0,0,0,0,0,0,0,0,0,0,0,0,0,0,0,0,0,0,0,0,0,0,0,0,0,0,0,0,0,0,0,0,0,0,0,0,0,0,0,0,0,0,0,0,0,0,0,0,0,0,0,0,0,0,0]
[null,null,{"$f":"IF(F509=0,0,MAX($C$469:C508)+1)","v":0},null,null,null,null,null,null,null,null,null,null,null,null,null,null,null,null,null,null,null,null,null,null,null,null,null,null,null,null,null,null,null,null,null,null,null,null,null,null,null,null,null,null,null,null,null,null,null,null,null,null,null,null,0,0,0,0,0,0,0,0,0,0,0,0,0,0,0,0,0,0,0,0,0,0,0,0,0,0,0,0,0,0,0,0,0,0,0,0,0,0,0,0,0,0,0,0,0,0,0,0,0,0,0,0,0,0,0,0]
[null,null,{"$f":"IF(F510=0,0,MAX($C$469:C509)+1)","v":0},null,null,null,null,null,null,null,null,null,null,null,null,null,null,null,null,null,null,null,null,null,null,null,null,null,null,null,null,null,null,null,null,null,null,null,null,null,null,null,null,null,null,null,null,null,null,null,null,null,null,null,null,0,0,0,0,0,0,0,0,0,0,0,0,0,0,0,0,0,0,0,0,0,0,0,0,0,0,0,0,0,0,0,0,0,0,0,0,0,0,0,0,0,0,0,0,0,0,0,0,0,0,0,0,0,0,0,0]
[null,null,{"$f":"IF(F511=0,0,MAX($C$469:C510)+1)","v":0},null,null,null,null,null,null,null,null,null,null,null,null,null,null,null,null,null,null,null,null,null,null,null,null,null,null,null,null,null,null,null,null,null,null,null,null,null,null,null,null,null,null,null,null,null,null,null,null,null,null,null,null,0,0,0,0,0,0,0,0,0,0,0,0,0,0,0,0,0,0,0,0,0,0,0,0,0,0,0,0,0,0,0,0,0,0,0,0,0,0,0,0,0,0,0,0,0,0,0,0,0,0,0,0,0,0,0,0]
[null,null,{"$f":"IF(F512=0,0,MAX($C$469:C511)+1)","v":0},null,null,null,null,null,null,null,null,null,null,null,null,null,null,null,null,null,null,null,null,null,null,null,null,null,null,null,null,null,null,null,null,null,null,null,null,null,null,null,null,null,null,null,null,null,null,null,null,null,null,null,null,0,0,0,0,0,0,0,0,0,0,0,0,0,0,0,0,0,0,0,0,0,0,0,0,0,0,0,0,0,0,0,0,0,0,0,0,0,0,0,0,0,0,0,0,0,0,0,0,0,0,0,0,0,0,0,0]
[null,null,{"$f":"IF(F513=0,0,MAX($C$469:C512)+1)","v":0},null,null,null,null,null,null,null,null,null,null,null,null,null,null,null,null,null,null,null,null,null,null,null,null,null,null,null,null,null,null,null,null,null,null,null,null,null,null,null,null,null,null,null,null,null,null,null,null,null,null,null,null,0,0,0,0,0,0,0,0,0,0,0,0,0,0,0,0,0,0,0,0,0,0,0,0,0,0,0,0,0,0,0,0,0,0,0,0,0,0,0,0,0,0,0,0,0,0,0,0,0,0,0,0,0,0,0,0]
[null,null,{"$f":"IF(F514=0,0,MAX($C$469:C513)+1)","v":0},null,null,null,null,null,null,null,null,null,null,null,null,null,null,null,null,null,null,null,null,null,null,null,null,null,null,null,null,null,null,null,null,null,null,null,null,null,null,null,null,null,null,null,null,null,null,null,null,null,null,null,null,0,0,0,0,0,0,0,0,0,0,0,0,0,0,0,0,0,0,0,0,0,0,0,0,0,0,0,0,0,0,0,0,0,0,0,0,0,0,0,0,0,0,0,0,0,0,0,0,0,0,0,0,0,0,0,0]
[null,null,{"$f":"IF(F515=0,0,MAX($C$469:C514)+1)","v":0},null,null,null,null,null,null,null,null,null,null,null,null,null,null,null,null,null,null,null,null,null,null,null,null,null,null,null,null,null,null,null,null,null,null,null,null,null,null,null,null,null,null,null,null,null,null,null,null,null,null,null,null,0,0,0,0,0,0,0,0,0,0,0,0,0,0,0,0,0,0,0,0,0,0,0,0,0,0,0,0,0,0,0,0,0,0,0,0,0,0,0,0,0,0,0,0,0,0,0,0,0,0,0,0,0,0,0,0]
[null,null,{"$f":"IF(F516=0,0,MAX($C$469:C515)+1)","v":0},null,null,null,null,null,null,null,null,null,null,null,null,null,null,null,null,null,null,null,null,null,null,null,null,null,null,null,null,null,null,null,null,null,null,null,null,null,null,null,null,null,null,null,null,null,null,null,null,null,null,null,null,0,0,0,0,0,0,0,0,0,0,0,0,0,0,0,0,0,0,0,0,0,0,0,0,0,0,0,0,0,0,0,0,0,0,0,0,0,0,0,0,0,0,0,0,0,0,0,0,0,0,0,0,0,0,0,0]
[{"$f":"SUM(C469:C516)","v":6},null,null,"                รวม",null,null,{"$f":"COUNTA(F469:G516)&\" รายการ\"","v":"3 รายการ"},null,null,null,null,null,null,null,null,null,null,null,null,null,null,null,null,null,null,null,null,null,null,null,null,null,null,null,null,null,null,null,null,null,null,null,null,null,null,null,null,null,null,null,null,null,null,null,null,0,0,0,0,0,0,0,0,0,0,0,0,0,0,0,0,0,0,0,0,0,0,0,0,0,0,0,0,0,0,0,0,0,0,0,0,0,0,0,0,0,0,0,0,0,0,0,0,0,0,0,0,0,0,0,0]
[null,"รายละเอียดเครื่องหมายจราจร (ต่อ)",null,null,null,null,null,null,null,null,null,null,null,null,null,null,null,null,null,null,null,null,null,null,null,null,null,null,null,null,null,null,null,null,null,null,null,null,null,null,null,null,null,null,null,null,null,null,null,null,null,null,null,null,null,0,0,0,0,0,0,0,0,0,0,0,0,0,0,0,0,0,0,0,0,0,0,0,0,0,0,0,0,0,0,0,0,0,0,0,0,0,0,0,0,0,0,0,0,0,0,0,0,0,0,0,0,0,0,0,0]
[null,null,"ที่","ตำแหน่ง\n(กม.)",null,"รายการ",null,null,null,"จำนวน",null,null,"รายละเอียด",null,null,null,"หมายเหตุ",null,null,null,null,null,null,null,null,null,null,null,null,null,null,null,null,null,null,null,null,null,null,null,null,null,null,null,null,null,null,null,null,null,null,null,null,null,null,0,0,0,0,0,0,0,0,0,0,0,0,0,0,0,0,0,0,0,0,0,0,0,0,0,0,0,0,0,0,0,0,0,0,0,0,0,0,0,0,0,0,0,0,0,0,0,0,0,0,0,0,0,0,0,0]
[null,null,null,null,null,null,null,null,null,null,null,null,null,null,null,null,null,null,null,null,null,null,null,null,null,null,null,null,null,null,null,null,null,null,null,null,null,null,null,null,null,null,null,null,null,null,null,null,null,null,null,null,null,null,null,0,0,0,0,0,0,0,0,0,0,0,0,0,0,0,0,0,0,0,0,0,0,0,0,0,0,0,0,0,0,0,0,0,0,0,0,0,0,0,0,0,0,0,0,0,0,0,0,0,0,0,0,0,0,0,0]
[null,null,{"$f":"IF(F521=0,0,MAX($C$469:C516)+1)","v":0},null,null,null,null,null,null,null,null,null,null,null,null,null,null,null,null,null,null,null,null,null,null,null,null,null,null,null,null,null,null,null,null,null,null,null,null,null,null,null,null,null,null,null,null,null,null,null,null,null,null,null,null,0,0,0,0,0,0,0,0,0,0,0,0,0,0,0,0,0,0,0,0,0,0,0,0,0,0,0,0,0,0,0,0,0,0,0,0,0,0,0,0,0,0,0,0,0,0,0,0,0,0,0,0,0,0,0,0]
[null,null,{"$f":"IF(F522=0,0,MAX($C$469:C521)+1)","v":0},null,null,null,null,null,null,null,null,null,null,null,null,null,null,null,null,null,null,null,null,null,null,null,null,null,null,null,null,null,null,null,null,null,null,null,null,null,null,null,null,null,null,null,null,null,null,null,null,null,null,null,null,0,0,0,0,0,0,0,0,0,0,0,0,0,0,0,0,0,0,0,0,0,0,0,0,0,0,0,0,0,0,0,0,0,0,0,0,0,0,0,0,0,0,0,0,0,0,0,0,0,0,0,0,0,0,0,0]
[null,null,{"$f":"IF(F523=0,0,MAX($C$469:C522)+1)","v":0},null,null,null,null,null,null,null,null,null,null,null,null,null,null,null,null,null,null,null,null,null,null,null,null,null,null,null,null,null,null,null,null,null,null,null,null,null,null,null,null,null,null,null,null,null,null,null,null,null,null,null,null,0,0,0,0,0,0,0,0,0,0,0,0,0,0,0,0,0,0,0,0,0,0,0,0,0,0,0,0,0,0,0,0,0,0,0,0,0,0,0,0,0,0,0,0,0,0,0,0,0,0,0,0,0,0,0,0]
[null,null,{"$f":"IF(F524=0,0,MAX($C$469:C523)+1)","v":0},null,null,null,null,null,null,null,null,null,null,null,null,null,null,null,null,null,null,null,null,null,null,null,null,null,null,null,null,null,null,null,null,null,null,null,null,null,null,null,null,null,null,null,null,null,null,null,null,null,null,null,null,0,0,0,0,0,0,0,0,0,0,0,0,0,0,0,0,0,0,0,0,0,0,0,0,0,0,0,0,0,0,0,0,0,0,0,0,0,0,0,0,0,0,0,0,0,0,0,0,0,0,0,0,0,0,0,0]
[null,null,{"$f":"IF(F525=0,0,MAX($C$469:C524)+1)","v":0},null,null,null,null,null,null,null,null,null,null,null,null,null,null,null,null,null,null,null,null,null,null,null,null,null,null,null,null,null,null,null,null,null,null,null,null,null,null,null,null,null,null,null,null,null,null,null,null,null,null,null,null,0,0,0,0,0,0,0,0,0,0,0,0,0,0,0,0,0,0,0,0,0,0,0,0,0,0,0,0,0,0,0,0,0,0,0,0,0,0,0,0,0,0,0,0,0,0,0,0,0,0,0,0,0,0,0,0]
[null,null,{"$f":"IF(F526=0,0,MAX($C$469:C525)+1)","v":0},null,null,null,null,null,null,null,null,null,null,null,null,null,null,null,null,null,null,null,null,null,null,null,null,null,null,null,null,null,null,null,null,null,null,null,null,null,null,null,null,null,null,null,null,null,null,null,null,null,null,null,null,0,0,0,0,0,0,0,0,0,0,0,0,0,0,0,0,0,0,0,0,0,0,0,0,0,0,0,0,0,0,0,0,0,0,0,0,0,0,0,0,0,0,0,0,0,0,0,0,0,0,0,0,0,0,0,0]
[null,null,{"$f":"IF(F527=0,0,MAX($C$469:C526)+1)","v":0},null,null,null,null,null,null,null,null,null,null,null,null,null,null,null,null,null,null,null,null,null,null,null,null,null,null,null,null,null,null,null,null,null,null,null,null,null,null,null,null,null,null,null,null,null,null,null,null,null,null,null,null,0,0,0,0,0,0,0,0,0,0,0,0,0,0,0,0,0,0,0,0,0,0,0,0,0,0,0,0,0,0,0,0,0,0,0,0,0,0,0,0,0,0,0,0,0,0,0,0,0,0,0,0,0,0,0,0]
[null,null,{"$f":"IF(F528=0,0,MAX($C$469:C527)+1)","v":0},null,null,null,null,null,null,null,null,null,null,null,null,null,null,null,null,null,null,null,null,null,null,null,null,null,null,null,null,null,null,null,null,null,null,null,null,null,null,null,null,null,null,null,null,null,null,null,null,null,null,null,null,0,0,0,0,0,0,0,0,0,0,0,0,0,0,0,0,0,0,0,0,0,0,0,0,0,0,0,0,0,0,0,0,0,0,0,0,0,0,0,0,0,0,0,0,0,0,0,0,0,0,0,0,0,0,0,0]
[null,null,{"$f":"IF(F529=0,0,MAX($C$469:C528)+1)","v":0},null,null,null,null,null,null,null,null,null,null,null,null,null,null,null,null,null,null,null,null,null,null,null,null,null,null,null,null,null,null,null,null,null,null,null,null,null,null,null,null,null,null,null,null,null,null,null,null,null,null,null,null,0,0,0,0,0,0,0,0,0,0,0,0,0,0,0,0,0,0,0,0,0,0,0,0,0,0,0,0,0,0,0,0,0,0,0,0,0,0,0,0,0,0,0,0,0,0,0,0,0,0,0,0,0,0,0,0]
[null,null,{"$f":"IF(F530=0,0,MAX($C$469:C529)+1)","v":0},null,null,null,null,null,null,null,null,null,null,null,null,null,null,null,null,null,null,null,null,null,null,null,null,null,null,null,null,null,null,null,null,null,null,null,null,null,null,null,null,null,null,null,null,null,null,null,null,null,null,null,null,0,0,0,0,0,0,0,0,0,0,0,0,0,0,0,0,0,0,0,0,0,0,0,0,0,0,0,0,0,0,0,0,0,0,0,0,0,0,0,0,0,0,0,0,0,0,0,0,0,0,0,0,0,0,0,0]
[null,null,{"$f":"IF(F531=0,0,MAX($C$469:C530)+1)","v":0},null,null,null,null,null,null,null,null,null,null,null,null,null,null,null,null,null,null,null,null,null,null,null,null,null,null,null,null,null,null,null,null,null,null,null,null,null,null,null,null,null,null,null,null,null,null,null,null,null,null,null,null,0,0,0,0,0,0,0,0,{"$f":"IF($BL$468=$F531,$J531,0)","v":0},{"$f":"IF($BM$468=$F531,$J531,0)","v":0},{"$f":"IF($BN$468=$F531,$J531,0)","v":0},{"$f":"IF($BO$468=$F531,$J531,0)","v":0},{"$f":"IF($BP$468=$F531,$J531,0)","v":0},{"$f":"IF($BQ$468=$F531,$J531,0)","v":0},{"$f":"IF($BR$468=$F531,$J531,0)","v":0},{"$f":"IF($BS$468=$F531,$J531,0)","v":0},{"$f":"IF($BT$468=$F531,$J531,0)","v":0},{"$f":"IF($BU$468=$F531,$J531,0)","v":0},{"$f":"IF($BV$468=$F531,$J531,0)","v":0},{"$f":"IF($BW$468=$F531,$J531,0)","v":0},{"$f":"IF($BX$468=$F531,$J531,0)","v":0},{"$f":"IF($BY$468=$F531,$J531,0)","v":0},{"$f":"IF($BZ$468=$F531,$J531,0)","v":0},{"$f":"IF($CA$468=$F531,$J531,0)","v":0},{"$f":"IF($CB$468=$F531,$J531,0)","v":0},{"$f":"IF($CC$468=$F531,$J531,0)","v":0},{"$f":"IF($CD$468=$F531,$J531,0)","v":0},{"$f":"IF($CE$468=$F531,$J531,0)","v":0},{"$f":"IF($CF$468=$F531,$J531,0)","v":0},{"$f":"IF($CG$468=$F531,$J531,0)","v":0},{"$f":"IF($CH$468=$F531,$J531,0)","v":0},{"$f":"IF($CI$468=$F531,$J531,0)","v":0},{"$f":"IF($CJ$468=$F531,$J531,0)","v":0},{"$f":"IF($CK$468=$F531,$J531,0)","v":0},{"$f":"IF($CL$468=$F531,$J531,0)","v":0},{"$f":"IF($CM$468=$F531,$J531,0)","v":0},{"$f":"IF($CN$468=$F531,$J531,0)","v":0},{"$f":"IF($CO$468=$F531,$J531,0)","v":0},{"$f":"IF($CP$468=$F531,$J531,0)","v":0},{"$f":"IF($CQ$468=$F531,$J531,0)","v":0},{"$f":"IF($CR$468=$F531,$J531,0)","v":0},{"$f":"IF($CS$468=$F531,$J531,0)","v":0},{"$f":"IF($CT$468=$F531,$J531,0)","v":0},{"$f":"IF($CU$468=$F531,$J531,0)","v":0},{"$f":"IF($CV$468=$F531,$J531,0)","v":0},{"$f":"IF($CW$468=$F531,$J531,0)","v":0},{"$f":"IF($CX$468=$F531,$J531,0)","v":0},{"$f":"IF($CY$468=$F531,$J531,0)","v":0},{"$f":"IF($CZ$468=$F531,$J531,0)","v":0},{"$f":"IF($DA$468=$F531,$J531,0)","v":0},{"$f":"IF($DB$468=$F531,$J531,0)","v":0},{"$f":"IF($DC$468=$F531,$J531,0)","v":0},{"$f":"IF($DD$468=$F531,$J531,0)","v":0},{"$f":"IF($DE$468=$F531,$J531,0)","v":0},{"$f":"IF($DF$468=$F531,$J531,0)","v":0},{"$f":"IF($DG$468=$F531,$J531,0)","v":0}]
[null,null,{"$f":"IF(F532=0,0,MAX($C$469:C531)+1)","v":0},null,null,null,null,null,null,null,null,null,null,null,null,null,null,null,null,null,null,null,null,null,null,null,null,null,null,null,null,null,null,null,null,null,null,null,null,null,null,null,null,null,null,null,null,null,null,null,null,null,null,null,null,0,0,0,0,0,0,0,0,0,0,0,0,0,0,0,0,0,0,0,0,0,0,0,0,0,0,0,0,0,0,0,0,0,0,0,0,0,0,0,0,0,0,0,0,0,0,0,0,0,0,0,0,0,0,0,0]
[null,null,{"$f":"IF(F533=0,0,MAX($C$469:C532)+1)","v":0},null,null,null,null,null,null,null,null,null,null,null,null,null,null,null,null,null,null,null,null,null,null,null,null,null,null,null,null,null,null,null,null,null,null,null,null,null,null,null,null,null,null,null,null,null,null,null,null,null,null,null,null,{"$f":"IF($BD$468=$F533,$J533,0)","v":0},{"$f":"IF($BE$468=$F533,$J533,0)","v":0},{"$f":"IF($BF$468=$F533,$J533,0)","v":0},{"$f":"IF($BG$468=$F533,$J533,0)","v":0},{"$f":"IF($BH$468=$F533,$J533,0)","v":0},{"$f":"IF($BI$468=$F533,$J533,0)","v":0},{"$f":"IF($BJ$468=$F533,$J533,0)","v":0},{"$f":"IF($BK$468=$F533,$J533,0)","v":0},0,0,0,0,0,0,0,0,0,0,0,0,0,0,0,0,0,0,0,0,0,0,0,0,0,0,0,0,0,0,0,0,0,0,0,0,0,0,0,0,0,0,0,0,0,0,0,0]
[null,null,{"$f":"IF(F534=0,0,MAX($C$469:C533)+1)","v":0},null,null,null,null,null,null,null,null,null,null,null,null,null,null,null,null,null,null,null,null,null,null,null,null,null,null,null,null,null,null,null,null,null,null,null,null,null,null,null,null,null,null,null,null,null,null,null,null,null,null,null,null,0,0,0,0,0,0,0,0,0,0,0,0,0,0,0,0,0,0,0,0,0,0,0,0,0,0,0,0,0,0,0,0,0,0,0,0,0,0,0,0,0,0,0,0,0,0,0,0,0,0,0,0,0,0,0,0]
[null,null,{"$f":"IF(F535=0,0,MAX($C$469:C534)+1)","v":0},null,null,null,null,null,null,null,null,null,null,null,null,null,null,null,null,null,null,null,null,null,null,null,null,null,null,null,null,null,null,null,null,null,null,null,null,null,null,null,null,null,null,null,null,null,null,null,null,null,null,null,null,0,0,0,0,0,0,0,0,0,0,0,0,0,0,0,0,0,0,0,0,0,0,0,0,0,0,0,0,0,0,0,0,0,0,0,0,0,0,0,0,0,0,0,0,0,0,0,0,0,0,0,0,0,0,0,0]
[null,null,{"$f":"IF(F536=0,0,MAX($C$469:C535)+1)","v":0},null,null,null,null,null,null,null,null,null,null,null,null,null,null,null,null,null,null,null,null,null,null,null,null,null,null,null,null,null,null,null,null,null,null,null,null,null,null,null,null,null,null,null,null,null,null,null,null,null,null,null,null,0,0,0,0,0,0,0,0,0,0,0,0,0,0,0,0,0,0,0,0,0,0,0,0,0,0,0,0,0,0,0,0,0,0,0,0,0,0,0,0,0,0,0,0,0,0,0,0,0,0,0,0,0,0,0,0]
[null,null,{"$f":"IF(F537=0,0,MAX($C$469:C536)+1)","v":0},null,null,null,null,null,null,null,null,null,null,null,null,null,null,null,null,null,null,null,null,null,null,null,null,null,null,null,null,null,null,null,null,null,null,null,null,null,null,null,null,null,null,null,null,null,null,null,null,null,null,null,null,0,0,0,0,0,0,0,0,0,0,0,0,0,0,0,0,0,0,0,0,0,0,0,0,0,0,0,0,0,0,0,0,0,0,0,0,0,0,0,0,0,0,0,0,0,0,0,0,0,0,0,0,0,0,0,0]
[null,null,{"$f":"IF(F538=0,0,MAX($C$469:C537)+1)","v":0},null,null,null,null,null,null,null,null,null,null,null,null,null,null,null,null,null,null,null,null,null,null,null,null,null,null,null,null,null,null,null,null,null,null,null,null,null,null,null,null,null,null,null,null,null,null,null,null,null,null,null,null,0,0,0,0,0,0,0,0,0,0,0,0,0,0,0,0,0,0,0,0,0,0,0,0,0,0,0,0,0,0,0,0,0,0,0,0,0,0,0,0,0,0,0,0,0,0,0,0,0,0,0,0,0,0,0,0]
[null,null,{"$f":"IF(F539=0,0,MAX($C$469:C538)+1)","v":0},null,null,null,null,null,null,null,null,null,null,null,null,null,null,null,null,null,null,null,null,null,null,null,null,null,null,null,null,null,null,null,null,null,null,null,null,null,null,null,null,null,null,null,null,null,null,null,null,null,null,null,null,0,0,0,0,0,0,0,0,0,0,0,0,0,0,0,0,0,0,0,0,0,0,0,0,0,0,0,0,0,0,0,0,0,0,0,0,0,0,0,0,0,0,0,0,0,0,0,0,0,0,0,0,0,0,0,0]
[null,null,{"$f":"IF(F540=0,0,MAX($C$469:C539)+1)","v":0},null,null,null,null,null,null,null,null,null,null,null,null,null,null,null,null,null,null,null,null,null,null,null,null,null,null,null,null,null,null,null,null,null,null,null,null,null,null,null,null,null,null,null,null,null,null,null,null,null,null,null,null,0,0,0,0,0,0,0,0,0,0,0,0,0,0,0,0,0,0,0,0,0,0,0,0,0,0,0,0,0,0,0,0,0,0,0,0,0,0,0,0,0,0,0,0,0,0,0,0,0,0,0,0,0,0,0,0]
[null,null,{"$f":"IF(F541=0,0,MAX($C$469:C540)+1)","v":0},null,null,null,null,null,null,null,null,null,null,null,null,null,null,null,null,null,null,null,null,null,null,null,null,null,null,null,null,null,null,null,null,null,null,null,null,null,null,null,null,null,null,null,null,null,null,null,null,null,null,null,null,0,0,0,0,0,0,0,0,0,0,0,0,0,0,0,0,0,0,0,0,0,0,0,0,0,0,0,0,0,0,0,0,0,0,0,0,0,0,0,0,0,0,0,0,0,0,0,0,0,0,0,0,0,0,0,0]
[null,null,{"$f":"IF(F542=0,0,MAX($C$469:C541)+1)","v":0},null,null,null,null,null,null,null,null,null,null,null,null,null,null,null,null,null,null,null,null,null,null,null,null,null,null,null,null,null,null,null,null,null,null,null,null,null,null,null,null,null,null,null,null,null,null,null,null,null,null,null,null,0,0,0,0,0,0,0,0,0,0,0,0,0,0,0,0,0,0,0,0,0,0,0,0,0,0,0,0,0,0,0,0,0,0,0,0,0,0,0,0,0,0,0,0,0,0,0,0,0,0,0,0,0,0,0,0]
[null,null,{"$f":"IF(F543=0,0,MAX($C$469:C542)+1)","v":0},null,null,null,null,null,null,null,null,null,null,null,null,null,null,null,null,null,null,null,null,null,null,null,null,null,null,null,null,null,null,null,null,null,null,null,null,null,null,null,null,null,null,null,null,null,null,null,null,null,null,null,null,0,0,0,0,0,0,0,0,0,0,0,0,0,0,0,0,0,0,0,0,0,0,0,0,0,0,0,0,0,0,0,0,0,0,0,0,0,0,0,0,0,0,0,0,0,0,0,0,0,0,0,0,0,0,0,0]
[null,null,{"$f":"IF(F544=0,0,MAX($C$469:C543)+1)","v":0},null,null,null,null,null,null,null,null,null,null,null,null,null,null,null,null,null,null,null,null,null,null,null,null,null,null,null,null,null,null,null,null,null,null,null,null,null,null,null,null,null,null,null,null,null,null,null,null,null,null,null,null,0,0,0,0,0,0,0,0,0,0,0,0,0,0,0,0,0,0,0,0,0,0,0,0,0,0,0,0,0,0,0,0,0,0,0,0,0,0,0,0,0,0,0,0,0,0,0,0,0,0,0,0,0,0,0,0]
[null,null,{"$f":"IF(F545=0,0,MAX($C$469:C544)+1)","v":0},null,null,null,null,null,null,null,null,null,null,null,null,null,null,null,null,null,null,null,null,null,null,null,null,null,null,null,null,null,null,null,null,null,null,null,null,null,null,null,null,null,null,null,null,null,null,null,null,null,null,null,null,0,0,0,0,0,0,0,0,0,0,0,0,0,0,0,0,0,0,0,0,0,0,0,0,0,0,0,0,0,0,0,0,0,0,0,0,0,0,0,0,0,0,0,0,0,0,0,0,0,0,0,0,0,0,0,0]
[null,null,{"$f":"IF(F546=0,0,MAX($C$469:C545)+1)","v":0},null,null,null,null,null,null,null,null,null,null,null,null,null,null,null,null,null,null,null,null,null,null,null,null,null,null,null,null,null,null,null,null,null,null,null,null,null,null,null,null,null,null,null,null,null,null,null,null,null,null,null,null,0,0,0,0,0,0,0,0,0,0,0,0,0,0,0,0,0,0,0,0,0,0,0,0,0,0,0,0,0,0,0,0,0,0,0,0,0,0,0,0,0,0,0,0,0,0,0,0,0,0,0,0,0,0,0,0]
[null,null,{"$f":"IF(F547=0,0,MAX($C$469:C546)+1)","v":0},null,null,null,null,null,null,null,null,null,null,null,null,null,null,null,null,null,null,null,null,null,null,null,null,null,null,null,null,null,null,null,null,null,null,null,null,null,null,null,null,null,null,null,null,null,null,null,null,null,null,null,null,0,0,0,0,0,0,0,0,0,0,0,0,0,0,0,0,0,0,0,0,0,0,0,0,0,0,0,0,0,0,0,0,0,0,0,0,0,0,0,0,0,0,0,0,0,0,0,0,0,0,0,0,0,0,0,0]
[null,null,{"$f":"IF(F548=0,0,MAX($C$469:C547)+1)","v":0},null,null,null,null,null,null,null,null,null,null,null,null,null,null,null,null,null,null,null,null,null,null,null,null,null,null,null,null,null,null,null,null,null,null,null,null,null,null,null,null,null,null,null,null,null,null,null,null,null,null,null,null,0,0,0,0,0,0,0,0,0,0,0,0,0,0,0,0,0,0,0,0,0,0,0,0,0,0,0,0,0,0,0,0,0,0,0,0,0,0,0,0,0,0,0,0,0,0,0,0,0,0,0,0,0,0,0,0]
[null,null,{"$f":"IF(F549=0,0,MAX($C$469:C548)+1)","v":0},null,null,null,null,null,null,null,null,null,null,null,null,null,null,null,null,null,null,null,null,null,null,null,null,null,null,null,null,null,null,null,null,null,null,null,null,null,null,null,null,null,null,null,null,null,null,null,null,null,null,null,null,0,0,0,0,0,0,0,0,0,0,0,0,0,0,0,0,0,0,0,0,0,0,0,0,0,0,0,0,0,0,0,0,0,0,0,0,0,0,0,0,0,0,0,0,0,0,0,0,0,0,0,0,0,0,0,0]
[null,null,{"$f":"IF(F550=0,0,MAX($C$469:C549)+1)","v":0},null,null,null,null,null,null,null,null,null,null,null,null,null,null,null,null,null,null,null,null,null,null,null,null,null,null,null,null,null,null,null,null,null,null,null,null,null,null,null,null,null,null,null,null,null,null,null,null,null,null,null,null,0,0,0,0,0,0,0,0,0,0,0,0,0,0,0,0,0,0,0,0,0,0,0,0,0,0,0,0,0,0,0,0,0,0,0,0,0,0,0,0,0,0,0,0,0,0,0,0,0,0,0,0,0,0,0,0]
[null,null,{"$f":"IF(F551=0,0,MAX($C$469:C550)+1)","v":0},null,null,null,null,null,null,null,null,null,null,null,null,null,null,null,null,null,null,null,null,null,null,null,null,null,null,null,null,null,null,null,null,null,null,null,null,null,null,null,null,null,null,null,null,null,null,null,null,null,null,null,null,0,0,0,0,0,0,0,0,0,0,0,0,0,0,0,0,0,0,0,0,0,0,0,0,0,0,0,0,0,0,0,0,0,0,0,0,0,0,0,0,0,0,0,0,0,0,0,0,0,0,0,0,0,0,0,0]
[null,null,{"$f":"IF(F552=0,0,MAX($C$469:C551)+1)","v":0},null,null,null,null,null,null,null,null,null,null,null,null,null,null,null,null,null,null,null,null,null,null,null,null,null,null,null,null,null,null,null,null,null,null,null,null,null,null,null,null,null,null,null,null,null,null,null,null,null,null,null,null,0,0,0,0,0,0,0,0,0,0,0,0,0,0,0,0,0,0,0,0,0,0,0,0,0,0,0,0,0,0,0,0,0,0,0,0,0,0,0,0,0,0,0,0,0,0,0,0,0,0,0,0,0,0,0,0]
[null,null,{"$f":"IF(F553=0,0,MAX($C$469:C552)+1)","v":0},null,null,null,null,null,null,null,null,null,null,null,null,null,null,null,null,null,null,null,null,null,null,null,null,null,null,null,null,null,null,null,null,null,null,null,null,null,null,null,null,null,null,null,null,null,null,null,null,null,null,null,null,0,0,0,0,0,0,0,0,0,0,0,0,0,0,0,0,0,0,0,0,0,0,0,0,0,0,0,0,0,0,0,0,0,0,0,0,0,0,0,0,0,0,0,0,0,0,0,0,0,0,0,0,0,0,0,0]
[null,null,{"$f":"IF(F554=0,0,MAX($C$469:C553)+1)","v":0},null,null,null,null,null,null,null,null,null,null,null,null,null,null,null,null,null,null,null,null,null,null,null,null,null,null,null,null,null,null,null,null,null,null,null,null,null,null,null,null,null,null,null,null,null,null,null,null,null,null,null,null,0,0,0,0,0,0,0,0,0,0,0,0,0,0,0,0,0,0,0,0,0,0,0,0,0,0,0,0,0,0,0,0,0,0,0,0,0,0,0,0,0,0,0,0,0,0,0,0,0,0,0,0,0,0,0,0]
[null,null,{"$f":"IF(F555=0,0,MAX($C$469:C554)+1)","v":0},null,null,null,null,null,null,null,null,null,null,null,null,null,null,null,null,null,null,null,null,null,null,null,null,null,null,null,null,null,null,null,null,null,null,null,null,null,null,null,null,null,null,null,null,null,null,null,null,null,null,null,null,0,0,0,0,0,0,0,0,0,0,0,0,0,0,0,0,0,0,0,0,0,0,0,0,0,0,0,0,0,0,0,0,0,0,0,0,0,0,0,0,0,0,0,0,0,0,0,0,0,0,0,0,0,0,0,0]
[null,null,{"$f":"IF(F556=0,0,MAX($C$469:C555)+1)","v":0},null,null,null,null,null,null,null,null,null,null,null,null,null,null,null,null,null,null,null,null,null,null,null,null,null,null,null,null,null,null,null,null,null,null,null,null,null,null,null,null,null,null,null,null,null,null,null,null,null,null,null,null,0,0,0,0,0,0,0,0,0,0,0,0,0,0,0,0,0,0,0,0,0,0,0,0,0,0,0,0,0,0,0,0,0,0,0,0,0,0,0,0,0,0,0,0,0,0,0,0,0,0,0,0,0,0,0,0]
[null,null,{"$f":"IF(F557=0,0,MAX($C$469:C556)+1)","v":0},null,null,null,null,null,null,null,null,null,null,null,null,null,null,null,null,null,null,null,null,null,null,null,null,null,null,null,null,null,null,null,null,null,null,null,null,null,null,null,null,null,null,null,null,null,null,null,null,null,null,null,null,0,0,0,0,0,0,0,0,0,0,0,0,0,0,0,0,0,0,0,0,0,0,0,0,0,0,0,0,0,0,0,0,0,0,0,0,0,0,0,0,0,0,0,0,0,0,0,0,0,0,0,0,0,0,0,0]
[null,null,{"$f":"IF(F558=0,0,MAX($C$469:C557)+1)","v":0},null,null,null,null,null,null,null,null,null,null,null,null,null,null,null,null,null,null,null,null,null,null,null,null,null,null,null,null,null,null,null,null,null,null,null,null,null,null,null,null,null,null,null,null,null,null,null,null,null,null,null,null,0,0,0,0,0,0,0,0,0,0,0,0,0,0,0,0,0,0,0,0,0,0,0,0,0,0,0,0,0,0,0,0,0,0,0,0,0,0,0,0,0,0,0,0,0,0,0,0,0,0,0,0,0,0,0,0]
[null,null,{"$f":"IF(F559=0,0,MAX($C$469:C558)+1)","v":0},null,null,null,null,null,null,null,null,null,null,null,null,null,null,null,null,null,null,null,null,null,null,null,null,null,null,null,null,null,null,null,null,null,null,null,null,null,null,null,null,null,null,null,null,null,null,null,null,null,null,null,null,0,0,0,0,0,0,0,0,0,0,0,0,0,0,0,0,0,0,0,0,0,0,0,0,0,0,0,0,0,0,0,0,0,0,0,0,0,0,0,0,0,0,0,0,0,0,0,0,0,0,0,0,0,0,0,0]
[null,null,{"$f":"IF(F560=0,0,MAX($C$469:C559)+1)","v":0},null,null,null,null,null,null,null,null,null,null,null,null,null,null,null,null,null,null,null,null,null,null,null,null,null,null,null,null,null,null,null,null,null,null,null,null,null,null,null,null,null,null,null,null,null,null,null,null,null,null,null,null,0,0,0,0,0,0,0,0,0,0,0,0,0,0,0,0,0,0,0,0,0,0,0,0,0,0,0,0,0,0,0,0,0,0,0,0,0,0,0,0,0,0,0,0,0,0,0,0,0,0,0,0,0,0,0,0]
[null,null,{"$f":"IF(F561=0,0,MAX($C$469:C560)+1)","v":0},null,null,null,null,null,null,null,null,null,null,null,null,null,null,null,null,null,null,null,null,null,null,null,null,null,null,null,null,null,null,null,null,null,null,null,null,null,null,null,null,null,null,null,null,null,null,null,null,null,null,null,null,0,0,0,0,0,0,0,0,0,0,0,0,0,0,0,0,0,0,0,0,0,0,0,0,0,0,0,0,0,0,0,0,0,0,0,0,0,0,0,0,0,0,0,0,0,0,0,0,0,0,0,0,0,0,0,0]
[null,null,{"$f":"IF(F562=0,0,MAX($C$469:C561)+1)","v":0},null,null,null,null,null,null,null,null,null,null,null,null,null,null,null,null,null,null,null,null,null,null,null,null,null,null,null,null,null,null,null,null,null,null,null,null,null,null,null,null,null,null,null,null,null,null,null,null,null,null,null,null,0,0,0,0,0,0,0,0,0,0,0,0,0,0,0,0,0,0,0,0,0,0,0,0,0,0,0,0,0,0,0,0,0,0,0,0,0,0,0,0,0,0,0,0,0,0,0,0,0,0,0,0,0,0,0,0]
[null,null,{"$f":"IF(F563=0,0,MAX($C$469:C562)+1)","v":0},null,null,null,null,null,null,null,null,null,null,null,null,null,null,null,null,null,null,null,null,null,null,null,null,null,null,null,null,null,null,null,null,null,null,null,null,null,null,null,null,null,null,null,null,null,null,null,null,null,null,null,null,0,0,0,0,0,0,0,0,0,0,0,0,0,0,0,0,0,0,0,0,0,0,0,0,0,0,0,0,0,0,0,0,0,0,0,0,0,0,0,0,0,0,0,0,0,0,0,0,0,0,0,0,0,0,0,0]
[null,null,{"$f":"IF(F564=0,0,MAX($C$469:C563)+1)","v":0},null,null,null,null,null,null,null,null,null,null,null,null,null,null,null,null,null,null,null,null,null,null,null,null,null,null,null,null,null,null,null,null,null,null,null,null,null,null,null,null,null,null,null,null,null,null,null,null,null,null,null,null,0,0,0,0,0,0,0,0,0,0,0,0,0,0,0,0,0,0,0,0,0,0,0,0,0,0,0,0,0,0,0,0,0,0,0,0,0,0,0,0,0,0,0,0,0,0,0,0,0,0,0,0,0,0,0,0]
[null,null,{"$f":"IF(F565=0,0,MAX($C$469:C564)+1)","v":0},null,null,null,null,null,null,null,null,null,null,null,null,null,null,null,null,null,null,null,null,null,null,null,null,null,null,null,null,null,null,null,null,null,null,null,null,null,null,null,null,null,null,null,null,null,null,null,null,null,null,null,null,{"$f":"IF($BD$468=$F565,$J565,0)","v":0},{"$f":"IF($BE$468=$F565,$J565,0)","v":0},{"$f":"IF($BF$468=$F565,$J565,0)","v":0},{"$f":"IF($BG$468=$F565,$J565,0)","v":0},{"$f":"IF($BH$468=$F565,$J565,0)","v":0},{"$f":"IF($BI$468=$F565,$J565,0)","v":0},{"$f":"IF($BJ$468=$F565,$J565,0)","v":0},{"$f":"IF($BK$468=$F565,$J565,0)","v":0},0,0,0,0,0,0,0,0,0,0,0,0,0,0,0,0,0,0,0,0,0,0,0,0,0,0,0,0,0,0,0,0,0,0,0,0,0,0,0,0,0,0,0,0,0,0,0,0]
[null,null,{"$f":"IF(F566=0,0,MAX($C$469:C565)+1)","v":0},null,null,null,null,null,null,null,null,null,null,null,null,null,null,null,null,null,null,null,null,null,null,null,null,null,null,null,null,null,null,null,null,null,null,null,null,null,null,null,null,null,null,null,null,null,null,null,null,null,null,null,null,0,0,0,0,0,0,0,0,0,0,0,0,0,0,0,0,0,0,0,0,0,0,0,0,0,0,0,0,0,0,0,0,0,0,0,0,0,0,0,0,0,0,0,0,0,0,0,0,0,0,0,0,0,0,0,0]
[null,null,{"$f":"IF(F567=0,0,MAX($C$469:C566)+1)","v":0},null,null,null,null,null,null,null,null,null,null,null,null,null,null,null,null,null,null,null,null,null,null,null,null,null,null,null,null,null,null,null,null,null,null,null,null,null,null,null,null,null,null,null,null,null,null,null,null,null,null,null,null,0,0,0,0,0,0,0,0,0,0,0,0,0,0,0,0,0,0,0,0,0,0,0,0,0,0,0,0,0,0,0,0,0,0,0,0,0,0,0,0,0,0,0,0,0,0,0,0,0,0,0,0,0,0,0,0]
[null,null,{"$f":"IF(F568=0,0,MAX($C$469:C567)+1)","v":0},null,null,null,null,null,null,null,null,null,null,null,null,null,null,null,null,null,null,null,null,null,null,null,null,null,null,null,null,null,null,null,null,null,null,null,null,null,null,null,null,null,null,null,null,null,null,null,null,null,null,null,null,0,0,0,0,0,0,0,0,0,0,0,0,0,0,0,0,0,0,0,0,0,0,0,0,0,0,0,0,0,0,0,0,0,0,0,0,0,0,0,0,0,0,0,0,0,0,0,0,0,0,0,0,0,0,0,0]
[{"$f":"SUM(C521:C568)","v":0},null,null,"                รวม",null,null,{"$f":"COUNTA(F469:G568)-2&\" รายการ\"","v":"3 รายการ"},null,null,null,null,null,null,null,null,null,null,null,null,null,null,null,null,null,null,null,null,null,null,null,null,null,null,null,null,null,null,null,null,null,null,null,null,null,null,null,null,null,null,null,null,null,null,null,null,0,0,0,0,0,0,0,0,0,0,0,0,0,0,0,0,0,0,0,0,0,0,0,0,0,0,0,0,0,0,0,0,0,0,0,0,0,0,0,0,0,0,0,0,0,0,0,0,0,0,0,0,0,0,0,0]
[null,"รายละเอียดเครื่องหมายจราจร (ต่อ)",null,null,null,null,null,null,null,null,null,null,null,null,null,null,null,null,null,null,null,null,null,null,null,null,null,null,null,null,null,null,null,null,null,null,null,null,null,null,null,null,null,null,null,null,null,null,null,null,null,null,null,null,null,0,0,0,0,0,0,0,0,0,0,0,0,0,0,0,0,0,0,0,0,0,0,0,0,0,0,0,0,0,0,0,0,0,0,0,0,0,0,0,0,0,0,0,0,0,0,0,0,0,0,0,0,0,0,0,0]
[null,null,"ที่","ตำแหน่ง\n(กม.)",null,"รายการ",null,null,null,"จำนวน",null,null,"รายละเอียด",null,null,null,"หมายเหตุ",null,null,null,null,null,null,null,null,null,null,null,null,null,null,null,null,null,null,null,null,null,null,null,null,null,null,null,null,null,null,null,null,null,null,null,null,null,null,0,0,0,0,0,0,0,0,0,0,0,0,0,0,0,0,0,0,0,0,0,0,0,0,0,0,0,0,0,0,0,0,0,0,0,0,0,0,0,0,0,0,0,0,0,0,0,0,0,0,0,0,0,0,0,0]
[null,null,null,null,null,null,null,null,null,null,null,null,null,null,null,null,null,null,null,null,null,null,null,null,null,null,null,null,null,null,null,null,null,null,null,null,null,null,null,null,null,null,null,null,null,null,null,null,null,null,null,null,null,null,null,0,0,0,0,0,0,0,0,0,0,0,0,0,0,0,0,0,0,0,0,0,0,0,0,0,0,0,0,0,0,0,0,0,0,0,0,0,0,0,0,0,0,0,0,0,0,0,0,0,0,0,0,0,0,0,0]
[null,null,{"$f":"IF(F573=0,0,MAX($C$469:C568)+1)","v":0},null,null,null,null,null,null,null,null,null,null,null,null,null,null,null,null,null,null,null,null,null,null,null,null,null,null,null,null,null,null,null,null,null,null,null,null,null,null,null,null,null,null,null,null,null,null,null,null,null,null,null,null,0,0,0,0,0,0,0,0,0,0,0,0,0,0,0,0,0,0,0,0,0,0,0,0,0,0,0,0,0,0,0,0,0,0,0,0,0,0,0,0,0,0,0,0,0,0,0,0,0,0,0,0,0,0,0,0]
[null,null,{"$f":"IF(F574=0,0,MAX($C$469:C573)+1)","v":0},null,null,null,null,null,null,null,null,null,null,null,null,null,null,null,null,null,null,null,null,null,null,null,null,null,null,null,null,null,null,null,null,null,null,null,null,null,null,null,null,null,null,null,null,null,null,null,null,null,null,null,null,0,0,0,0,0,0,0,0,0,0,0,0,0,0,0,0,0,0,0,0,0,0,0,0,0,0,0,0,0,0,0,0,0,0,0,0,0,0,0,0,0,0,0,0,0,0,0,0,0,0,0,0,0,0,0,0]
[null,null,{"$f":"IF(F575=0,0,MAX($C$469:C574)+1)","v":0},null,null,null,null,null,null,null,null,null,null,null,null,null,null,null,null,null,null,null,null,null,null,null,null,null,null,null,null,null,null,null,null,null,null,null,null,null,null,null,null,null,null,null,null,null,null,null,null,null,null,null,null,0,0,0,0,0,0,0,0,0,0,0,0,0,0,0,0,0,0,0,0,0,0,0,0,0,0,0,0,0,0,0,0,0,0,0,0,0,0,0,0,0,0,0,0,0,0,0,0,0,0,0,0,0,0,0,0]
[null,null,{"$f":"IF(F576=0,0,MAX($C$469:C575)+1)","v":0},null,null,null,null,null,null,null,null,null,null,null,null,null,null,null,null,null,null,null,null,null,null,null,null,null,null,null,null,null,null,null,null,null,null,null,null,null,null,null,null,null,null,null,null,null,null,null,null,null,null,null,null,0,0,0,0,0,0,0,0,0,0,0,0,0,0,0,0,0,0,0,0,0,0,0,0,0,0,0,0,0,0,0,0,0,0,0,0,0,0,0,0,0,0,0,0,0,0,0,0,0,0,0,0,0,0,0,0]
[null,null,{"$f":"IF(F577=0,0,MAX($C$469:C576)+1)","v":0},null,null,null,null,null,null,null,null,null,null,null,null,null,null,null,null,null,null,null,null,null,null,null,null,null,null,null,null,null,null,null,null,null,null,null,null,null,null,null,null,null,null,null,null,null,null,null,null,null,null,null,null,0,0,0,0,0,0,0,0,0,0,0,0,0,0,0,0,0,0,0,0,0,0,0,0,0,0,0,0,0,0,0,0,0,0,0,0,0,0,0,0,0,0,0,0,0,0,0,0,0,0,0,0,0,0,0,0]
[null,null,{"$f":"IF(F578=0,0,MAX($C$469:C577)+1)","v":0},null,null,null,null,null,null,null,null,null,null,null,null,null,null,null,null,null,null,null,null,null,null,null,null,null,null,null,null,null,null,null,null,null,null,null,null,null,null,null,null,null,null,null,null,null,null,null,null,null,null,null,null,0,0,0,0,0,0,0,0,0,0,0,0,0,0,0,0,0,0,0,0,0,0,0,0,0,0,0,0,0,0,0,0,0,0,0,0,0,0,0,0,0,0,0,0,0,0,0,0,0,0,0,0,0,0,0,0]
[null,null,{"$f":"IF(F579=0,0,MAX($C$469:C578)+1)","v":0},null,null,null,null,null,null,null,null,null,null,null,null,null,null,null,null,null,null,null,null,null,null,null,null,null,null,null,null,null,null,null,null,null,null,null,null,null,null,null,null,null,null,null,null,null,null,null,null,null,null,null,null,0,0,0,0,0,0,0,0,0,0,0,0,0,0,0,0,0,0,0,0,0,0,0,0,0,0,0,0,0,0,0,0,0,0,0,0,0,0,0,0,0,0,0,0,0,0,0,0,0,0,0,0,0,0,0,0]
[null,null,{"$f":"IF(F580=0,0,MAX($C$469:C579)+1)","v":0},null,null,null,null,null,null,null,null,null,null,null,null,null,null,null,null,null,null,null,null,null,null,null,null,null,null,null,null,null,null,null,null,null,null,null,null,null,null,null,null,null,null,null,null,null,null,null,null,null,null,null,null,0,0,0,0,0,0,0,0,0,0,0,0,0,0,0,0,0,0,0,0,0,0,0,0,0,0,0,0,0,0,0,0,0,0,0,0,0,0,0,0,0,0,0,0,0,0,0,0,0,0,0,0,0,0,0,0]
[null,null,{"$f":"IF(F581=0,0,MAX($C$469:C580)+1)","v":0},null,null,null,null,null,null,null,null,null,null,null,null,null,null,null,null,null,null,null,null,null,null,null,null,null,null,null,null,null,null,null,null,null,null,null,null,null,null,null,null,null,null,null,null,null,null,null,null,null,null,null,null,0,0,0,0,0,0,0,0,0,0,0,0,0,0,0,0,0,0,0,0,0,0,0,0,0,0,0,0,0,0,0,0,0,0,0,0,0,0,0,0,0,0,0,0,0,0,0,0,0,0,0,0,0,0,0,0]
[null,null,{"$f":"IF(F582=0,0,MAX($C$469:C581)+1)","v":0},null,null,null,null,null,null,null,null,null,null,null,null,null,null,null,null,null,null,null,null,null,null,null,null,null,null,null,null,null,null,null,null,null,null,null,null,null,null,null,null,null,null,null,null,null,null,null,null,null,null,null,null,0,0,0,0,0,0,0,0,0,0,0,0,0,0,0,0,0,0,0,0,0,0,0,0,0,0,0,0,0,0,0,0,0,0,0,0,0,0,0,0,0,0,0,0,0,0,0,0,0,0,0,0,0,0,0,0]
[null,null,{"$f":"IF(F583=0,0,MAX($C$469:C582)+1)","v":0},null,null,null,null,null,null,null,null,null,null,null,null,null,null,null,null,null,null,null,null,null,null,null,null,null,null,null,null,null,null,null,null,null,null,null,null,null,null,null,null,null,null,null,null,null,null,null,null,null,null,null,null,0,0,0,0,0,0,0,0,0,0,0,0,0,0,0,0,0,0,0,0,0,0,0,0,0,0,0,0,0,0,0,0,0,0,0,0,0,0,0,0,0,0,0,0,0,0,0,0,0,0,0,0,0,0,0,0]
[null,null,{"$f":"IF(F584=0,0,MAX($C$469:C583)+1)","v":0},null,null,null,null,null,null,null,null,null,null,null,null,null,null,null,null,null,null,null,null,null,null,null,null,null,null,null,null,null,null,null,null,null,null,null,null,null,null,null,null,null,null,null,null,null,null,null,null,null,null,null,null,0,0,0,0,0,0,0,0,0,0,0,0,0,0,0,0,0,0,0,0,0,0,0,0,0,0,0,0,0,0,0,0,0,0,0,0,0,0,0,0,0,0,0,0,0,0,0,0,0,0,0,0,0,0,0,0]
[null,null,{"$f":"IF(F585=0,0,MAX($C$469:C584)+1)","v":0},null,null,null,null,null,null,null,null,null,null,null,null,null,null,null,null,null,null,null,null,null,null,null,null,null,null,null,null,null,null,null,null,null,null,null,null,null,null,null,null,null,null,null,null,null,null,null,null,null,null,null,null,0,0,0,0,0,0,0,0,0,0,0,0,0,0,0,0,0,0,0,0,0,0,0,0,0,0,0,0,0,0,0,0,0,0,0,0,0,0,0,0,0,0,0,0,0,0,0,0,0,0,0,0,0,0,0,0]
[null,null,{"$f":"IF(F586=0,0,MAX($C$469:C585)+1)","v":0},null,null,null,null,null,null,null,null,null,null,null,null,null,null,null,null,null,null,null,null,null,null,null,null,null,null,null,null,null,null,null,null,null,null,null,null,null,null,null,null,null,null,null,null,null,null,null,null,null,null,null,null,0,0,0,0,0,0,0,0,0,0,0,0,0,0,0,0,0,0,0,0,0,0,0,0,0,0,0,0,0,0,0,0,0,0,0,0,0,0,0,0,0,0,0,0,0,0,0,0,0,0,0,0,0,0,0,0]
[null,null,{"$f":"IF(F587=0,0,MAX($C$469:C586)+1)","v":0},null,null,null,null,null,null,null,null,null,null,null,null,null,null,null,null,null,null,null,null,null,null,null,null,null,null,null,null,null,null,null,null,null,null,null,null,null,null,null,null,null,null,null,null,null,null,null,null,null,null,null,null,0,0,0,0,0,0,0,0,0,0,0,0,0,0,0,0,0,0,0,0,0,0,0,0,0,0,0,0,0,0,0,0,0,0,0,0,0,0,0,0,0,0,0,0,0,0,0,0,0,0,0,0,0,0,0,0]
[null,null,{"$f":"IF(F588=0,0,MAX($C$469:C587)+1)","v":0},null,null,null,null,null,null,null,null,null,null,null,null,null,null,null,null,null,null,null,null,null,null,null,null,null,null,null,null,null,null,null,null,null,null,null,null,null,null,null,null,null,null,null,null,null,null,null,null,null,null,null,null,0,0,0,0,0,0,0,0,0,0,0,0,0,0,0,0,0,0,0,0,0,0,0,0,0,0,0,0,0,0,0,0,0,0,0,0,0,0,0,0,0,0,0,0,0,0,0,0,0,0,0,0,0,0,0,0]
[null,null,{"$f":"IF(F589=0,0,MAX($C$469:C588)+1)","v":0},null,null,null,null,null,null,null,null,null,null,null,null,null,null,null,null,null,null,null,null,null,null,null,null,null,null,null,null,null,null,null,null,null,null,null,null,null,null,null,null,null,null,null,null,null,null,null,null,null,null,null,null,0,0,0,0,0,0,0,0,0,0,0,0,0,0,0,0,0,0,0,0,0,0,0,0,0,0,0,0,0,0,0,0,0,0,0,0,0,0,0,0,0,0,0,0,0,0,0,0,0,0,0,0,0,0,0,0]
[null,null,{"$f":"IF(F590=0,0,MAX($C$469:C589)+1)","v":0},null,null,null,null,null,null,null,null,null,null,null,null,null,null,null,null,null,null,null,null,null,null,null,null,null,null,null,null,null,null,null,null,null,null,null,null,null,null,null,null,null,null,null,null,null,null,null,null,null,null,null,null,0,0,0,0,0,0,0,0,0,0,0,0,0,0,0,0,0,0,0,0,0,0,0,0,0,0,0,0,0,0,0,0,0,0,0,0,0,0,0,0,0,0,0,0,0,0,0,0,0,0,0,0,0,0,0,0]
[null,null,{"$f":"IF(F591=0,0,MAX($C$469:C590)+1)","v":0},null,null,null,null,null,null,null,null,null,null,null,null,null,null,null,null,null,null,null,null,null,null,null,null,null,null,null,null,null,null,null,null,null,null,null,null,null,null,null,null,null,null,null,null,null,null,null,null,null,null,null,null,0,0,0,0,0,0,0,0,0,0,0,0,0,0,0,0,0,0,0,0,0,0,0,0,0,0,0,0,0,0,0,0,0,0,0,0,0,0,0,0,0,0,0,0,0,0,0,0,0,0,0,0,0,0,0,0]
[null,null,{"$f":"IF(F592=0,0,MAX($C$469:C584)+1)","v":0},null,null,null,null,null,null,null,null,null,null,null,null,null,null,null,null,null,null,null,null,null,null,null,null,null,null,null,null,null,null,null,null,null,null,null,null,null,null,null,null,null,null,null,null,null,null,null,null,null,null,null,null,0,0,0,0,0,0,0,0,0,0,0,0,0,0,0,0,0,0,0,0,0,0,0,0,0,0,0,0,0,0,0,0,0,0,0,0,0,0,0,0,0,0,0,0,0,0,0,0,0,0,0,0,0,0,0,0]
[null,null,{"$f":"IF(F593=0,0,MAX($C$469:C592)+1)","v":0},null,null,null,null,null,null,null,null,null,null,null,null,null,null,null,null,null,null,null,null,null,null,null,null,null,null,null,null,null,null,null,null,null,null,null,null,null,null,null,null,null,null,null,null,null,null,null,null,null,null,null,null,0,0,0,0,0,0,0,0,{"$f":"IF($BL$468=$F593,$J593,0)","v":0},{"$f":"IF($BM$468=$F593,$J593,0)","v":0},{"$f":"IF($BN$468=$F593,$J593,0)","v":0},{"$f":"IF($BO$468=$F593,$J593,0)","v":0},{"$f":"IF($BP$468=$F593,$J593,0)","v":0},{"$f":"IF($BQ$468=$F593,$J593,0)","v":0},{"$f":"IF($BR$468=$F593,$J593,0)","v":0},{"$f":"IF($BS$468=$F593,$J593,0)","v":0},{"$f":"IF($BT$468=$F593,$J593,0)","v":0},{"$f":"IF($BU$468=$F593,$J593,0)","v":0},{"$f":"IF($BV$468=$F593,$J593,0)","v":0},{"$f":"IF($BW$468=$F593,$J593,0)","v":0},{"$f":"IF($BX$468=$F593,$J593,0)","v":0},{"$f":"IF($BY$468=$F593,$J593,0)","v":0},{"$f":"IF($BZ$468=$F593,$J593,0)","v":0},{"$f":"IF($CA$468=$F593,$J593,0)","v":0},{"$f":"IF($CB$468=$F593,$J593,0)","v":0},{"$f":"IF($CC$468=$F593,$J593,0)","v":0},{"$f":"IF($CD$468=$F593,$J593,0)","v":0},{"$f":"IF($CE$468=$F593,$J593,0)","v":0},{"$f":"IF($CF$468=$F593,$J593,0)","v":0},{"$f":"IF($CG$468=$F593,$J593,0)","v":0},{"$f":"IF($CH$468=$F593,$J593,0)","v":0},{"$f":"IF($CI$468=$F593,$J593,0)","v":0},{"$f":"IF($CJ$468=$F593,$J593,0)","v":0},{"$f":"IF($CK$468=$F593,$J593,0)","v":0},{"$f":"IF($CL$468=$F593,$J593,0)","v":0},{"$f":"IF($CM$468=$F593,$J593,0)","v":0},{"$f":"IF($CN$468=$F593,$J593,0)","v":0},{"$f":"IF($CO$468=$F593,$J593,0)","v":0},{"$f":"IF($CP$468=$F593,$J593,0)","v":0},{"$f":"IF($CQ$468=$F593,$J593,0)","v":0},{"$f":"IF($CR$468=$F593,$J593,0)","v":0},{"$f":"IF($CS$468=$F593,$J593,0)","v":0},{"$f":"IF($CT$468=$F593,$J593,0)","v":0},{"$f":"IF($CU$468=$F593,$J593,0)","v":0},{"$f":"IF($CV$468=$F593,$J593,0)","v":0},{"$f":"IF($CW$468=$F593,$J593,0)","v":0},{"$f":"IF($CX$468=$F593,$J593,0)","v":0},{"$f":"IF($CY$468=$F593,$J593,0)","v":0},{"$f":"IF($CZ$468=$F593,$J593,0)","v":0},{"$f":"IF($DA$468=$F593,$J593,0)","v":0},{"$f":"IF($DB$468=$F593,$J593,0)","v":0},{"$f":"IF($DC$468=$F593,$J593,0)","v":0},{"$f":"IF($DD$468=$F593,$J593,0)","v":0},{"$f":"IF($DE$468=$F593,$J593,0)","v":0},{"$f":"IF($DF$468=$F593,$J593,0)","v":0},{"$f":"IF($DG$468=$F593,$J593,0)","v":0}]
[null,null,{"$f":"IF(F594=0,0,MAX($C$469:C593)+1)","v":0},null,null,null,null,null,null,null,null,null,null,null,null,null,null,null,null,null,null,null,null,null,null,null,null,null,null,null,null,null,null,null,null,null,null,null,null,null,null,null,null,null,null,null,null,null,null,null,null,null,null,null,null,0,0,0,0,0,0,0,0,0,0,0,0,0,0,0,0,0,0,0,0,0,0,0,0,0,0,0,0,0,0,0,0,0,0,0,0,0,0,0,0,0,0,0,0,0,0,0,0,0,0,0,0,0,0,0,0]
[null,null,{"$f":"IF(F595=0,0,MAX($C$469:C594)+1)","v":0},null,null,null,null,null,null,null,null,null,null,null,null,null,null,null,null,null,null,null,null,null,null,null,null,null,null,null,null,null,null,null,null,null,null,null,null,null,null,null,null,null,null,null,null,null,null,null,null,null,null,null,null,0,0,0,0,0,0,0,0,0,0,0,0,0,0,0,0,0,0,0,0,0,0,0,0,0,0,0,0,0,0,0,0,0,0,0,0,0,0,0,0,0,0,0,0,0,0,0,0,0,0,0,0,0,0,0,0]
[null,null,{"$f":"IF(F596=0,0,MAX($C$469:C595)+1)","v":0},null,null,null,null,null,null,null,null,null,null,null,null,null,null,null,null,null,null,null,null,null,null,null,null,null,null,null,null,null,null,null,null,null,null,null,null,null,null,null,null,null,null,null,null,null,null,null,null,null,null,null,null,0,0,0,0,0,0,0,0,0,0,0,0,0,0,0,0,0,0,0,0,0,0,0,0,0,0,0,0,0,0,0,0,0,0,0,0,0,0,0,0,0,0,0,0,0,0,0,0,0,0,0,0,0,0,0,0]
[null,null,{"$f":"IF(F597=0,0,MAX($C$469:C596)+1)","v":0},null,null,null,null,null,null,null,null,null,null,null,null,null,null,null,null,null,null,null,null,null,null,null,null,null,null,null,null,null,null,null,null,null,null,null,null,null,null,null,null,null,null,null,null,null,null,null,null,null,null,null,null,{"$f":"IF($BD$468=$F597,$J597,0)","v":0},{"$f":"IF($BE$468=$F597,$J597,0)","v":0},{"$f":"IF($BF$468=$F597,$J597,0)","v":0},{"$f":"IF($BG$468=$F597,$J597,0)","v":0},{"$f":"IF($BH$468=$F597,$J597,0)","v":0},{"$f":"IF($BI$468=$F597,$J597,0)","v":0},{"$f":"IF($BJ$468=$F597,$J597,0)","v":0},{"$f":"IF($BK$468=$F597,$J597,0)","v":0},0,0,0,0,0,0,0,0,0,0,0,0,0,0,0,0,0,0,0,0,0,0,0,0,0,0,0,0,0,0,0,0,0,0,0,0,0,0,0,0,0,0,0,0,0,0,0,0]
[null,null,{"$f":"IF(F598=0,0,MAX($C$469:C597)+1)","v":0},null,null,null,null,null,null,null,null,null,null,null,null,null,null,null,null,null,null,null,null,null,null,null,null,null,null,null,null,null,null,null,null,null,null,null,null,null,null,null,null,null,null,null,null,null,null,null,null,null,null,null,null,0,0,0,0,0,0,0,0,0,0,0,0,0,0,0,0,0,0,0,0,0,0,0,0,0,0,0,0,0,0,0,0,0,0,0,0,0,0,0,0,0,0,0,0,0,0,0,0,0,0,0,0,0,0,0,0]
[null,null,{"$f":"IF(F599=0,0,MAX($C$469:C598)+1)","v":0},null,null,null,null,null,null,null,null,null,null,null,null,null,null,null,null,null,null,null,null,null,null,null,null,null,null,null,null,null,null,null,null,null,null,null,null,null,null,null,null,null,null,null,null,null,null,null,null,null,null,null,null,0,0,0,0,0,0,0,0,0,0,0,0,0,0,0,0,0,0,0,0,0,0,0,0,0,0,0,0,0,0,0,0,0,0,0,0,0,0,0,0,0,0,0,0,0,0,0,0,0,0,0,0,0,0,0,0]
[null,null,{"$f":"IF(F600=0,0,MAX($C$469:C599)+1)","v":0},null,null,null,null,null,null,null,null,null,null,null,null,null,null,null,null,null,null,null,null,null,null,null,null,null,null,null,null,null,null,null,null,null,null,null,null,null,null,null,null,null,null,null,null,null,null,null,null,null,null,null,null,0,0,0,0,0,0,0,0,0,0,0,0,0,0,0,0,0,0,0,0,0,0,0,0,0,0,0,0,0,0,0,0,0,0,0,0,0,0,0,0,0,0,0,0,0,0,0,0,0,0,0,0,0,0,0,0]
[null,null,{"$f":"IF(F601=0,0,MAX($C$469:C600)+1)","v":0},null,null,null,null,null,null,null,null,null,null,null,null,null,null,null,null,null,null,null,null,null,null,null,null,null,null,null,null,null,null,null,null,null,null,null,null,null,null,null,null,null,null,null,null,null,null,null,null,null,null,null,null,0,0,0,0,0,0,0,0,0,0,0,0,0,0,0,0,0,0,0,0,0,0,0,0,0,0,0,0,0,0,0,0,0,0,0,0,0,0,0,0,0,0,0,0,0,0,0,0,0,0,0,0,0,0,0,0]
[null,null,{"$f":"IF(F602=0,0,MAX($C$469:C601)+1)","v":0},null,null,null,null,null,null,null,null,null,null,null,null,null,null,null,null,null,null,null,null,null,null,null,null,null,null,null,null,null,null,null,null,null,null,null,null,null,null,null,null,null,null,null,null,null,null,null,null,null,null,null,null,0,0,0,0,0,0,0,0,0,0,0,0,0,0,0,0,0,0,0,0,0,0,0,0,0,0,0,0,0,0,0,0,0,0,0,0,0,0,0,0,0,0,0,0,0,0,0,0,0,0,0,0,0,0,0,0]
[null,null,{"$f":"IF(F603=0,0,MAX($C$469:C602)+1)","v":0},null,null,null,null,null,null,null,null,null,null,null,null,null,null,null,null,null,null,null,null,null,null,null,null,null,null,null,null,null,null,null,null,null,null,null,null,null,null,null,null,null,null,null,null,null,null,null,null,null,null,null,null,0,0,0,0,0,0,0,0,0,0,0,0,0,0,0,0,0,0,0,0,0,0,0,0,0,0,0,0,0,0,0,0,0,0,0,0,0,0,0,0,0,0,0,0,0,0,0,0,0,0,0,0,0,0,0,0]
[null,null,{"$f":"IF(F604=0,0,MAX($C$469:C603)+1)","v":0},null,null,null,null,null,null,null,null,null,null,null,null,null,null,null,null,null,null,null,null,null,null,null,null,null,null,null,null,null,null,null,null,null,null,null,null,null,null,null,null,null,null,null,null,null,null,null,null,null,null,null,null,0,0,0,0,0,0,0,0,0,0,0,0,0,0,0,0,0,0,0,0,0,0,0,0,0,0,0,0,0,0,0,0,0,0,0,0,0,0,0,0,0,0,0,0,0,0,0,0,0,0,0,0,0,0,0,0]
[null,null,{"$f":"IF(F605=0,0,MAX($C$469:C604)+1)","v":0},null,null,null,null,null,null,null,null,null,null,null,null,null,null,null,null,null,null,null,null,null,null,null,null,null,null,null,null,null,null,null,null,null,null,null,null,null,null,null,null,null,null,null,null,null,null,null,null,null,null,null,null,0,0,0,0,0,0,0,0,0,0,0,0,0,0,0,0,0,0,0,0,0,0,0,0,0,0,0,0,0,0,0,0,0,0,0,0,0,0,0,0,0,0,0,0,0,0,0,0,0,0,0,0,0,0,0,0]
[null,null,{"$f":"IF(F606=0,0,MAX($C$469:C605)+1)","v":0},null,null,null,null,null,null,null,null,null,null,null,null,null,null,null,null,null,null,null,null,null,null,null,null,null,null,null,null,null,null,null,null,null,null,null,null,null,null,null,null,null,null,null,null,null,null,null,null,null,null,null,null,0,0,0,0,0,0,0,0,0,0,0,0,0,0,0,0,0,0,0,0,0,0,0,0,0,0,0,0,0,0,0,0,0,0,0,0,0,0,0,0,0,0,0,0,0,0,0,0,0,0,0,0,0,0,0,0]
[null,null,{"$f":"IF(F607=0,0,MAX($C$469:C606)+1)","v":0},null,null,null,null,null,null,null,null,null,null,null,null,null,null,null,null,null,null,null,null,null,null,null,null,null,null,null,null,null,null,null,null,null,null,null,null,null,null,null,null,null,null,null,null,null,null,null,null,null,null,null,null,0,0,0,0,0,0,0,0,0,0,0,0,0,0,0,0,0,0,0,0,0,0,0,0,0,0,0,0,0,0,0,0,0,0,0,0,0,0,0,0,0,0,0,0,0,0,0,0,0,0,0,0,0,0,0,0]
[null,null,{"$f":"IF(F608=0,0,MAX($C$469:C607)+1)","v":0},null,null,null,null,null,null,null,null,null,null,null,null,null,null,null,null,null,null,null,null,null,null,null,null,null,null,null,null,null,null,null,null,null,null,null,null,null,null,null,null,null,null,null,null,null,null,null,null,null,null,null,null,0,0,0,0,0,0,0,0,0,0,0,0,0,0,0,0,0,0,0,0,0,0,0,0,0,0,0,0,0,0,0,0,0,0,0,0,0,0,0,0,0,0,0,0,0,0,0,0,0,0,0,0,0,0,0,0]
[null,null,{"$f":"IF(F609=0,0,MAX($C$469:C608)+1)","v":0},null,null,null,null,null,null,null,null,null,null,null,null,null,null,null,null,null,null,null,null,null,null,null,null,null,null,null,null,null,null,null,null,null,null,null,null,null,null,null,null,null,null,null,null,null,null,null,null,null,null,null,null,0,0,0,0,0,0,0,0,0,0,0,0,0,0,0,0,0,0,0,0,0,0,0,0,0,0,0,0,0,0,0,0,0,0,0,0,0,0,0,0,0,0,0,0,0,0,0,0,0,0,0,0,0,0,0,0]
[null,null,{"$f":"IF(F610=0,0,MAX($C$469:C609)+1)","v":0},null,null,null,null,null,null,null,null,null,null,null,null,null,null,null,null,null,null,null,null,null,null,null,null,null,null,null,null,null,null,null,null,null,null,null,null,null,null,null,null,null,null,null,null,null,null,null,null,null,null,null,null,0,0,0,0,0,0,0,0,0,0,0,0,0,0,0,0,0,0,0,0,0,0,0,0,0,0,0,0,0,0,0,0,0,0,0,0,0,0,0,0,0,0,0,0,0,0,0,0,0,0,0,0,0,0,0,0]
[null,null,{"$f":"IF(F611=0,0,MAX($C$469:C610)+1)","v":0},null,null,null,null,null,null,null,null,null,null,null,null,null,null,null,null,null,null,null,null,null,null,null,null,null,null,null,null,null,null,null,null,null,null,null,null,null,null,null,null,null,null,null,null,null,null,null,null,null,null,null,null,0,0,0,0,0,0,0,0,0,0,0,0,0,0,0,0,0,0,0,0,0,0,0,0,0,0,0,0,0,0,0,0,0,0,0,0,0,0,0,0,0,0,0,0,0,0,0,0,0,0,0,0,0,0,0,0]
[null,null,{"$f":"IF(F612=0,0,MAX($C$469:C611)+1)","v":0},null,null,null,null,null,null,null,null,null,null,null,null,null,null,null,null,null,null,null,null,null,null,null,null,null,null,null,null,null,null,null,null,null,null,null,null,null,null,null,null,null,null,null,null,null,null,null,null,null,null,null,null,0,0,0,0,0,0,0,0,0,0,0,0,0,0,0,0,0,0,0,0,0,0,0,0,0,0,0,0,0,0,0,0,0,0,0,0,0,0,0,0,0,0,0,0,0,0,0,0,0,0,0,0,0,0,0,0]
[null,null,{"$f":"IF(F613=0,0,MAX($C$469:C612)+1)","v":0},null,null,null,null,null,null,null,null,null,null,null,null,null,null,null,null,null,null,null,null,null,null,null,null,null,null,null,null,null,null,null,null,null,null,null,null,null,null,null,null,null,null,null,null,null,null,null,null,null,null,null,null,0,0,0,0,0,0,0,0,0,0,0,0,0,0,0,0,0,0,0,0,0,0,0,0,0,0,0,0,0,0,0,0,0,0,0,0,0,0,0,0,0,0,0,0,0,0,0,0,0,0,0,0,0,0,0,0]
[null,null,{"$f":"IF(F614=0,0,MAX($C$469:C613)+1)","v":0},null,null,null,null,null,null,null,null,null,null,null,null,null,null,null,null,null,null,null,null,null,null,null,null,null,null,null,null,null,null,null,null,null,null,null,null,null,null,null,null,null,null,null,null,null,null,null,null,null,null,null,null,0,0,0,0,0,0,0,0,0,0,0,0,0,0,0,0,0,0,0,0,0,0,0,0,0,0,0,0,0,0,0,0,0,0,0,0,0,0,0,0,0,0,0,0,0,0,0,0,0,0,0,0,0,0,0,0]
[null,null,{"$f":"IF(F615=0,0,MAX($C$469:C614)+1)","v":0},null,null,null,null,null,null,null,null,null,null,null,null,null,null,null,null,null,null,null,null,null,null,null,null,null,null,null,null,null,null,null,null,null,null,null,null,null,null,null,null,null,null,null,null,null,null,null,null,null,null,null,null,0,0,0,0,0,0,0,0,0,0,0,0,0,0,0,0,0,0,0,0,0,0,0,0,0,0,0,0,0,0,0,0,0,0,0,0,0,0,0,0,0,0,0,0,0,0,0,0,0,0,0,0,0,0,0,0]
[null,null,{"$f":"IF(F616=0,0,MAX($C$469:C615)+1)","v":0},null,null,null,null,null,null,null,null,null,null,null,null,null,null,null,null,null,null,null,null,null,null,null,null,null,null,null,null,null,null,null,null,null,null,null,null,null,null,null,null,null,null,null,null,null,null,null,null,null,null,null,null,0,0,0,0,0,0,0,0,0,0,0,0,0,0,0,0,0,0,0,0,0,0,0,0,0,0,0,0,0,0,0,0,0,0,0,0,0,0,0,0,0,0,0,0,0,0,0,0,0,0,0,0,0,0,0,0]
[null,null,{"$f":"IF(F617=0,0,MAX($C$469:C616)+1)","v":0},null,null,null,null,null,null,null,null,null,null,null,null,null,null,null,null,null,null,null,null,null,null,null,null,null,null,null,null,null,null,null,null,null,null,null,null,null,null,null,null,null,null,null,null,null,null,null,null,null,null,null,null,0,0,0,0,0,0,0,0,0,0,0,0,0,0,0,0,0,0,0,0,0,0,0,0,0,0,0,0,0,0,0,0,0,0,0,0,0,0,0,0,0,0,0,0,0,0,0,0,0,0,0,0,0,0,0,0]
[null,null,{"$f":"IF(F618=0,0,MAX($C$469:C617)+1)","v":0},null,null,null,null,null,null,null,null,null,null,null,null,null,null,null,null,null,null,null,null,null,null,null,null,null,null,null,null,null,null,null,null,null,null,null,null,null,null,null,null,null,null,null,null,null,null,null,null,null,null,null,null,0,0,0,0,0,0,0,0,0,0,0,0,0,0,0,0,0,0,0,0,0,0,0,0,0,0,0,0,0,0,0,0,0,0,0,0,0,0,0,0,0,0,0,0,0,0,0,0,0,0,0,0,0,0,0,0]
[null,null,{"$f":"IF(F619=0,0,MAX($C$469:C618)+1)","v":0},null,null,null,null,null,null,null,null,null,null,null,null,null,null,null,null,null,null,null,null,null,null,null,null,null,null,null,null,null,null,null,null,null,null,null,null,null,null,null,null,null,null,null,null,null,null,null,null,null,null,null,null,0,0,0,0,0,0,0,0,0,0,0,0,0,0,0,0,0,0,0,0,0,0,0,0,0,0,0,0,0,0,0,0,0,0,0,0,0,0,0,0,0,0,0,0,0,0,0,0,0,0,0,0,0,0,0,0]
[null,null,{"$f":"IF(F620=0,0,MAX($C$469:C619)+1)","v":0},null,null,null,null,null,null,null,null,null,null,null,null,null,null,null,null,null,null,null,null,null,null,null,null,null,null,null,null,null,null,null,null,null,null,null,null,null,null,null,null,null,null,null,null,null,null,null,null,null,null,null,null,0,0,0,0,0,0,0,0,0,0,0,0,0,0,0,0,0,0,0,0,0,0,0,0,0,0,0,0,0,0,0,0,0,0,0,0,0,0,0,0,0,0,0,0,0,0,0,0,0,0,0,0,0,0,0,0]
[{"$f":"SUM(C573:C620)","v":0},null,null,"                รวม",null,null,{"$f":"COUNTA(F469:G620)-4&\" รายการ\"","v":"3 รายการ"},null,null,null,null,null,null,null,null,null,null,null,null,null,null,null,null,null,null,null,null,null,null,null,null,null,null,null,null,null,null,null,null,null,null,null,null,null,null,null,null,null,null,null,null,null,null,null,null,{"$f":"SUM(BD469:BD620)","v":0},{"$f":"SUM(BE469:BE620)","v":0},0,10,0,0,0,0,0,0,0,0,0,0,0,0,0,0,0,0,0,0,0,0,0,0,0,0,0,0,0,0,0,0,0,0,0,0,0,0,0,0,0,0,0,0,0,0,0,0,0,7,0,0,2,0]

{"sheet":"ราคากลาง1","index":8,"n_rows":43,"n_cols":14,"rows_kept":43,"cut":false,"hidden":true,"merged":[[50,2,50,4],[33,2,33,4],[35,2,35,4],[30,2,30,4],[49,2,49,4],[40,2,40,3],[40,6,40,7],[47,2,47,4],[34,2,34,4],[42,2,42,4],[37,2,37,4],[38,2,38,4],[0,0,0,9],[25,2,25,4],[6,2,6,3],[26,2,26,4],[29,2,29,4],[40,8,40,9],[40,10,40,11],[40,12,40,13],[40,14,40,15],[40,16,40,17],[40,18,40,19],[40,20,40,21],[40,22,40,23],[40,24,40,25],[40,26,40,27],[40,28,40,29],[40,30,40,31],[40,32,40,33],[40,34,40,35],[40,36,40,37],[40,38,40,39],[40,40,40,41],[40,42,40,43],[40,44,40,45],[40,46,40,47],[40,48,40,49],[40,50,40,51],[40,52,40,53],[40,54,40,55],[40,56,40,57],[40,58,40,59],[40,60,40,61],[40,62,40,63],[40,64,40,65],[40,66,40,67],[40,68,40,69],[40,70,40,71],[40,72,40,73],[40,74,40,75],[40,76,40,77],[40,78,40,79],[40,80,40,81],[40,82,40,83],[40,84,40,85],[40,86,40,87],[40,88,40,89],[40,90,40,91],[40,92,40,93],[40,94,40,95],[40,96,40,97],[40,98,40,99],[40,100,40,101],[40,102,40,103],[40,104,40,105],[40,106,40,107],[40,108,40,109],[40,110,40,111],[40,112,40,113],[40,114,40,115],[40,116,40,117],[40,118,40,119],[40,120,40,121],[40,122,40,123],[40,124,40,125],[40,126,40,127],[40,128,40,129],[40,130,40,131],[40,132,40,133],[40,134,40,135],[40,136,40,137],[40,138,40,139],[40,140,40,141],[40,142,40,143],[40,144,40,145],[40,146,40,147],[40,148,40,149],[40,150,40,151],[40,152,40,153],[40,154,40,155],[40,156,40,157],[40,158,40,159],[40,160,40,161],[40,162,40,163],[40,164,40,165],[40,166,40,167],[40,168,40,169],[40,170,40,171],[40,172,40,173],[40,174,40,175],[40,176,40,177],[40,178,40,179],[40,180,40,181],[40,182,40,183],[40,184,40,185],[40,186,40,187],[40,188,40,189],[40,190,40,191],[40,192,40,193],[40,194,40,195],[40,196,40,197],[40,198,40,199],[40,200,40,201],[40,202,40,203],[40,204,40,205],[40,206,40,207],[40,226,40,227],[40,228,40,229],[40,230,40,231],[40,208,40,209],[40,210,40,211],[40,212,40,213],[40,214,40,215],[40,216,40,217],[40,218,40,219],[40,246,40,247],[40,248,40,249],[40,250,40,251],[40,252,40,253],[40,254,40,255],[40,232,40,233],[40,234,40,235],[40,236,40,237],[40,238,40,239],[40,240,40,241],[41,0,41,1],[41,6,41,7],[41,8,41,9],[41,10,41,11],[41,2,41,4],[40,244,40,245],[40,242,40,243],[40,220,40,221],[40,222,40,223],[40,224,40,225],[41,12,41,13],[41,14,41,15],[41,16,41,17],[41,18,41,19],[41,20,41,21],[41,22,41,23],[41,24,41,25],[41,26,41,27],[41,28,41,29],[41,30,41,31],[41,32,41,33],[41,34,41,35],[41,36,41,37],[41,38,41,39],[41,40,41,41],[41,42,41,43],[41,44,41,45],[41,46,41,47],[41,48,41,49],[41,50,41,51],[41,52,41,53],[41,54,41,55],[41,56,41,57],[41,58,41,59],[41,60,41,61],[41,62,41,63],[41,64,41,65],[41,66,41,67],[41,68,41,69],[41,70,41,71],[41,72,41,73],[41,74,41,75],[41,76,41,77],[41,78,41,79],[41,80,41,81],[41,82,41,83],[41,84,41,85],[41,86,41,87],[41,88,41,89],[41,90,41,91],[41,92,41,93],[41,94,41,95],[41,96,41,97],[41,98,41,99],[41,100,41,101],[41,102,41,103],[41,104,41,105],[41,106,41,107],[41,108,41,109],[41,110,41,111],[41,112,41,113],[41,114,41,115],[41,116,41,117],[41,118,41,119],[41,120,41,121],[41,122,41,123],[41,124,41,125],[41,126,41,127],[41,128,41,129],[41,130,41,131],[41,132,41,133],[41,134,41,135],[41,136,41,137],[41,138,41,139],[41,140,41,141],[41,142,41,143],[41,144,41,145],[41,146,41,147],[41,148,41,149],[41,150,41,151],[41,152,41,153],[41,154,41,155],[41,156,41,157],[41,158,41,159],[41,160,41,161],[41,162,41,163],[41,164,41,165],[41,166,41,167],[41,168,41,169],[41,170,41,171],[41,172,41,173],[41,174,41,175],[41,176,41,177],[41,178,41,179],[41,180,41,181],[41,182,41,183],[41,184,41,185],[41,186,41,187],[41,188,41,189],[41,190,41,191],[41,192,41,193],[41,194,41,195],[41,196,41,197],[41,198,41,199],[41,200,41,201],[41,202,41,203],[41,204,41,205],[41,206,41,207],[41,208,41,209],[41,210,41,211],[41,212,41,213],[41,214,41,215],[41,216,41,217],[41,218,41,219],[41,220,41,221],[41,222,41,223],[41,224,41,225],[41,226,41,227],[41,244,41,245],[41,246,41,247],[41,248,41,249],[41,250,41,251],[41,228,41,229],[41,230,41,231],[41,232,41,233],[41,234,41,235],[41,236,41,237],[41,238,41,239],[41,252,41,253],[41,254,41,255],[42,0,42,1],[42,6,42,7],[42,8,42,9],[42,10,42,11],[42,12,42,13],[42,14,42,15],[41,240,41,241],[41,242,41,243],[42,16,42,17],[42,18,42,19],[42,20,42,21],[42,22,42,23],[42,24,42,25],[42,26,42,27],[42,28,42,29],[42,30,42,31],[42,32,42,33],[42,34,42,35],[42,36,42,37],[42,38,42,39],[42,40,42,41],[42,42,42,43],[42,44,42,45],[42,46,42,47],[42,48,42,49],[42,50,42,51],[42,52,42,53],[42,54,42,55],[42,56,42,57],[42,58,42,59],[42,60,42,61],[42,62,42,63],[42,64,42,65],[42,66,42,67],[42,68,42,69],[42,70,42,71],[42,72,42,73],[42,74,42,75],[42,76,42,77],[42,78,42,79],[42,80,42,81],[42,82,42,83],[42,84,42,85],[42,86,42,87],[42,88,42,89],[42,90,42,91],[42,92,42,93],[42,94,42,95],[42,96,42,97],[42,98,42,99],[42,100,42,101],[42,102,42,103],[42,104,42,105],[42,106,42,107],[42,108,42,109],[42,110,42,111],[42,112,42,113],[42,114,42,115],[42,116,42,117],[42,118,42,119],[42,120,42,121],[42,122,42,123],[42,124,42,125],[42,126,42,127],[42,128,42,129],[42,130,42,131],[42,132,42,133],[42,134,42,135],[42,136,42,137],[42,138,42,139],[42,140,42,141],[42,142,42,143],[42,144,42,145],[42,146,42,147],[42,148,42,149],[42,150,42,151],[42,152,42,153],[42,154,42,155],[42,156,42,157],[42,158,42,159],[42,160,42,161],[42,162,42,163],[42,164,42,165],[42,166,42,167],[42,168,42,169],[42,170,42,171],[42,172,42,173],[42,174,42,175],[42,176,42,177],[42,178,42,179],[42,180,42,181],[42,182,42,183],[42,184,42,185],[42,186,42,187],[42,188,42,189],[42,190,42,191],[42,192,42,193],[42,194,42,195],[42,196,42,197],[42,198,42,199],[42,200,42,201],[42,202,42,203],[42,204,42,205],[42,206,42,207],[42,226,42,227],[42,228,42,229],[42,230,42,231],[42,208,42,209],[42,210,42,211],[42,212,42,213],[42,214,42,215],[42,216,42,217],[42,218,42,219],[42,246,42,247],[42,248,42,249],[42,250,42,251],[42,252,42,253],[42,254,42,255],[42,232,42,233],[42,234,42,235],[42,236,42,237],[42,238,42,239],[42,240,42,241],[43,0,43,1],[43,2,43,3],[43,6,43,7],[43,8,43,9],[43,10,43,11],[42,244,42,245],[42,242,42,243],[42,220,42,221],[42,222,42,223],[42,224,42,225],[43,12,43,13],[43,14,43,15],[43,16,43,17],[43,18,43,19],[43,20,43,21],[43,22,43,23],[43,24,43,25],[43,26,43,27],[43,28,43,29],[43,30,43,31],[43,32,43,33],[43,34,43,35],[43,36,43,37],[43,38,43,39],[43,40,43,41],[43,42,43,43],[43,44,43,45],[43,46,43,47],[43,48,43,49],[43,50,43,51],[43,52,43,53],[43,54,43,55],[43,56,43,57],[43,58,43,59],[43,60,43,61],[43,62,43,63],[43,64,43,65],[43,66,43,67],[43,68,43,69],[43,70,43,71],[43,72,43,73],[43,74,43,75],[43,76,43,77],[43,78,43,79],[43,80,43,81],[43,82,43,83],[43,84,43,85],[43,86,43,87],[43,88,43,89],[43,90,43,91],[43,92,43,93],[43,94,43,95],[43,96,43,97],[43,98,43,99],[43,100,43,101],[43,102,43,103],[43,104,43,105],[43,106,43,107],[43,108,43,109],[43,110,43,111],[43,112,43,113],[43,114,43,115],[43,116,43,117],[43,118,43,119],[43,120,43,121],[43,122,43,123],[43,124,43,125],[43,126,43,127],[43,128,43,129],[43,130,43,131],[43,132,43,133],[43,134,43,135],[43,136,43,137],[43,138,43,139],[43,140,43,141],[43,142,43,143],[43,144,43,145],[43,146,43,147],[43,148,43,149],[43,150,43,151],[43,152,43,153],[43,154,43,155],[43,156,43,157],[43,158,43,159],[43,160,43,161],[43,162,43,163],[43,164,43,165],[43,166,43,167],[43,168,43,169],[43,170,43,171],[43,172,43,173],[43,174,43,175],[43,176,43,177],[43,178,43,179],[43,180,43,181],[43,182,43,183],[43,184,43,185],[43,186,43,187],[43,188,43,189],[43,190,43,191],[43,192,43,193],[43,194,43,195],[43,196,43,197],[43,198,43,199],[43,200,43,201],[43,202,43,203],[43,204,43,205],[43,206,43,207],[43,208,43,209],[43,210,43,211],[43,212,43,213],[43,214,43,215],[43,216,43,217],[43,218,43,219],[43,252,43,253],[43,254,43,255],[43,240,43,241],[43,242,43,243],[43,244,43,245],[43,246,43,247],[43,248,43,249],[43,220,43,221],[43,222,43,223],[43,224,43,225],[43,226,43,227],[43,250,43,251],[43,228,43,229],[43,230,43,231],[43,232,43,233],[43,234,43,235],[43,236,43,237],[43,238,43,239]]}
[{"$f":"IF(L4=1,\"แบบสรุปการประเมินราคางาน\",\"แบบสรุปราคากลางงาน\")&ข้อมูลโครงการ!G2","v":"แบบสรุปการประเมินราคางานก่อสร้างขยายใหล่ทางคอนกรีตเสริมเหล็ก พร้อมระบบระบายน้ำ  2  ข้างทางตามแบบมาตฐานงานทางสำหรับ อปท"}]
["ส่วนราชการ      ",null,{"$f":"CONCATENATE(\"\",ข้อมูลโครงการ!G5)","v":"งานแบบแผนและก่อสร้าง"},null,null,null,{"$f":"IF(ข้อมูลโครงการ!O5=\"-\",\"\",CONCATENATE(\"\",ข้อมูลโครงการ!O5))","v":"กองช่างเทศบาลตำบลนากลาง"}]
[null,null,{"$f":"CONCATENATE(\"กรม\",ข้อมูลโครงการ!G4)","v":"กรมสำนักงานเทศบาลตำบลนากลาง"},null,null,null,{"$f":"CONCATENATE(\"กระทรวง\",ข้อมูลโครงการ!O4)","v":"กระทรวงมหาดไทย"}]
["ประเภทงาน  ",null,{"$f":"ข้อมูลโครงการ!G2","v":"ก่อสร้างขยายใหล่ทางคอนกรีตเสริมเหล็ก พร้อมระบบระบายน้ำ  2  ข้างทางตามแบบมาตฐานงานทางสำหรับ อปท"},null,null,null,null,null,null,null,null,1,null,2]
["สถานที่ก่อสร้าง",null,{"$f":"CONCATENATE(ข้อมูลโครงการ!$G$7)","v":"ซอยจันทร์สุวรรณ"}]
[null,null,{"$f":"ปร.4!C3&\"         ระยะทางดำเนินการ      \"&ปร.5!C24&\"    กิโลเมตร\"","v":"บ้านกุดแห่ หมู่ 1 ตำบลกุดแห่ อำเภอนากลาง  จังหวัดหนองบัวลำภู         ระยะทางดำเนินการ      0.356    กิโลเมตร"}]
["ประมาณราคา",null,{"$f":"ข้อมูลโครงการ!G3+3","v":"2020-02-14"}]
[]
[1,"ผลรวมค่างานต้นทุนงานก่อสร้างทาง",null,null,null,null,null,"=",{"$f":"ปร.4!O200","v":585628},"บาท"]
[2,"ผลรวมค่างานต้นทุนงานก่อสร้างสะพานและท่อเหลี่ยม",null,null,null,null,null,"=",{"$f":"IF(ปร.4!O241=0,\"-\",ปร.4!O241)","v":"-"},"บาท"]
[3,"ผลรวมค่าใช้จ่ายพิเศษตามข้อกำหนดและค่าใช้จ่ายอื่นๆ",null,null,null,null,null,"=",{"$f":"IF(ปร.4!O247=0,\"-\",ปร.4!O247)","v":"-"},"บาท"]
[]
[4,"ค่า Factor F งานก่อสร้างทาง",null,null,null,null,null,"=",{"$f":"ROUND(IF(ข้อมูลโครงการ!R13=\"ปกติ\",Factor_FR!C53,IF(ข้อมูลโครงการ!R13=\"ฝนตกชุก 1\",Factor_FR!D53,Factor_FR!E53)),4)","v":1.3592}]
[5,"ค่า Factor F งานก่อสร้างสะพานและท่อเหลี่ยม",null,null,null,null,null,"=",{"$f":"IF(I10=\"-\",\"-\",ROUND(Factor_FB!C194,4))","v":"-"}]
[]
[6,"ค่า Factot F ค่าใช้จ่ายพิเศษตามข้อกำหนดฯ ",null,null,null,null,null,"=",{"$f":"IF(I11=0,\"-\",1)","v":1}]
[7,"ค่า Factot F งานก่อสร้างทางซึ่งรวมค่าใช้จ่ายพิเศษตามข้อกำหนดฯ (Factor FN) = 4X6",null,null,null,null,null,"=",{"$f":"ROUNDDOWN(I13*I16,4)","v":1.3592}]
[8,"ค่า Factor F งานก่อสร้างสะพานและท่อเหลี่ยมซื่งรวมค่าใช้จ่ายพิเศษตามข้อกำหนดฯ (Factor FN) = 5X6",null,null,null,null,null,"=",{"$f":"IF(I10=\"-\",\"-\",ROUNDDOWN(I14*I16,4))","v":"-"}]
[]
[9,"รวมเป็นค่าก่อสร้าง",null,null,null,null,null,"=",{"$f":"ปร.5!G20","v":803825.58},"บาท"]
[10,{"$f":"IF(L4=1,\"คิดเป็นราคาค่าก่อสร้างประมาณ\",\"คิดเป็นราคากลางค่าก่อสร้างประมาณ\")","v":"คิดเป็นราคาค่าก่อสร้างประมาณ"},null,null,null,null,null,"=",{"$f":"ปร.5!G21","v":803800},"บาท"]
[]
[null,null,null,null,null,null,"คณะกรรมการกำหนดราคากลาง"]
[]
[null,"ผู้ประมาณราคา",null,null,null,null,null,"                           ประธานกรรมการ"]
[null,null,{"$f":"CONCATENATE(\"(\",ข้อมูลโครงการ!G18,\")\")","v":"(นายวิทยา  ทิพย์ทอง)"},null,null,null,{"$f":"CONCATENATE(\"(\",ข้อมูลโครงการ!O19,\")\")","v":"(นายประยุทธ์  เย็นอารมย์)"}]
[null,null,{"$f":"ข้อมูลโครงการ!G19","v":"นายช่างโยธาชำนาญงาน"},null,null,null,{"$f":"ข้อมูลโครงการ!O20","v":"ผู้อำนวยการกองช่าง"}]
[]
[null,"ตรวจ",null,null,null,null,null,"                            กรรมการ"]
[null,"                       (ผู้อำนวยการส่วนอำนวยการ)",{"$f":"CONCATENATE(\"(\",ข้อมูลโครงการ!G20,\")\")","v":"(นายคำสอน  อักษรกลาง)"},null,null,null,{"$f":"CONCATENATE(\"(\",ข้อมูลโครงการ!O21,\")\")","v":"(นายชัชฤทธิ์  ระวิพันธ์)"}]
[null,null,{"$f":"ข้อมูลโครงการ!G21","v":"นายช่างโยธาอาวุโส"},null,null,null,{"$f":"ข้อมูลโครงการ!O22","v":"หัวหน้าฝ่ายการโยธา"}]
[]
[null,"เห็นชอบ",null,null,null,null,null,"                            กรรมการ"]
[null,"                       (ผู้อำนวยการส่วนอำนวยการ)",{"$f":"CONCATENATE(\"(\",ข้อมูลโครงการ!G22,\")\")","v":"(นายประยุทธ์  เย็นอารมย์)"},null,null,null,{"$f":"CONCATENATE(\"(\",ข้อมูลโครงการ!O23,\")\")","v":"(นายชัชฤทธิ์  ระวิพันธ์)"}]
[null,null,{"$f":"ข้อมูลโครงการ!G23","v":"ผู้อำนวยการกองช่าง"},null,null,null,{"$f":"ข้อมูลโครงการ!O24","v":"หัวหน้าฝ่ายการโยธา"}]
[]
[null,"เห็นชอบ"]
[null,"                       (ผู้อำนวยการส่วนอำนวยการ)",{"$f":"CONCATENATE(\"(\",ข้อมูลโครงการ!G24,\")\")","v":"(นายชัยพร  ขันทะชา)"}]
[null,null,{"$f":"ข้อมูลโครงการ!G25","v":"ปลัดเทศบาลตำบลนากลาง"}]
[]
[null,{"$f":"IF(L4=1,\"อนุมัติ\",\"เห็นชอบ\")","v":"อนุมัติ"}]
[null,"                       (ผู้อำนวยการส่วนอำนวยการ)",{"$f":"IF(L4=1,\"(\"&ข้อมูลโครงการ!G26&\")\",CONCATENATE(\"(\",IF(N4=1,ข้อมูลโครงการ!G26,ข้อมูลโครงการ!G22),\")\"))","v":"(นายทองหลั่น  เกษทองมา)"}]
[null,null,{"$f":"IF(L4=1,ข้อมูลโครงการ!G27,IF(N4=1,ข้อมูลโครงการ!G27,ข้อมูลโครงการ!G23))","v":"นายกเทศมนตรีตำบลนากลาง"}]

{"sheet":"ราคากลาง","index":9,"n_rows":264,"n_cols":20,"rows_kept":264,"cut":false,"hidden":false,"merged":[[263,2,263,8],[263,14,263,16],[264,14,264,16],[259,0,259,17],[260,0,260,17],[261,2,261,8],[261,14,261,16],[262,2,262,8],[262,14,262,16],[8,17,9,17],[179,3,179,8],[239,7,239,8],[245,15,245,17],[258,0,258,17],[244,14,244,16],[8,0,9,0],[8,1,9,10],[8,11,9,11],[8,12,9,12],[8,13,9,13],[8,14,9,14],[8,15,9,15],[8,16,9,16],[5,2,5,5],[5,6,5,13],[5,14,5,17],[6,0,6,1],[6,2,6,5],[6,9,6,10],[3,0,3,1],[3,2,3,5],[3,6,3,13],[3,14,3,17],[4,0,4,1],[4,2,4,5],[4,6,4,13],[4,14,4,17],[2,2,2,5],[2,6,2,13],[2,15,2,17],[0,0,0,17],[1,0,1,1],[1,2,1,5],[1,6,1,13],[1,15,1,17]]}
["สรุปราคากลาง"]
[null,null,"ส่วนราชการ",null,null,null,{"$f":"+ข้อมูลโครงการ!G5","v":"งานแบบแผนและก่อสร้าง"},null,null,null,null,null,null,null,null,{"$f":"+ข้อมูลโครงการ!O5","v":"กองช่างเทศบาลตำบลนากลาง"}]
[null,null,null,null,null,null,{"$f":"+ข้อมูลโครงการ!C4&ข้อมูลโครงการ!G4","v":"สำนักงานเทศบาลตำบลนากลาง"},null,null,null,null,null,null,null,null,{"$f":"+ข้อมูลโครงการ!N4&ข้อมูลโครงการ!O4","v":"กระทรวงมหาดไทย"}]
[null,null,"ประเภทงาน ",null,null,null,{"$f":"+ข้อมูลโครงการ!G2","v":"ก่อสร้างขยายใหล่ทางคอนกรีตเสริมเหล็ก พร้อมระบบระบายน้ำ  2  ข้างทางตามแบบมาตฐานงานทางสำหรับ อปท"}]
[null,null,"สถานที่ก่อสร้าง",null,null,null,{"$f":"+ข้อมูลโครงการ!G7","v":"ซอยจันทร์สุวรรณ"}]
[null,null,null,null,null,null,{"$f":"+ข้อมูลโครงการ!G8","v":"บ้านกุดแห่ หมู่ 1 ตำบลกุดแห่ อำเภอนากลาง  จังหวัดหนองบัวลำภู"}]
[null,null,"ประมาณราคา",null,null,null,"เมื่อวันที่",{"$f":"+ข้อมูลโครงการ!G3","v":"2020-02-11"},"เดือน",{"$f":"+ข้อมูลโครงการ!G3","v":43872},null,{"$f":"+ข้อมูลโครงการ!G3","v":43872}]
[]
["ลำดับ","รายการ",null,null,null,null,null,null,null,null,null,"หน่วย","จำนวน","ราคาต่อหน่วย","ราคาต้นทุน","FN","ราคาต่อหน่วย X FN","ราคากลาง"]
[]
[null,{"$f":"+ปร.4!B14","v":"ประเภทงานก่อสร้างทาง"}]
[{"$f":"+ปร.4!A15","v":1},{"$f":"+ปร.4!B15","v":"งานรื้อย้าย"}]
[null,{"$f":"+ปร.4!B16","v":1.1000000000000001},{"$f":"+ปร.4!C16","v":"งานรื้อผิวจราจรลาดยางเดิม (ความหนา 5 ซม.)"},null,null,null,null,null,null,null,null,{"$f":"+ปร.4!L16","v":"ตร.ม."},{"$f":"+ปร.4!M16","v":0},{"$f":"+ปร.4!N16","v":0},{"$f":"+M13*N13","v":0},{"$f":"IF(M13=0,0,ปร.5!$I$20)","v":0},{"$f":"+N13*P13","v":0},{"$f":"+O13*P13","v":0}]
[null,{"$f":"+ปร.4!B17","v":1.2},{"$f":"+ปร.4!C17","v":"งานรื้อผิวจราจร   คสล. เดิม (ความหนา 10 ซม.)"},null,null,null,null,null,null,null,null,{"$f":"+ปร.4!L17","v":"ตร.ม."},{"$f":"+ปร.4!M17","v":0},{"$f":"+ปร.4!N17","v":0},{"$f":"+M14*N14","v":0},{"$f":"IF(M14=0,0,ปร.5!$I$20)","v":0},{"$f":"+N14*P14","v":0},{"$f":"+O14*P14","v":0}]
[null,{"$f":"+ปร.4!B18","v":1.3},{"$f":"+ปร.4!C18","v":"งานรื้อ ท่อลอดเหลี่ยมเดิม "},null,null,null,null,null,null,null,null,{"$f":"+ปร.4!L18","v":"เหมาจ่าย"},{"$f":"+ปร.4!M18","v":0},{"$f":"+ปร.4!N18","v":0},0,{"$f":"IF(M15=0,0,ปร.5!$I$20)","v":0},0,0]
[null,{"$f":"+ปร.4!B19","v":1.4},{"$f":"+ปร.4!C19","v":"งานรื้อ สะพานเดิม "},null,null,null,null,null,null,null,null,{"$f":"+ปร.4!L19","v":"เหมาจ่าย"},{"$f":"+ปร.4!M19","v":0},{"$f":"+ปร.4!N19","v":0},0,{"$f":"IF(M16=0,0,ปร.5!$I$20)","v":0},0,0]
[null,{"$f":"+ปร.4!B20","v":1.5},{"$f":"+ปร.4!C20","v":"งานรื้อหินคลุกเดิม(ขนกอง) (ความหนา  20  ซม.)"},null,null,null,null,null,null,null,null,{"$f":"+ปร.4!L20","v":"ตร.ม."},{"$f":"+ปร.4!M20","v":0},{"$f":"+ปร.4!N20","v":0},0,{"$f":"IF(M17=0,0,ปร.5!$I$20)","v":0},0,0]
[{"$f":"+ปร.4!A21","v":2},{"$f":"+ปร.4!B21","v":"งานคันทางเดิม"}]
[null,{"$f":"+ปร.4!B22","v":2.1},{"$f":"+ปร.4!C22","v":"งานกรุยทางถางป่า"},null,null,null,null,null,null,null,null,{"$f":"+ปร.4!L22","v":"ตร.ม."},{"$f":"+ปร.4!M22","v":0},{"$f":"+ปร.4!N22","v":0},0,{"$f":"IF(M19=0,0,ปร.5!$I$20)","v":0},0,0]
[null,{"$f":"+ปร.4!B23","v":2.2000000000000002},{"$f":"+ปร.4!C23","v":"งานปรับเกลี่ยแต่งคันทางเดิมและบดทับ"},null,null,null,null,null,null,null,null,{"$f":"+ปร.4!L23","v":"ตร.ม."},{"$f":"+ปร.4!M23","v":0},{"$f":"+ปร.4!N23","v":0},0,{"$f":"IF(M20=0,0,ปร.5!$I$20)","v":0},0,0]
[null,{"$f":"+ปร.4!B24","v":2.2999999999999998},{"$f":"+ปร.4!C24","v":"งานตัดขึ้นรูปคันทาง"}]
[null,null,{"$f":"+ปร.4!C25","v":"2.3.1 งานดินตัด"},null,null,null,null,null,null,null,null,{"$f":"+ปร.4!L25","v":"ลบ.ม."},{"$f":"+ปร.4!M25","v":0},{"$f":"+ปร.4!N25","v":0},0,{"$f":"IF(M22=0,0,ปร.5!$I$20)","v":0},0,0]
[null,null,{"$f":"+ปร.4!C26","v":"2.3.2 งานขุดตัดหินผุ"},null,null,null,null,null,null,null,null,{"$f":"+ปร.4!L26","v":"ลบ.ม."},{"$f":"+ปร.4!M26","v":0},{"$f":"+ปร.4!N26","v":0},0,{"$f":"IF(M23=0,0,ปร.5!$I$20)","v":0},0,0]
[null,null,{"$f":"+ปร.4!C27","v":"2.3.3 งานขุดตัดหินแข็ง"},null,null,null,null,null,null,null,null,{"$f":"+ปร.4!L27","v":"ลบ.ม."},{"$f":"+ปร.4!M27","v":0},{"$f":"+ปร.4!N27","v":0},0,{"$f":"IF(M24=0,0,ปร.5!$I$20)","v":0},0,0]
[null,null,{"$f":"+ปร.4!C28","v":"2.3.4 งานขุดวัสดุไม่เหมาะสม"},null,null,null,null,null,null,null,null,{"$f":"+ปร.4!L28","v":"ลบ.ม."},{"$f":"+ปร.4!M28","v":0},{"$f":"+ปร.4!N28","v":0},0,{"$f":"IF(M25=0,0,ปร.5!$I$20)","v":0},0,0]
[null,null,{"$f":"+ปร.4!C29","v":"2.3.5 งานตัดแต่งขั้นบันได"},null,null,null,null,null,null,null,null,{"$f":"+ปร.4!L29","v":"ลบ.ม."},{"$f":"+ปร.4!M29","v":0},{"$f":"+ปร.4!N29","v":0},0,{"$f":"IF(M26=0,0,ปร.5!$I$20)","v":0},0,0]
[null,{"$f":"+ปร.4!B30","v":2.4},{"$f":"+ปร.4!C30","v":"งานดินถมไหล่ทาง"}]
[null,null,{"$f":"+ปร.4!C31","v":"2.4.1 งานดินถม"}]
[null,null,{"$f":"+ปร.4!C32","v":"        2.4.1(1) งานดินถม(จากงานดินตัด)"},null,null,null,null,null,null,null,null,{"$f":"+ปร.4!L32","v":"ลบ.ม."},{"$f":"+ปร.4!M32","v":0},{"$f":"+ปร.4!N32","v":0},0,{"$f":"IF(M29=0,0,ปร.5!$I$20)","v":0},0,0]
[null,null,{"$f":"+ปร.4!C33","v":"        2.4.1(2) งานดินถม(จากนอกโครงการ)"},null,null,null,null,null,null,null,null,{"$f":"+ปร.4!L33","v":"ลบ.ม."},{"$f":"+ปร.4!M33","v":0},{"$f":"+ปร.4!N33","v":0},0,{"$f":"IF(M30=0,0,ปร.5!$I$20)","v":0},0,0]
[null,null,{"$f":"+ปร.4!C34","v":"2.4.2 งานทรายรองผิวทาง คสล."},null,null,null,null,null,null,null,null,{"$f":"+ปร.4!L34","v":"ลบ.ม."},{"$f":"+ปร.4!M34","v":16.05},{"$f":"+ปร.4!N34","v":680},10914,{"$f":"IF(M31=0,0,ปร.5!$I$20)","v":1.3592},924.25599999999997,14834.308799999999]
[null,{"$f":"+ปร.4!B35","v":2.5},{"$f":"+ปร.4!C35","v":"งานวัสดุคัดเลือก"},null,null,null,null,null,null,null,null,{"$f":"+ปร.4!L35","v":"ลบ.ม."},{"$f":"+ปร.4!M35","v":0},{"$f":"+ปร.4!N35","v":0},0,{"$f":"IF(M32=0,0,ปร.5!$I$20)","v":0},0,0]
[{"$f":"+ปร.4!A36","v":3},{"$f":"+ปร.4!B36","v":"งานพื้นทางและรองพื้นทาง"}]
[null,{"$f":"+ปร.4!B37","v":3.1},{"$f":"+ปร.4!C37","v":"งานรองพื้นทาง"}]
[null,null,{"$f":"+ปร.4!C38","v":"3.1.1 งานรองพื้นทางลูกรัง"},null,null,null,null,null,null,null,null,{"$f":"+ปร.4!L38","v":"ลบ.ม."},{"$f":"+ปร.4!M38","v":0},{"$f":"+ปร.4!N38","v":0},0,{"$f":"IF(M35=0,0,ปร.5!$I$20)","v":0},0,0]
[null,null,{"$f":"+ปร.4!C39","v":"3.1.2 งานรองพื้นทางดินซีเมนต์"},null,null,null,null,null,null,null,null,{"$f":"+ปร.4!L39","v":"ลบ.ม."},{"$f":"+ปร.4!M39","v":0},{"$f":"+ปร.4!N39","v":0},0,{"$f":"IF(M36=0,0,ปร.5!$I$20)","v":0},0,0]
[null,null,{"$f":"+ปร.4!C40","v":"3.1.3 งานทรายรองพื้นทาง"},null,null,null,null,null,null,null,null,{"$f":"+ปร.4!L40","v":"ลบ.ม."},{"$f":"+ปร.4!M40","v":0},{"$f":"+ปร.4!N40","v":0},0,{"$f":"IF(M37=0,0,ปร.5!$I$20)","v":0},0,0]
[null,{"$f":"+ปร.4!B41","v":3.2},{"$f":"+ปร.4!C41","v":"งานพื้นทาง"}]
[null,null,{"$f":"+ปร.4!C42","v":"3.2.1 งานพื้นทางหินคลุก"},null,null,null,null,null,null,null,null,{"$f":"+ปร.4!L42","v":"ลบ.ม."},{"$f":"+ปร.4!M42","v":0},{"$f":"+ปร.4!N42","v":0},0,{"$f":"IF(M39=0,0,ปร.5!$I$20)","v":0},0,0]
[null,null,{"$f":"+ปร.4!C43","v":"3.2.2 งานพื้นทางดินซีเมนต์"},null,null,null,null,null,null,null,null,{"$f":"+ปร.4!L43","v":"ลบ.ม."},{"$f":"+ปร.4!M43","v":0},{"$f":"+ปร.4!N43","v":0},0,{"$f":"IF(M40=0,0,ปร.5!$I$20)","v":0},0,0]
[]
[null,{"$f":"+ปร.4!B44","v":3.3},{"$f":"+ปร.4!C44","v":"งานปรับปรุงโครงสร้างถนนเดิม"}]
[null,null,{"$f":"+ปร.4!C45","v":"3.3.1(1) Deep  Patch"},null,null,null,null,null,null,null,null,{"$f":"+ปร.4!L45","v":"ตร.ม."},{"$f":"+ปร.4!M45","v":0},{"$f":"+ปร.4!N45","v":0},0,{"$f":"IF(M43=0,0,ปร.5!$I$20)","v":0},0,0]
[null,null,{"$f":"+ปร.4!C46","v":"3.3.2(2) งาน Pavement In-Place Recycling"},null,null,null,null,null,null,null,null,{"$f":"+ปร.4!L46","v":"ตร.ม."},{"$f":"+ปร.4!M46","v":0},{"$f":"+ปร.4!N46","v":0},0,{"$f":"IF(M44=0,0,ปร.5!$I$20)","v":0},0,0]
[null,null,{"$f":"+ปร.4!C47","v":"3.3.2(3) งานหินคลุกปรับระดับ(หลวม)"},null,null,null,null,null,null,null,null,{"$f":"+ปร.4!L47","v":"ลบ.ม."},{"$f":"+ปร.4!M47","v":0},{"$f":"+ปร.4!N47","v":0},0,{"$f":"IF(M45=0,0,ปร.5!$I$20)","v":0},0,0]
[{"$f":"+ปร.4!A48","v":4},{"$f":"+ปร.4!B48","v":"งานผิวทางและไหล่ทาง"}]
[null,{"$f":"+ปร.4!B49","v":4.0999999999999996},{"$f":"+ปร.4!C49","v":"งานผิวทาง + Widening"}]
[null,null,{"$f":"+ปร.4!C50","v":"4.1.1 งาน Prime Coat  &  Tack Coat  สำหรับผิวทาง"}]
[null,null,{"$f":"+ปร.4!C51","v":"       4.1.1(1) Prime Coat"},null,null,null,null,null,null,null,null,{"$f":"+ปร.4!L51","v":"ตร.ม."},{"$f":"+ปร.4!M51","v":0},{"$f":"+ปร.4!N51","v":0},0,{"$f":"IF(M49=0,0,ปร.5!$I$20)","v":0},0,0]
[null,null,{"$f":"+ปร.4!C52","v":"       4.1.1(2) Tack Coat"},null,null,null,null,null,null,null,null,{"$f":"+ปร.4!L52","v":"ตร.ม."},{"$f":"+ปร.4!M52","v":0},{"$f":"+ปร.4!N52","v":0},0,{"$f":"IF(M50=0,0,ปร.5!$I$20)","v":0},0,0]
[null,null,{"$f":"+ปร.4!C53","v":"4.1.2 งานผิวทาง Cape Seal"},null,null,null,null,null,null,null,null,{"$f":"+ปร.4!L53","v":"ตร.ม."},{"$f":"+ปร.4!M53","v":0},{"$f":"+ปร.4!N53","v":0},0,{"$f":"IF(M51=0,0,ปร.5!$I$20)","v":0},0,0]
[null,null,{"$f":"+ปร.4!C54","v":"4.1.3 งานผิวทาง  Asphalt concrete   หนาเฉลี่ย 0.00  ซม."}]
[null,null,{"$f":"+ปร.4!C55","v":"       4.1.3(1) ปูบนผิว  Prime Coat"},null,null,null,null,null,null,null,null,{"$f":"+ปร.4!L55","v":"ตร.ม."},{"$f":"+ปร.4!M55","v":0},{"$f":"+ปร.4!N55","v":0},0,{"$f":"IF(M53=0,0,ปร.5!$I$20)","v":0},0,0]
[null,null,{"$f":"+ปร.4!C56","v":"       4.1.3(2) ปูบนผิว  Tack Coat"},null,null,null,null,null,null,null,null,{"$f":"+ปร.4!L56","v":"ตร.ม."},{"$f":"+ปร.4!M56","v":0},{"$f":"+ปร.4!N56","v":0},0,{"$f":"IF(M54=0,0,ปร.5!$I$20)","v":0},0,0]
[null,null,{"$f":"+ปร.4!C57","v":"4.1.4 งานผิวทางและผิวทางเชื่อมคอนกรีตเสริมเหล็ก"}]
[null,null,{"$f":"+ปร.4!C58","v":"4.1.4(1) งานผิวทางคอนกรีตเสริมเหล็ก  หนา  15 ซม."},null,null,null,null,null,null,null,null,{"$f":"+ปร.4!L58","v":"ตร.ม."},{"$f":"+ปร.4!M58","v":321},{"$f":"+ปร.4!N58","v":318},102078,{"$f":"IF(M56=0,0,ปร.5!$I$20)","v":1.3592},432.22559999999999,138744.41759999999]
[null,null,{"$f":"+ปร.4!C59","v":"       4.1.4(2)  Expansion  Joint"},null,null,null,null,null,null,null,null,{"$f":"+ปร.4!L59","v":"ม."},{"$f":"+ปร.4!M59","v":0},{"$f":"+ปร.4!N59","v":0},0,{"$f":"IF(M57=0,0,ปร.5!$I$20)","v":0},0,0]
[null,null,{"$f":"+ปร.4!C60","v":"       4.1.4(3)  Contraction  Joint"},null,null,null,null,null,null,null,null,{"$f":"+ปร.4!L60","v":"ม."},{"$f":"+ปร.4!M60","v":0},{"$f":"+ปร.4!N60","v":0},0,{"$f":"IF(M58=0,0,ปร.5!$I$20)","v":0},0,0]
[null,null,{"$f":"+ปร.4!C61","v":"       4.1.4(4)  Longitudinal  Joint"},null,null,null,null,null,null,null,null,{"$f":"+ปร.4!L61","v":"ม."},{"$f":"+ปร.4!M61","v":321},{"$f":"+ปร.4!N61","v":62},19902,{"$f":"IF(M59=0,0,ปร.5!$I$20)","v":1.3592},84.270399999999995,27050.7984]
[null,null,{"$f":"+ปร.4!C62","v":"4.1.5 งานผิวทาง Para Cape Seal"},null,null,null,null,null,null,null,null,{"$f":"+ปร.4!L62","v":"ตร.ม."},{"$f":"+ปร.4!M62","v":0},{"$f":"+ปร.4!N62","v":0},0,{"$f":"IF(M60=0,0,ปร.5!$I$20)","v":0},0,0]
[null,null,{"$f":"+ปร.4!C63","v":"4.1.6 งานผิวทางลูกรัง"},null,null,null,null,null,null,null,null,{"$f":"+ปร.4!L63","v":"ลบ.ม."},{"$f":"+ปร.4!M63","v":0},{"$f":"+ปร.4!N63","v":0},0,{"$f":"IF(M61=0,0,ปร.5!$I$20)","v":0},0,0]
[null,{"$f":"+ปร.4!B64","v":4.2},{"$f":"+ปร.4!C64","v":"งานไหล่ทาง"}]
[null,null,{"$f":"+ปร.4!C65","v":"4.2.1 งาน Prime Coat  &  Tack Coat  สำหรับผิวไหล่ทาง"}]
[null,null,{"$f":"+ปร.4!C66","v":"       4.2.1(1) Prime Coat"},null,null,null,null,null,null,null,null,{"$f":"+ปร.4!L66","v":"ตร.ม."},{"$f":"+ปร.4!M66","v":0},{"$f":"+ปร.4!N66","v":0},0,{"$f":"IF(M64=0,0,ปร.5!$I$20)","v":0},0,0]
[null,null,{"$f":"+ปร.4!C67","v":"       4.2.1(2) Tack Coat"},null,null,null,null,null,null,null,null,{"$f":"+ปร.4!L67","v":"ตร.ม."},{"$f":"+ปร.4!M67","v":0},{"$f":"+ปร.4!N67","v":0},0,{"$f":"IF(M65=0,0,ปร.5!$I$20)","v":0},0,0]
[null,null,{"$f":"+ปร.4!C68","v":"4.2.2 งานผิวไหล่ทาง Cape Seal"},null,null,null,null,null,null,null,null,{"$f":"+ปร.4!L68","v":"ตร.ม."},{"$f":"+ปร.4!M68","v":0},{"$f":"+ปร.4!N68","v":0},0,{"$f":"IF(M66=0,0,ปร.5!$I$20)","v":0},0,0]
[null,null,{"$f":"+ปร.4!C69","v":"4.2.3 งานผิวไหล่ทาง  Asphalt concrete   หนาเฉลี่ย 0.00  ซม."}]
[null,null,{"$f":"+ปร.4!C70","v":"       4.2.3(1) ปูบนผิว  Prime Coat"},null,null,null,null,null,null,null,null,{"$f":"+ปร.4!L70","v":"ตร.ม."},{"$f":"+ปร.4!M70","v":0},{"$f":"+ปร.4!N70","v":0},0,{"$f":"IF(M68=0,0,ปร.5!$I$20)","v":0},0,0]
[null,null,{"$f":"+ปร.4!C71","v":"       4.2.3(2) ปูบนผิว  Tack Coat"},null,null,null,null,null,null,null,null,{"$f":"+ปร.4!L71","v":"ตร.ม."},{"$f":"+ปร.4!M71","v":0},{"$f":"+ปร.4!N71","v":0},0,{"$f":"IF(M69=0,0,ปร.5!$I$20)","v":0},0,0]
[null,null,{"$f":"+ปร.4!C72","v":0}]
[null,null,{"$f":"+ปร.4!C73","v":0},null,null,null,null,null,null,null,null,{"$f":"+ปร.4!L73","v":0},{"$f":"+ปร.4!M73","v":0},{"$f":"+ปร.4!N73","v":0},0,{"$f":"IF(M71=0,0,ปร.5!$I$20)","v":0},0,0]
[null,null,{"$f":"+ปร.4!C74","v":0},null,null,null,null,null,null,null,null,{"$f":"+ปร.4!L74","v":0},{"$f":"+ปร.4!M74","v":0},{"$f":"+ปร.4!N74","v":0},0,{"$f":"IF(M72=0,0,ปร.5!$I$20)","v":0},0,0]
[null,null,{"$f":"+ปร.4!C75","v":0},null,null,null,null,null,null,null,null,{"$f":"+ปร.4!L75","v":0},{"$f":"+ปร.4!M75","v":0},{"$f":"+ปร.4!N75","v":0},0,{"$f":"IF(M73=0,0,ปร.5!$I$20)","v":0},0,0]
[null,null,{"$f":"+ปร.4!C76","v":0},null,null,null,null,null,null,null,null,{"$f":"+ปร.4!L76","v":0},{"$f":"+ปร.4!M76","v":0},{"$f":"+ปร.4!N76","v":0},0,{"$f":"IF(M74=0,0,ปร.5!$I$20)","v":0},0,0]
[null,null,{"$f":"+ปร.4!C77","v":0},null,null,null,null,null,null,null,null,{"$f":"+ปร.4!L77","v":0},{"$f":"+ปร.4!M77","v":0},{"$f":"+ปร.4!N77","v":0},0,{"$f":"IF(M75=0,0,ปร.5!$I$20)","v":0},0,0]
[null,null,{"$f":"+ปร.4!C78","v":0},null,null,null,null,null,null,null,null,{"$f":"+ปร.4!L78","v":0},{"$f":"+ปร.4!M78","v":0},{"$f":"+ปร.4!N78","v":0},0,{"$f":"IF(M76=0,0,ปร.5!$I$20)","v":0},0,0]
[{"$f":"+ปร.4!A79","v":5},{"$f":"+ปร.4!B79","v":"งานเบ็ดเตล็ด"}]
[null,{"$f":"+ปร.4!B80","v":5.0999999999999996},{"$f":"+ปร.4!C80","v":"งานระบบระบายน้ำ"}]
[null,null,{"$f":"+ปร.4!C81","v":"5.1.1 งานท่อลอดกลม คสล. ชนิดกลม "}]
[null,null,{"$f":"+ปร.4!C82","v":"       5.1.1(1) ขนาด"},null,"Ø",0.4,"ม.",null,null,null,null,{"$f":"+ปร.4!L82","v":"ม."},{"$f":"+ปร.4!M82","v":321},{"$f":"+ปร.4!N82","v":754},{"$f":"+M80*N80","v":242034},{"$f":"IF(M80=0,0,ปร.5!$I$20)","v":1.3592},{"$f":"+N80*P80","v":1024.8368},{"$f":"+O80*P80","v":328972.6128}]
[null,null,{"$f":"+ปร.4!C83","v":"       5.1.1(2) ขนาด"},null,"Ø",0.6,"ม.",null,null,null,null,{"$f":"+ปร.4!L83","v":"ม."},{"$f":"+ปร.4!M83","v":0},{"$f":"+ปร.4!N83","v":0},0,{"$f":"IF(M81=0,0,ปร.5!$I$20)","v":0},0,0]
[null,null,{"$f":"+ปร.4!C84","v":"       5.1.1(3) ขนาด"},null,null,null,null,null,null,null,null,{"$f":"+ปร.4!L84","v":"ม."},{"$f":"+ปร.4!M84","v":0},{"$f":"+ปร.4!N84","v":0},0,{"$f":"IF(M82=0,0,ปร.5!$I$20)","v":0},0,0]
[null,null,{"$f":"+ปร.4!C85","v":"       5.1.1(4) ขนาด"},null,null,null,null,null,null,null,null,{"$f":"+ปร.4!L85","v":"ม."},{"$f":"+ปร.4!M85","v":0},{"$f":"+ปร.4!N85","v":0},0,{"$f":"IF(M83=0,0,ปร.5!$I$20)","v":0},0,0]
[null,null,{"$f":"+ปร.4!C86","v":"       5.1.1(5) ขนาด"},null,null,null,null,null,null,null,null,{"$f":"+ปร.4!L86","v":"ม."},{"$f":"+ปร.4!M86","v":0},{"$f":"+ปร.4!N86","v":0},0,{"$f":"IF(M84=0,0,ปร.5!$I$20)","v":0},0,0]
[null,null,{"$f":"+ปร.4!C87","v":"5.1.2 งานกำแพงปากท่อ (Head Wall, End Wall)"}]
[null,null,{"$f":"+ปร.4!C88","v":"      5.1.2(1) ขนาด"},null,null,null,null,null,null,null,null,{"$f":"+ปร.4!L88","v":"ด้าน"},{"$f":"+ปร.4!M88","v":0},{"$f":"+ปร.4!N88","v":0},0,{"$f":"IF(M86=0,0,ปร.5!$I$20)","v":0},0,0]
[null,null,{"$f":"+ปร.4!C89","v":"      5.1.2(2) ขนาด"},null,null,null,null,null,null,null,null,{"$f":"+ปร.4!L89","v":"ด้าน"},{"$f":"+ปร.4!M89","v":0},{"$f":"+ปร.4!N89","v":0},0,{"$f":"IF(M87=0,0,ปร.5!$I$20)","v":0},0,0]
[null,null,{"$f":"+ปร.4!C90","v":"      5.1.2(3) ขนาด"},null,null,null,null,null,null,null,null,{"$f":"+ปร.4!L90","v":"ด้าน"},{"$f":"+ปร.4!M90","v":0},{"$f":"+ปร.4!N90","v":0},0,{"$f":"IF(M88=0,0,ปร.5!$I$20)","v":0},0,0]
[null,null,{"$f":"+ปร.4!C91","v":"      5.1.2(4) ขนาด"},null,null,null,null,null,null,null,null,{"$f":"+ปร.4!L91","v":"ด้าน"},{"$f":"+ปร.4!M91","v":0},{"$f":"+ปร.4!N91","v":0},0,{"$f":"IF(M89=0,0,ปร.5!$I$20)","v":0},0,0]
[null,null,{"$f":"+ปร.4!C92","v":"      5.1.2(5) ขนาด"},null,null,null,null,null,null,null,null,{"$f":"+ปร.4!L92","v":"ด้าน"},{"$f":"+ปร.4!M92","v":0},{"$f":"+ปร.4!N92","v":0},0,{"$f":"IF(M90=0,0,ปร.5!$I$20)","v":0},0,0]
[null,null,{"$f":"+ปร.4!C93","v":"      5.1.2(6) ขนาด"},null,null,null,null,null,null,null,null,{"$f":"+ปร.4!L93","v":"ด้าน"},{"$f":"+ปร.4!M93","v":0},{"$f":"+ปร.4!N93","v":0},0,{"$f":"IF(M91=0,0,ปร.5!$I$20)","v":0},0,0]
[null,null,{"$f":"+ปร.4!C94","v":"      5.1.2(7) ขนาด"},null,null,null,null,null,null,null,null,{"$f":"+ปร.4!L94","v":"ด้าน"},{"$f":"+ปร.4!M94","v":0},{"$f":"+ปร.4!N94","v":0},0,{"$f":"IF(M92=0,0,ปร.5!$I$20)","v":0},0,0]
[null,null,{"$f":"+ปร.4!C95","v":"      5.1.2(8) ขนาด"},null,null,null,null,null,null,null,null,{"$f":"+ปร.4!L95","v":"ด้าน"},{"$f":"+ปร.4!M95","v":0},{"$f":"+ปร.4!N95","v":0},0,{"$f":"IF(M93=0,0,ปร.5!$I$20)","v":0},0,0]
[null,null,{"$f":"+ปร.4!C96","v":"      5.1.2(9) ขนาด"},null,null,null,null,null,null,null,null,{"$f":"+ปร.4!L96","v":"ด้าน"},{"$f":"+ปร.4!M96","v":0},{"$f":"+ปร.4!N96","v":0},0,{"$f":"IF(M94=0,0,ปร.5!$I$20)","v":0},0,0]
[null,null,{"$f":"+ปร.4!C97","v":"      5.1.2(10) ขนาด"},null,null,null,null,null,null,null,null,{"$f":"+ปร.4!L97","v":"ด้าน"},{"$f":"+ปร.4!M97","v":0},{"$f":"+ปร.4!N97","v":0},0,{"$f":"IF(M95=0,0,ปร.5!$I$20)","v":0},0,0]
[null,null,{"$f":"+ปร.4!C98","v":"      5.1.2(11) ขนาด"},null,null,null,null,null,null,null,null,{"$f":"+ปร.4!L98","v":"ด้าน"},{"$f":"+ปร.4!M98","v":0},{"$f":"+ปร.4!N98","v":0},0,{"$f":"IF(M96=0,0,ปร.5!$I$20)","v":0},0,0]
[null,null,{"$f":"+ปร.4!C99","v":"      5.1.2(12) ขนาด"},null,null,null,null,null,null,null,null,{"$f":"+ปร.4!L99","v":"ด้าน"},{"$f":"+ปร.4!M99","v":0},{"$f":"+ปร.4!N99","v":0},0,{"$f":"IF(M97=0,0,ปร.5!$I$20)","v":0},0,0]
[null,null,{"$f":"+ปร.4!C100","v":"5.1.3 งานรางระบายน้ำ คสล."}]
[null,null,{"$f":"+ปร.4!C101","v":"       5.1.3(1) แบบเปิด"},null,null,null,null,null,null,null,null,{"$f":"+ปร.4!L101","v":"ม."},{"$f":"+ปร.4!M101","v":0},{"$f":"+ปร.4!N101","v":0},0,{"$f":"IF(M99=0,0,ปร.5!$I$20)","v":0},0,0]
[null,null,{"$f":"+ปร.4!C102","v":"       5.1.3(2) แบบตัวยู พร้อมฝาปิด"},null,null,null,null,null,null,null,null,{"$f":"+ปร.4!L102","v":"ม."},{"$f":"+ปร.4!M102","v":0},{"$f":"+ปร.4!N102","v":0},0,{"$f":"IF(M100=0,0,ปร.5!$I$20)","v":0},0,0]
[null,null,{"$f":"+ปร.4!C103","v":"       5.1.3(3) แบบรางตื้น"},null,null,null,null,null,null,null,null,{"$f":"+ปร.4!L103","v":"ม."},{"$f":"+ปร.4!M103","v":0},{"$f":"+ปร.4!N103","v":0},0,{"$f":"IF(M101=0,0,ปร.5!$I$20)","v":0},0,0]
[null,null,{"$f":"+ปร.4!C104","v":"       5.1.3(3) แบบรางระบายน้ำสำเร็จรูป (ขนาด 0.58 x 0.60 ม.)"},null,null,null,null,null,null,null,null,{"$f":"+ปร.4!L104","v":"ม."},{"$f":"+ปร.4!M104","v":0},{"$f":"+ปร.4!N104","v":0},0,{"$f":"IF(M102=0,0,ปร.5!$I$20)","v":0},0,0]
[null,null,{"$f":"+ปร.4!C105","v":"5.1.4 งานบ่อรับน้ำ คสล."}]
[null,null,{"$f":"+ปร.4!C106","v":"       5.1.4(1) บ่อพัก คสล. พร้อมฝา"},null,null,null,null,null,null,null,null,{"$f":"+ปร.4!L106","v":"บ่อ"},{"$f":"+ปร.4!M106","v":35},{"$f":"+ปร.4!N106","v":6020},210700,{"$f":"IF(M104=0,0,ปร.5!$I$20)","v":1.3592},8182.384,286383.44]
[null,null,{"$f":"+ปร.4!C107","v":"       5.1.4(2) บ่อพัก คสล. พร้อมฝา"},null,null,null,null,null,null,null,null,{"$f":"+ปร.4!L107","v":"บ่อ"},{"$f":"+ปร.4!M107","v":0},{"$f":"+ปร.4!N107","v":0},0,{"$f":"IF(M105=0,0,ปร.5!$I$20)","v":0},0,0]
[null,{"$f":"+ปร.4!B108","v":5.2},{"$f":"+ปร.4!C108","v":"งานปลูกหญ้า"}]
[null,null,{"$f":"+ปร.4!C109","v":"5.2.1 แบบ"},null,null,null,null,null,null,null,null,{"$f":"+ปร.4!L109","v":"ตร.ม."},{"$f":"+ปร.4!M109","v":0},{"$f":"+ปร.4!N109","v":0},0,{"$f":"IF(M107=0,0,ปร.5!$I$20)","v":0},0,0]
[null,null,{"$f":"+ปร.4!C110","v":"5.2.2 แบบ"},null,null,null,null,null,null,null,null,{"$f":"+ปร.4!L110","v":"ตร.ม."},{"$f":"+ปร.4!M110","v":0},{"$f":"+ปร.4!N110","v":0},0,{"$f":"IF(M108=0,0,ปร.5!$I$20)","v":0},0,0]
[null,{"$f":"+ปร.4!B111","v":5.3},{"$f":"+ปร.4!C111","v":"งานเครื่องหมายจราจร"}]
[null,null,{"$f":"+ปร.4!C112","v":"5.3.1 งานป้ายจราจร  ใช้แผ่นสะท้อนแสงตาม มาตรฐาน"}]
[null,null,{"$f":"+ปร.4!C113","v":"     -  แบบ บ1"},null,null,null,null,null,null,null,null,{"$f":"+ปร.4!L113","v":"ชุด"},{"$f":"+ปร.4!M113","v":0},{"$f":"+ปร.4!N113","v":0},0,{"$f":"IF(M111=0,0,ปร.5!$I$20)","v":0},0,0]
[null,null,{"$f":"+ปร.4!C114","v":"     -  แบบ บ2"},null,null,null,null,null,null,null,null,{"$f":"+ปร.4!L114","v":"ชุด"},{"$f":"+ปร.4!M114","v":0},{"$f":"+ปร.4!N114","v":0},0,{"$f":"IF(M112=0,0,ปร.5!$I$20)","v":0},0,0]
[null,null,{"$f":"+ปร.4!C115","v":"     -   แบบ บ3-บ55"},null,null,null,null,null,null,null,null,{"$f":"+ปร.4!L115","v":"ชุด"},{"$f":"+ปร.4!M115","v":0},{"$f":"+ปร.4!N115","v":0},0,{"$f":"IF(M113=0,0,ปร.5!$I$20)","v":0},0,0]
[null,null,{"$f":"+ปร.4!C116","v":"     -   แบบ ต1-ต27,ต31-ต60,ต75"},null,null,null,null,null,null,null,null,{"$f":"+ปร.4!L116","v":"ชุด"},{"$f":"+ปร.4!M116","v":0},{"$f":"+ปร.4!N116","v":0},0,{"$f":"IF(M114=0,0,ปร.5!$I$20)","v":0},0,0]
[null,null,{"$f":"+ปร.4!C117","v":"     -   แบบ ต28-ต30,ต62"},null,null,null,null,null,null,null,null,{"$f":"+ปร.4!L117","v":"ชุด"},{"$f":"+ปร.4!M117","v":0},{"$f":"+ปร.4!N117","v":0},0,{"$f":"IF(M115=0,0,ปร.5!$I$20)","v":0},0,0]
[null,null,{"$f":"+ปร.4!C118","v":"     -   แบบ ต61"},null,null,null,null,null,null,null,null,{"$f":"+ปร.4!L118","v":"ชุด"},{"$f":"+ปร.4!M118","v":0},{"$f":"+ปร.4!N118","v":0},0,{"$f":"IF(M116=0,0,ปร.5!$I$20)","v":0},0,0]
[null,null,{"$f":"+ปร.4!C119","v":"     -   แบบ ต63+ต66  (1 แผ่น)"},null,null,null,null,null,null,null,null,{"$f":"+ปร.4!L119","v":"ชุด"},{"$f":"+ปร.4!M119","v":0},{"$f":"+ปร.4!N119","v":0},0,{"$f":"IF(M117=0,0,ปร.5!$I$20)","v":0},0,0]
[null,null,{"$f":"+ปร.4!C120","v":"     -   แบบ ต63+ต66  (2 แผ่น)"},null,null,null,null,null,null,null,null,{"$f":"+ปร.4!L120","v":"ชุด"},{"$f":"+ปร.4!M120","v":0},{"$f":"+ปร.4!N120","v":0},0,{"$f":"IF(M118=0,0,ปร.5!$I$20)","v":0},0,0]
[null,null,{"$f":"+ปร.4!C121","v":"     -   แบบ ต64,ต67"},null,null,null,null,null,null,null,null,{"$f":"+ปร.4!L121","v":"ชุด"},{"$f":"+ปร.4!M121","v":0},{"$f":"+ปร.4!N121","v":0},0,{"$f":"IF(M119=0,0,ปร.5!$I$20)","v":0},0,0]
[null,null,{"$f":"+ปร.4!C122","v":"     -   แบบ ต65,ต68,ต70"},null,null,null,null,null,null,null,null,{"$f":"+ปร.4!L122","v":"ชุด"},{"$f":"+ปร.4!M122","v":0},{"$f":"+ปร.4!N122","v":0},0,{"$f":"IF(M120=0,0,ปร.5!$I$20)","v":0},0,0]
[null,null,{"$f":"+ปร.4!C123","v":"     -   แบบ ต69"},null,null,null,null,null,null,null,null,{"$f":"+ปร.4!L123","v":"ชุด"},{"$f":"+ปร.4!M123","v":0},{"$f":"+ปร.4!N123","v":0},0,{"$f":"IF(M121=0,0,ปร.5!$I$20)","v":0},0,0]
[null,null,{"$f":"+ปร.4!C124","v":"     -   แบบ ต71"},null,null,null,null,null,null,null,null,{"$f":"+ปร.4!L124","v":"ชุด"},{"$f":"+ปร.4!M124","v":0},{"$f":"+ปร.4!N124","v":0},0,{"$f":"IF(M122=0,0,ปร.5!$I$20)","v":0},0,0]
[null,null,{"$f":"+ปร.4!C125","v":"     -   แบบ ต72-ต73"},null,null,null,null,null,null,null,null,{"$f":"+ปร.4!L125","v":"ชุด"},{"$f":"+ปร.4!M125","v":0},{"$f":"+ปร.4!N125","v":0},0,{"$f":"IF(M123=0,0,ปร.5!$I$20)","v":0},0,0]
[null,null,{"$f":"+ปร.4!C126","v":"     -   แบบ ต74"},null,null,null,null,null,null,null,null,{"$f":"+ปร.4!L126","v":"ชุด"},{"$f":"+ปร.4!M126","v":0},{"$f":"+ปร.4!N126","v":0},0,{"$f":"IF(M124=0,0,ปร.5!$I$20)","v":0},0,0]
[null,null,{"$f":"+ปร.4!C127","v":"     -   แบบ ต76"},null,null,null,null,null,null,null,null,{"$f":"+ปร.4!L127","v":"ชุด"},{"$f":"+ปร.4!M127","v":0},{"$f":"+ปร.4!N127","v":0},0,{"$f":"IF(M125=0,0,ปร.5!$I$20)","v":0},0,0]
[null,null,{"$f":"+ปร.4!C128","v":"     -   แบบ ต77"},null,null,null,null,null,null,null,null,{"$f":"+ปร.4!L128","v":"ชุด"},{"$f":"+ปร.4!M128","v":0},{"$f":"+ปร.4!N128","v":0},0,{"$f":"IF(M126=0,0,ปร.5!$I$20)","v":0},0,0]
[null,null,{"$f":"+ปร.4!C129","v":"     -   แบบ ต78"},null,null,null,null,null,null,null,null,{"$f":"+ปร.4!L129","v":"ชุด"},{"$f":"+ปร.4!M129","v":0},{"$f":"+ปร.4!N129","v":0},0,{"$f":"IF(M127=0,0,ปร.5!$I$20)","v":0},0,0]
[null,null,{"$f":"+ปร.4!C130","v":"     -   แบบ บ3-บ55+ต1- ต27,ต31-ต60"},null,null,null,null,null,null,null,null,{"$f":"+ปร.4!L130","v":"ชุด"},{"$f":"+ปร.4!M130","v":0},{"$f":"+ปร.4!N130","v":0},0,{"$f":"IF(M128=0,0,ปร.5!$I$20)","v":0},0,0]
[null,null,{"$f":"+ปร.4!C131","v":"     -   แบบ ต1-ต27+ต73,ต31-ต60+ต73"},null,null,null,null,null,null,null,null,{"$f":"+ปร.4!L131","v":"ชุด"},{"$f":"+ปร.4!M131","v":0},{"$f":"+ปร.4!N131","v":0},0,{"$f":"IF(M129=0,0,ปร.5!$I$20)","v":0},0,0]
[null,null,{"$f":"+ปร.4!C132","v":"     -   แบบ ต1-ต27+ต74,ต31-ต60+ต74"},null,null,null,null,null,null,null,null,{"$f":"+ปร.4!L132","v":"ชุด"},{"$f":"+ปร.4!M132","v":0},{"$f":"+ปร.4!N132","v":0},0,{"$f":"IF(M130=0,0,ปร.5!$I$20)","v":0},0,0]
[null,null,{"$f":"+ปร.4!C133","v":"     -   แบบ ต1-ต27+ต75,ต31-ต60+ต75"},null,null,null,null,null,null,null,null,{"$f":"+ปร.4!L133","v":"ชุด"},{"$f":"+ปร.4!M133","v":0},{"$f":"+ปร.4!N133","v":0},0,{"$f":"IF(M131=0,0,ปร.5!$I$20)","v":0},0,0]
[null,null,{"$f":"+ปร.4!C134","v":"     -   แบบ ต1-ต27+ต76,ต31-ต60+ต76"},null,null,null,null,null,null,null,null,{"$f":"+ปร.4!L134","v":"ชุด"},{"$f":"+ปร.4!M134","v":0},{"$f":"+ปร.4!N134","v":0},0,{"$f":"IF(M132=0,0,ปร.5!$I$20)","v":0},0,0]
[null,null,{"$f":"+ปร.4!C135","v":"     -   แบบ ต1-ต27+ต77,ต31-ต60+ต77"},null,null,null,null,null,null,null,null,{"$f":"+ปร.4!L135","v":"ชุด"},{"$f":"+ปร.4!M135","v":0},{"$f":"+ปร.4!N135","v":0},0,{"$f":"IF(M133=0,0,ปร.5!$I$20)","v":0},0,0]
[null,null,{"$f":"+ปร.4!C136","v":"     -   แบบ ต1-ต27+ต78,ต31-ต60+ต78"},null,null,null,null,null,null,null,null,{"$f":"+ปร.4!L136","v":"ชุด"},{"$f":"+ปร.4!M136","v":0},{"$f":"+ปร.4!N136","v":0},0,{"$f":"IF(M134=0,0,ปร.5!$I$20)","v":0},0,0]
[null,null,{"$f":"+ปร.4!C137","v":"     -   ป้าย หมายเลขทางหลวงชนบท (น1)"},null,null,null,null,null,null,null,null,{"$f":"+ปร.4!L137","v":"ชุด"},{"$f":"+ปร.4!M137","v":0},{"$f":"+ปร.4!N137","v":0},0,{"$f":"IF(M135=0,0,ปร.5!$I$20)","v":0},0,0]
[null,null,{"$f":"+ปร.4!C138","v":"     -   ป้าย หมายเลขทางหลวงชนบท (น1/1)"},null,null,null,null,null,null,null,null,{"$f":"+ปร.4!L138","v":"ชุด"},{"$f":"+ปร.4!M138","v":0},{"$f":"+ปร.4!N138","v":0},0,{"$f":"IF(M136=0,0,ปร.5!$I$20)","v":0},0,0]
[null,null,{"$f":"+ปร.4!C139","v":"     -   ป้าย บอกจุดหมาย ปลายทาง (1-น2)"},null,null,null,null,null,null,null,null,{"$f":"+ปร.4!L139","v":"ชุด"},{"$f":"+ปร.4!M139","v":0},{"$f":"+ปร.4!N139","v":0},0,{"$f":"IF(M137=0,0,ปร.5!$I$20)","v":0},0,0]
[null,null,{"$f":"+ปร.4!C140","v":"     -   ป้าย บอกจุดหมาย ปลายทาง (2-น2)"},null,null,null,null,null,null,null,null,{"$f":"+ปร.4!L140","v":"ชุด"},{"$f":"+ปร.4!M140","v":0},{"$f":"+ปร.4!N140","v":0},0,{"$f":"IF(M138=0,0,ปร.5!$I$20)","v":0},0,0]
[null,null,{"$f":"+ปร.4!C141","v":"     -   ป้าย บอกจุดหมาย ปลายทาง (3-น2)"},null,null,null,null,null,null,null,null,{"$f":"+ปร.4!L141","v":"ชุด"},{"$f":"+ปร.4!M141","v":0},{"$f":"+ปร.4!N141","v":0},0,{"$f":"IF(M139=0,0,ปร.5!$I$20)","v":0},0,0]
[null,null,{"$f":"+ปร.4!C142","v":"     -   ป้าย บอกระยะทาง (1-น3)"},null,null,null,null,null,null,null,null,{"$f":"+ปร.4!L142","v":"ชุด"},{"$f":"+ปร.4!M142","v":0},{"$f":"+ปร.4!N142","v":0},0,{"$f":"IF(M140=0,0,ปร.5!$I$20)","v":0},0,0]
[null,null,{"$f":"+ปร.4!C143","v":"     -   ป้าย บอกระยะทาง (2-น3)"},null,null,null,null,null,null,null,null,{"$f":"+ปร.4!L143","v":"ชุด"},{"$f":"+ปร.4!M143","v":0},{"$f":"+ปร.4!N143","v":0},0,{"$f":"IF(M141=0,0,ปร.5!$I$20)","v":0},0,0]
[null,null,{"$f":"+ปร.4!C144","v":"     -   ป้าย บอกระยะทาง (3-น3)"},null,null,null,null,null,null,null,null,{"$f":"+ปร.4!L144","v":"ชุด"},{"$f":"+ปร.4!M144","v":0},{"$f":"+ปร.4!N144","v":0},0,{"$f":"IF(M142=0,0,ปร.5!$I$20)","v":0},0,0]
[null,null,{"$f":"+ปร.4!C145","v":"     -   ป้าย ป้าย บอกจุดหมายและระยะทาง (น-4)"},null,null,null,null,null,null,null,null,{"$f":"+ปร.4!L145","v":"ชุด"},{"$f":"+ปร.4!M145","v":0},{"$f":"+ปร.4!N145","v":0},0,{"$f":"IF(M143=0,0,ปร.5!$I$20)","v":0},0,0]
[null,null,{"$f":"+ปร.4!C146","v":"     -   ป้าย บอกหมู่บ้าน (น5)"},null,null,null,null,null,null,null,null,{"$f":"+ปร.4!L146","v":"ชุด"},{"$f":"+ปร.4!M146","v":0},{"$f":"+ปร.4!N146","v":0},{"$f":"+M144*N144","v":0},{"$f":"IF(M144=0,0,ปร.5!$I$20)","v":0},{"$f":"+N144*P144","v":0},{"$f":"+O144*P144","v":0}]
[null,null,{"$f":"+ปร.4!C147","v":"     -   ป้าย บอกคลองทางน้ำ (น6)"},null,null,null,null,null,null,null,null,{"$f":"+ปร.4!L147","v":"ชุด"},{"$f":"+ปร.4!M147","v":0},{"$f":"+ปร.4!N147","v":0},0,{"$f":"IF(M145=0,0,ปร.5!$I$20)","v":0},0,0]
[null,null,{"$f":"+ปร.4!C148","v":"     -   ป้าย สิ้นสุดสายทาง (น7)"},null,null,null,null,null,null,null,null,{"$f":"+ปร.4!L148","v":"ชุด"},{"$f":"+ปร.4!M148","v":0},{"$f":"+ปร.4!N148","v":0},0,{"$f":"IF(M146=0,0,ปร.5!$I$20)","v":0},0,0]
[null,null,{"$f":"+ปร.4!C149","v":"     -   ป้าย ระบุทิศทาง (น8 )"},null,null,null,null,null,null,null,null,{"$f":"+ปร.4!L149","v":"ชุด"},{"$f":"+ปร.4!M149","v":0},{"$f":"+ปร.4!N149","v":0},0,{"$f":"IF(M147=0,0,ปร.5!$I$20)","v":0},0,0]
[null,null,{"$f":"+ปร.4!C150","v":"     -   ป้าย ระบุทิศทาง (น7 ถึง น20)"},null,null,null,null,null,null,null,null,{"$f":"+ปร.4!L150","v":"ชุด"},{"$f":"+ปร.4!M150","v":0},{"$f":"+ปร.4!N150","v":0},0,{"$f":"IF(M148=0,0,ปร.5!$I$20)","v":0},0,0]
[null,null,{"$f":"+ปร.4!C151","v":"     -   ป้าย น1+นส-1 ถึง นส-14"},null,null,null,null,null,null,null,null,{"$f":"+ปร.4!L151","v":"ชุด"},{"$f":"+ปร.4!M151","v":0},{"$f":"+ปร.4!N151","v":0},0,{"$f":"IF(M149=0,0,ปร.5!$I$20)","v":0},0,0]
[null,null,{"$f":"+ปร.4!C152","v":"     -   ป้าย น1/1+นส-1 ถึง นส-14"},null,null,null,null,null,null,null,null,{"$f":"+ปร.4!L152","v":"ชุด"},{"$f":"+ปร.4!M152","v":0},{"$f":"+ปร.4!N152","v":0},0,{"$f":"IF(M150=0,0,ปร.5!$I$20)","v":0},0,0]
[null,null,{"$f":"+ปร.4!C153","v":"     -   ป้าย น1+นส-1 ถึง นส-14 + น1+นส-1 ถึง นส-14"},null,null,null,null,null,null,null,null,{"$f":"+ปร.4!L153","v":"ชุด"},{"$f":"+ปร.4!M153","v":0},{"$f":"+ปร.4!N153","v":0},0,{"$f":"IF(M151=0,0,ปร.5!$I$20)","v":0},0,0]
[null,null,{"$f":"+ปร.4!C154","v":"     -   ป้าย น1+น1/1+นส-1 ถึง นส-14 +นส-14"},null,null,null,null,null,null,null,null,{"$f":"+ปร.4!L154","v":"ชุด"},{"$f":"+ปร.4!M154","v":0},{"$f":"+ปร.4!N154","v":0},0,{"$f":"IF(M152=0,0,ปร.5!$I$20)","v":0},0,0]
[null,null,{"$f":"+ปร.4!C155","v":"     -   ป้าย น-1+น-1/1(2ชิ้น)+นส-1 ถึง นส-14(3ชิ้น)"},null,null,null,null,null,null,null,null,{"$f":"+ปร.4!L155","v":"ชุด"},{"$f":"+ปร.4!M155","v":0},{"$f":"+ปร.4!N155","v":0},0,{"$f":"IF(M153=0,0,ปร.5!$I$20)","v":0},0,0]
[null,null,{"$f":"+ปร.4!C156","v":"     -   ป้ายกำหนดน้ำหนักบรรทุก"},null,null,null,null,null,null,null,null,{"$f":"+ปร.4!L156","v":"ชุด"},{"$f":"+ปร.4!M156","v":0},{"$f":"+ปร.4!N156","v":0},0,{"$f":"IF(M154=0,0,ปร.5!$I$20)","v":0},0,0]
[null,null,{"$f":"+ปร.4!C157","v":"5.3.2 งานหลักนำโค้ง หลักกิโลเมตร หลักเขตทาง"}]
[null,null,{"$f":"+ปร.4!C158","v":"       5.3.2(1) หลักนำโค้ง / หลักตำแหน่งท่อ  คสล."},null,null,null,null,null,null,null,null,{"$f":"+ปร.4!L158","v":"หลัก"},{"$f":"+ปร.4!M158","v":0},{"$f":"+ปร.4!N158","v":0},0,{"$f":"IF(M156=0,0,ปร.5!$I$20)","v":0},0,0]
[null,null,{"$f":"+ปร.4!C159","v":"       5.3.2(2) หลักกิโลเมตร"},null,null,null,null,null,null,null,null,{"$f":"+ปร.4!L159","v":"หลัก"},{"$f":"+ปร.4!M159","v":0},{"$f":"+ปร.4!N159","v":0},0,{"$f":"IF(M157=0,0,ปร.5!$I$20)","v":0},0,0]
[null,null,{"$f":"+ปร.4!C160","v":"       5.3.2(3) หลักเขตทาง"},null,null,null,null,null,null,null,null,{"$f":"+ปร.4!L160","v":"หลัก"},{"$f":"+ปร.4!M160","v":0},{"$f":"+ปร.4!N160","v":0},0,{"$f":"IF(M158=0,0,ปร.5!$I$20)","v":0},0,0]
[null,null,{"$f":"+ปร.4!C161","v":"5.3.3 งานเครื่องหมายจราจรบนผิวทาง"}]
[null,null,{"$f":"+ปร.4!C162","v":"       5.3.3(1) สีเหลือง กว้าง"},null,null,null,null,null,null,null,null,{"$f":"+ปร.4!L162","v":"ตร.ม."},{"$f":"+ปร.4!M162","v":0},{"$f":"+ปร.4!N162","v":0},0,{"$f":"IF(M160=0,0,ปร.5!$I$20)","v":0},0,0]
[null,null,{"$f":"+ปร.4!C163","v":"       5.3.3(2) สีขาว กว้าง"},null,null,null,null,null,null,null,null,{"$f":"+ปร.4!L163","v":"ตร.ม."},{"$f":"+ปร.4!M163","v":0},{"$f":"+ปร.4!N163","v":0},0,{"$f":"IF(M161=0,0,ปร.5!$I$20)","v":0},0,0]
[null,null,{"$f":"+ปร.4!C164","v":"       5.3.3(3) ทางม้าลาย ( 1 แห่ง = 9.0 ตร.ม.)"},null,null,null,null,null,null,null,null,{"$f":"+ปร.4!L164","v":"แห่ง"},{"$f":"+ปร.4!M164","v":0},{"$f":"+ปร.4!N164","v":0},0,{"$f":"IF(M162=0,0,ปร.5!$I$20)","v":0},0,0]
[null,null,{"$f":"+ปร.4!C165","v":"5.3.4 หมุดสะท้อนแสง "}]
[null,null,{"$f":"+ปร.4!C166","v":"       5.3.4(1) ชนิดทิศทางเดียว"},null,null,null,null,null,null,null,null,{"$f":"+ปร.4!L166","v":"ชุด"},{"$f":"+ปร.4!M166","v":0},{"$f":"+ปร.4!N166","v":0},0,{"$f":"IF(M164=0,0,ปร.5!$I$20)","v":0},0,0]
[null,null,{"$f":"+ปร.4!C167","v":"       5.3.4(2) ชนิดสองทิศทาง"},null,null,null,null,null,null,null,null,{"$f":"+ปร.4!L167","v":"ชุด"},{"$f":"+ปร.4!M167","v":0},{"$f":"+ปร.4!N167","v":0},0,{"$f":"IF(M165=0,0,ปร.5!$I$20)","v":0},0,0]
[null,{"$f":"+ปร.4!B168","v":5.4},{"$f":"+ปร.4!C168","v":"สัญญาณไฟกระพริบพลังงานแสงอาทิตย์ Ø  300  มม."}]
[null,null,{"$f":"+ปร.4!C169","v":"      5.4.1 สัญญาณไฟกระพริบ"},null,null,null,null,null,null,null,null,{"$f":"+ปร.4!L169","v":"ชุด"},{"$f":"+ปร.4!M169","v":0},{"$f":"+ปร.4!N169","v":0},0,{"$f":"IF(M167=0,0,ปร.5!$I$20)","v":0},0,0]
[null,null,{"$f":"+ปร.4!C170","v":"      5.4.2 สัญญาณไฟกระพริบ + บ1"},null,null,null,null,null,null,null,null,{"$f":"+ปร.4!L170","v":"ชุด"},{"$f":"+ปร.4!M170","v":0},{"$f":"+ปร.4!N170","v":0},0,{"$f":"IF(M168=0,0,ปร.5!$I$20)","v":0},0,0]
[null,null,{"$f":"+ปร.4!C171","v":"      5.4.3 สัญญาณไฟกระพริบ + ต"},null,null,null,null,null,null,null,null,{"$f":"+ปร.4!L171","v":"ชุด"},{"$f":"+ปร.4!M171","v":0},{"$f":"+ปร.4!N171","v":0},0,{"$f":"IF(M169=0,0,ปร.5!$I$20)","v":0},0,0]
[null,5.4,{"$f":"+ปร.4!C172","v":"RUMBLE STRIP ( 3  จุด = 1 แห่ง = 7.8 ตร.ม.)"},null,null,null,null,null,null,null,null,{"$f":"+ปร.4!L172","v":"ตร.ม."},{"$f":"+ปร.4!M172","v":0},{"$f":"+ปร.4!N172","v":0},0,{"$f":"IF(M170=0,0,ปร.5!$I$20)","v":0},0,0]
[null,{"$f":"+ปร.4!B173","v":5.6},{"$f":"+ปร.4!C173","v":"TIMBER BARRICADE"},null,null,null,null,null,null,null,null,{"$f":"+ปร.4!L173","v":"ม."},{"$f":"+ปร.4!M173","v":0},{"$f":"+ปร.4!N173","v":0},0,{"$f":"IF(M171=0,0,ปร.5!$I$20)","v":0},0,0]
[null,5.5,{"$f":"+ปร.4!C174","v":"GUARD RAIL"}]
[null,null,"5.5.1  GUARD RAIL (ทางตรง)",null,null,null,null,null,null,null,null,{"$f":"+ปร.4!L175","v":"ม."},{"$f":"+ปร.4!M175","v":0},{"$f":"+ปร.4!N175","v":0},0,{"$f":"IF(M173=0,0,ปร.5!$I$20)","v":0},0,0]
[null,null,"5.5.2  GUARD RAIL (ทางโค้ง/คอสะพาน)",null,null,null,null,null,null,null,null,{"$f":"+ปร.4!L176","v":"ม."},{"$f":"+ปร.4!M176","v":0},{"$f":"+ปร.4!N176","v":0},0,{"$f":"IF(M174=0,0,ปร.5!$I$20)","v":0},0,0]
[null,{"$f":"+ปร.4!B177","v":2.2000000000000002},{"$f":"+ปร.4!C177","v":"งานป้องกันการกัดเซาะ"}]
[null,null,{"$f":"+ปร.4!C178","v":"2.2.1 ชนิด"},null,null,null,null,null,null,null,null,{"$f":"+ปร.4!L178","v":"กล่อง"},{"$f":"+ปร.4!M178","v":0},{"$f":"+ปร.4!N178","v":0},0,{"$f":"IF(M176=0,0,ปร.5!$I$20)","v":0},0,0]
[null,null,{"$f":"+ปร.4!C179","v":"2.2.2 ชนิด"},null,null,null,null,null,null,null,null,{"$f":"+ปร.4!L179","v":"กล่อง"},{"$f":"+ปร.4!M179","v":0},{"$f":"+ปร.4!N179","v":0},0,{"$f":"IF(M177=0,0,ปร.5!$I$20)","v":0},0,0]
[null,null,{"$f":"+ปร.4!C180","v":"2.2.3 ชนิด"},null,null,null,null,null,null,null,null,{"$f":"+ปร.4!L180","v":"ตร.ม."},{"$f":"+ปร.4!M180","v":0},{"$f":"+ปร.4!N180","v":0},0,{"$f":"IF(M178=0,0,ปร.5!$I$20)","v":0},0,0]
[null,null,{"$f":"+ปร.4!C181","v":"2.2.4 ชนิด"},null,null,null,null,null,null,null,null,{"$f":"+ปร.4!L181","v":"ตร.ม."},{"$f":"+ปร.4!M181","v":0},{"$f":"+ปร.4!N181","v":0},0,{"$f":"IF(M179=0,0,ปร.5!$I$20)","v":0},0,0]
[null,{"$f":"+ปร.4!B183","v":2.2999999999999998},{"$f":"+ปร.4!C183","v":"Approach Slab "},null,null,null,null,null,null,null,null,{"$f":"+ปร.4!L183","v":"ตร.ม."},{"$f":"+ปร.4!M183","v":0},{"$f":"+ปร.4!N183","v":0},0,{"$f":"IF(M180=0,0,ปร.5!$I$20)","v":0},0,0]
[null,{"$f":"+ปร.4!B184","v":2.4},{"$f":"+ปร.4!C184","v":"Concrete  Barrier"},null,null,null,null,null,null,null,null,{"$f":"+ปร.4!L184","v":"แห่ง"},{"$f":"+ปร.4!M184","v":0},{"$f":"+ปร.4!N184","v":0},0,{"$f":"IF(M181=0,0,ปร.5!$I$20)","v":0},0,0]
[null,{"$f":"+ปร.4!B185","v":2.5},{"$f":"+ปร.4!C185","v":"งานทางเบี่ยง"},null,null,null,null,null,null,null,null,{"$f":"+ปร.4!L185","v":"LS."},{"$f":"+ปร.4!M185","v":0},{"$f":"+ปร.4!N185","v":0},0,{"$f":"IF(M182=0,0,ปร.5!$I$20)","v":0},0,0]
[{"$f":"+ปร.4!A186","v":6},{"$f":"+ปร.4!B186","v":"งานไฟฟ้าแสงสว่าง"}]
[null,{"$f":"+ปร.4!B187","v":6.1},{"$f":"+ปร.4!C187","v":"เสาไฟฟ้าแสงสว่าง  สูง 9.00 ม. กิ่งเดี่ยวและอุปกรณ์"},null,null,null,null,null,null,null,null,{"$f":"+ปร.4!L187","v":"ชุด"},{"$f":"+ปร.4!M187","v":0},{"$f":"+ปร.4!N187","v":0},0,{"$f":"IF(M184=0,0,ปร.5!$I$20)","v":0},0,0]
[null,{"$f":"+ปร.4!B188","v":6.2},{"$f":"+ปร.4!C188","v":"โคมไฟถนนขนาดกำลัง 250 W.HPS พร้อมอุปกรณ์"},null,null,null,null,null,null,null,null,{"$f":"+ปร.4!L188","v":"ชุด"},{"$f":"+ปร.4!M188","v":0},{"$f":"+ปร.4!N188","v":0},0,{"$f":"IF(M185=0,0,ปร.5!$I$20)","v":0},0,0]
[null,{"$f":"+ปร.4!B189","v":6.3},{"$f":"+ปร.4!C189","v":"ฐานรากของเสาไฟฟ้าแสงสว่าง และอุปกรณ์ประกอบ"},null,null,null,null,null,null,null,null,{"$f":"+ปร.4!L189","v":"ฐาน"},{"$f":"+ปร.4!M189","v":0},{"$f":"+ปร.4!N189","v":0},0,{"$f":"IF(M186=0,0,ปร.5!$I$20)","v":0},0,0]
[null,{"$f":"+ปร.4!B190","v":6.4},{"$f":"+ปร.4!C190","v":"ชุดควบคุมไฟถนนพร้อมอุปกรณ์ประกอบ"},null,null,null,null,null,null,null,null,{"$f":"+ปร.4!L190","v":"ชุด"},{"$f":"+ปร.4!M190","v":0},{"$f":"+ปร.4!N190","v":0},0,{"$f":"IF(M187=0,0,ปร.5!$I$20)","v":0},0,0]
[null,{"$f":"+ปร.4!B191","v":6.5},{"$f":"+ปร.4!C191","v":"กล่องดึงสาย บ่อพักสาย และอุปกรณ์ประกอบ"},null,null,null,null,null,null,null,null,{"$f":"+ปร.4!L191","v":"ชุด"},{"$f":"+ปร.4!M191","v":0},{"$f":"+ปร.4!N191","v":0},0,{"$f":"IF(M188=0,0,ปร.5!$I$20)","v":0},0,0]
[null,{"$f":"+ปร.4!B192","v":6.6},{"$f":"+ปร.4!C192","v":"สายไฟฟ้า"}]
[null,null,{"$f":"+ปร.4!C193","v":"6.6.1 สายไฟชนิด NYY ขนาด    3x10   ตร.มม."},null,null,null,null,null,null,null,null,{"$f":"+ปร.4!L193","v":"ม."},{"$f":"+ปร.4!M193","v":0},{"$f":"+ปร.4!N193","v":0},0,{"$f":"IF(M190=0,0,ปร.5!$I$20)","v":0},0,0]
[null,null,{"$f":"+ปร.4!C194","v":"6.6.2 สายไฟชนิด THW ขนาด    2x2.5    ตร.มม."},null,null,null,null,null,null,null,null,{"$f":"+ปร.4!L194","v":"ม."},{"$f":"+ปร.4!M194","v":0},{"$f":"+ปร.4!N194","v":0},0,{"$f":"IF(M191=0,0,ปร.5!$I$20)","v":0},0,0]
[null,{"$f":"+ปร.4!B195","v":6.7},{"$f":"+ปร.4!C195","v":"ท่อร้อยสายไฟฟ้า"}]
[null,null,{"$f":"+ปร.4!C196","v":"6.7.1 ท่อร้อยสายไฟฟ้า ชนิด HDPE Ø 1 1/2\"  และอุปกรณ์"},null,null,null,null,null,null,null,null,{"$f":"+ปร.4!L196","v":"ม."},{"$f":"+ปร.4!M196","v":0},{"$f":"+ปร.4!N196","v":0},0,{"$f":"IF(M193=0,0,ปร.5!$I$20)","v":0},0,0]
[null,null,{"$f":"+ปร.4!C197","v":"6.7.2 ท่อเหล็กชุบสังกะสี  Ø 1 1/2\" พร้อมค่าดันท่อลอด"},null,null,null,null,null,null,null,null,{"$f":"+ปร.4!L197","v":"ม."},{"$f":"+ปร.4!M197","v":0},{"$f":"+ปร.4!N197","v":0},0,{"$f":"IF(M194=0,0,ปร.5!$I$20)","v":0},0,0]
[null,{"$f":"+ปร.4!B198","v":6.2},{"$f":"+ปร.4!C198","v":"เสาไฟฟ้าแสงสว่างพลังงานแสงอาทิตย์  สูง 9.00 ม. กิ่งเดี่ยวและอุปกรณ์"},null,null,null,null,null,null,null,null,{"$f":"+ปร.4!L198","v":"ชุด"},{"$f":"+ปร.4!M198","v":0},{"$f":"+ปร.4!N198","v":0},0,{"$f":"IF(M195=0,0,ปร.5!$I$20)","v":0},0,0]
[null,null,null,null,null,null,null,null,null,null,null,null,null,null,null,null,null,null,{"$f":"+R174+R170+R161+R160+R157+R156+R138+R137+R114+R68+R64+R53+R49+R39+R35+R30+R29+R22+R20+R19","v":0}]
[null,null,"รวมค่างานประเภทงานทาง",null,null,null,null,null,null,null,null,null,null,null,{"$f":"SUM(O13:O196)","v":585628},1.3322000000000001,null,{"$f":"+O197*P197","v":780173.62160000007},{"$f":"SUM(R13:R196)","v":795985.57759999996},{"$f":"IF(ROUND(R197,2)=ROUND(S197,2),\"OK\",\"CHECK\")","v":"CHECK"}]
[null,"ประเภทงานก่อสร้างสะพานและท่อลอดเหลี่ยม",null,null,null,null,null,null,null,null,null,null,null,null,null,null,null,null,null,{"$f":"IF(ROUND(R198,2)=ROUND(S198,2),\"OK\",\"CHECK\")","v":"OK"}]
[1,"งานสะพาน  คสล.",null,null,null,null,null,null,null,null,null,null,null,null,null,null,null,null,null,"OK"]
[null,1.1000000000000001,"งานสะพาน  ที่  กม..........ถึง  กม. .......... ความกว้าง ...... เมตร  ความยาว ....... เมตร",null,null,null,null,null,null,null,null,null,null,null,null,null,null,null,null,"OK"]
[null,null,"1.1.1 งานเสาเข็ม ",null,null,null,null,null,null,null,null,null,null,null,null,null,null,null,null,"OK"]
[null,null,"       1.1.1(1)  เสาเข็ม ตับริม  ขนาด ........ม x......ม. ความยาว  ........  ม.",null,null,null,null,null,null,null,null,null,null,null,null,null,null,null,null,"OK"]
[null,null,"       1.1.1(2)  เสาเข็ม ตับกลาง  ขนาด ........ม x......ม. ความยาว  ........  ม.",null,null,null,null,null,null,null,null,null,null,null,null,null,null,null,null,"OK"]
[null,null,"1.1.2 งานตอม่อรับพื้นสะพาน ",null,null,null,null,null,null,null,null,null,null,null,null,null,null,null,null,"OK"]
[null,null,"       1.1.2(1)  ตอม่อรับพื้นและกำแพงกันดินตับริม",null,null,null,null,null,null,null,null,null,null,null,null,null,null,null,null,"OK"]
[null,null,"       1.1.2(2)  ตอม่อรับพื้นตับกลาง",null,null,null,null,null,null,null,null,null,null,null,null,null,null,null,null,"OK"]
[null,null,"1.1.3 งานพื้นสะพานหล่อในที่",null,null,null,null,null,null,null,null,null,null,null,null,null,null,null,null,"OK"]
[null,null,"1.1.4 งานพื้นสะพานหล่อสำเร็จ",null,null,null,null,null,null,null,null,null,null,null,null,null,null,null,null,"OK"]
[null,null,"       1.1.4(1) หล่อ Plank grider สำหรับช่วงความยาว................ ม.",null,null,null,null,null,null,null,null,null,null,null,null,null,null,null,null,"OK"]
[null,null,"       1.1.4(2) ค่าติดตั้ง Plank grider    สำหรับช่วงความยาว................ ม.",null,null,null,null,null,null,null,null,null,null,null,null,null,null,null,null,"OK"]
[null,null,"       1.1.4(3) งานคอนกรีต Topping",null,null,null,null,null,null,null,null,null,null,null,null,null,null,null,null,"OK"]
[null,null,"1.1.5 งานทางเท้า   ราวสะพาน  และงาน เบ็ดเตล็ด  อื่น ๆ",null,null,null,null,null,null,null,null,null,null,null,null,null,null,null,null,"OK"]
[null,null,"       1.1.5(1) งานราวสะพาน คสล.",null,null,null,null,null,null,null,null,null,null,null,null,null,null,null,null,"OK"]
[null,null,"       1.1.5(2) งานทางเท้าสะพาน คสล.",null,null,null,null,null,null,null,null,null,null,null,null,null,null,null,null,"OK"]
[null,null,"       1.1.5(3) ป้ายสะพานชนิด....................ขนาด.......................",null,null,null,null,null,null,null,null,null,null,null,null,null,null,null,null,"OK"]
[null,null,"       1.1.5(4) กระดาษชานอ้อย",null,null,null,null,null,null,null,null,null,null,null,null,null,null,null,null,"OK"]
[null,null,"       1.1.5(5) แอสฟัลท์อุดรอยต่อ",null,null,null,null,null,null,null,null,null,null,null,null,null,null,null,null,"OK"]
[null,null,"       1.1.5(6) สีสะท้อนแสงคอสะพาน",null,null,null,null,null,null,null,null,null,null,null,null,null,null,null,null,"OK"]
[null,null,"1.1.6 งานทางเบี่ยงชั่วคราว",null,null,null,null,null,null,null,null,null,null,null,null,null,null,null,null,"OK"]
[2,"งานท่อลอดเหลี่ยม  คสล.",null,null,null,null,null,null,null,null,null,null,null,null,null,null,null,null,null,"OK"]
[null,2.1,{"$error":"#NAME?"},null,null,null,null,null,null,null,null,null,null,null,null,null,null,null,null,"OK"]
[null,null,"2.1.1 งานขุดดิน",null,null,null,null,null,null,null,null,null,null,null,null,null,null,null,null,"OK"]
[null,null,"2.1.2 งานคอนกรีตหยาบ",null,null,null,null,null,null,null,null,null,null,null,null,null,null,null,null,"OK"]
[null,null,"2.1.3 งานคอนกรีตโครงสร้าง",null,null,null,null,null,null,null,null,null,null,null,null,null,null,null,null,"OK"]
[null,null,"2.1.4 งานไม้แบบ  ( 3 )",null,null,null,null,null,null,null,null,null,null,null,null,null,null,null,null,"OK"]
[null,null,"2.1.5 งานไม้ค้ำยัน Ø 3\"",null,null,null,null,null,null,null,null,null,null,null,null,null,null,null,null,"OK"]
[null,null,"2.1.6 งานเหล็กเสริม",null,null,null,null,null,null,null,null,null,null,null,null,null,null,null,null,"OK"]
[null,null,"       - ขนาด RB 6 มม.",null,null,null,null,null,null,null,null,null,null,null,null,null,null,null,null,"OK"]
[null,null,"       - ขนาด RB 9 มม.",null,null,null,null,null,null,null,null,null,null,null,null,null,null,null,null,"OK"]
[null,null,"      - ขนาด RB 25 มม.  (Dowel)",null,null,null,null,null,null,null,null,null,null,null,null,null,null,null,null,"OK"]
[null,null,"       - ขนาด DB 12 มม.",null,null,null,null,null,null,null,null,null,null,null,null,null,null,null,null,"OK"]
[null,null,"       - ขนาด DB 16 มม.",null,null,null,null,null,null,null,null,null,null,null,null,null,null,null,null,"OK"]
[null,null,"       - ขนาด DB 20 มม.",null,null,null,null,null,null,null,null,null,null,null,null,null,null,null,null,"OK"]
[null,null,"      - ขนาด DB 25 มม.",null,null,null,null,null,null,null,null,null,null,null,null,null,null,null,null,"OK"]
[null,null,"      - ค่าแรงงานเหล็ก",null,null,null,null,null,null,null,null,null,null,null,null,null,null,null,null,"OK"]
[null,null,"      - ลวดผูกเหล็กใช้ 2.5%",null,null,null,null,null,null,null,null,null,null,null,null,null,null,null,null,"OK"]
[null,null,null,null,null,null,null,null,null,null,null,null,null,null,null,null,null,null,null,"OK"]
[null,null,"รวมค่างานประเภทงานสะพานและท่อลอดเหลี่ยม",null,null,null,null,null,null,null,null,null,null,null,null,null,null,null,null,"OK"]
[null,"ประเภทค่าใช้จ่ายพิเศษตามข้อกำหนดและค่าใช้จ่ายอื่นๆ",null,null,null,null,null,null,null,null,null,null,null,null,null,null,null,null,null,{"$f":"IF(ROUND(R197,2)=ROUND(ปร.4!R200,2),\"OK\",\"CHECK\")","v":"CHECK"}]
[null," - งานจัดการจราจรระหว่างก่อสร้าง",null,null,null,null,"เช่าติดตั้ง","รูปแบบที่ 2",null,null,null,"เหมา",{"$f":"+ปร.4!M243","v":1},{"$f":"+ปร.4!N243","v":2500},{"$f":"M240*N240","v":2500},{"$f":"IF(M240=0,0,1)","v":1},{"$f":"+N240*P240","v":2500},{"$f":"+O240*P240","v":2500}]
[null," - ค่าธรรมเนียมขยายเขตไฟฟ้าและติดตั้งหม้อแปลงไฟฟ้า",null,null,null,null,null,null,null,null,null,"จุด",0,0,0,0,0,0]
[null,null,null,null,null,null,null,null,null,null,null,null,0,0,0,0,0,0]
[null,"รวมค่างานประเภทค่าใช้จ่ายพิเศษตามข้อกำหนดและค่าใช้จ่ายอื่นๆ",null,null,null,null,null,null,null,null,null,null,null,null,{"$f":"+O240","v":2500},{"$f":"+P240","v":1},null,{"$f":"+R240","v":2500}]
[null,null,null,null,null,null,null,null,null,null,null,null,null,null,null,null,"TOTAL",{"$f":"+R197+R243","v":782673.62160000007},null,{"$f":"IF(ROUND(R244,2)=ROUND(ปร.5!G20,2),\"OK\",\"CHECK\")","v":"CHECK"}]
[null,null,null,null,null,null,null,null,null,null,null,null,null,null,"คิดเป็นราคากลางค่าก่อสร้างประมาณ",null,null,{"$f":"ROUNDDOWN(R244,-4)","v":780000}]
[null,null,null,null,null,null,null,null,null,null,null,null,null,null,"ตัวอักษร",{"$f":"+CONCATENATE(\"(\",BAHTTEXT(R245),\")\")","v":"(เจ็ดแสนแปดหมื่นบาทถ้วน)"}]
[]
[null,null,"ผลรวมค่างานต้นทุนงานก่อสร้างทาง",null,null,null,null,null,null,null,null,null,null,null,null,"=",{"$f":"+O197","v":585628}]
[null,null,"ผลรวมค่างานต้นทุนงานก่อสร้างสะพานและท่อลอดเหลี่ยม",null,null,null,null,null,null,null,null,null,null,null,null,"=",0]
[null,null,"ผลรวมค่าใช้จ่ายพิเศษตามข้อกำหนดและค่าใช้จ่ายอื่นๆ",null,null,null,null,null,null,null,null,null,null,null,null,"=",{"$f":"+O243","v":2500}]
[]
[null,null,"ค่า Factor F งานก่อสร้างทาง",null,null,null,null,null,null,null,null,null,null,null,null,"=",{"$f":"+P197","v":1.3322000000000001}]
[null,null,"ค่า Factor F งานก่อสร้างสะพานและท่อลอดเหลี่ยม",null,null,null,null,null,null,null,null,null,null,null,null,"=",0]
[]
[null,null,"ค่า Factor F ค่าใช้จ่ายพิเศษตามข้อกำหนดฯ",null,null,null,null,null,null,null,null,null,null,null,null,"=",1]
[null,null,"ค่า Factor F งานก่อสร้างทางซึ่งรวมค่าใช้จ่ายพิเศษตามข้อกำหนดฯ  ( Factor FN ) =",null,null,null,null,null,null,null,null,null,null,null,null,"=",0]
[null,null,"ค่า Factor F งานก่อสร้างสะพานและท่อลอดเหลี่ยมซึ่งรวมค่าใช้จ่ายพิเศษตามข้อกำหนดฯ  ( Factor FN )  =",null,null,null,null,null,null,null,null,null,null,null,null,"=",0]
[]
["................................................................"]
["( นายเฉลิมชนม์        ลีสม )"]
["ประธานกรรมการกำหนดราคากลาง"]
[null,null,"................................................................",null,null,null,null,null,null,null,null,null,null,null,"................................................................"]
[null,null,"( ว่าที่ ร.ต.สืบศักดิ์        แสงทอง )",null,null,null,null,null,null,null,null,null,null,null,"( นายประจักษ์       โชคบัญชา )"]
[null,null,"กรรมการกำหนดราคากลาง",null,null,null,null,null,null,null,null,null,null,null,"กรรมการกำหนดราคากลาง"]

{"sheet":"ปร.5","index":10,"n_rows":49,"n_cols":15,"rows_kept":49,"cut":false,"hidden":false,"merged":[[35,6,35,7],[36,6,36,7],[39,2,39,4],[41,2,41,4],[40,2,40,4],[35,2,35,4],[36,2,36,4],[39,6,39,7],[40,6,40,7],[43,2,43,4],[43,6,43,7],[44,2,44,4],[44,6,44,7],[47,2,47,4],[56,2,56,4],[48,2,48,4],[49,2,49,4],[53,2,53,4],[55,2,55,4],[0,0,0,8],[8,3,8,6],[21,2,21,7],[31,2,31,4],[32,2,32,4],[15,7,15,8],[31,6,31,7],[32,6,32,7],[3,2,3,8],[27,2,27,4],[28,2,28,4]]}
[{"$f":"IF(ราคากลาง1!L4=1,\"แบบสรุปราคากลางงาน\")&ข้อมูลโครงการ!G2","v":"แบบสรุปราคากลางงานก่อสร้างขยายใหล่ทางคอนกรีตเสริมเหล็ก พร้อมระบบระบายน้ำ  2  ข้างทางตามแบบมาตฐานงานทางสำหรับ อปท"}]
["ส่วนราชการ      ",null,{"$f":"CONCATENATE(\"\",ข้อมูลโครงการ!G5)","v":"งานแบบแผนและก่อสร้าง"},null,null,null,{"$f":"IF(ข้อมูลโครงการ!O5=\"-\",\"\",CONCATENATE(\"\",ข้อมูลโครงการ!O5))","v":"กองช่างเทศบาลตำบลนากลาง"}]
[null,null,{"$f":"CONCATENATE(\"\",ข้อมูลโครงการ!G4)","v":"สำนักงานเทศบาลตำบลนากลาง"},null,null,null,{"$f":"CONCATENATE(\"กระทรวง\",ข้อมูลโครงการ!O4)","v":"กระทรวงมหาดไทย"}]
["ประเภทงาน  ",null,{"$f":"ข้อมูลโครงการ!G2","v":"ก่อสร้างขยายใหล่ทางคอนกรีตเสริมเหล็ก พร้อมระบบระบายน้ำ  2  ข้างทางตามแบบมาตฐานงานทางสำหรับ อปท"},null,null,null,null,null,null,null,null,{"$f":"ราคากลาง1!L4","v":1},null,{"$f":"ราคากลาง1!N4","v":2}]
["ปริมาณงาน",null,"1. งานขยายไหล่ทาง 2 ข้างทาง กว้างข้างละ 1 เมตร ยาว 356 เมตร หนา 0.15 เมตร พื้นที่ไม่น้อยกว่า  365 ตร.ม. "]
[null,null,"2. งานวางท่อระบายน้ำ 2 ข้างทาง ยาวรวม 356 เมตร โดยการวางท่อระบายน้ำขนาด 0.40 x 1.00 เมตร พร้อมบ่อพัก คสล."]
["สถานที่ก่อสร้าง",null,{"$f":"CONCATENATE(ข้อมูลโครงการ!$G$7)","v":"ซอยจันทร์สุวรรณ"}]
[null,null,{"$f":"ปร.4!C3&\"         จำนวน      \"&1&\"    แห่ง\"","v":"บ้านกุดแห่ หมู่ 1 ตำบลกุดแห่ อำเภอนากลาง  จังหวัดหนองบัวลำภู         จำนวน      1    แห่ง"}]
["ประมาณราคา           เมื่อวันที่",null,null,{"$f":"ข้อมูลโครงการ!G3","v":"2020-02-11"}]
["ระยะเวลาดำเนินงาน     90   วัน",null,null,null,"ราคาน้ำมันเฉลี่ย  26.50  บาท/ลิตร"]
["ลำดับที่","รายการ",null,null,"รวมค่างานต้นทุน","Factor F","รวมค่าก่อสร้าง","หมายเหตุ"]
[1,"ประเภทงานทาง",null,null,{"$f":"ปร.4!O200","v":585628},{"$f":"IF(E12=0,0,I20)","v":1.3592},{"$f":"ROUND(E12*I20,2)","v":795985.58}," - เงินล่วงหน้าจ่าย",0]
[{"$f":"IF(E13=\"\",\"\",2)","v":""},{"$f":"IF(E13=\"\",\"\",\"ประเภทงานสะพานและท่อลอดเหลี่ยม คสล.\")","v":""},null,null,{"$f":"IF(ปร.4!O241=0,\"\",ปร.4!O241)","v":""},{"$f":"IF(E13=\"\",\"\",I21)","v":""},{"$f":"IF(E13=\"\",\"\",ROUND(E13*F13,2))","v":""}," - ดอกเบี้ยเงินกู้",0.06,null,null,null,null,"Factor F",{"$f":"ROUNDDOWN(M14-(((M14-M15)*(E12-L14))/(L15-L14)),5)","v":1.4047499999999999}]
[{"$f":"IF(E14=\"\",\"\",IF(E13=\"\",2,3))","v":2},{"$f":"IF(E14=\"\",\"\",\"ประเภทค่าใช้จ่ายพิเศษตามข้อกำหนดฯ\")","v":"ประเภทค่าใช้จ่ายพิเศษตามข้อกำหนดฯ"},null,null,{"$f":"2500+ปร.4!O244","v":7840},{"$f":"IF(E14=0,\"\",1)","v":1},{"$f":"IF(E14=\"\",\"\",ROUND(E14*F14,2))","v":7840}," - เงินประกันผลงานหัก",0,null,null,{"$f":"+Factor_FR!B11*1000000","v":5000000},{"$f":"+Factor_FR!I11","v":1.3592},{"$f":"IF(E12<L14,M14,ROUND(M14-(((M14-M15)*(E12-L14))/(L15-L14)),4))","v":1.3592},{"$f":"IF(F12=N14,\"OK\",\"CHECK\")","v":"OK"}]
[null,null,null,null,null,null,null," - ภาษีมูลค่าเพิ่ม(VAT)",7.0000000000000007E-2,null,null,{"$f":"+Factor_FR!B12*1000000","v":10000000},{"$f":"+Factor_FR!I12","v":1.3076000000000001}]
[null,null,null,null,null,null,null,{"$f":"\"พื้นที่ \"&ข้อมูลโครงการ!R13","v":"พื้นที่ ปกติ"},null,null,"วงเงิน"]
[]
[]
[]
[null,"รวมเป็นค่าก่อสร้าง",null,null,null,null,{"$f":"SUM(G12:G19)","v":803825.58},"Factor F งานทาง",{"$f":"ROUND(IF(ข้อมูลโครงการ!R13=\"ปกติ\",Factor_FR!C53,IF(ข้อมูลโครงการ!R13=\"ฝนตกชุก 1\",Factor_FR!D53,Factor_FR!E53)),4)","v":1.3592},"<  *CHECK*",7000000]
["สรุป","คิดเป็นราคาค่าก่อสร้างประมาณ",null,null,null,null,{"$f":"ROUNDDOWN(G20,-2)","v":803800},"Factor F งานสะพานฯ",{"$f":"ROUND(Factor_FB!C194,4)","v":1.2491000000000001},null,{"$f":"+K20-G20","v":6196174.4199999999}]
[null,"ตัวอักษร",{"$f":"+CONCATENATE(\"(\",BAHTTEXT(G21),\")\")","v":"(แปดแสนสามพันแปดร้อยบาทถ้วน)"}]
[]
["     จำนวน",null,0.35599999999999998,"กิโลเมตร   เฉลี่ยราคา กิโลเมตร ละ ",null,{"$f":"IF(C24=0,0,G21/C24)","v":2257865.1685393262},"บาท "]
[]
[]
[null,"กรรมการ"]
[null,null,{"$f":"CONCATENATE(\"(\",ข้อมูลโครงการ!G18,\")\")","v":"(นายวิทยา  ทิพย์ทอง)"}]
[null,null,{"$f":"ข้อมูลโครงการ!G19","v":"นายช่างโยธาชำนาญงาน"}]
[]
[null,"ผู้ประมาณราคา"]
[null,null,{"$f":"CONCATENATE(\"(\",ข้อมูลโครงการ!G18,\")\")","v":"(นายวิทยา  ทิพย์ทอง)"}]
[null,null,{"$f":"ข้อมูลโครงการ!G19","v":"นายช่างโยธาชำนาญงาน"}]
[]
[null,"กรรมการ"]
[null,"                       (ผู้อำนวยการส่วนอำนวยการ)",{"$f":"CONCATENATE(\"(\",ข้อมูลโครงการ!G20,\")\")","v":"(นายคำสอน  อักษรกลาง)"}]
[null,null,{"$f":"ข้อมูลโครงการ!G21","v":"นายช่างโยธาอาวุโส"}]
[]
[null,{"$f":"IF(ข้อมูลโครงการ!G22=\"\",\"\",\"ประธานกรรมการ\")","v":"ประธานกรรมการ"}]
[null,"                       (ผู้อำนวยการส่วนอำนวยการ)",{"$f":"CONCATENATE(\"(\",ข้อมูลโครงการ!G22,\")\")","v":"(นายประยุทธ์  เย็นอารมย์)"}]
[null,null,{"$f":"ข้อมูลโครงการ!G23","v":"ผู้อำนวยการกองช่าง"}]
[]
[null,"เห็นชอบ"]
[null,"                       (ผู้อำนวยการส่วนอำนวยการ)",{"$f":"CONCATENATE(\"(\",ข้อมูลโครงการ!G24,\")\")","v":"(นายชัยพร  ขันทะชา)"}]
[null,null,{"$f":"ข้อมูลโครงการ!G25","v":"ปลัดเทศบาลตำบลนากลาง"}]
[]
[null,"อนุมัติ"]
[null,"                       (ผู้อำนวยการส่วนอำนวยการ)",{"$f":"CONCATENATE(\"(\",ข้อมูลโครงการ!G26,\")\")","v":"(นายทองหลั่น  เกษทองมา)"}]
[null,null,{"$f":"ข้อมูลโครงการ!G27","v":"นายกเทศมนตรีตำบลนากลาง"}]

{"sheet":"ปร.4","index":11,"n_rows":251,"n_cols":26,"rows_kept":251,"cut":false,"hidden":false,"merged":[[240,21,240,22],[199,21,199,22],[182,3,182,8],[0,0,0,17],[11,11,12,11],[11,17,12,17],[11,12,12,12],[11,0,12,0],[11,13,12,13],[11,14,12,14],[11,16,12,16],[183,3,183,5],[3,21,3,30],[4,21,4,30],[243,7,243,8],[242,7,242,8],[9,5,9,10],[11,1,12,10],[11,15,12,15]]}
[{"$f":"CONCATENATE(IF(ราคากลาง1!L4=1,\"แบบราคากลางงาน\"),ข้อมูลโครงการ!G2)","v":"แบบราคากลางงานก่อสร้างขยายใหล่ทางคอนกรีตเสริมเหล็ก พร้อมระบบระบายน้ำ  2  ข้างทางตามแบบมาตฐานงานทางสำหรับ อปท"}]
["สายทาง",null,{"$f":"ข้อมูลโครงการ!G7","v":"ซอยจันทร์สุวรรณ"}]
[null,null,{"$f":"ข้อมูลโครงการ!G8","v":"บ้านกุดแห่ หมู่ 1 ตำบลกุดแห่ อำเภอนากลาง  จังหวัดหนองบัวลำภู"}]
["ลักษณะโครงการ",null,null,null,null,null,null,null,null,null,null,null,null,null,null,null,null,null,null,null,null,{"$f":"IF(S7=T7,\"ลาดยางแบบ PARA Asphaltic  Concrete\",IF(S7=T8,\"ลาดยางแบบ Asphalt concrete\"))","v":"ลาดยางแบบ Asphalt concrete"}]
[null,null,{"$f":"ข้อมูลโครงการ!G2","v":"ก่อสร้างขยายใหล่ทางคอนกรีตเสริมเหล็ก พร้อมระบบระบายน้ำ  2  ข้างทางตามแบบมาตฐานงานทางสำหรับ อปท"},null,null,null,null,null,null,null,null,null,null,null,null,null,null,null,null,null,null,{"$f":"+V4","v":"ลาดยางแบบ Asphalt concrete"}]
[{"$f":"ปร.5!A5","v":"ปริมาณงาน"},null,{"$f":"ปร.5!C5","v":"1. งานขยายไหล่ทาง 2 ข้างทาง กว้างข้างละ 1 เมตร ยาว 356 เมตร หนา 0.15 เมตร พื้นที่ไม่น้อยกว่า  365 ตร.ม. "},null,null,null,null,null,null,null,null,null,null,null,null,null,null,null,2]
[null,null,{"$f":"ปร.5!C6","v":"2. งานวางท่อระบายน้ำ 2 ข้างทาง ยาวรวม 356 เมตร โดยการวางท่อระบายน้ำขนาด 0.40 x 1.00 เมตร พร้อมบ่อพัก คสล."},null,null,null,null,null,null,null,null,null,null,null,null,null,null,null,2,1,"ลาดยางแบบ PARA Asphaltic  Concrete"]
[null,null,"ไหล่ทาง","ลูกรัง",null,null,null,null,null,null,null,null,null,"กว้างข้างละ",{"$f":"ข้อมูลโครงการ!O11","v":0},"เมตร",null,null,null,2,"ลาดยางแบบ Asphalt concrete"]
[null,null,"ช่วงดำเนินการ","จุดเริ่มต้น  N 17.33764 \" E 102.18578\" จุดสิ้นสุด N 17.33702\" E 102.18735\""]
[null,null,"ประมาณราคา วันที่",null,null,{"$f":"IF(ปร.5!L4=1,ปร.5!D9,ราคากลาง1!C7)","v":"2020-02-11"},null,null,null,null,null,"ราคาน้ำมันเฉลี่ย  26.50  บาท/ลิตร"]
[null,null,"ระยะเวลาดำเนินงาน  90  วัน"]
["ลำดับ","รายการ",null,null,null,null,null,null,null,null,null,"หน่วย","จำนวน","ราคาต่อหน่วย","ราคาต้นทุน","FN","ราคาต่อหน่วย\nx FN",{"$f":"IF(ราคากลาง1!L4=1,\"ราคาค่าก่อสร้าง\",\"ราคากลาง\")","v":"ราคาค่าก่อสร้าง"},null,null,null,null,"ปรับแก้","ทศนิยม"]
[null,null,null,null,null,null,null,null,null,null,null,null,null,null,null,null,null,null,null,null,null,null,null,3]
[null,"ประเภทงานก่อสร้างทาง"]
[1,"งานรื้อย้าย"]
[null,1.1000000000000001,{"$f":"\"งานรื้อผิวจราจรลาดยางเดิม (ความหนา \"&BackUp!J8*100&\" ซม.)\"","v":"งานรื้อผิวจราจรลาดยางเดิม (ความหนา 5 ซม.)"},null,null,null,null,null,null,null,null,"ตร.ม.",{"$f":"ROUNDDOWN(BackUp!I37,0)","v":0},{"$f":"IF(M16=0,0,ราคาต่อหน่วย!J16)","v":0},{"$f":"ROUND(N16*M16,2)","v":0},{"$f":"IF(M16=0,0,ปร.5!$I$20)","v":0},{"$f":"IF(P16=0,0,ROUND(N16*P16,2))","v":0},{"$f":"IF(P16=0,0,ROUND(O16*P16,2)+W16)","v":0},null,null,null,null,null,{"$f":"IF(P16=0,0,ROUND(O16*P16,$X$13))","v":0},{"$f":"IF(X16=0,\"0\",\"1\")","v":"0"},1]
[null,1.2,{"$f":"\"งานรื้อผิวจราจร   คสล. เดิม (ความหนา \"&BackUp!M8*100&\" ซม.)\"","v":"งานรื้อผิวจราจร   คสล. เดิม (ความหนา 10 ซม.)"},null,null,null,null,null,null,null,null,"ตร.ม.",{"$f":"ROUNDDOWN(BackUp!L37,0)","v":0},{"$f":"IF(M17=0,0,ราคาต่อหน่วย!J29)","v":0},{"$f":"ROUND(N17*M17,2)","v":0},{"$f":"IF(M17=0,0,ปร.5!$I$20)","v":0},{"$f":"IF(P17=0,0,ROUND(N17*P17,2))","v":0},{"$f":"IF(P17=0,0,ROUND(O17*P17,2)+W17)","v":0},null,"ปริมาณคอนกรีตที่รื้อ (กรณี กรอกเอง)",null,null,null,{"$f":"IF(P17=0,0,ROUND(O17*P17,$X$13))","v":0},{"$f":"IF(X17=0,\"0\",\"1\")","v":"0"},1]
[null,1.3,"งานรื้อ ท่อลอดเหลี่ยมเดิม ",null,null,null,null,null,null,null,null,"เหมาจ่าย",{"$f":"IF(AND(U18=0,BackUp!BI51=0),0,1)","v":0},{"$f":"IF(M18=0,0,ราคาต่อหน่วย!J40)","v":0},{"$f":"ROUND(N18*M18,2)","v":0},{"$f":"IF(M18=0,0,ปร.5!$I$20)","v":0},0,0,null,"กรอกเอง",null,"ลบ.ม.",null,0,"0",1]
[null,1.4,"งานรื้อ สะพานเดิม ",null,null,null,null,null,null,null,null,"เหมาจ่าย",{"$f":"IF(AND(U19=0,BackUp!BL51=0),0,1)","v":0},{"$f":"IF(M19=0,0,ราคาต่อหน่วย!J51)","v":0},{"$f":"ROUND(N19*M19,2)","v":0},{"$f":"IF(M19=0,0,ปร.5!$I$20)","v":0},0,0,null,"กรอกเอง",null,"ลบ.ม.",null,0,"0",1]
[null,1.5,{"$f":"ราคาต่อหน่วย!C52&\" \"&ราคาต่อหน่วย!E52&\"  ซม.)\"","v":"งานรื้อหินคลุกเดิม(ขนกอง) (ความหนา  20  ซม.)"},null,null,null,null,null,null,null,null,"ตร.ม.",{"$f":"ROUNDDOWN(BackUp!N37,0)","v":0},{"$f":"IF(M20=0,0,ราคาต่อหน่วย!J63)","v":0},{"$f":"ROUND(N20*M20,2)","v":0},{"$f":"IF(M20=0,0,ปร.5!$I$20)","v":0},0,0,null,null,null,null,null,0,"0",1]
[2,"งานคันทางเดิม",null,null,null,null,null,null,null,null,null,null,null,null,null,null,null,null,null,null,null,null,null,0,"0",1]
[null,2.1,"งานกรุยทางถางป่า",null,{"$f":"ราคาต่อหน่วย!D66","v":"(ขนาดกลาง)"},null,null,null,null,null,null,"ตร.ม.",{"$f":"ROUNDDOWN(BackUp!S71,0)","v":0},{"$f":"IF(M22=0,0,ราคาต่อหน่วย!J68)","v":0},{"$f":"ROUND(N22*M22,2)","v":0},{"$f":"IF(M22=0,0,ปร.5!$I$20)","v":0},{"$f":"IF(P22=0,0,ROUND(N22*P22,2))","v":0},0,null,null,null,null,{"$f":"+$T$172","v":0},0,"0",1]
[null,2.2000000000000002,"งานปรับเกลี่ยแต่งคันทางเดิมและบดทับ",null,null,null,null,null,null,null,null,"ตร.ม.",null,null,{"$f":"ROUND(N23*M23,2)","v":0},{"$f":"IF(M23=0,0,ปร.5!$I$20)","v":0},{"$f":"IF(P23=0,0,ROUND(N23*P23,2))","v":0},0,null,null,null,null,0,0,"0",1]
[null,2.2999999999999998,"งานตัดขึ้นรูปคันทาง",null,null,null,null,null,null,null,null,null,null,null,null,null,null,null,null,null,null,null,0,0,"0",1]
[null,null,"2.3.1 งานดินตัด",null,null,null,null,null,null,null,null,"ลบ.ม.",0,{"$f":"IF(M25=0,0,ราคาต่อหน่วย!J84)","v":0},{"$f":"ROUND(N25*M25,2)","v":0},{"$f":"IF(M25=0,0,ปร.5!$I$20)","v":0},0,0,null,null,null,null,0,0,"0",1]
[null,null,"2.3.2 งานขุดตัดหินผุ",null,null,null,null,null,null,null,null,"ลบ.ม.",0,{"$f":"IF(M26=0,0,ราคาต่อหน่วย!J95)","v":0},{"$f":"ROUND(N26*M26,2)","v":0},{"$f":"IF(M26=0,0,ปร.5!$I$20)","v":0},0,0,null,null,null,null,0,0,"0",1]
[null,null,"2.3.3 งานขุดตัดหินแข็ง",null,null,null,null,null,null,null,null,"ลบ.ม.",0,{"$f":"IF(M27=0,0,ราคาต่อหน่วย!J103)","v":0},{"$f":"ROUND(N27*M27,2)","v":0},{"$f":"IF(M27=0,0,ปร.5!$I$20)","v":0},0,0,null,null,null,null,0,0,"0",1]
[null,null,"2.3.4 งานขุดวัสดุไม่เหมาะสม",null,null,null,null,null,null,null,null,"ลบ.ม.",0,{"$f":"IF(M28=0,0,ราคาต่อหน่วย!J107)","v":0},{"$f":"ROUND(N28*M28,2)","v":0},{"$f":"IF(M28=0,0,ปร.5!$I$20)","v":0},0,0,null,null,null,null,0,0,"0",1]
[null,null,"2.3.5 งานตัดแต่งขั้นบันได",null,null,null,null,null,null,null,null,"ลบ.ม.",0,{"$f":"IF(M29=0,0,ราคาต่อหน่วย!J112)","v":0},{"$f":"ROUND(N29*M29,2)","v":0},{"$f":"IF(M29=0,0,ปร.5!$I$20)","v":0},0,0,null,null,null,null,0,0,"0",1]
[null,2.4,"งานดินถมไหล่ทาง",null,null,null,null,null,null,null,null,null,null,null,null,null,null,null,null,null,null,null,0,0,"0",1]
[null,null,"2.4.1 งานดินถม",null,null,null,null,null,null,null,null,null,null,null,null,null,null,null,null,null,{"$f":"0.2*0.2","v":4.0000000000000008E-2},null,0,0,"0",1]
[null,null,"        2.4.1(1) งานดินถม(จากงานดินตัด)",null,null,null,null,null,null,null,null,"ลบ.ม.",{"$f":"ROUNDDOWN(IF(BackUp!G250=0,0,BackUp!I250),0)","v":0},{"$f":"+IF(M32=0,0,ราคาต่อหน่วย!J117)","v":0},{"$f":"ROUND(N32*M32,2)","v":0},{"$f":"IF(M32=0,0,ปร.5!$I$20)","v":0},0,0,"ยาว","กว้าง","หนา","ปริมาฯ",0,0,"0",1]
[null,null,"        2.4.1(2) งานดินถม(จากนอกโครงการ)",null,null,null,null,null,null,null,null,"ลบ.ม.",null,null,{"$f":"ROUND(N33*M33,2)","v":0},{"$f":"IF(M33=0,0,ปร.5!$I$20)","v":0},0,0,{"$f":"M58","v":321},1,0.2,{"$f":"+((S33*T33)*U33)","v":64.2},0,0,"0",1]
[null,null,"2.4.2 งานทรายรองผิวทาง คสล.",null,null,null,null,null,null,null,null,"ลบ.ม.",{"$f":"M58*0.05","v":16.05},{"$f":"+IF(M34=0,0,ราคาต่อหน่วย!J464)","v":680},{"$f":"ROUND(N34*M34,2)","v":10914},{"$f":"IF(M34=0,0,ปร.5!$I$20)","v":1.3592},924.26,14834.31,null,null,null,null,0,14834.308999999999,"1",1]
[null,2.5,"งานวัสดุคัดเลือก",null,null,null,null,null,null,null,null,"ลบ.ม.",{"$f":"ROUNDDOWN(IF(BackUp!G253=0,0,BackUp!I253),0)","v":0},{"$f":"IF(M35=0,0,ราคาต่อหน่วย!J464)","v":0},{"$f":"ROUND(N35*M35,2)","v":0},{"$f":"IF(M35=0,0,ปร.5!$I$20)","v":0},0,0,null,null,null,null,0,0,"0",1]
[3,"งานพื้นทางและรองพื้นทาง",null,null,null,null,null,null,null,null,null,null,null,null,null,null,null,null,null,null,null,null,0,0,"0",1]
[null,3.1,"งานรองพื้นทาง",null,null,null,null,null,null,null,null,null,null,null,null,null,null,null,null,null,null,null,0,0,"0",1]
[null,null,"3.1.1 งานรองพื้นทางลูกรัง",null,null,null,null,null,null,null,null,"ลบ.ม.",{"$f":"ROUNDDOWN(IF(BackUp!B252=BackUp!BX252,BackUp!I252,0),0)*0","v":0},{"$f":"+IF(M38=0,0,ราคาต่อหน่วย!J161)","v":0},{"$f":"ROUND(N38*M38,2)","v":0},{"$f":"IF(M38=0,0,ปร.5!$I$20)","v":0},0,0,null,null,null,null,0,0,"0",1]
[null,null,"3.1.2 งานรองพื้นทางดินซีเมนต์",null,null,null,null,null,null,null,null,"ลบ.ม.",{"$f":"ROUNDDOWN(IF(BackUp!B252=BackUp!BX253,BackUp!I252,0),0)","v":0},{"$f":"+IF(M39=0,0,ราคาต่อหน่วย!J176)","v":0},{"$f":"ROUND(N39*M39,2)","v":0},{"$f":"IF(M39=0,0,ปร.5!$I$20)","v":0},0,0,null,null,{"$f":"4000*0.15","v":600},null,0,0,"0",1]
[null,null,"3.1.3 งานทรายรองพื้นทาง",null,null,null,null,null,null,null,null,"ลบ.ม.",{"$f":"(M58+M73)*BackUp!T244","v":0},{"$f":"+IF(M40=0,0,ราคาต่อหน่วย!J464)","v":0},{"$f":"ROUND(N40*M40,2)","v":0},{"$f":"IF(M40=0,0,ปร.5!$I$20)","v":0},{"$f":"IF(P40=0,0,ROUND(N40*P40,2))","v":0},{"$f":"IF(P40=0,0,ROUND(O40*P40,2)+W40)","v":0},null,null,null,null,0,0,"0",1]
[null,3.2,"งานพื้นทาง",null,null,null,null,null,null,null,null,null,null,{"$f":"+IF(M41=0,\"\",พื้นทาง)","v":""},null,null,null,null,null,null,null,null,0,0,"0",1]
[null,null,"3.2.1 งานพื้นทางหินคลุก",null,null,null,null,null,null,null,null,"ลบ.ม.",{"$f":"ROUNDDOWN(M58*0,0)","v":0},0,{"$f":"ROUND(N42*M42,2)","v":0},{"$f":"IF(M42=0,0,ปร.5!$I$20)","v":0},0,0,null,null,null,null,0,0,"0",1]
[null,null,"3.2.2 งานพื้นทางดินซีเมนต์",null,null,null,null,null,null,null,null,"ลบ.ม.",{"$f":"ROUNDDOWN(IF(BackUp!B251=BackUp!BX250,BackUp!I251,0),0)","v":0},{"$f":"+IF(M43=0,0,ราคาต่อหน่วย!J201)","v":0},{"$f":"ROUND(N43*M43,2)","v":0},{"$f":"IF(M43=0,0,ปร.5!$I$20)","v":0},0,0,null,null,null,null,0,0,"0",1]
[null,3.3,"งานปรับปรุงโครงสร้างถนนเดิม",null,null,null,null,null,null,null,null,null,null,null,null,null,null,null,null,null,null,null,{"$f":"+$T$172","v":0},0,"0",1]
[null,null,"3.3.1(1) Deep  Patch",null,null,null,null,null,null,null,null,"ตร.ม.",{"$f":"ROUNDDOWN(BackUp!H117,0)","v":0},{"$f":"IF(M45=0,0,ราคาต่อหน่วย!J233)","v":0},{"$f":"ROUND(N45*M45,2)","v":0},{"$f":"IF(M45=0,0,ปร.5!$I$20)","v":0},0,{"$f":"IF(P45=0,0,ROUND(O45*P45,2)+W45)","v":0},null,null,null,null,0,0,"0",1]
[null,null,"3.3.2(2) งาน Pavement In-Place Recycling",null,null,null,null,null,null,null,null,"ตร.ม.",0,{"$f":"IF(M46=0,0,ราคาต่อหน่วย!J261)","v":0},{"$f":"ROUND(N46*M46,2)","v":0},{"$f":"IF(M46=0,0,ปร.5!$I$20)","v":0},0,0,null,null,null,null,0,0,"0",1]
[null,null,"3.3.2(3) งานหินคลุกปรับระดับ(หลวม)",null,null,null,null,null,null,null,null,"ลบ.ม.",{"$f":"BackUp!I257","v":0},{"$f":"+IF(M47=0,0,ROUND(ราคาต่อหน่วย!J181,1))","v":0},{"$f":"ROUND(N47*M47,2)","v":0},{"$f":"IF(M47=0,0,ปร.5!$I$20)","v":0},0,0,null,null,null,null,0,0,"0",1]
[4,"งานผิวทางและไหล่ทาง",null,null,null,null,null,null,null,null,null,null,null,null,null,null,null,null,null,null,null,null,0,0,"0",1]
[null,4.0999999999999996,"งานผิวทาง + Widening",null,null,null,null,null,null,null,null,null,null,"",null,null,null,null,null,null,null,null,0,0,"0",1]
[null,null,"4.1.1 งาน Prime Coat  &  Tack Coat  สำหรับผิวทาง",null,null,null,null,null,null,null,null,null,null,null,null,null,null,null,null,null,null,null,0,0,"0",1]
[null,null,"       4.1.1(1) Prime Coat",null,null,null,null,null,null,null,null,"ตร.ม.",{"$f":"M53+M55+M62","v":0},{"$f":"+IF(M51=0,0,ราคาต่อหน่วย!J288)","v":0},{"$f":"ROUND(N51*M51,2)","v":0},{"$f":"IF(M51=0,0,ปร.5!$I$20)","v":0},0,{"$f":"IF(P51=0,0,ROUND(O51*P51,2)+W51)","v":0},null,null,null,null,0,0,"0",1]
[null,null,"       4.1.1(2) Tack Coat",null,null,null,null,null,null,null,null,"ตร.ม.",{"$f":"M56","v":0},{"$f":"+IF(M52=0,0,ราคาต่อหน่วย!J294)","v":0},{"$f":"ROUND(N52*M52,2)","v":0},{"$f":"IF(M52=0,0,ปร.5!$I$20)","v":0},0,0,null,null,null,null,0,0,"0",1]
[null,null,"4.1.2 งานผิวทาง Cape Seal",null,null,null,null,null,null,null,null,"ตร.ม.",{"$f":"ROUNDDOWN(IF(ข้อมูลโครงการ!G10=ข้อมูลโครงการ!X11,BackUp!BM238+BackUp!BM239-BackUp!DB153,0),0)","v":0},{"$f":"+IF(M53=0,0,ราคาต่อหน่วย!J331)","v":0},{"$f":"ROUND(N53*M53,2)","v":0},{"$f":"IF(M53=0,0,ปร.5!$I$20)","v":0},0,0,null,null,null,null,0,0,"0",1]
[null," ",{"$f":"\"4.1.3 งานผิวทาง  \"&IF(S7=T7,\"PARA Asphaltic  Concrete\",IF(S7=T8,\"Asphalt concrete\"))&\"   หนาเฉลี่ย \"&ข้อมูลโครงการ!T11*100&\".00  ซม.\"","v":"4.1.3 งานผิวทาง  Asphalt concrete   หนาเฉลี่ย 0.00  ซม."},null,null,null,null,null,null,null,null,null,null,"",null,null,null,null,null,null,null,null,0,0,"0",1]
[null,null,"       4.1.3(1) ปูบนผิว  Prime Coat",null,null,null,null,null,null,null,null,"ตร.ม.",{"$f":"ROUNDDOWN(IF(ข้อมูลโครงการ!G10=ข้อมูลโครงการ!X13,BackUp!O242,0),0)","v":0},{"$f":"+IF(M55=0,0,ราคาต่อหน่วย!J353)","v":0},{"$f":"ROUND(N55*M55,2)","v":0},{"$f":"IF(M55=0,0,ปร.5!$I$20)","v":0},0,{"$f":"IF(P55=0,0,ROUND(O55*P55,2)+W55)","v":0},null,null,null,null,0,0,"0",1]
[null,null,"       4.1.3(2) ปูบนผิว  Tack Coat",null,null,null,null,null,null,null,null,"ตร.ม.",{"$f":"ROUNDDOWN(IF(ข้อมูลโครงการ!G10=ข้อมูลโครงการ!X13,BackUp!O241,0),0)","v":0},{"$f":"+IF(M56=0,0,ราคาต่อหน่วย!J357)","v":0},{"$f":"ROUND(N56*M56,2)","v":0},{"$f":"IF(M56=0,0,ปร.5!$I$20)","v":0},0,0,null,null,null,null,0,0,"0",1]
[null,null,"4.1.4 งานผิวทางและผิวทางเชื่อมคอนกรีตเสริมเหล็ก",null,null,null,null,null,null,null,null,null,null,null,null,null,null,null,null,"ทางเชื่อม",0,null,0,0,"0",1]
[null,null,{"$f":"\"4.1.4(1) งานผิวทางคอนกรีตเสริมเหล็ก  หนา  \"&BackUp!E244*100&\" ซม.\"","v":"4.1.4(1) งานผิวทางคอนกรีตเสริมเหล็ก  หนา  15 ซม."},null,null,null,null,null,null,null,null,"ตร.ม.",{"$f":"ROUNDDOWN((M82*1)+(U57*0),0)","v":321},{"$f":"+IF(M58=0,0,ราคาต่อหน่วย!J487)","v":318},{"$f":"ROUND(N58*M58,2)","v":102078},{"$f":"IF(M58=0,0,ปร.5!$I$20)","v":1.3592},432.23,{"$f":"IF(P58=0,0,ROUND(O58*P58,2)+W58)","v":138744.42000000001},null,"ความยาว Joint",null,null,0,138744.41800000001,"1",1]
[null,null,"       4.1.4(2)  Expansion  Joint",null,null,null,null,null,null,null,null,"ม.",{"$f":"U59","v":0},{"$f":"+IF(M59=0,0,ราคาต่อหน่วย!J497)","v":0},0,{"$f":"IF(M59=0,0,ปร.5!$I$20)","v":0},0,0,null,"Expansion  Joint",{"$f":"+((S33/100)+1)*0","v":0},"ม.",0,0,"0",1]
[null,null,"       4.1.4(3)  Contraction  Joint",null,null,null,null,null,null,null,null,"ม.",{"$f":"U60","v":0},{"$f":"+IF(M60=0,0,ราคาต่อหน่วย!J505)","v":0},0,{"$f":"IF(M60=0,0,ปร.5!$I$20)","v":0},0,0,null,"Contraction  Joint",{"$f":"+((S33/10)+1)*0","v":0},"ม.",0,0,"0",1]
[null,null,"       4.1.4(4)  Longitudinal  Joint",null,null,null,null,null,null,null,null,"ม.",321,{"$f":"+IF(M61=0,0,ราคาต่อหน่วย!J512)","v":62},19902,{"$f":"IF(M61=0,0,ปร.5!$I$20)","v":1.3592},84.27,27050.799999999999,null," Longitudinal  Joint",{"$f":"+(+S33)","v":321},"ม.",0,27050.797999999999,"1",1]
[null,null,"4.1.5 งานผิวทาง Para Cape Seal",null,null,null,null,null,null,null,null,"ตร.ม.",{"$f":"ROUNDDOWN(BackUp!I254,0)","v":0},{"$f":"+IF(M62=0,0,ราคาต่อหน่วย!J535)","v":0},0,{"$f":"IF(M62=0,0,ปร.5!$I$20)","v":0},{"$f":"IF(P62=0,0,ROUND(N62*P62,2))","v":0},0,null,null,null,null,0,0,"0",1]
[null,null,{"$f":"\"4.1.6 งาน\"&BackUp!B254","v":"4.1.6 งานผิวทางลูกรัง"},null,null,null,null,null,null,null,null,"ลบ.ม.",{"$f":"ROUNDDOWN(IF(ข้อมูลโครงการ!G11=ข้อมูลโครงการ!X13,BackUp!BM239+BackUp!BM240-BackUp!DB154,0),0)*0","v":0},{"$f":"+IF(M63=0,0,ราคาต่อหน่วย!J186)","v":0},0,{"$f":"IF(M63=0,0,ปร.5!$I$20)","v":0},{"$f":"IF(P63=0,0,ROUND(N63*P63,2))","v":0},{"$f":"IF(P63=0,0,ROUND(O63*P63,2)+W63)","v":0},null,null,null,null,0,{"$f":"IF(P63=0,0,ROUND(O63*P63,$X$13))","v":0},"0",1]
[null,4.2,"งานไหล่ทาง",null,null,null,null,null,null,null,null,null,null,"",null,null,null,null,null,null,null,null,0,0,"0",1]
[null,null,"4.2.1 งาน Prime Coat  &  Tack Coat  สำหรับผิวไหล่ทาง",null,null,null,null,null,null,null,null,null,null,null,null,null,null,null,null,null,null,null,0,0,"0",1]
[null,null,"       4.2.1(1) Prime Coat",null,null,null,null,null,null,null,null,"ตร.ม.",{"$f":"M68+M70+M77","v":0},{"$f":"+IF(M66=0,0,ราคาต่อหน่วย!J288)","v":0},{"$f":"ROUND(N66*M66,2)","v":0},{"$f":"IF(M66=0,0,ปร.5!$I$20)","v":0},0,{"$f":"IF(P66=0,0,ROUND(O66*P66,2)+W66)","v":0},null,null,null,null,0,0,"0",1]
[null,null,"       4.2.1(2) Tack Coat",null,null,null,null,null,null,null,null,"ตร.ม.",{"$f":"M71","v":0},{"$f":"+IF(M67=0,0,ราคาต่อหน่วย!J294)","v":0},{"$f":"ROUND(N67*M67,2)","v":0},{"$f":"IF(M67=0,0,ปร.5!$I$20)","v":0},0,0,null,null,null,null,0,0,"0",1]
[null,null,"4.2.2 งานผิวไหล่ทาง Cape Seal",null,null,null,null,null,null,null,null,"ตร.ม.",{"$f":"ROUNDDOWN(IF(ข้อมูลโครงการ!G11=ข้อมูลโครงการ!X11,BackUp!BO238+BackUp!BO239-BackUp!DC153,0),0)","v":0},{"$f":"+IF(M68=0,0,ราคาต่อหน่วย!J331)","v":0},{"$f":"ROUND(N68*M68,2)","v":0},{"$f":"IF(M68=0,0,ปร.5!$I$20)","v":0},0,0,null,null,null,null,0,0,"0",1]
[null,null,{"$f":"\"4.2.3 งานผิวไหล่ทาง  \"&IF(S7=T7,\"PARA Asphaltic  Concrete\",IF(S7=T8,\"Asphalt concrete\"))&\"   หนาเฉลี่ย \"&ข้อมูลโครงการ!T11*100&\".00  ซม.\"","v":"4.2.3 งานผิวไหล่ทาง  Asphalt concrete   หนาเฉลี่ย 0.00  ซม."},null,null,null,null,null,null,null,null,null,null,"",null,null,null,null,null,null,null,null,0,0,"0",1]
[null,null,"       4.2.3(1) ปูบนผิว  Prime Coat",null,null,null,null,null,null,null,null,"ตร.ม.",{"$f":"ROUNDDOWN(IF(ข้อมูลโครงการ!G11=ข้อมูลโครงการ!X13,BackUp!Q242,0),0)","v":0},{"$f":"+IF(M70=0,0,ราคาต่อหน่วย!J353)","v":0},{"$f":"ROUND(N70*M70,2)","v":0},{"$f":"IF(M70=0,0,ปร.5!$I$20)","v":0},0,{"$f":"IF(P70=0,0,ROUND(O70*P70,2)+W70)","v":0},null,null,null,null,0,0,"0",1]
[null,null,"       4.2.3(2) ปูบนผิว  Tack Coat",null,null,null,null,null,null,null,null,"ตร.ม.",{"$f":"ROUNDDOWN(IF(ข้อมูลโครงการ!G11=ข้อมูลโครงการ!X13,BackUp!Q241,0),0)","v":0},{"$f":"+IF(M71=0,0,ราคาต่อหน่วย!J357)","v":0},{"$f":"ROUND(N71*M71,2)","v":0},{"$f":"IF(M71=0,0,ปร.5!$I$20)","v":0},0,0,null,null,null,null,0,0,"0",1]
[null,null,null,null,null,null,null,null,null,null,null,null,null,null,null,null,null,null,null,null,null,null,0,0,"0",1]
[null,null,null,null,null,null,null,null,null,null,null,null,null,null,null,null,null,null,null,"ความยาว Joint",null,null,0,0,"0",1]
[null,null,null,null,null,null,null,null,null,null,null,null,null,null,null,null,null,null,null,"Expansion  Joint",null,"ม.",0,0,"0",1]
[null,null,null,null,null,null,null,null,null,null,null,null,null,null,null,null,null,null,null,"Contraction  Joint",null,"ม.",0,0,"0",1]
[null,null,null,null,null,null,null,null,null,null,null,null,null,null,null,null,null,null,null," Longitudinal  Joint",null,"ม.",0,0,"0",1]
[null,null,null,null,null,null,null,null,null,null,null,null,null,null,null,null,null,null,null,null,null,null,0,0,"0",1]
[null,null,null,null,null,null,null,null,null,null,null,null,null,null,null,null,null,null,null,null,null,null,0,0,"0",1]
[5,"งานเบ็ดเตล็ด",null,null,null,null,null,null,null,null,null,null,null,null,null,null,null,null,null,null,null,null,0,0,"0",1]
[null,5.0999999999999996,"งานระบบระบายน้ำ",null,null,null,null,null,null,null,null,null,null,{"$f":"+IF(M80=0,\"\",pipe40.1)","v":""},null,null,null,null,null,null,null,null,0,0,{"$f":"IF(X80=0,\"0\",\"1\")","v":"0"},1]
[null,null,"5.1.1 งานท่อลอดกลม คสล. ชนิดกลม ",null,null,null,null,null,null,null,null,null,null,{"$f":"+IF(M81=0,\"\",pipe40.1)","v":""},null,null,null,null,null,null,null,null,0,{"$f":"IF(P81=0,0,ROUND(O81*P81,$X$13))","v":0},"0",1]
[null,null,"       5.1.1(1) ขนาด",null,"Ø",0.4,"ม.",null,null,null,null,"ม.",{"$f":"356-M106","v":321},{"$f":"+IF(M82=0,0,ราคาต่อหน่วย!J578)","v":754},{"$f":"ROUND(N82*M82,2)","v":242034},{"$f":"IF(M82=0,0,ปร.5!$I$20)","v":1.3592},1024.8399999999999,{"$f":"IF(P82=0,0,ROUND(O82*P82,2)+W82)","v":328972.61},null,null,null,null,0,328972.61300000001,"1",1]
[null,null,"       5.1.1(2) ขนาด",null,"Ø",0.6,"ม.",null,null,null,null,"ม.",null,{"$f":"+IF(M83=0,0,ราคาต่อหน่วย!J591)","v":0},{"$f":"ROUND(N83*M83,2)","v":0},{"$f":"IF(M83=0,0,ปร.5!$I$20)","v":0},0,0,null,null,null,null,0,0,"0",1]
[null,null,"       5.1.1(3) ขนาด",null,"Ø",0.8,"ม.",null,null,null,null,"ม.",{"$f":"BackUp!L261","v":0},{"$f":"+IF(M84=0,0,ราคาต่อหน่วย!J604)","v":0},{"$f":"ROUND(N84*M84,2)","v":0},{"$f":"IF(M84=0,0,ปร.5!$I$20)","v":0},0,0,null,null,null,null,0,0,"0",1]
[null,null,"       5.1.1(4) ขนาด",null,"Ø",1,"ม.",null,null,null,null,"ม.",{"$f":"BackUp!N261","v":0},{"$f":"+IF(M85=0,0,ราคาต่อหน่วย!J617)","v":0},{"$f":"ROUND(N85*M85,2)","v":0},{"$f":"IF(M85=0,0,ปร.5!$I$20)","v":0},0,0,null,null,null,null,0,0,"0",1]
[null,null,"       5.1.1(5) ขนาด",null,"Ø",1.2,"ม.",null,null,null,null,"ม.",{"$f":"BackUp!P261","v":0},{"$f":"+IF(M86=0,0,ราคาต่อหน่วย!J630)","v":0},{"$f":"ROUND(N86*M86,2)","v":0},{"$f":"IF(M86=0,0,ปร.5!$I$20)","v":0},0,0,null,null,null,null,{"$f":"+$T$172","v":0},0,"0",1]
[null,null,"5.1.2 งานกำแพงปากท่อ (Head Wall, End Wall)",null,null,null,null,null,null,null,null,null,null,{"$f":"+IF(M87=0,\"\",ปากท่อ1_60)","v":""},null,null,null,null,null,null,null,null,0,0,"0",1]
[null,null,"      5.1.2(1) ขนาด",null,"1-","Ø",0.6,"ม.",null,null,null,"ด้าน",{"$f":"BackUp!I262","v":0},{"$f":"+IF(M88=0,0,ราคาต่อหน่วย!J661)","v":0},{"$f":"ROUND(N88*M88,2)","v":0},{"$f":"IF(M88=0,0,ปร.5!$I$20)","v":0},0,0,null,null,null,null,0,0,"0",1]
[null,null,"      5.1.2(2) ขนาด",null,"1-","Ø",0.8,"ม.",null,null,null,"ด้าน",{"$f":"BackUp!L262","v":0},{"$f":"+IF(M89=0,0,ราคาต่อหน่วย!J697)","v":0},0,{"$f":"IF(M89=0,0,ปร.5!$I$20)","v":0},0,0,null,null,null,null,0,0,"0",1]
[null,null,"      5.1.2(3) ขนาด",null,"1-","Ø",1,"ม.",null,null,null,"ด้าน",{"$f":"BackUp!N262","v":0},{"$f":"+IF(M90=0,0,ราคาต่อหน่วย!J733)","v":0},0,{"$f":"IF(M90=0,0,ปร.5!$I$20)","v":0},{"$f":"IF(P90=0,0,ROUND(N90*P90,2))","v":0},0,null,null,null,null,0,0,"0",1]
[null,null,"      5.1.2(4) ขนาด",null,"1-","Ø",1.2,"ม.",null,null,null,"ด้าน",{"$f":"BackUp!P262","v":0},{"$f":"+IF(M91=0,0,ราคาต่อหน่วย!J769)","v":0},0,{"$f":"IF(M91=0,0,ปร.5!$I$20)","v":0},0,0,null,null,null,null,0,0,"0",1]
[null,null,"      5.1.2(5) ขนาด",null,"2-","Ø",0.6,"ม.",null,null,null,"ด้าน",{"$f":"BackUp!I263","v":0},{"$f":"+IF(M92=0,0,ราคาต่อหน่วย!J673)","v":0},0,{"$f":"IF(M92=0,0,ปร.5!$I$20)","v":0},0,0,null,null,null,null,0,0,"0",1]
[null,null,"      5.1.2(6) ขนาด",null,"2-","Ø",0.8,"ม.",null,null,null,"ด้าน",{"$f":"BackUp!L263","v":0},{"$f":"+IF(M93=0,0,ราคาต่อหน่วย!J709)","v":0},0,{"$f":"IF(M93=0,0,ปร.5!$I$20)","v":0},0,0,null,null,null,null,0,0,"0",1]
[null,null,"      5.1.2(7) ขนาด",null,"2-","Ø",1,"ม.",null,null,null,"ด้าน",{"$f":"BackUp!N263","v":0},{"$f":"+IF(M94=0,0,ราคาต่อหน่วย!J745)","v":0},0,{"$f":"IF(M94=0,0,ปร.5!$I$20)","v":0},0,0,null,null,null,null,0,0,"0",1]
[null,null,"      5.1.2(8) ขนาด",null,"2-","Ø",1.2,"ม.",null,null,null,"ด้าน",{"$f":"BackUp!P263","v":0},{"$f":"+IF(M95=0,0,ราคาต่อหน่วย!J781)","v":0},0,{"$f":"IF(M95=0,0,ปร.5!$I$20)","v":0},0,0,null,null,null,null,0,0,"0",1]
[null,null,"      5.1.2(9) ขนาด",null,"3-","Ø",0.6,"ม.",null,null,null,"ด้าน",{"$f":"BackUp!I264","v":0},{"$f":"+IF(M96=0,0,ราคาต่อหน่วย!J685)","v":0},0,{"$f":"IF(M96=0,0,ปร.5!$I$20)","v":0},0,0,null,null,null,null,0,0,"0",1]
[null,null,"      5.1.2(10) ขนาด",null,"3-","Ø",0.8,"ม.",null,null,null,"ด้าน",{"$f":"BackUp!L264","v":0},{"$f":"+IF(M97=0,0,ราคาต่อหน่วย!J721)","v":0},0,{"$f":"IF(M97=0,0,ปร.5!$I$20)","v":0},0,0,null,null,null,null,0,0,"0",1]
[null,null,"      5.1.2(11) ขนาด",null,"3-","Ø",1,"ม.",null,null,null,"ด้าน",{"$f":"BackUp!N264","v":0},{"$f":"+IF(M98=0,0,ราคาต่อหน่วย!J757)","v":0},0,{"$f":"IF(M98=0,0,ปร.5!$I$20)","v":0},0,0,null,null,null,null,0,0,"0",1]
[null,null,"      5.1.2(12) ขนาด",null,"3-","Ø",1.2,"ม.",null,null,null,"ด้าน",{"$f":"BackUp!P264","v":0},{"$f":"+IF(M99=0,0,ราคาต่อหน่วย!J793)","v":0},0,{"$f":"IF(M99=0,0,ปร.5!$I$20)","v":0},0,0,null,null,null,null,0,0,"0",1]
[null,null,"5.1.3 งานรางระบายน้ำ คสล.",null,null,null,null,null,null,null,null,null,null,null,null,null,null,null,null,null,null,null,0,0,"0",1]
[null,null,"       5.1.3(1) แบบเปิด",null,null,null,null,null,{"$f":"BackUp!E349","v":"(รน-303/56)"},null,null,"ม.",{"$f":"BackUp!E361","v":0},{"$f":"+IF(M101=0,0,ราคาต่อหน่วย!J808)","v":0},{"$f":"ROUND(N101*M101,2)","v":0},{"$f":"IF(M101=0,0,ปร.5!$I$20)","v":0},0,0,null,null,null,null,0,0,"0",1]
[null,null,"       5.1.3(2) แบบตัวยู พร้อมฝาปิด",null,null,null,{"$f":"BackUp!H349","v":"ข-30"},null,{"$f":"BackUp!G349","v":"(รน-301/56)"},null,null,"ม.",{"$f":"BackUp!G361","v":0},{"$f":"+IF(M102=0,0,ราคาต่อหน่วย!J838)","v":0},{"$f":"ROUND(N102*M102,2)","v":0},{"$f":"IF(M102=0,0,ปร.5!$I$20)","v":0},0,0,null,null,null,null,0,0,"0",1]
[null,null,"       5.1.3(3) แบบรางตื้น",null,null,null,null,null,{"$f":"BackUp!I349","v":"(บร-402/56)"},null,null,"ม.",{"$f":"BackUp!I361","v":0},{"$f":"+IF(M103=0,0,ราคาต่อหน่วย!J848)","v":0},{"$f":"ROUND(N103*M103,2)","v":0},{"$f":"IF(M103=0,0,ปร.5!$I$20)","v":0},0,0,null,null,null,null,0,0,"0",1]
[null,null,"       5.1.3(3) แบบรางระบายน้ำสำเร็จรูป (ขนาด 0.58 x 0.60 ม.)",null,null,null,null,null,null,null,null,"ม.",{"$f":"BackUp!L361","v":0},{"$f":"+IF(M104=0,0,ราคาต่อหน่วย!J883)","v":0},{"$f":"ROUND(N104*M104,2)","v":0},{"$f":"IF(M104=0,0,ปร.5!$I$20)","v":0},{"$f":"IF(P104=0,0,ROUND(N104*P104,2))","v":0},0,null,null,null,null,0,0,"0",1]
[null,null,"5.1.4 งานบ่อรับน้ำ คสล.",null,null,null,null,null,null,null,null,null,null,null,null,null,null,null,null,null,null,null,0,0,"0",1]
[null,null,"       5.1.4(1) บ่อพัก คสล. พร้อมฝา",null,null,null,null,null,{"$f":"BackUp!O349","v":"(ทถ-5-301)"},null,null,"บ่อ",35,{"$f":"ราคาต่อหน่วย!J923","v":6020},{"$f":"ROUND(N106*M106,2)","v":210700},{"$f":"IF(M106=0,0,ปร.5!$I$20)","v":1.3592},8182.38,286383.44,null,null,null,null,0,286383.44,"1",1]
[null,null,"       5.1.4(2) บ่อพัก คสล. พร้อมฝา",null,null,null,null,null,{"$f":"BackUp!Q349","v":"(บร-402/56)"},null,null,"บ่อ",{"$f":"BackUp!P361","v":0},{"$f":"+IF(M107=0,0,ราคาต่อหน่วย!J923)","v":0},{"$f":"ROUND(N107*M107,2)","v":0},{"$f":"IF(M107=0,0,ปร.5!$I$20)","v":0},0,0,null,null,null,null,0,0,"0",1]
[null,5.2,"งานปลูกหญ้า",null,null,null,null,null,null,null,null,null,null,{"$f":"+IF(M108=0,\"\",หญ้า)","v":""},null,null,null,null,null,null,null,null,0,0,"0",1]
[null,null,"5.2.1 แบบ","ปักแถว",null,null,null,null,null,null,null,"ตร.ม.",{"$f":"ROUNDDOWN(BackUp!M410,0)","v":0},{"$f":"IF(M109=0,0,ราคาต่อหน่วย!J956)","v":0},{"$f":"ROUND(N109*M109,2)","v":0},{"$f":"IF(M109=0,0,ปร.5!$I$20)","v":0},0,0,null,null,null,null,0,0,"0",1]
[null,null,"5.2.2 แบบ","ปูแผ่น",null,null,null,null,null,null,null,"ตร.ม.",{"$f":"ROUNDDOWN(BackUp!O410,0)","v":0},{"$f":"IF(M110=0,0,ราคาต่อหน่วย!J962)","v":0},{"$f":"ROUND(N110*M110,2)","v":0},{"$f":"IF(M110=0,0,ปร.5!$I$20)","v":0},0,0,null,null,null,null,0,0,"0",1]
[null,5.3,"งานเครื่องหมายจราจร",null,null,null,null,null,null,null,null,null,null,{"$f":"+IF(M111=0,\"\",บ_1)","v":""},null,null,null,null,null,null,null,null,0,0,"0",1]
[null,null,"5.3.1 งานป้ายจราจร  ใช้แผ่นสะท้อนแสงตาม มาตรฐาน",null,null,null,null,null,null,null,null,null,null,null,null,null,null,null,null,null,null,null,0,0,"0",1]
[null,null,"     -  แบบ บ1",null,null,null,null,null,"(แบบที่ 9)",null,null,"ชุด",{"$f":"BackUp!H437","v":0},{"$f":"+IF(M113=0,0,ราคาป้าย!F5)","v":0},{"$f":"ROUND(N113*M113,2)","v":0},{"$f":"IF(M113=0,0,ปร.5!$I$20)","v":0},0,{"$f":"IF(P113=0,0,ROUND(O113*P113,2)+W113)","v":0},null,null,null,null,0,0,"0",1]
[null,null,"     -  แบบ บ2",null,null,null,null,null,null,null,null,"ชุด",{"$f":"BackUp!H438","v":0},{"$f":"+IF(M114=0,0,ราคาป้าย!F6)","v":0},0,{"$f":"IF(M114=0,0,ปร.5!$I$20)","v":0},0,0,null,null,null,null,0,0,"0",1]
[null,null,"     -   แบบ บ3-บ55",null,null,null,null,null,null,null,null,"ชุด",{"$f":"BackUp!H439","v":0},{"$f":"+IF(M115=0,0,ราคาป้าย!F7)","v":0},0,{"$f":"IF(M115=0,0,ปร.5!$I$20)","v":0},0,0,null,null,null,null,0,0,"0",1]
[null,null,"     -   แบบ ต1-ต27,ต31-ต60,ต75",null,null,null,null,null,null,null,null,"ชุด",null,{"$f":"+IF(M116=0,0,2840)","v":0},0,{"$f":"IF(M116=0,0,ปร.5!$I$20)","v":0},0,0,null,null,null,null,0,0,"0",1]
[null,null,"     -   แบบ ต28-ต30,ต62",null,null,null,null,null,"(แบบที่ 9)",null,null,"ชุด",{"$f":"BackUp!H441","v":0},{"$f":"+IF(M117=0,0,ราคาป้าย!F9)","v":0},{"$f":"ROUND(N117*M117,2)","v":0},{"$f":"IF(M117=0,0,ปร.5!$I$20)","v":0},0,0,null,null,null,null,0,0,"0",1]
[null,null,"     -   แบบ ต61",null,null,null,null,null,"(แบบที่ 9)",null,null,"ชุด",{"$f":"BackUp!H442","v":0},{"$f":"+IF(M118=0,0,ราคาป้าย!F10)","v":0},0,{"$f":"IF(M118=0,0,ปร.5!$I$20)","v":0},0,0,null,null,null,null,0,0,"0",1]
[null,null,"     -   แบบ ต63+ต66  (1 แผ่น)",null,null,null,null,null,"(แบบที่ 9)",null,null,"ชุด",{"$f":"BackUp!H443","v":0},{"$f":"+IF(M119=0,0,ราคาป้าย!F11)","v":0},0,{"$f":"IF(M119=0,0,ปร.5!$I$20)","v":0},0,0,null,null,null,null,0,0,"0",1]
[null,null,"     -   แบบ ต63+ต66  (2 แผ่น)",null,null,null,null,null,"(แบบที่ 9)",null,null,"ชุด",null,{"$f":"+IF(M120=0,0,7090)","v":0},0,{"$f":"IF(M120=0,0,ปร.5!$I$20)","v":0},0,0,null,null,null,null,0,0,"0",1]
[null,null,"     -   แบบ ต64,ต67",null,null,null,null,null,"(แบบที่ 9)",null,null,"ชุด",{"$f":"BackUp!H445","v":0},{"$f":"+IF(M121=0,0,ราคาป้าย!F13)","v":0},0,{"$f":"IF(M121=0,0,ปร.5!$I$20)","v":0},0,0,null,null,null,null,0,0,"0",1]
[null,null,"     -   แบบ ต65,ต68,ต70",null,null,null,null,null,"(แบบที่ 9)",null,null,"ชุด",{"$f":"BackUp!H446","v":0},{"$f":"+IF(M122=0,0,ราคาป้าย!F14)","v":0},0,{"$f":"IF(M122=0,0,ปร.5!$I$20)","v":0},0,0,null,null,null,null,0,0,"0",1]
[null,null,"     -   แบบ ต69",null,null,null,null,null,"(แบบที่ 9)",null,null,"ชุด",{"$f":"BackUp!H447","v":0},{"$f":"+IF(M123=0,0,ราคาป้าย!F15)","v":0},0,{"$f":"IF(M123=0,0,ปร.5!$I$20)","v":0},0,0,null,null,null,null,0,0,"0",1]
[null,null,"     -   แบบ ต71",null,null,null,null,null,"(แบบที่ 9)",null,null,"ชุด",{"$f":"BackUp!H448","v":0},{"$f":"+IF(M124=0,0,ราคาป้าย!F16)","v":0},{"$f":"ROUND(N124*M124,2)","v":0},{"$f":"IF(M124=0,0,ปร.5!$I$20)","v":0},{"$f":"IF(P124=0,0,ROUND(N124*P124,2))","v":0},0,null,null,null,null,0,0,"0",1]
[null,null,"     -   แบบ ต72-ต73",null,null,null,null,null,"(แบบที่ 9)",null,null,"ชุด",{"$f":"BackUp!H449","v":0},{"$f":"+IF(M125=0,0,ราคาป้าย!F17)","v":0},0,{"$f":"IF(M125=0,0,ปร.5!$I$20)","v":0},0,0,null,null,null,null,0,0,"0",1]
[null,null,"     -   แบบ ต74",null,null,null,null,null,null,null,null,"ชุด",{"$f":"BackUp!H450","v":0},{"$f":"+IF(M126=0,0,ราคาป้าย!F18)","v":0},0,{"$f":"IF(M126=0,0,ปร.5!$I$20)","v":0},0,0,null,null,null,null,0,0,"0",1]
[null,null,"     -   แบบ ต76",null,null,null,null,null,null,null,null,"ชุด",{"$f":"BackUp!H451","v":0},{"$f":"+IF(M127=0,0,ราคาป้าย!F19)","v":0},0,{"$f":"IF(M127=0,0,ปร.5!$I$20)","v":0},0,0,null,null,null,null,0,0,"0",1]
[null,null,"     -   แบบ ต77",null,null,null,null,null,null,null,null,"ชุด",{"$f":"BackUp!H452","v":0},{"$f":"+IF(M128=0,0,ราคาป้าย!F20)","v":0},0,{"$f":"IF(M128=0,0,ปร.5!$I$20)","v":0},0,0,null,null,null,null,0,0,"0",1]
[null,null,"     -   แบบ ต78",null,null,null,null,null,null,null,null,"ชุด",{"$f":"BackUp!H453","v":0},{"$f":"+IF(M129=0,0,ราคาป้าย!F21)","v":0},0,{"$f":"IF(M129=0,0,ปร.5!$I$20)","v":0},0,0,null,null,null,null,0,0,"0",1]
[null,null,"     -   แบบ บ3-บ55+ต1- ต27,ต31-ต60",null,null,null,null,null,null,null,null,"ชุด",{"$f":"BackUp!H454","v":0},{"$f":"+IF(M130=0,0,ราคาป้าย!F22)","v":0},0,{"$f":"IF(M130=0,0,ปร.5!$I$20)","v":0},0,0,null,null,null,null,0,0,"0",1]
[null,null,"     -   แบบ ต1-ต27+ต73,ต31-ต60+ต73",null,null,null,null,null,null,null,null,"ชุด",{"$f":"BackUp!H455","v":0},{"$f":"+IF(M131=0,0,ราคาป้าย!F23)","v":0},{"$f":"ROUND(N131*M131,2)","v":0},{"$f":"IF(M131=0,0,ปร.5!$I$20)","v":0},0,0,null,null,null,null,0,0,"0",1]
[null,null,"     -   แบบ ต1-ต27+ต74,ต31-ต60+ต74",null,null,null,null,null,null,null,null,"ชุด",{"$f":"BackUp!H456","v":0},{"$f":"+IF(M132=0,0,ราคาป้าย!F24)","v":0},0,{"$f":"IF(M132=0,0,ปร.5!$I$20)","v":0},0,0,null,null,null,null,0,0,"0",1]
[null,null,"     -   แบบ ต1-ต27+ต75,ต31-ต60+ต75",null,null,null,null,null,null,null,null,"ชุด",{"$f":"BackUp!H457","v":0},{"$f":"+IF(M133=0,0,ราคาป้าย!F25)","v":0},0,{"$f":"IF(M133=0,0,ปร.5!$I$20)","v":0},{"$f":"IF(P133=0,0,ROUND(N133*P133,2))","v":0},0,null,null,null,null,0,0,"0",1]
[null,null,"     -   แบบ ต1-ต27+ต76,ต31-ต60+ต76",null,null,null,null,null,null,null,null,"ชุด",{"$f":"BackUp!H458","v":0},{"$f":"+IF(M134=0,0,ราคาป้าย!F26)","v":0},0,{"$f":"IF(M134=0,0,ปร.5!$I$20)","v":0},{"$f":"IF(P134=0,0,ROUND(N134*P134,2))","v":0},0,null,null,null,null,0,0,"0",1]
[null,null,"     -   แบบ ต1-ต27+ต77,ต31-ต60+ต77",null,null,null,null,null,null,null,null,"ชุด",{"$f":"BackUp!H459","v":0},{"$f":"+IF(M135=0,0,ราคาป้าย!F27)","v":0},{"$f":"ROUND(N135*M135,2)","v":0},{"$f":"IF(M135=0,0,ปร.5!$I$20)","v":0},{"$f":"IF(P135=0,0,ROUND(N135*P135,2))","v":0},0,null,null,null,null,0,0,"0",1]
[null,null,"     -   แบบ ต1-ต27+ต78,ต31-ต60+ต78",null,null,null,null,null,null,null,null,"ชุด",{"$f":"BackUp!H460","v":0},{"$f":"+IF(M136=0,0,ราคาป้าย!F27)","v":0},0,{"$f":"IF(M136=0,0,ปร.5!$I$20)","v":0},{"$f":"IF(P136=0,0,ROUND(N136*P136,2))","v":0},0,null,null,null,null,0,0,"0",1]
[null,null,"     -   ป้าย หมายเลขทางหลวงชนบท (น1)",null,null,null,null,null,null,null,null,"ชุด",{"$f":"BackUp!H461","v":0},{"$f":"+IF(M137=0,0,ราคาป้าย!F29)","v":0},0,{"$f":"IF(M137=0,0,ปร.5!$I$20)","v":0},0,0,null,null,null,null,0,0,"0",1]
[null,null,"     -   ป้าย หมายเลขทางหลวงชนบท (น1/1)",null,null,null,null,null,null,null,null,"ชุด",{"$f":"BackUp!H462","v":0},{"$f":"+IF(M138=0,0,ราคาป้าย!F30)","v":0},0,{"$f":"IF(M138=0,0,ปร.5!$I$20)","v":0},0,0,null,null,null,null,0,0,"0",1]
[null,null,"     -   ป้าย บอกจุดหมาย ปลายทาง (1-น2)",null,null,null,null,null,null,null,null,"ชุด",{"$f":"BackUp!H463","v":0},{"$f":"+IF(M139=0,0,ราคาป้าย!F31)","v":0},{"$f":"ROUND(N139*M139,2)","v":0},{"$f":"IF(M139=0,0,ปร.5!$I$20)","v":0},0,0,null,null,null,null,0,0,"0",1]
[null,null,"     -   ป้าย บอกจุดหมาย ปลายทาง (2-น2)",null,null,null,null,null,null,null,null,"ชุด",{"$f":"BackUp!H464","v":0},{"$f":"+IF(M140=0,0,ราคาป้าย!F32)","v":0},0,{"$f":"IF(M140=0,0,ปร.5!$I$20)","v":0},0,0,null,null,null,null,0,0,"0",1]
[null,null,"     -   ป้าย บอกจุดหมาย ปลายทาง (3-น2)",null,null,null,null,null,null,null,null,"ชุด",{"$f":"BackUp!H465","v":0},{"$f":"+IF(M141=0,0,ราคาป้าย!F33)","v":0},0,{"$f":"IF(M141=0,0,ปร.5!$I$20)","v":0},0,0,null,null,null,null,0,0,"0",1]
[null,null,"     -   ป้าย บอกระยะทาง (1-น3)",null,null,null,null,null,null,null,null,"ชุด",{"$f":"BackUp!R437","v":0},{"$f":"+IF(M142=0,0,ราคาป้าย!F34)","v":0},0,{"$f":"IF(M142=0,0,ปร.5!$I$20)","v":0},0,0,null,null,null,null,0,0,"0",1]
[null,null,"     -   ป้าย บอกระยะทาง (2-น3)",null,null,null,null,null,null,null,null,"ชุด",{"$f":"BackUp!R438","v":0},{"$f":"+IF(M143=0,0,ราคาป้าย!F35)","v":0},{"$f":"ROUND(N143*M143,2)","v":0},{"$f":"IF(M143=0,0,ปร.5!$I$20)","v":0},{"$f":"IF(P143=0,0,ROUND(N143*P143,2))","v":0},0,null,null,null,null,0,0,"0",1]
[null,null,"     -   ป้าย บอกระยะทาง (3-น3)",null,null,null,null,null,null,null,null,"ชุด",{"$f":"BackUp!R439","v":0},{"$f":"+IF(M144=0,0,ราคาป้าย!F36)","v":0},{"$f":"ROUND(N144*M144,2)","v":0},{"$f":"IF(M144=0,0,ปร.5!$I$20)","v":0},{"$f":"IF(P144=0,0,ROUND(N144*P144,2))","v":0},0,null,null,null,null,0,0,{"$f":"IF(X144=0,\"0\",\"1\")","v":"0"},1]
[null,null,"     -   ป้าย ป้าย บอกจุดหมายและระยะทาง (น-4)",null,null,null,null,null,null,null,null,"ชุด",{"$f":"BackUp!R440","v":0},{"$f":"+IF(M145=0,0,ราคาป้าย!F37)","v":0},0,{"$f":"IF(M145=0,0,ปร.5!$I$20)","v":0},0,0,null,null,null,null,0,{"$f":"IF(P145=0,0,ROUND(O145*P145,$X$13))","v":0},"0",1]
[null,null,"     -   ป้าย บอกหมู่บ้าน (น5)",null,null,null,null,null,null,null,null,"ชุด",{"$f":"BackUp!R441","v":0},{"$f":"+IF(M146=0,0,ราคาป้าย!F38)","v":0},0,{"$f":"IF(M146=0,0,ปร.5!$I$20)","v":0},0,0,null,null,null,null,0,0,"0",1]
[null,null,"     -   ป้าย บอกคลองทางน้ำ (น6)",null,null,null,null,null,null,null,null,"ชุด",{"$f":"BackUp!R442","v":0},{"$f":"+IF(M147=0,0,ราคาป้าย!F39)","v":0},0,{"$f":"IF(M147=0,0,ปร.5!$I$20)","v":0},0,0,null,null,null,null,0,0,"0",1]
[null,null,"     -   ป้าย สิ้นสุดสายทาง (น7)",null,null,null,null,null,null,null,null,"ชุด",{"$f":"BackUp!R443","v":0},{"$f":"+IF(M148=0,0,ราคาป้าย!F40)","v":0},0,{"$f":"IF(M148=0,0,ปร.5!$I$20)","v":0},0,0,null,null,null,null,0,0,"0",1]
[null,null,"     -   ป้าย ระบุทิศทาง (น8 )",null,null,null,null,null,null,null,null,"ชุด",{"$f":"BackUp!R444","v":0},{"$f":"+IF(M149=0,0,ราคาป้าย!F41)","v":0},0,{"$f":"IF(M149=0,0,ปร.5!$I$20)","v":0},0,0,null,null,null,null,0,0,"0",1]
[null,null,"     -   ป้าย ระบุทิศทาง (น7 ถึง น20)",null,null,null,null,null,null,null,null,"ชุด",{"$f":"BackUp!R445","v":0},{"$f":"+IF(M150=0,0,ราคาป้าย!F42)","v":0},{"$f":"ROUND(N150*M150,2)","v":0},{"$f":"IF(M150=0,0,ปร.5!$I$20)","v":0},{"$f":"IF(P150=0,0,ROUND(N150*P150,2))","v":0},0,null,null,null,null,{"$f":"+$T$172","v":0},0,"0",1]
[null,null,"     -   ป้าย น1+นส-1 ถึง นส-14",null,null,null,null,null,null,null,null,"ชุด",{"$f":"BackUp!R446","v":0},{"$f":"+IF(M151=0,0,ราคาป้าย!F43)","v":0},0,{"$f":"IF(M151=0,0,ปร.5!$I$20)","v":0},0,0,null,null,null,null,0,0,"0",1]
[null,null,"     -   ป้าย น1/1+นส-1 ถึง นส-14",null,null,null,null,null,null,null,null,"ชุด",{"$f":"BackUp!R447","v":0},{"$f":"+IF(M152=0,0,ราคาป้าย!F44)","v":0},0,{"$f":"IF(M152=0,0,ปร.5!$I$20)","v":0},0,0,null,null,null,null,0,0,"0",1]
[null,null,"     -   ป้าย น1+นส-1 ถึง นส-14 + น1+นส-1 ถึง นส-14",null,null,null,null,null,null,null,null,"ชุด",{"$f":"BackUp!R448","v":0},{"$f":"+IF(M153=0,0,ราคาป้าย!F45)","v":0},{"$f":"ROUND(N153*M153,2)","v":0},{"$f":"IF(M153=0,0,ปร.5!$I$20)","v":0},{"$f":"IF(P153=0,0,ROUND(N153*P153,2))","v":0},0,null,null,null,null,0,0,"0",1]
[null,null,"     -   ป้าย น1+น1/1+นส-1 ถึง นส-14 +นส-14",null,null,null,null,null,null,null,null,"ชุด",{"$f":"BackUp!R449","v":0},{"$f":"+IF(M154=0,0,ราคาป้าย!F46)","v":0},{"$f":"ROUND(N154*M154,2)","v":0},{"$f":"IF(M154=0,0,ปร.5!$I$20)","v":0},{"$f":"IF(P154=0,0,ROUND(N154*P154,2))","v":0},0,null,null,null,null,0,0,"0",1]
[null,null,"     -   ป้าย น-1+น-1/1(2ชิ้น)+นส-1 ถึง นส-14(3ชิ้น)",null,null,null,null,null,null,null,null,"ชุด",{"$f":"BackUp!R450","v":0},{"$f":"+IF(M155=0,0,ราคาป้าย!F47)","v":0},{"$f":"ROUND(N155*M155,2)","v":0},{"$f":"IF(M155=0,0,ปร.5!$I$20)","v":0},{"$f":"IF(P155=0,0,ROUND(N155*P155,2))","v":0},0,null,null,null,null,0,0,"0",1]
[null,null,"     -   ป้ายกำหนดน้ำหนักบรรทุก",null,null,null,null,null,null,null,null,"ชุด",{"$f":"BackUp!R451","v":0},{"$f":"+IF(M156=0,0,ราคาป้าย!F48)","v":0},0,{"$f":"IF(M156=0,0,ปร.5!$I$20)","v":0},0,0,null,null,null,null,0,0,"0",1]
[null,null,"5.3.2 งานหลักนำโค้ง หลักกิโลเมตร หลักเขตทาง",null,null,null,null,null,null,null,null,null,null,null,null,null,null,null,null,null,null,null,0,0,"0",1]
[null,null,"       5.3.2(1) หลักนำโค้ง / หลักตำแหน่งท่อ  คสล.",null,null,null,null,null,null,null,null,"หลัก",null,{"$f":"+IF(M158=0,0,ราคาป้าย!F50)","v":0},{"$f":"ROUND(N158*M158,2)","v":0},{"$f":"IF(M158=0,0,ปร.5!$I$20)","v":0},0,0,null,null,null,null,0,0,"0",1]
[null,null,"       5.3.2(2) หลักกิโลเมตร",null,null,null,null,null,null,null,null,"หลัก",null,{"$f":"+IF(M159=0,0,ราคาป้าย!F51)","v":0},{"$f":"ROUND(N159*M159,2)","v":0},{"$f":"IF(M159=0,0,ปร.5!$I$20)","v":0},0,0,null,null,null,null,0,0,"0",1]
[null,null,"       5.3.2(3) หลักเขตทาง",null,null,null,null,null,null,null,null,"หลัก",{"$f":"BackUp!R456","v":0},{"$f":"+IF(M160=0,0,ราคาป้าย!F52)","v":0},{"$f":"ROUND(N160*M160,2)","v":0},{"$f":"IF(M160=0,0,ปร.5!$I$20)","v":0},0,0,null,null,null,null,0,0,"0",1]
[null,null,"5.3.3 งานเครื่องหมายจราจรบนผิวทาง",null,null,null,null,null,null,null,null,null,null,null,null,null,null,null,null,null,null,null,0,0,"0",1]
[null,null,"       5.3.3(1) สีเหลือง กว้าง",null,null,null,{"$f":"G163","v":0.1},"ม.",null,null,null,"ตร.ม.",null,{"$f":"+IF(M162=0,0,ราคาป้าย!F54)","v":0},{"$f":"ROUND(N162*M162,2)","v":0},{"$f":"IF(M162=0,0,ปร.5!$I$20)","v":0},0,0,null,null,null,null,0,0,"0",1]
[null,null,"       5.3.3(2) สีขาว กว้าง",null,null,null,{"$f":"BackUp!J414","v":0.1},"ม.",null,null,null,"ตร.ม.",null,{"$f":"+IF(M163=0,0,ราคาป้าย!F55)","v":0},{"$f":"ROUND(N163*M163,2)","v":0},{"$f":"IF(M163=0,0,ปร.5!$I$20)","v":0},0,0,null,null,null,null,0,0,"0",1]
[null,null,"       5.3.3(3) ทางม้าลาย ( 1 แห่ง = 9.0 ตร.ม.)",null,null,null,null,null,null,null,null,"แห่ง",{"$f":"BackUp!R460","v":0},{"$f":"+IF(M164=0,0,ราคาป้าย!F56)","v":0},{"$f":"ROUND(N164*M164,2)","v":0},{"$f":"IF(M164=0,0,ปร.5!$I$20)","v":0},0,0,null,null,null,null,0,0,"0",1]
[null,null,"5.3.4 หมุดสะท้อนแสง ",null,null,null,null,null,null,null,null,null,null,null,null,null,null,null,null,null,null,null,0,0,"0",1]
[null,null,"       5.3.4(1) ชนิดทิศทางเดียว",null,null,null,null,null,null,null,null,"ชุด",{"$f":"BackUp!R457","v":0},{"$f":"+IF(M166=0,0,ราคาป้าย!F58)","v":0},{"$f":"ROUND(N166*M166,2)","v":0},{"$f":"IF(M166=0,0,ปร.5!$I$20)","v":0},0,0,null,null,null,null,0,0,"0",1]
[null,null,"       5.3.4(2) ชนิดสองทิศทาง",null,null,null,null,null,null,null,null,"ชุด",{"$f":"BackUp!R458","v":0},{"$f":"+IF(M167=0,0,ราคาป้าย!F59)","v":0},{"$f":"ROUND(N167*M167,2)","v":0},{"$f":"IF(M167=0,0,ปร.5!$I$20)","v":0},{"$f":"IF(P167=0,0,ROUND(N167*P167,2))","v":0},0,null,null,null,null,0,0,"0",1]
[null,5.4,"สัญญาณไฟกระพริบพลังงานแสงอาทิตย์ Ø  300  มม.",null,null,null,null,null,null,null,null,null,null,null,null,null,null,null,null,null,"]\\",null,0,0,"0",1]
[null,null,"      5.4.1 สัญญาณไฟกระพริบ",null,null,null,null,null,null,null,null,"ชุด",{"$f":"BackUp!R461","v":0},{"$f":"+IF(M169=0,0,ราคาป้าย!F61)","v":0},{"$f":"ROUND(N169*M169,2)","v":0},{"$f":"IF(M169=0,0,ปร.5!$I$20)","v":0},{"$f":"IF(P169=0,0,ROUND(N169*P169,2))","v":0},0,null,null," ",null,0,0,"0",1]
[null,null,"      5.4.2 สัญญาณไฟกระพริบ + บ1",null,null,null,null,null,null,null,null,"ชุด",null,{"$f":"+IF(M170=0,0,ราคาป้าย!F62)","v":0},{"$f":"ROUND(N170*M170,2)","v":0},{"$f":"IF(M170=0,0,ปร.5!$I$20)","v":0},{"$f":"IF(P170=0,0,ROUND(N170*P170,2))","v":0},0,null,null,null,null,0,0,"0",1]
[null,null,"      5.4.3 สัญญาณไฟกระพริบ + ต",null,null,null,null,null,null,null,null,"ชุด",{"$f":"BackUp!R463","v":0},{"$f":"+IF(M171=0,0,ราคาป้าย!F63)","v":0},{"$f":"ROUND(N171*M171,2)","v":0},{"$f":"IF(M171=0,0,ปร.5!$I$20)","v":0},{"$f":"IF(P171=0,0,ROUND(N171*P171,2))","v":0},0,null,null,null,null,0,0,"0",1]
[null,5.5,"RUMBLE STRIP ( 3  จุด = 1 แห่ง = 7.8 ตร.ม.)",null,null,null,null,null,null,null,null,"ตร.ม.",null,{"$f":"+IF(M172=0,0,ราคาป้าย!F64)","v":0},{"$f":"ROUND(N172*M172,2)","v":0},{"$f":"IF(M172=0,0,ปร.5!$I$20)","v":0},0,0,null,null,null,null,0,0,"0",1]
[null,5.6,"TIMBER BARRICADE",null,null,null,null,null,null,null,null,"ม.",{"$f":"BackUp!R454","v":0},{"$f":"+IF(M173=0,0,ราคาป้าย!F65)","v":0},{"$f":"ROUND(N173*M173,2)","v":0},{"$f":"IF(M173=0,0,ปร.5!$I$20)","v":0},0,0,null,{"$f":"+T174-T175","v":0},null,null,0,0,"0",1]
[null,5.7,"GUARD RAIL",null,null,null,null,null,null,null,null,null,null,null,null,null,null,null,null,null,null,null,0,0,"0",1]
[null,null,"5.7.1  GUARD RAIL (ทางตรง)",null,null,null,null,null,null,null,null,"ม.",{"$f":"BackUp!R452","v":0},{"$f":"+IF(M175=0,0,ราคาป้าย!F67)","v":0},{"$f":"ROUND(N175*M175,2)","v":0},{"$f":"IF(M175=0,0,ปร.5!$I$20)","v":0},0,0,null,{"$f":"+R200-T200","v":0},null,null,0,0,"0",1]
[null,null,"5.7.2  GUARD RAIL (ทางโค้ง/คอสะพาน)",null,null,null,null,null,null,null,null,"ม.",{"$f":"BackUp!R453","v":0},{"$f":"+IF(M176=0,0,ราคาป้าย!F68)","v":0},{"$f":"ROUND(N176*M176,2)","v":0},{"$f":"IF(M176=0,0,ปร.5!$I$20)","v":0},0,0,null,null,null,null,0,0,"0",1]
[null,2.2000000000000002,"งานป้องกันการกัดเซาะ",null,null,null,null,null,null,null,null,null,null,null,null,null,null,null,null,null,null,null,0,0,"0",1]
[null,null,"2.2.1 ชนิด","กล่องตาข่าย Gabion -1.00 x 1.00 x 1.00 ม.",null,null,null,null,null,null,null,"กล่อง",{"$f":"BackUp!G377","v":0},{"$f":"+IF(M178=0,0,ราคาต่อหน่วย!J1002)","v":0},{"$f":"ROUND(N178*M178,2)","v":0},{"$f":"IF(M178=0,0,ปร.5!$I$20)","v":0},{"$f":"IF(P178=0,0,ROUND(N178*P178,2))","v":0},0,null,null,null,null,0,0,"0",1]
[null,null,"2.2.2 ชนิด","กล่องตาข่าย Mattres - 2.00x3.00x0.30 ม.",null,null,null,null,null,null,null,"กล่อง",{"$f":"BackUp!I377","v":0},{"$f":"+IF(M179=0,0,ราคาต่อหน่วย!J1011)","v":0},0,{"$f":"IF(M179=0,0,ปร.5!$I$20)","v":0},{"$f":"IF(P179=0,0,ROUND(N179*P179,2))","v":0},{"$f":"IF(P179=0,0,ROUND(O179*P179,2)+W179)","v":0},null,null,null,null,0,0,"0",1]
[null,null,"2.2.3 ชนิด","เรียงหิน",null,null,null,null,null,null,null,"ตร.ม.",{"$f":"BackUp!L377","v":0},{"$f":"+IF(M180=0,0,ราคาต่อหน่วย!J1021)","v":0},0,{"$f":"IF(M180=0,0,ปร.5!$I$20)","v":0},{"$f":"IF(P180=0,0,ROUND(N180*P180,2))","v":0},0,null,null,null,null,0,0,"0",1]
[null,null,"2.2.4 ชนิด","Concrete slope protection",null,null,null,null,null,null,null,"ตร.ม.",{"$f":"BackUp!N377","v":0},{"$f":"+IF(M181=0,0,ราคาต่อหน่วย!J1042)","v":0},0,{"$f":"IF(M181=0,0,ปร.5!$I$20)","v":0},0,0,null,null,null,null,0,0,"0",1]
[null,null,"2.2.5 ชนิด","กำแพงกันดิน Abutment Portecment",null,null,null,null,null,null,null,"แห่ง",0,{"$f":"+IF(M182=0,0,ต้นทุนกำแพงกันดิน!M37)","v":0},0,{"$f":"IF(M182=0,0,ปร.5!$I$20)","v":0},0,0]
[null,2.2999999999999998,"Approach Slab ",null,null,null,null,null,null,null,null,"ตร.ม.",0,{"$f":"+IF(M183=0,0,ราคาต่อหน่วย!J1060)","v":0},0,{"$f":"IF(M183=0,0,ปร.5!$I$20)","v":0},0,0,null,null,null,null,0,0,"0",1]
[null,2.4,"Concrete  Barrier","แบบไม่มีทางเท้า",null,null,null,null,null,null,null,"แห่ง",0,{"$f":"+IF(M184=0,0,ราคาต่อหน่วย!J1073)","v":0},{"$f":"ROUND(N184*M184,2)","v":0},{"$f":"IF(M184=0,0,ปร.5!$I$20)","v":0},{"$f":"IF(P184=0,0,ROUND(N184*P184,2))","v":0},{"$f":"IF(P184=0,0,ROUND(O184*P184,2)+W184)","v":0},null,null,null,null,0,null,"0",1]
[null,2.5,"งานทางเบี่ยง",null,null,null,null,null,null,null,null,"LS.",0,null,0,{"$f":"IF(M185=0,0,ปร.5!$I$20)","v":0},{"$f":"IF(P185=0,0,ROUND(N185*P185,2))","v":0},0,null,null,null,null,0,0,"0",1]
[6,"งานไฟฟ้าแสงสว่าง",null,null,null,null,null,null,null,null,null,null,null,null,null,null,null,null,null,null,null,null,0,0,"0",1]
[null,6.1,"เสาไฟฟ้าแสงสว่าง  สูง 9.00 ม. กิ่งเดี่ยวและอุปกรณ์",null,null,null,null,null,null,null,null,"ชุด",{"$f":"BackUp!G394","v":0},{"$f":"+IF(M187=0,0,ราคาต่อหน่วย!J1130)","v":0},{"$f":"ROUND(N187*M187,2)","v":0},{"$f":"IF(M187=0,0,ปร.5!$I$20)","v":0},0,{"$f":"IF(P187=0,0,ROUND(O187*P187,2)+W187)","v":0},null,null,null,null,0,0,"0",1]
[null,6.2,"โคมไฟถนนขนาดกำลัง 250 W.HPS พร้อมอุปกรณ์",null,null,null,null,null,null,null,null,"ชุด",null,{"$f":"+IF(M188=0,0,ราคาต่อหน่วย!J1085)","v":0},{"$f":"ROUND(N188*M188,2)","v":0},{"$f":"IF(M188=0,0,ปร.5!$I$20)","v":0},0,0,null,null,null,null,0,0,"0",1]
[null,6.3,"ฐานรากของเสาไฟฟ้าแสงสว่าง และอุปกรณ์ประกอบ",null,null,null,null,null,null,null,null,"ฐาน",null,{"$f":"+IF(M189=0,0,ราคาต่อหน่วย!J1097)","v":0},0,{"$f":"IF(M189=0,0,ปร.5!$I$20)","v":0},0,0,null,null,null,null,0,0,"0",1]
[null,6.4,"ชุดควบคุมไฟถนนพร้อมอุปกรณ์ประกอบ",null,null,null,null,null,null,null,{"$f":"ROUNDDOWN(IF(M187=0,0,IF(M187>40,2,1)),0)","v":0},"ชุด",null,{"$f":"+IF(M190=0,0,ราคาต่อหน่วย!J1102)","v":0},0,{"$f":"IF(M190=0,0,ปร.5!$I$20)","v":0},0,0,null,null,null,null,0,0,"0",1]
[null,6.5,"กล่องดึงสาย บ่อพักสาย และอุปกรณ์ประกอบ",null,null,null,null,null,null,null,null,"ชุด",null,{"$f":"+IF(M191=0,0,ราคาต่อหน่วย!J1107)","v":0},0,{"$f":"IF(M191=0,0,ปร.5!$I$20)","v":0},0,0,null,null,null,null,0,0,"0",1]
[null,6.6,"สายไฟฟ้า",null,null,null,null,null,null,null,null,null,null,null,null,null,null,null,null,null,null,null,0,0,"0",1]
[null,null,"6.6.1 สายไฟชนิด NYY ขนาด    3x10   ตร.มม.",null,null,null,null,null,null,null,{"$f":"ROUNDDOWN((M187-1)*BackUp!J394*(1+5%),0)","v":0},"ม.",null,{"$f":"+IF(M193=0,0,ราคาต่อหน่วย!J1113)","v":0},0,{"$f":"IF(M193=0,0,ปร.5!$I$20)","v":0},0,{"$f":"IF(P193=0,0,ROUND(O193*P193,2)+W193)","v":0},null,null,null,null,0,0,"0",1]
[null,null,"6.6.2 สายไฟชนิด THW ขนาด    2x2.5    ตร.มม.",null,null,null,null,null,null,null,{"$f":"ROUNDDOWN(M187*12,0)","v":0},"ม.",null,{"$f":"+IF(M194=0,0,ราคาต่อหน่วย!J1118)","v":0},0,{"$f":"IF(M194=0,0,ปร.5!$I$20)","v":0},0,0,null,null,null,null,0,0,"0",1]
[null,6.7,"ท่อร้อยสายไฟฟ้า",null,null,null,null,null,null,null,null,null,null,null,null,null,null,null,null,null,null,null,0,0,"0",1]
[null,null,"6.7.1 ท่อร้อยสายไฟฟ้า ชนิด HDPE Ø 1 1/2\"  และอุปกรณ์",null,null,null,null,null,null,null,{"$f":"ROUNDDOWN((M187-1)*BackUp!J394,0)","v":0},"ม.",null,{"$f":"+IF(M196=0,0,ราคาต่อหน่วย!J1124)","v":0},0,{"$f":"IF(M196=0,0,ปร.5!$I$20)","v":0},0,{"$f":"IF(P196=0,0,ROUND(O196*P196,2)+W196)","v":0},null,null,null,null,0,0,"0",1]
[null,null,"6.7.2 ท่อเหล็กชุบสังกะสี  Ø 1 1/2\" พร้อมค่าดันท่อลอด",null,null,null,null,null,null,null,null,"ม.",null,{"$f":"+IF(M197=0,0,ราคาต่อหน่วย!J1129)","v":0},0,{"$f":"IF(M197=0,0,ปร.5!$I$20)","v":0},0,0,null,null,null,null,0,0,"0",1]
[null,6.2,"เสาไฟฟ้าแสงสว่างพลังงานแสงอาทิตย์  สูง 9.00 ม. กิ่งเดี่ยวและอุปกรณ์",null,null,null,null,null,null,null,null,"ชุด",{"$f":"BackUp!L394","v":0},{"$f":"+IF(M198=0,0,58000)","v":0},{"$f":"ROUND(N198*M198,2)","v":0},{"$f":"IF(M198=0,0,ปร.5!$I$20)","v":0},{"$f":"IF(P198=0,0,ROUND(N198*P198,2))","v":0},0,null,null,null,null,0,0,"0",1]
[null,null,null,null,null,null,null,null,null,null,null,null,null,null,null,null,null,null,null,null,null,null,0,0,"0",1]
[null,null,"รวมค่างานประเภทงานทาง",null,null,null,null,null,null,null,null,null,null,null,{"$f":"O106+O82+O61+O60+O59+O58+O34+O33+O23","v":585628},{"$f":"ปร.5!I20","v":1.3592},null,{"$f":"R106+R82+R61+R60+R59+R58+R34+R33+R23","v":795985.58000000019},null,{"$f":"SUM(R14:R199)","v":795985.58000000007},{"$f":"IF(ROUND(R200,2)=ROUND(T200,2),\"OK\",\"CHECK\")","v":"OK"},{"$f":"IF(SUM(W14:W199)<>0,\"มีการปรับแก้\",\"\")","v":""},null,{"$f":"SUM(X14:X199)","v":795985.57799999998},{"$f":"SUMIF(Y16:Y199,\"1\",Z16:Z199)","v":5}]
[null,"ประเภทงานก่อสร้างสะพานและท่อลอดเหลี่ยม",null,null,null,null,null,null,null,null,null,null,null,null,null,null,null,null,null,null,null,null,null,"ทศนิยม"]
[1,"งานสะพาน  คสล.",null,null,null,null,null,null,null,null,null,null,null,null,null,null,null,null,null,null,null,null,null,3]
[null,1.1000000000000001,"งานสะพาน  ที่  กม..........ถึง  กม. .......... ความกว้าง ...... เมตร  ความยาว ....... เมตร",null,null,null,null,null,null,null,null,null,null,null,null,null,null,null,null,null,null,null,null,{"$f":"IF(P203=0,0,ROUND(O203*P203,ปร.4!$X$202))","v":0}]
[null,null,"1.1.1 งานเสาเข็ม ",null,null,null,null,null,null,null,null,null,null,null,null,null,null,null,null,null,null,null,null,{"$f":"IF(P204=0,0,ROUND(O204*P204,ปร.4!$X$202))","v":0}]
[null,null,"       1.1.1(1)  เสาเข็ม ตับริม  ขนาด ........ม x......ม. ความยาว  ........  ม.",null,null,null,null,null,null,null,null,"ต้น",{"$f":"ROUND(BackUp!L37,0)","v":0},{"$f":"IF(M205=0,0,Box!H19)","v":0},{"$f":"ROUND(N205*M205,2)","v":0},null,{"$f":"IF(P205=0,0,N205*P205)","v":0},{"$f":"IF(P205=0,0,O205*P205)","v":0},null,null,null,null,null,{"$f":"IF(P205=0,0,ROUND(O205*P205,ปร.4!$X$202))","v":0}]
[null,null,"       1.1.1(2)  เสาเข็ม ตับกลาง  ขนาด ........ม x......ม. ความยาว  ........  ม.",null,null,null,null,null,null,null,null,"ต้น",null,null,{"$f":"ROUND(N206*M206,2)","v":0},null,{"$f":"IF(P206=0,0,N206*P206)","v":0},{"$f":"IF(P206=0,0,O206*P206)","v":0},null,null,null,null,null,{"$f":"IF(P206=0,0,ROUND(O206*P206,ปร.4!$X$202))","v":0}]
[null,null,"1.1.2 งานตอม่อรับพื้นสะพาน ",null,null,null,null,null,null,null,null,null,null,null,null,null,null,null,null,null,null,null,null,{"$f":"IF(P207=0,0,ROUND(O207*P207,ปร.4!$X$202))","v":0}]
[null,null,"       1.1.2(1)  ตอม่อรับพื้นและกำแพงกันดินตับริม",null,null,null,null,null,null,null,null,"ตับ",null,null,{"$f":"ROUND(N208*M208,2)","v":0},null,{"$f":"IF(P208=0,0,N208*P208)","v":0},{"$f":"IF(P208=0,0,O208*P208)","v":0},null,null,null,null,null,{"$f":"IF(P208=0,0,ROUND(O208*P208,ปร.4!$X$202))","v":0}]
[null,null,"       1.1.2(2)  ตอม่อรับพื้นตับกลาง",null,null,null,null,null,null,null,null,"ตับ",null,{"$f":"IF(M209=0,0,ราคาต่อหน่วย!J51)","v":0},0,null,{"$f":"IF(P209=0,0,N209*P209)","v":0},{"$f":"IF(P209=0,0,O209*P209)","v":0},null,null,null,null,null,{"$f":"IF(P209=0,0,ROUND(O209*P209,ปร.4!$X$202))","v":0}]
[null,null,"1.1.3 งานพื้นสะพานหล่อในที่",null,null,null,null,null,null,null,null,"ตร.ม.",null,{"$f":"IF(M210=0,0,ราคาต่อหน่วย!J63)","v":0},0,null,{"$f":"IF(P210=0,0,N210*P210)","v":0},{"$f":"IF(P210=0,0,O210*P210)","v":0},null,null,null,null,null,{"$f":"IF(P210=0,0,ROUND(O210*P210,ปร.4!$X$202))","v":0}]
[null,null,"1.1.4 งานพื้นสะพานหล่อสำเร็จ",null,null,null,null,null,null,null,null,null,null,null,0,null,null,null,null,null,null,null,null,{"$f":"IF(P211=0,0,ROUND(O211*P211,ปร.4!$X$202))","v":0}]
[null,null,"       1.1.4(1) หล่อ Plank grider สำหรับช่วงความยาว................ ม.",null,null,null,null,null,null,null,null,"คาน",null,{"$f":"IF(M212=0,0,ราคาต่อหน่วย!J75)","v":0},0,null,{"$f":"IF(P212=0,0,N212*P212)","v":0},{"$f":"IF(P212=0,0,O212*P212)","v":0},null,null,null,null,null,{"$f":"IF(P212=0,0,ROUND(O212*P212,ปร.4!$X$202))","v":0}]
[null,null,"       1.1.4(2) ค่าติดตั้ง Plank grider    สำหรับช่วงความยาว................ ม.",null,null,null,null,null,null,null,null,"คาน",null,null,0,null,0,0,null,null,null,null,null,{"$f":"IF(P213=0,0,ROUND(O213*P213,ปร.4!$X$202))","v":0}]
[null,null,"       1.1.4(3) งานคอนกรีต Topping",null,null,null,null,null,null,null,null,"ตร.ม.",null,{"$f":"IF(M214=0,0,ราคาต่อหน่วย!J84)","v":0},0,null,0,0,null,null,null,null,null,{"$f":"IF(P214=0,0,ROUND(O214*P214,ปร.4!$X$202))","v":0}]
[null,null,"1.1.5 งานทางเท้า   ราวสะพาน  และงาน เบ็ดเตล็ด  อื่น ๆ",null,null,null,null,null,null,null,null,null,null,null,null,null,0,0,null,null,null,null,null,{"$f":"IF(P215=0,0,ROUND(O215*P215,ปร.4!$X$202))","v":0}]
[null,null,"       1.1.5(1) งานราวสะพาน คสล.",null,null,null,null,null,null,null,null,"ม.",0,{"$f":"IF(M216=0,0,ราคาต่อหน่วย!J103)","v":0},{"$f":"ROUND(N216*M216,2)","v":0},null,0,0,null,null,null,null,null,{"$f":"IF(P216=0,0,ROUND(O216*P216,ปร.4!$X$202))","v":0}]
[null,null,"       1.1.5(2) งานทางเท้าสะพาน คสล.",null,null,null,null,null,null,null,null,"ม.",0,{"$f":"IF(M217=0,0,ราคาต่อหน่วย!J107)","v":0},0,null,0,0,null,null,null,null,null,{"$f":"IF(P217=0,0,ROUND(O217*P217,ปร.4!$X$202))","v":0}]
[null,null,"       1.1.5(3) ป้ายสะพานชนิด....................ขนาด.......................",null,null,null,null,null,null,null,null,"ป้าย",0,{"$f":"IF(M218=0,0,ราคาต่อหน่วย!J112)","v":0},0,null,0,0,null,null,null,null,null,{"$f":"IF(P218=0,0,ROUND(O218*P218,ปร.4!$X$202))","v":0}]
[null,null,"       1.1.5(4) กระดาษชานอ้อย",null,null,null,null,null,null,null,null,"แผ่น",null,null,0,null,0,0,null,null,null,null,null,{"$f":"IF(P219=0,0,ROUND(O219*P219,ปร.4!$X$202))","v":0}]
[null,null,"       1.1.5(5) แอสฟัลท์อุดรอยต่อ",null,null,null,null,null,null,null,null,"ลิตร",null,null,0,null,0,0,null,null,null,null,null,{"$f":"IF(P220=0,0,ROUND(O220*P220,ปร.4!$X$202))","v":0}]
[null,null,"       1.1.5(6) สีสะท้อนแสงคอสะพาน",null,null,null,null,null,null,null,null,"แห่ง",null,{"$f":"+IF(M221=0,0,ราคาต่อหน่วย!J117)","v":0},0,null,0,0,null,null,null,null,null,{"$f":"IF(P221=0,0,ROUND(O221*P221,ปร.4!$X$202))","v":0}]
[null,null,"1.1.6 งานทางเบี่ยงชั่วคราว",null,null,null,null,null,null,null,null,"เงินจร",null,{"$f":"+IF(M222=0,0,ราคาต่อหน่วย!J126)","v":0},0,null,0,0,null,null,null,null,null,{"$f":"IF(P222=0,0,ROUND(O222*P222,ปร.4!$X$202))","v":0}]
[2,"งานท่อลอดเหลี่ยม  คสล.",null,null,null,null,null,null,null,null,null,null,null,null,null,null,null,null,null,null,null,null,null,{"$f":"IF(P223=0,0,ROUND(O223*P223,ปร.4!$X$202))","v":0}]
[null,2.1,{"$f":"\"งานท่อลอดเหลี่ยม \"&Box!J15&\" ขนาด \"&Box!D69&\" - \"&TEXT(Box!กว้าง12,\"0.00\")&\" x \"&TEXT(Box!สูง12,\"0.00\")&\" x \"&TEXT(Box!ยาว12,\"0.00\")&\" ม. \"","v":"งานท่อลอดเหลี่ยม กม.ที่ 5+872 ขนาด 1 - 2.40 x 2.10 x 0.00 ม. "},null,null,null,null,null,null,null,null,null,null,null,null,null,null,null,null,null,null,null,null,{"$f":"IF(P224=0,0,ROUND(O224*P224,ปร.4!$X$202))","v":0}]
[null,null,"2.1.1 งานขุดดิน",null,null,null,null,null,null,null,null,"ลบ.ม.",{"$f":"ROUNDDOWN(Box!G19,0)","v":0},{"$f":"+IF(M225=0,0,Box!H19)","v":0},{"$f":"ROUND(N225*M225,2)","v":0},{"$f":"IF(M225=0,0,ปร.5!$I$21)","v":0},{"$f":"IF(P225=0,0,N225*P225)","v":0},{"$f":"IF(P225=0,0,ROUND(O225*P225,2)+W225)","v":0},null,null,null,null,null,{"$f":"IF(P225=0,0,ROUND(O225*P225,ปร.4!$X$202))","v":0}]
[null,null,"2.1.2 งานคอนกรีตหยาบ",null,null,null,null,null,null,null,null,"ลบ.ม.",{"$f":"ROUNDDOWN(Box!G20,2)","v":0},{"$f":"+IF(M226=0,0,Box!H20)","v":0},{"$f":"ROUND(N226*M226,2)","v":0},{"$f":"IF(M226=0,0,ปร.5!$I$21)","v":0},{"$f":"IF(P226=0,0,N226*P226)","v":0},0,null,null,null,null,null,{"$f":"IF(P226=0,0,ROUND(O226*P226,ปร.4!$X$202))","v":0}]
[null,null,"2.1.3 งานคอนกรีตโครงสร้าง",null,null,null,null,null,null,null,null,"ลบ.ม.",{"$f":"ROUNDDOWN(Box!G21,2)","v":0},{"$f":"+IF(M227=0,0,Box!H21)","v":0},{"$f":"ROUND(N227*M227,2)","v":0},{"$f":"IF(M227=0,0,ปร.5!$I$21)","v":0},{"$f":"IF(P227=0,0,N227*P227)","v":0},0,null,null,null,null,null,{"$f":"IF(P227=0,0,ROUND(O227*P227,ปร.4!$X$202))","v":0}]
[null,null,"2.1.4 งานไม้แบบ  ( 3 )",null,null,null,null,null,null,null,null,"ตร.ม.",{"$f":"ROUNDDOWN(Box!G22,2)","v":0},{"$f":"+IF(M228=0,0,Box!H22)","v":0},{"$f":"ROUND(N228*M228,2)","v":0},{"$f":"IF(M228=0,0,ปร.5!$I$21)","v":0},{"$f":"IF(P228=0,0,N228*P228)","v":0},0,null,null,null,null,null,{"$f":"IF(P228=0,0,ROUND(O228*P228,ปร.4!$X$202))","v":0}]
[null,null,"2.1.5 งานไม้ค้ำยัน Ø 3\"",null,null,null,null,null,null,null,null,"ต้น",{"$f":"ROUNDDOWN(Box!G23,2)","v":0},{"$f":"+IF(M229=0,0,Box!H23)","v":0},{"$f":"ROUND(N229*M229,2)","v":0},{"$f":"IF(M229=0,0,ปร.5!$I$21)","v":0},{"$f":"IF(P229=0,0,N229*P229)","v":0},0,null,null,null,null,null,{"$f":"IF(P229=0,0,ROUND(O229*P229,ปร.4!$X$202))","v":0}]
[null,null,"2.1.6 งานเหล็กเสริม",null,null,null,null,null,null,null,null,null,null,null,null,null,null,null,null,null,null,null,null,{"$f":"IF(P230=0,0,ROUND(O230*P230,ปร.4!$X$202))","v":0}]
[null,null,"       - ขนาด RB 6 มม.",null,null,null,null,null,null,null,null,"กก.",{"$f":"ROUNDDOWN(Box!G25,2)","v":0},{"$f":"+IF(M231=0,0,Box!H25)","v":0},{"$f":"ROUND(N231*M231,2)","v":0},{"$f":"IF(M231=0,0,ปร.5!$I$21)","v":0},{"$f":"IF(P231=0,0,N231*P231)","v":0},{"$f":"IF(P231=0,0,ROUND(O231*P231,2)+W231)","v":0},null,null,null,null,null,{"$f":"IF(P231=0,0,ROUND(O231*P231,ปร.4!$X$202))","v":0}]
[null,null,"       - ขนาด RB 9 มม.",null,null,null,null,null,null,null,null,"กก.",{"$f":"ROUNDDOWN(Box!G26,2)","v":0},{"$f":"+IF(M232=0,0,Box!H26)","v":0},0,{"$f":"IF(M232=0,0,ปร.5!$I$21)","v":0},0,0,null,null,null,null,null,{"$f":"IF(P232=0,0,ROUND(O232*P232,ปร.4!$X$202))","v":0}]
[null,null,"      - ขนาด RB 25 มม.  (Dowel)",null,null,null,null,null,null,null,null,"กก.",{"$f":"ROUNDDOWN(Box!G27,2)","v":0},{"$f":"+IF(M233=0,0,Box!H27)","v":0},0,{"$f":"IF(M233=0,0,ปร.5!$I$21)","v":0},0,0,null,null,null,null,null,{"$f":"IF(P233=0,0,ROUND(O233*P233,ปร.4!$X$202))","v":0}]
[null,null,"       - ขนาด DB 12 มม.",null,null,null,null,null,null,null,null,"กก.",{"$f":"ROUNDDOWN(Box!G28,2)","v":0},{"$f":"+IF(M234=0,0,Box!H28)","v":0},0,{"$f":"IF(M234=0,0,ปร.5!$I$21)","v":0},0,0,null,null,null,null,null,{"$f":"IF(P234=0,0,ROUND(O234*P234,ปร.4!$X$202))","v":0}]
[null,null,"       - ขนาด DB 16 มม.",null,null,null,null,null,null,null,null,"กก.",{"$f":"ROUNDDOWN(Box!G29,2)","v":0},{"$f":"+IF(M235=0,0,Box!H29)","v":0},0,{"$f":"IF(M235=0,0,ปร.5!$I$21)","v":0},0,0,null,null,null,null,null,{"$f":"IF(P235=0,0,ROUND(O235*P235,ปร.4!$X$202))","v":0}]
[null,null,"       - ขนาด DB 20 มม.",null,null,null,null,null,null,null,null,"กก.",{"$f":"ROUNDDOWN(Box!G30,2)","v":0},{"$f":"+IF(M236=0,0,Box!H30)","v":0},0,{"$f":"IF(M236=0,0,ปร.5!$I$21)","v":0},0,0,null,null,null,null,null,{"$f":"IF(P236=0,0,ROUND(O236*P236,ปร.4!$X$202))","v":0}]
[null,null,"      - ขนาด DB 25 มม.",null,null,null,null,null,null,null,null,"กก.",{"$f":"ROUNDDOWN(Box!G31,2)","v":0},{"$f":"+IF(M237=0,0,Box!H31)","v":0},0,{"$f":"IF(M237=0,0,ปร.5!$I$21)","v":0},0,0,null,null,null,null,null,{"$f":"IF(P237=0,0,ROUND(O237*P237,ปร.4!$X$202))","v":0}]
[null,null,"      - ค่าแรงงานเหล็ก",null,null,null,null,null,null,null,null,"กก.",{"$f":"ROUNDDOWN(Box!G32,2)","v":0},{"$f":"+IF(M238=0,0,Box!H32)","v":0},0,{"$f":"IF(M238=0,0,ปร.5!$I$21)","v":0},0,0,null,null,null,null,null,{"$f":"IF(P238=0,0,ROUND(O238*P238,ปร.4!$X$202))","v":0}]
[null,null,"      - ลวดผูกเหล็กใช้ 2.5%",null,null,null,null,null,null,null,null,"กก.",{"$f":"ROUNDDOWN(Box!G33,2)","v":0},{"$f":"+IF(M239=0,0,Box!H33)","v":0},0,{"$f":"IF(M239=0,0,ปร.5!$I$21)","v":0},0,0,null,null,null,null,null,{"$f":"IF(P239=0,0,ROUND(O239*P239,ปร.4!$X$202))","v":0}]
[]
[null,null,"รวมค่างานประเภทงานสะพานและท่อลอดเหลี่ยม",null,null,null,null,null,null,null,null,null,null,null,{"$f":"SUM(O203:O240)","v":0},{"$f":"IF(O241=0,0,ปร.5!I21)","v":0},null,{"$f":"ROUND(O241*P241,2)","v":0},null,{"$f":"SUM(R201:R240)","v":0},{"$f":"IF(ROUND(R241,2)=ROUND(T241,2),\"OK\",\"CHECK\")","v":"OK"},{"$f":"IF(SUM(W201:W240)<>0,\"มีการปรับแก้\",\"\")","v":""},null,{"$f":"SUM(X203:X240)","v":0}]
[null,"ประเภทค่าใช้จ่ายพิเศษตามข้อกำหนดและค่าใช้จ่ายอื่นๆ"]
[null," - งานป้ายประชาสัมพันธ์โครงการ",null,null,null,null,null,null,null,null,null,"เหมา",1,2500,{"$f":"ROUND(N243*M243,2)","v":2500},{"$f":"IF(M243=0,0,1)","v":1},{"$f":"IF(P243=0,0,N243*P243)","v":2500},{"$f":"IF(P243=0,0,ROUND(O243*P243,2)+W243)","v":2500},null,{"$f":"+R176+R172+R170+R169+R163+R162+R158+R146+R140+R128+R120+R116+R88+R83+R82+R71+R70+R67+R66+R56+R55+R52+R51+R42+R38+R32+R25+R23+R22","v":328972.61}]
[null," - แก้ไขระบบประปาภายในโครงการ",null,null,null,null,null,null,null,null,null,"เมตร",{"$f":"M82+M106","v":356},15,{"$f":"ROUND(N244*M244,2)","v":5340},{"$f":"IF(M244=0,0,1)","v":1},{"$f":"IF(P244=0,0,N244*P244)","v":15},5340]
[null," - ค่าธรรมเนียมขยายเขตไฟฟ้าและติดตั้งหม้อแปลงไฟฟ้า",null,null,null,null,null,null,null,null,null,"จุด",{"$f":"BackUp!N394","v":0},{"$f":"IF(M245=0,0,140000)","v":0},{"$f":"ROUND(N245*M245,2)","v":0},{"$f":"IF(M245=0,0,1)","v":0},{"$f":"IF(P245=0,0,N245*P245)","v":0},0]
[]
[null,null,"รวมค่างานประเภทค่าใช้จ่ายพิเศษตามข้อกำหนดและค่าใช้จ่ายอื่นๆ",null,null,null,null,null,null,null,null,null,null,null,null,null,null,null,null,{"$f":"SUM(R242:R245)","v":7840},{"$f":"IF(ROUND(R247,2)=ROUND(T247,2),\"OK\",\"CHECK\")","v":"CHECK"}]
[null,null,null,null,null,null,"รวมค่างานทั้งสิ้น",null,null,null,null,null,null,null,null,null,null,{"$f":"R200+R241+R247+R243+R244","v":803825.58000000019},null,{"$f":"ปร.5!G20","v":803825.58},{"$f":"IF(ROUND(R248,2)=ROUND(T248,2),\"OK\",\"CHECK\")","v":"OK"}]
[]
[null,null,null,null,null,null,null,null,null,null,null,null,null,null,{"$f":"+O176+O172+O163+O162+O159+O158+O140+O139+O116+O70+O66+O55+O51+O42+O38+O33+O32+O25+O23+O22","v":0},null,null,{"$f":"+O250*P200","v":0}]
[null,null,null,null,null,null,null,null,null,null,null,null,null,null,null,null,null,{"$f":"+R176+R172+R163+R162+R159+R158+R140+R139+R116+R70+R66+R55+R51+R42+R38+R33+R32+R25+R23+R22","v":0}]

{"sheet":"ราคาต่อหน่วย","index":12,"n_rows":1146,"n_cols":46,"rows_kept":1146,"cut":false,"hidden":false,"merged":[[809,43,809,45],[810,43,810,45],[810,23,813,23],[814,39,814,41],[426,12,426,13],[487,20,487,23],[639,10,639,11],[637,10,637,11],[817,42,818,42],[809,42,812,42],[818,19,819,19],[819,30,819,32],[819,33,819,35],[818,39,818,41],[818,23,819,23],[813,39,813,41],[811,30,811,32],[506,20,506,23],[427,12,427,13],[430,12,430,13],[497,20,497,23],[810,39,810,41],[638,10,638,11],[431,12,431,13],[428,10,429,11],[428,12,429,13],[431,4,431,5],[0,0,0,13],[1,0,1,13],[430,8,430,9],[416,4,416,5],[424,4,424,5],[424,8,424,9],[424,12,424,13],[425,4,425,5],[423,4,423,5],[422,4,422,5],[414,12,414,13],[418,4,418,5],[417,4,417,5],[423,8,423,9],[422,8,422,9],[421,8,421,9],[420,8,420,9],[431,8,431,9],[426,8,426,9],[377,8,377,9],[423,12,423,13],[416,12,416,13],[372,12,373,13],[376,12,376,13],[393,11,394,11],[414,10,414,11],[422,12,422,13],[382,11,383,11],[382,12,383,13],[372,10,373,10],[372,11,373,11],[418,12,418,13],[374,12,374,13],[382,10,383,10],[377,12,377,13],[417,12,417,13],[375,12,375,13],[393,10,394,10],[393,12,394,13],[418,8,418,9],[417,8,417,9],[415,4,415,5],[372,2,373,2],[372,3,373,3],[376,4,376,5],[375,4,375,5],[393,2,394,4],[393,5,394,5],[374,4,374,5],[375,6,375,7],[377,6,377,7],[374,8,374,9],[374,6,374,7],[382,6,383,6],[382,9,383,9],[376,8,376,9],[416,8,416,9],[375,8,375,9],[414,7,415,7],[414,8,415,9],[382,8,383,8],[393,8,394,8],[382,7,383,7],[307,5,307,7],[334,4,334,6],[364,4,364,5],[366,4,366,5],[367,4,367,5],[360,4,360,5],[414,2,415,2],[414,3,415,3],[414,4,414,6],[376,6,376,7],[358,4,358,5],[308,3,308,4],[308,5,308,7],[361,4,361,5],[372,4,373,5],[372,6,373,7],[382,2,383,4],[359,4,359,5],[299,2,299,3],[300,2,300,3],[299,7,299,9],[300,7,300,9],[300,4,300,6],[297,4,298,6],[299,4,299,6],[304,2,305,2],[306,10,306,11],[305,3,305,4],[306,5,306,7],[250,31,250,34],[273,6,273,7],[274,6,274,7],[275,6,275,7],[266,6,267,7],[276,4,276,5],[266,10,267,10],[266,11,267,11],[266,8,267,9],[270,6,270,7],[275,4,275,5],[274,4,274,5],[273,4,273,5],[268,8,271,9],[272,8,276,9],[272,6,272,7],[272,4,272,5],[276,6,276,7],[266,12,267,13],[268,12,271,13],[272,12,276,13],[266,2,267,2],[266,3,267,3],[269,6,269,7],[268,6,268,7],[266,4,267,5],[268,4,268,5],[271,4,271,5],[270,4,270,5],[269,4,269,5],[271,6,271,7],[428,8,429,9],[419,4,419,5],[419,8,419,9],[421,4,421,5],[420,4,420,5],[426,4,426,5],[427,8,427,9],[427,4,427,5],[277,12,278,13],[278,6,278,7],[277,8,278,9],[277,6,277,7],[278,4,278,5],[277,4,277,5],[301,7,301,9],[306,3,306,4],[307,10,307,11],[307,3,307,4],[305,5,305,7],[301,2,301,3],[304,10,305,11],[301,4,301,6],[297,7,298,9],[297,2,298,3],[481,3,481,4],[637,3,638,3],[637,4,638,5],[637,6,638,7],[428,3,429,3],[428,4,429,5],[428,2,429,2],[428,6,429,6],[428,7,429,7],[430,4,430,5],[432,2,433,2],[434,4,434,5],[1045,34,1045,35],[814,30,814,32],[814,33,814,35],[645,6,645,7],[645,10,645,11],[646,4,646,5],[646,6,646,7],[646,10,646,11],[647,4,647,5],[647,6,647,7],[647,10,647,11],[645,4,645,5],[1011,4,1011,5],[811,33,811,35],[1043,4,1043,5],[643,4,643,5],[643,6,643,7],[643,10,643,11],[644,4,644,5],[644,6,644,7],[810,19,811,19],[815,30,815,32],[815,33,815,35],[644,10,644,11],[372,8,373,9],[365,4,365,5],[1045,31,1045,32],[1045,22,1045,23],[640,4,640,5],[640,6,640,7],[640,10,640,11],[642,4,642,5],[642,6,642,7],[642,10,642,11],[641,4,641,5],[641,6,641,7],[641,10,641,11],[468,3,468,4],[469,3,469,4],[480,3,480,4],[639,4,639,5],[639,6,639,7],[432,3,433,3],[432,4,433,5],[432,6,433,6],[432,7,433,7],[432,8,433,9],[432,12,433,13],[434,8,434,9],[434,12,434,13],[305,8,305,9],[306,8,306,9],[307,8,307,9],[308,8,308,9],[304,3,304,9],[435,4,435,5],[435,8,435,9],[435,12,435,13],[432,10,432,11],[425,12,425,13],[420,12,420,13],[425,8,425,9],[308,10,308,11],[419,12,419,13],[421,12,421,13],[363,4,363,5],[362,4,362,5],[393,9,394,9],[393,6,394,6],[377,4,377,5],[382,5,383,5],[393,7,394,7]]}
[{"$f":"+CONCATENATE(\"รายการประมาณราคาต่อหน่วย  \",\"(ราคาน้ำมันโซล่า ที่ อ.เมือง \"&ข้อมูลขนส่ง!K1-0.5&\".00 - \"&ข้อมูลขนส่ง!K1+0.4&\"9 บาท/ลิตร เฉลี่ย \"&ข้อมูลขนส่ง!K1&\"0 บาท/ลิตร)\")","v":"รายการประมาณราคาต่อหน่วย  (ราคาน้ำมันโซล่า ที่ อ.เมือง 29.00 - 29.99 บาท/ลิตร เฉลี่ย 29.50 บาท/ลิตร)"}]
[{"$f":"+CONCATENATE(\"(ใช้ราคาเฉลี่ยน้ำมัน ลิตรละ \"&ข้อมูลขนส่ง!K1&\"0 บาท หาค่าขนส่ง,ค่าดำเนินการและค่าเสื่อมราคา)\")","v":"(ใช้ราคาเฉลี่ยน้ำมัน ลิตรละ 29.50 บาท หาค่าขนส่ง,ค่าดำเนินการและค่าเสื่อมราคา)"}]
[null,{"$f":"ข้อมูลโครงการ!R13","v":"ปกติ"},null,{"$f":"ข้อมูลโครงการ!G7","v":"ซอยจันทร์สุวรรณ"}]
[1,"งานรื้อย้าย",null,null,null,null,null,null,null,null,null,null,null,{"$f":"IF(Q4=\"\",\"\",\"(\"&Q4&\")\")","v":""}]
[null,1.1000000000000001,"งานรื้อผิวจราจรลาดยางเดิม (ความหนา ",null,5,"ซม.)"]
[null,null,{"$f":"\"คิดจากความหนาของผิวทางแอสฟัลท์คอนกรีต  =  \"&E5&\"  ซม.\"","v":"คิดจากความหนาของผิวทางแอสฟัลท์คอนกรีต  =  5  ซม."}]
[null,null,{"$f":"\"ค่าดำเนินการ + ค่าเสื่อมราคา    รื้อผิวทางเดิมหนา  = \"&E5&\"  ซม.\"","v":"ค่าดำเนินการ + ค่าเสื่อมราคา    รื้อผิวทางเดิมหนา  = 5  ซม."},null,null,null,null,null,"=",{"$f":"ROUND(ค่าเสื่อมราคา!I42*ราคาต่อหน่วย!E5/5,2)","v":10.97},"บาท / ตร.ม.","[1]","(จากตารางค่าดำเนินการฯ)"]
[null,null,"คิดจากพื้นที่  1  ตร.ม."]
[null,null,"ปริมาตรวัสดุที่รื้อออก",null,null,null,null,null,"=",{"$f":"1*1*E5/100","v":0.05},"ลบ.ม./ตร.ม.","[2]"]
[null,null,{"$f":"\"ส่วนขยาย\"","v":"ส่วนขยาย"},null,null,null,null,null,"=",{"$f":"+J9*1.6","v":8.0000000000000016E-2},"ลบ.ม./ตร.ม.","[3] = [2] x 1.60"]
[null,null,"ค่าดำเนินการ + ค่าเสื่อมดันและตัก  (หิน ผุ)",null,null,null,null,null,"=",{"$f":"ROUND(ค่าเสื่อมราคา!I25,2)","v":38.57},"บาท/ลบ.ม.","[4]","(จากตารางค่าดำเนินการฯ)"]
[null,null,"ค่าขนทิ้ง",{"$f":"D79","v":1},"กม.",null,null,null,"=",{"$f":"J79","v":11.19},"บาท/ลบ.ม.","[5]","(จากตารางค่าขนส่ง)"]
[null,null,"รวมค่าขนทิ้ง",null,null,null,null,null,"=",{"$f":"ROUND(J12+J11,2)","v":49.76},"บาท/ลบ.ม.","[6] = [4] + [5]"]
[null,null,"ค่าขนคอนกรีตที่ทุบแล้วไปทิ้ง",null,null,null,null,null,"=",{"$f":"ROUND(J10*J13,2)","v":3.98},"บาท / ตร.ม.","[7] = [3] x [6]"]
[null,null,"รวมค่าใช้จ่าย",null,null,null,null,null,"=",{"$f":"J7+J14","v":14.950000000000001},"บาท / ตร.ม.","[8] = [1] + [7]"]
[null,null,"…ค่างานต้นทุน",null,null,null,null,null,"=",{"$f":"ROUNDDOWN(J15,0)","v":14},"บาท / ตร.ม."]
[null,1.2,"งานรื้อถอนถนน คสล.  เดิม  (ความหนา ",null,15,"ซม.)"]
[null,null,"คิดจากความหนาของผิวทางคอนกรีต  ",null,null,null,null,null,"=",{"$f":"E17","v":15},"ซม.","[1]"]
[null,null,"คิดจากพื้นที่  1  ตร.ม."]
[null,null,"ปริมาตรคอนกรีตที่รื้อออก",null,null,null,null,null,"=",{"$f":"J18*1/100","v":0.15},"ลบ.ม. / ตร.ม.","[2]= 1 x [1] / 100"]
[null,null,"ส่วนขยาย",null,null,null,null,null,"=",{"$f":"J20*1.7","v":0.255},"ลบ.ม. / ตร.ม.","[3]= [2] x 1.70"]
[null,null,"ค่าทุบคอนกรีตเดิม",null,null,null,null,null,"=",400,"บาท / ลบ.ม.","[4]","(ค่าทุบคอนกรีตตามหลักเกณฑ์ฯ)"]
[null,null,"ค่าทุบคอนกรีต",null,null,null,null,null,"=",{"$f":"J20*J22","v":60},"บาท / ตร.ม.","[5]= [2] x [4]"]
[null,null,"ค่าดำเนินการ + ค่าเสื่อมราคาดันและตัก (หินแข็ง)",null,null,null,null,null,"=",{"$f":"ROUND(ค่าเสื่อมราคา!I27,2)","v":72.900000000000006},"บาท / ลบ.ม.","[6]","(จากตารางค่าดำเนินการฯ)"]
[null,null,"ขนทิ้ง",{"$f":"ข้อมูลขนส่ง!U11","v":1},"กม.",null,null,null,"=",{"$f":"ข้อมูลขนส่ง!Z11","v":11.19},"บาท / ลบ.ม.","[7]","(จากตารางค่าขนส่ง)"]
[null,null,"รวมค่าขนทิ้ง",null,null,null,null,null,"=",{"$f":"J24+J25","v":84.09},"บาท / ลบ.ม.","[8]= [6] + [7]"]
[null,null,"ค่าขนคอนกรีตที่ทุบแล้วไปทิ้ง",null,null,null,null,null,"=",{"$f":"J21*J26","v":21.44295},"บาท / ตร.ม.","[9]= [3] x [8]"]
[null,null,"รวมค่าใช้จ่าย",null,null,null,null,null,"=",{"$f":"J23+J27","v":81.442949999999996},"บาท / ตร.ม.","[10]= [5] + [9]"]
[null,null,"…ค่างานต้นทุน",null,null,null,null,null,"=",{"$f":"ROUNDDOWN(J28,0)","v":81},"บาท / ตร.ม."]
[null,1.3,"งานรื้อถอนท่อลอดเหลี่ยมเดิม"]
[null,null,"คิดจากปริมาตรคอนกรีตของท่อเหลี่ยมที่ต้องทุบทิ้ง",null,null,null,null,null,"=",{"$f":"IF(ปร.4!U18=0,ROUNDDOWN(BackUp!BI51,0),ปร.4!U18)","v":0},"ลบ.ม.","[1]"]
[null,null,"ค่าทุบคอนกรีตเดิม",null,null,null,null,null,"=",500,"บาท / ลบ.ม.","[2]","(ค่าทุบคอนกรีตตามหลักเกณฑ์ฯ)"]
[null,null,"ส่วนขยาย",null,null,null,null,null,"=",{"$f":"J31*1.7","v":0},"ลบ.ม.","[3]= [1] x 1.70"]
[null,null,"ค่าทุบคอนกรีต",null,null,null,null,null,"=",{"$f":"J31*J32","v":0},"บาท ","[4]= [1] x [2]"]
[null,null,"ค่าดำเนินการ + ค่าเสื่อมราคาดันและตัก (หินแข็ง)",null,null,null,null,null,"=",{"$f":"ROUND(ค่าเสื่อมราคา!I27,2)","v":72.900000000000006},"บาท / ลบ.ม.","[5]","(จากตารางค่าดำเนินการฯ)"]
[null,null,"ขนทิ้ง",{"$f":"ข้อมูลขนส่ง!U11","v":1},"กม.",null,null,null,"=",{"$f":"ข้อมูลขนส่ง!Z11","v":11.19},"บาท / ลบ.ม.","[6]","(จากตารางค่าขนส่ง)"]
[null,null,"รวมค่าขนทิ้ง",null,null,null,null,null,"=",{"$f":"J35+J36","v":84.09},"บาท / ลบ.ม.","[7]= [5] + [6]"]
[null,null,"ค่าขนคอนกรีตที่ทุบแล้วไปทิ้ง",null,null,null,null,null,"=",{"$f":"J33*J37","v":0},"บาท","[8]= [3] x [7]"]
[null,null,"รวมค่าใช้จ่าย",null,null,null,null,null,"=",{"$f":"J34+J38","v":0},"บาท","[9]= [4] + [8]"]
[null,null,"…ค่างานต้นทุน",null,null,null,null,null,"=",{"$f":"ROUNDDOWN(J39,0)","v":0},"บาท"]
[null,1.4,"งานรื้อถอนสะพานเดิม"]
[null,null,"คิดจากปริมาตรคอนกรีตของสะพานที่ต้องทุบทิ้ง",null,null,null,null,null,"=",{"$f":"IF(ปร.4!U19=0,ROUNDDOWN(BackUp!BL51,0),ปร.4!U19)","v":0},"ลบ.ม.","[1]"]
[null,null,"ค่าทุบคอนกรีตเดิม",null,null,null,null,null,"=",1000,"บาท / ลบ.ม.","[2]","(ค่าทุบคอนกรีตตามหลักเกณฑ์ฯ)"]
[null,null,"ส่วนขยาย",null,null,null,null,null,"=",{"$f":"J42*1.7","v":0},"ลบ.ม.","[3]= [1] x 1.70"]
[null,null,"ค่าทุบคอนกรีต",null,null,null,null,null,"=",{"$f":"J42*J43","v":0},"บาท ","[4]= [1] x [2]"]
[null,null,"ค่าดำเนินการ + ค่าเสื่อมราคาดันและตัก (หินแข็ง)",null,null,null,null,null,"=",{"$f":"ราคาต่อหน่วย!J35","v":72.900000000000006},"บาท / ลบ.ม.","[5]","(จากตารางค่าดำเนินการฯ)"]
[null,null,"ขนทิ้ง",{"$f":"ราคาต่อหน่วย!D36","v":1},"กม.",null,null,null,"=",{"$f":"ราคาต่อหน่วย!J36","v":11.19},"บาท / ลบ.ม.","[6]","(จากตารางค่าขนส่ง)"]
[null,null,"รวมค่าขนทิ้ง",null,null,null,null,null,"=",{"$f":"J46+J47","v":84.09},"บาท / ลบ.ม.","[7]= [5] + [6]"]
[null,null,"ค่าขนคอนกรีตที่ทุบแล้วไปทิ้ง",null,null,null,null,null,"=",{"$f":"J44*J48","v":0},"บาท","[8]= [3] x [7]"]
[null,null,"รวมค่าใช้จ่าย",null,null,null,null,null,"=",{"$f":"J45+J49","v":0},"บาท","[9]= [4] + [8]"]
[null,null,"…ค่างานต้นทุน",null,null,null,null,null,"=",{"$f":"ROUNDDOWN(J50,0)","v":0},"บาท",null,{"$f":"IF(N51=\"\",\"\",\"(\"&N51&\")\")","v":""}]
[null,1.5,"งานรื้อหินคลุกเดิม(ขนกอง) (ความหนา ",null,{"$f":"BackUp!O8*100","v":20},"ซม.)"]
[null,null,{"$f":"\"คิดจากความหนาหินคลุกเดิม  =  \"&E52&\"  ซม.\"","v":"คิดจากความหนาหินคลุกเดิม  =  20  ซม."}]
[null,null,{"$f":"\"ค่าดำเนินการ + ค่าเสื่อมราคา    รื้อผิวทางเดิมหนา  = \"&E52&\"  ซม.\"","v":"ค่าดำเนินการ + ค่าเสื่อมราคา    รื้อผิวทางเดิมหนา  = 20  ซม."},null,null,null,null,null,"=",{"$f":"ROUND(ค่าเสื่อมราคา!I41*E52/10,2)","v":27.32},"บาท / ตร.ม.","[1]","(จากตารางค่าดำเนินการฯ)"]
[null,null,"คิดจากพื้นที่  1  ตร.ม."]
[null,null,"ปริมาตรวัสดุที่รื้อออก",null,null,null,null,null,"=",{"$f":"1*1*E52/100","v":0.2},"ลบ.ม./ตร.ม.","[2]"]
[null,null,{"$f":"\"ส่วนขยาย\"","v":"ส่วนขยาย"},null,null,null,null,null,"=",{"$f":"+J56*1.5","v":0.30000000000000004},"ลบ.ม./ตร.ม.","[3] = [2] x 1.50"]
[null,null,"ค่าดำเนินการ + ค่าเสื่อมดันและตัก  (ดิน)",null,null,null,null,null,"=",{"$f":"ROUND(ค่าเสื่อมราคา!I23,2)","v":7.96},"บาท/ลบ.ม.","[4]","(จากตารางค่าดำเนินการฯ)"]
[null,null,"ค่าขนกอง",{"$f":"D12","v":1},"กม.",null,null,null,"=",{"$f":"J12","v":11.19},"บาท/ลบ.ม.","[5]","(จากตารางค่าขนส่ง)"]
[null,null,"รวมค่าขนกอง",null,null,null,null,null,"=",{"$f":"ROUND(J59+J58,2)","v":19.149999999999999},"บาท/ลบ.ม.","[6] = [4] + [5]"]
[null,null,"ค่าขนหินคลุกไปกอง",null,null,null,null,null,"=",{"$f":"ROUND(J57*J60,2)","v":5.75},"บาท / ตร.ม.","[7] = [3] x [6]"]
[null,null,"รวมค่าใช้จ่าย",null,null,null,null,null,"=",{"$f":"J54+J61","v":33.07},"บาท / ตร.ม.","[8] = [1] + [7]"]
[null,null,"…ค่างานต้นทุน",null,null,null,null,null,"=",{"$f":"ROUNDDOWN(J62,0)","v":33},"บาท / ตร.ม."]
[2,"งานดิน"]
[null,2.1,"งานกรุยทางถางป่า"]
[null,null,"พิจารณาตามสภาพพื้นที่",{"$f":"\"(\"&BackUp!I52&\")\"","v":"(ขนาดกลาง)"}]
[null,null,"ค่าดำเนินการ + ค่าเสื่อมราคา",null,null,null,null,null,"=",{"$f":"ข้อมูลขนส่ง!N4","v":3.54},"บาท / ตร.ม.","[1]","(จากตารางค่าดำเนินการฯ)"]
[null,null,"…ค่างานต้นทุน",null,null,null,null,null,"=",{"$f":"ROUND(J67,2)","v":3.54},"บาท / ตร.ม.",null,null,{"$f":"IF(Q68=\"\",\"\",\"(\"&Q68&\")\")","v":""}]
[null,null,null,"หมายเหตุ"]
[null,null,null,null,"งานถางป่าขุดตอขนาดเบา",null,null,null,"มีเฉพาะการถากถางวัชพืชเท่านั้น"]
[null,null,null,null,"งานถางป่าขุดตอขนาดกลาง",null,null,null,"มีการถากถางวัชพืช และปาดหน้าดินเดิมออกด้วย"]
[null,null,null,null,"งานถางป่าขุดตอขนาดหนัก",null,null,null,"มีการตัดโค่นต้นไม้ ขุดตอ ถากถางวัชพืช และปาดหน้าดินเดิมออกด้วย"]
[null,2.2000000000000002,"งานปรับเกลี่ยแต่งและบดอัดคันทางเดิม"]
[null,null,"ค่าดำเนินการ+ค่าเสื่อมราคา",null,{"$f":"\"(\"&BackUp!F74&\"  \"&TEXT(BackUp!G74,\"0.00\")&\" ม.)\"","v":"(หินคลุก หนา  0.10 ม.)"},null,null,null,"=",{"$f":"ROUND(IF(BackUp!F74=BackUp!BD73,ค่าเสื่อมราคา!I40*BackUp!G74/0.1,ค่าเสื่อมราคา!I41*BackUp!G74/0.1),2)","v":13.66},"บาท / ตร.ม.","[1]","(จากตารางค่าดำเนินการฯ)"]
[null,null,"…ค่างานต้นทุน",null,null,null,null,null,"=",{"$f":"ROUNDDOWN(J74,2)","v":13.66},"บาท / ตร.ม."]
[null,2.2999999999999998,"งานตัดขึ้นรูปคันทาง"]
[null,"2.3.1","งานดินตัด",null,{"$f":"+CONCATENATE(\"ขนด้วย \",ข้อมูลขนส่ง!A11)","v":"ขนด้วย รถบรรทุก 10 ล้อ"},null,null,null,null,null,null,null,null,{"$f":"IF(Q77=\"\",\"\",\"(\"&Q77&\")\")","v":""}]
[null,null,"ค่าดำเนินการและเสื่อมราคา (ตัก)",null,null,null,null,null,"=",{"$f":"ROUND(ค่าเสื่อมราคา!I23,2)","v":7.96},"บาท / ลบ.ม.","[1]","(จากตารางค่าดำเนินการฯ)"]
[null,null,"ค่าขนวัสดุไปทิ้ง",{"$f":"ข้อมูลขนส่ง!U11","v":1},"กม.",null,null,null,"=",{"$f":"ข้อมูลขนส่ง!Z11","v":11.19},"บาท / ลบ.ม.","[2]","(จากตารางค่าขนส่ง)"]
[null,null,"รวมค่างาน",null,null,null,null,null,"=",{"$f":"+(J78+J79)","v":19.149999999999999},"บาท / ลบ.ม.","[3] = [1] + [2]"]
[null,null,"ส่วนขยาย",null,null,null,null,null,"=",{"$f":"J80*1.25","v":23.9375},"บาท / ลบ.ม.","[4] = [3] x 1.25"]
[null,null,"ค่าดำเนินการและเสื่อมราคา (ขุดตัด)",null,null,null,null,null,"=",{"$f":"ROUND(ค่าเสื่อมราคา!I22,2)","v":20.71},"บาท / ลบ.ม.","[5]"]
[null,null,"รวมค่าใช้จ่าย",null,null,null,null,null,"=",{"$f":"ROUND(J82+J81,2)","v":44.65},"บาท / ลบ.ม.","[6] = [4] + [5]"]
[null,null,"…ค่างานต้นทุน",null,null,null,null,null,"=",{"$f":"+ROUNDDOWN(J83,1)","v":44.6},"บาท / ลบ.ม."]
[null,null,null,"หมายเหตุ"]
[null,null,null,"ส่วนขยายตัวของทราย",null,null,null,null," =",1.1499999999999999]
[null,null,null,"ส่วนขยายตัวของดิน, ดินปนทราย",null,null,null,null," =",1.25]
[null,"2.3.2","งานตัดหินผุ",null,null,null,null,null,null,null,null,null,null,{"$f":"IF(Q88=\"\",\"\",\"(\"&Q88&\")\")","v":""}]
[null,null,"ค่าดำเนินการและเสื่อมราคา (ดันและตัก)",null,null,null,null,null,"=",{"$f":"ROUND(ค่าเสื่อมราคา!I25,2)","v":38.57},"บาท / ลบ.ม.","[1]","(จากตารางค่าดำเนินการฯ)"]
[null,null,"ค่าขนส่งวัสดุไปทิ้ง",{"$f":"D79","v":1},"กม.",null,null,null,"=",{"$f":"J79","v":11.19},"บาท / ลบ.ม.","[2]","(จากตารางค่าขนส่ง)"]
[null,null,"รวมค่างาน",null,null,null,null,null,"=",{"$f":"(J89+J90)","v":49.76},"บาท / ลบ.ม.","[3] = [1] + [2]"]
[null,null,"ส่วนขยาย",null,null,null,null,null,"=",{"$f":"J91*1.6","v":79.616},"บาท / ลบ.ม.","[4] = [3] x 1.60"]
[null,null,"ค่าดำเนินการและเสื่อมราคา (ขุดตัด)",null,null,null,null,null,"=",{"$f":"ROUND(ค่าเสื่อมราคา!I24,2)","v":31.13},"บาท / ลบ.ม.","[5]"]
[null,null,"รวมค่าใช้จ่าย",null,null,null,null,null,"=",{"$f":"SUM(J92:J93)","v":110.746},"บาท / ลบ.ม.","[6] = [4] + [5]"]
[null,null,"…ค่างานต้นทุน",null,null,null,null,null,"=",{"$f":"+ROUNDDOWN(J94,1)","v":110.7},"บาท / ลบ.ม."]
[null,"2.3.3","งานตัดหินแข็ง",null,null,null,null,null,null,null,null,null,null,{"$f":"IF(Q96=\"\",\"\",\"(\"&Q96&\")\")","v":""}]
[null,null,"ค่าดำเนินการและเสื่อมราคา (ดันและตัก)",null,null,null,null,null,"=",{"$f":"ROUND(ค่าเสื่อมราคา!I27,2)","v":72.900000000000006},"บาท / ลบ.ม.","[1]","(จากตารางค่าดำเนินการฯ)"]
[null,null,"ค่าขนส่งวัสดุไปทิ้ง",{"$f":"D90","v":1},{"$f":"+E90","v":"กม."},null,null,null,"=",{"$f":"J90","v":11.19},"บาท / ลบ.ม.","[2]","(จากตารางค่าขนส่ง)"]
[null,null,"รวมค่างาน",null,null,null,null,null,"=",{"$f":"(J97+J98)","v":84.09},"บาท / ลบ.ม.","[3] = [1] + [2]"]
[null,null,"ส่วนขยาย",null,null,null,null,null,"=",{"$f":"J99*1.7","v":142.953},"บาท / ลบ.ม.","[4] = [3] x 1.70"]
[null,null,"ค่าดำเนินการและเสื่อมราคา (เจาะระเบิด)",null,null,null,null,null,"=",{"$f":"ROUND(ค่าเสื่อมราคา!I26,2)","v":65.84},"บาท / ลบ.ม.","[5]"]
[null,null,"รวมค่าใช้จ่าย",null,null,null,null,null,"=",{"$f":"SUM(J100:J101)","v":208.79300000000001},"บาท / ลบ.ม.","[6] = [4] + [5]"]
[null,null,"…ค่างานต้นทุน",null,null,null,null,null,"=",{"$f":"+ROUNDDOWN(J102,1)","v":208.7},"บาท / ลบ.ม."]
[null,"2.3.4","งานขุดวัสดุไม่เหมาะสม"]
[null,null,"คิดค่าใช้จ่ายเหมือนรายการที่   2.2.1",null,null,null,null,null,"=",{"$f":"J84","v":44.6},"บาท/ลบ.ม.","[1]"]
[null,null,"เนื่องจากเป็นการขุดในพื้นที่จำกัดเฉพาะแห่ง คิดค่าใช้จ่ายเพิ่มขึ้นให้ 10%",null,null,null,null,null,"=",{"$f":"J105*1.1","v":49.06},"บาท/ลบ.ม.","[2] = [1] x 1.10"]
[null,null,"…ค่างานต้นทุน",null,null,null,null,null,"=",{"$f":"+ROUNDDOWN(J106,1)","v":49},"บาท/ลบ.ม."]
[null,"2.3.5","งานตัดแต่งขั้นบันได"]
[null,null,"ค่าดำเนินการ+ค่าเสื่อมราคา (ขุดตัดดินขั้นบันได)",null,null,null,null,null,"=",{"$f":"ROUND(ค่าเสื่อมราคา!I38,2)","v":7.78},"บาท/ลบ.ม.","[1]","(จากตารางค่าดำเนินการฯ)"]
[null,null,"ค่าดำเนินการ+ค่าเสื่อมราคา (บดทับ)",null,null,null,null,null,"=",{"$f":"ROUND(ค่าเสื่อมราคา!I20,2)","v":44.13},"บาท/ลบ.ม.","[2]","(จากตารางค่าดำเนินการฯ)"]
[null,null,"รวมค่าใช้จ่าย",null,null,null,null,null,"=",{"$f":"+J109+J110","v":51.910000000000004},"บาท/ลบ.ม.","[3] = [1] + [2]"]
[null,null,"…ค่างานต้นทุน",null,null,null,null,null,"=",{"$f":"+ROUNDDOWN(J111,1)","v":51.9},"บาท/ลบ.ม."]
[null,2.4,"งานถมคันทาง"]
[null,"2.4.1","งานดินถม "]
[null,"2.4.1","(1) งานดินถม(วัสดุจากงานดินตัด)",null,"(ขนส่งมาจากงานดินตัด)"]
[null,null,"ค่าดำเนินการและค่าเสื่อมราคา (บดทับ)",null,null,null,null,null,"=",{"$f":"+J124","v":0},"บาท/ลบ.ม.","[1]","(จากตารางค่าดำเนินการฯ)"]
[null,null,"…ค่างานต้นทุน",null,null,null,null,null,"=",{"$f":"+ROUNDDOWN(J116,1)","v":0},"บาท/ลบ.ม.",null,{"$f":"IF(N117=\"\",\"\",\"(\"&N117&\")\")","v":""}]
[null,"2.4.1","(2) งานดินถม(จากการขนส่ง)",null,{"$f":"+CONCATENATE(\"ขนด้วย \",ข้อมูลขนส่ง!A13)","v":"ขนด้วย รถบรรทุก 10 ล้อ"},null,null,null,null,{"$f":"+CONCATENATE(\"จากแหล่ง\",ราคาวัสดุ!M4)","v":"จากแหล่งพื้นที่ใกล้เคียงสถานที่ก่อสร้าง"}]
[null,null,"ค่าวัสดุจากแหล่ง",null,null,null,null,null,"=",{"$f":"ราคาวัสดุ!L4","v":84.11},"บาท/ลบ.ม.","[1]"]
[null,null,"ค่าดำเนินการและค่าเสื่อมราคา (ขุด-ขน)",null,null,null,null,null,"=",{"$f":"ROUND(ค่าเสื่อมราคา!I19,2)","v":20.9},"บาท/ลบ.ม.","[2]","(จากตารางค่าดำเนินการฯ)"]
[null,null,"ค่าขนส่ง",{"$f":"ข้อมูลขนส่ง!U13","v":1},{"$f":"E98","v":"กม."},null,null,null,"=",{"$f":"ข้อมูลขนส่ง!Z13","v":11.19},"บาท/ลบ.ม.","[3]","(จากตารางค่าขนส่ง)"]
[null,null,"รวมค่าวัสดุที่หน้างาน",null,null,null,null,null,"=",{"$f":"SUM(J119:J121)","v":116.19999999999999},"บาท/ลบ.ม.","[4] = [1] + [2] + [3]"]
[]
[]
[null,null,"รวมค่าใช้จ่าย",null,null,null,null,null,"=",{"$f":"+J122","v":116.19999999999999},"บาท/ลบ.ม.","[5] = [4] "]
[null,null,"…ค่างานต้นทุน",null,null,null,null,null,"=",{"$f":"+ROUNDDOWN(J125,1)","v":116.2},"บาท/ลบ.ม."]
[null,"2.4.2","งานทรายถม",null,{"$f":"+CONCATENATE(\"ขนด้วย \",ข้อมูลขนส่ง!A21)","v":"ขนด้วย รถบรรทุก 10 ล้อ"},null,null,null,null,{"$f":"+CONCATENATE(\"จากแหล่ง \",ราคาวัสดุ!M19)","v":"จากแหล่ง "}]
[null,null,"ค่าวัสดุจากแหล่ง",null,null,null,null,null,"=",{"$f":"ราคาวัสดุ!L20","v":529.6},"บาท/ลบ.ม.","[1]"]
[null,null,"ค่าดำเนินการและค่าเสื่อมราคา (ขุด-ขน)",null,"(ไม่คิดค่าใช้จ่าย)",null,null,null,"=",0,"บาท/ลบ.ม.","[2]","(จากตารางค่าดำเนินการฯ)"]
[null,null,"ค่าขนส่ง",{"$f":"ข้อมูลขนส่ง!V21","v":30},{"$f":"E121","v":"กม."},null,null,null,"=",{"$f":"ข้อมูลขนส่ง!Z21","v":100.39},"บาท/ลบ.ม.","[3]","(จากตารางค่าขนส่ง)"]
[null,null,"รวมค่าวัสดุที่หน้างาน",null,null,null,null,null,"=",{"$f":"SUM(J128:J130)","v":629.99},"บาท/ลบ.ม.","[4] = [1] + [2] + [3]"]
[null,null,"ส่วนการยุบตัว",null,null,null,null,null,"=",{"$f":"+J131*1.4","v":881.98599999999999},"บาท/ลบ.ม.","[5] = [4] x 1.40"]
[null,null,"ค่าดำเนินการและค่าเสื่อมราคา (บดทับ)  คิด",null,null,0.75,"%",null,"=",{"$f":"ROUND(ค่าเสื่อมราคา!I20*F133/100,2)","v":0.33},"บาท/ลบ.ม.","[6]","(จากตารางค่าดำเนินการฯ)"]
[null,null,"รวมค่าใช้จ่าย",null,null,null,null,null,"=",{"$f":"SUM(J132:J133)","v":882.31600000000003},"บาท/ลบ.ม.","[7] = [5] + [6]"]
[null,null,"…ค่างานต้นทุน",null,null,null,null,null,"=",{"$f":"+ROUNDDOWN(J134,1)","v":882.3},"บาท/ลบ.ม."]
[null,null,null,"หมายเหตุ",null,null,null,null,null,"แนวเก่า",null,"แนวใหม่"]
[null,null,null,"ส่วนยุบตัวของทรายถมคันทาง",null,null,null,null,null,1.4,null,1.45]
[null,null,null,"ดิน, ดินปนทราย ถมคันทาง",null,null,null,null,null,1.6,null,1.7]
[null,null,null,"ดินเหนียว ถมคันทาง",null,null,null,null,null,1.85,null,1.9]
[null,null,null,"(ดินเหนียวมีค่า CBR น้อยกว่า 2)"]
[null,null,null," ค่าดินที่แหล่ง  =  ราคาที่ดิน/2 (บาท/ไร่) x   1/1600    x 1/3 =  …………….บาท/ลบ.ม."]
[null,2.5,"งานวัสดุคัดเลือก",null,{"$f":"+CONCATENATE(\"ขนด้วย \",ข้อมูลขนส่ง!A15)","v":"ขนด้วย รถบรรทุก 10 ล้อ"},null,null,null,null,{"$f":"+CONCATENATE(\"จากแหล่ง\",ราคาวัสดุ!M5)","v":"จากแหล่งพื้นที่ใกล้เคียงสถานที่ก่อสร้าง"}]
[null,null,"ค่าวัสดุที่แหล่ง",null,null,null,null,null,"=",{"$f":"ราคาวัสดุ!L6","v":105.1425},"บาท/ลบ.ม.","[1]"]
[null,null,"ค่าดำเนินการและค่าเสื่อมราคา (ขุด-ขน)",null,null,null,null,null,"=",{"$f":"ROUND(ค่าเสื่อมราคา!I29,2)","v":30.86},"บาท/ลบ.ม.","[2]","(จากตารางค่าดำเนินการฯ)"]
[null,null,"ค่าขนส่ง",{"$f":"ข้อมูลขนส่ง!U15","v":2},{"$f":"E121","v":"กม."},null,null,null,"=",{"$f":"ข้อมูลขนส่ง!Z15","v":13.55},"บาท/ลบ.ม.","[3]","(จากตารางค่าขนส่ง)"]
[null,null,"รวมค่าวัสดุที่หน้างาน",null,null,null,null,null,"=",{"$f":"SUM(J143:J145)","v":149.55250000000001},"บาท/ลบ.ม.","[4] = [1] + [2] + [3]"]
[null,null,"ส่วนการยุบตัว",null,null,null,null,null,"=",{"$f":"+J146*1.6","v":239.28400000000002},"บาท/ลบ.ม.","[5] = [4] x 1.60"]
[null,null,"ค่าดำเนินการและค่าเสื่อมราคา (บดทับ)",null,null,null,null,null,"=",{"$f":"ROUND(ค่าเสื่อมราคา!I31,2)","v":52.96},"บาท/ลบ.ม.","[6]","(จากตารางค่าดำเนินการฯ)"]
[null,null,"รวมค่าใช้จ่าย",null,null,null,null,null,"=",{"$f":"SUM(J147:J148)","v":292.24400000000003},"บาท/ลบ.ม.","[7] = [5] + [6]"]
[null,null,"…ค่างานต้นทุน",null,null,null,null,null,"=",{"$f":"+ROUNDDOWN(J149,1)","v":292.2},"บาท/ลบ.ม."]
[3,"งานพื้นทางและรองพื้นทาง"]
[null,3.1,"งานชั้นรองพื้นทาง"]
[null,"3.1.1","งานชั้นรองพื้นทางลูกรัง",null,{"$f":"+CONCATENATE(\"ขนด้วย \",ข้อมูลขนส่ง!A15)","v":"ขนด้วย รถบรรทุก 10 ล้อ"},null,null,null,null,{"$f":"+CONCATENATE(\"จากแหล่ง\",ราคาวัสดุ!M5)","v":"จากแหล่งพื้นที่ใกล้เคียงสถานที่ก่อสร้าง"}]
[null,null,"ค่าวัสดุที่แหล่ง",null,null,null,null,null,"=",{"$f":"ราคาวัสดุ!L5","v":140.19},"บาท/ลบ.ม.","[1]"]
[null,null,"ค่าดำเนินการและค่าเสื่อมราคา (ขุด-ขน)",null,null,null,null,null,"=",{"$f":"ROUND(ค่าเสื่อมราคา!I29,2)","v":30.86},"บาท/ลบ.ม.","[2]","(จากตารางค่าดำเนินการฯ)"]
[null,null,"ค่าขนส่ง",{"$f":"ข้อมูลขนส่ง!U15","v":2},"กม.",null,null,null,"=",{"$f":"ข้อมูลขนส่ง!Z15","v":13.55},"บาท/ลบ.ม.","[3]","(จากตารางค่าขนส่ง)"]
[null,null,"รวมค่าวัสดุที่หน้างาน",null,null,null,null,null,"=",{"$f":"SUM(J154:J156)","v":184.60000000000002},"บาท/ลบ.ม.","[4] = [1] + [2] + [3]"]
[null,null,"ส่วนการยุบตัว",null,null,null,null,null,"=",{"$f":"+J157*1.6","v":295.36000000000007},"บาท/ลบ.ม.","[5] = [4] x 1.60"]
[null,null,"ค่าดำเนินการและค่าเสื่อมราคา (บดทับ)",null,null,null,null,null,"=",{"$f":"ROUND(ค่าเสื่อมราคา!I31,2)","v":52.96},"บาท/ลบ.ม.","[6]","(จากตารางค่าดำเนินการฯ)"]
[null,null,"รวมค่าใช้จ่าย",null,null,null,null,null,"=",{"$f":"SUM(J158:J159)","v":348.32000000000005},"บาท/ลบ.ม.","[7] = [5] + [6]"]
[null,null,"…ค่างานต้นทุน",null,null,null,null,null,"=",{"$f":"+ROUNDDOWN(J160,0)","v":348},"บาท/ลบ.ม."]
[null,"3.1.2","งานชั้นรองพื้นทางดินซีเมนต์",null,{"$f":"+CONCATENATE(\"ขนด้วย \",ข้อมูลขนส่ง!A19)","v":"ขนด้วย รถบรรทุก 10 ล้อ + ลากพ่วง"},null,null,null,null,{"$f":"+CONCATENATE(\"จากแหล่ง \",ราคาวัสดุ!M5)","v":"จากแหล่ง พื้นที่ใกล้เคียงสถานที่ก่อสร้าง"}]
[null,null,"ค่าวัสดุที่แหล่ง",null,null,null,null,null,"=",{"$f":"J154","v":140.19},"บาท/ลบ.ม.","[1]"]
[null,null,"ค่าดำเนินการและค่าเสื่อมราคา (ขุด-ขน)",null,null,null,null,null,"=",{"$f":"ROUND(ค่าเสื่อมราคา!I29,2)","v":30.86},"บาท/ลบ.ม.","[2]","(จากตารางค่าดำเนินการฯ)"]
[null,null,"ค่าขนส่ง",{"$f":"ข้อมูลขนส่ง!U15","v":2},"กม.",null,null,null,"=",{"$f":"ข้อมูลขนส่ง!Z15","v":13.55},"บาท/ลบ.ม.","[3]","(จากตารางค่าขนส่ง)"]
[null,null,"รวมค่าวัสดุที่หน้างาน",null,null,null,null,null,"=",{"$f":"SUM(J163:J165)","v":184.60000000000002},"บาท/ลบ.ม.","[4] = [1] + [2] + [3]"]
[null,null,"ส่วนการยุบตัว",null,null,null,null,null,"=",{"$f":"1.6*J166","v":295.36000000000007},"บาท/ลบ.ม.","[5] = [4] x 1.60"]
[null,null,"ราคาซีเมนต์ (รวมค่าขนส่ง)",null,null,null,null,null,"=",{"$f":"ราคาวัสดุ!ราคาปูนtype1ที่แหล่ง+ข้อมูลขนส่ง!Z31","v":2310.4299999999998},"บาท / ตัน","[6]"]
[null,null,"ปูนซีเมต์ ",3.5,"%     =",{"$f":"ROUNDDOWN(D169/100*2100,0)","v":73},"กก.   ในดินซีเมนต์   1    ลบ.ม.",null,null,null,null,"[7]"]
[null,null,"ค่าปูนซีเมนต์",null,null,null,null,null,"=",{"$f":"J168*F169/1000","v":168.66138999999998},{"$f":"K122","v":"บาท/ลบ.ม."},"[8] = [6] x [7]"]
[null,null,"ค่าติดตั้งเครื่องผสม",null,"(ไม่คิดค่าใช้จ่าย)",null,null,null,"=",0,"บาท/ลบ.ม.","[9]"]
[null,null,"ค่าดำเนินการและค่าเสื่อมราคา (ผสม)",null,null,null,null,null,"=",{"$f":"ROUND(ค่าเสื่อมราคา!I72,2)","v":42.15},"บาท/ลบ.ม.","[10]","(จากตารางค่าดำเนินการฯ)"]
[null,null,"ค่าดำเนินการและค่าเสื่อมราคา (บดทับ)",null,null,null,null,null,"=",{"$f":"ROUND(ค่าเสื่อมราคา!I31,2)","v":52.96},"บาท/ลบ.ม.","[11]","(จากตารางค่าดำเนินการฯ)"]
[null,null,"ค่าดำเนินการและค่าเสื่อมราคา (บ่ม)",null,null,null,null,null,"=",{"$f":"ROUND(ค่าเสื่อมราคา!I73,2)","v":43.66},"บาท/ลบ.ม.","[12]","(จากตารางค่าดำเนินการฯ)"]
[null,null,"รวมค่าใช้จ่าย",null,null,null,null,null,"=",{"$f":"ROUND(J167+J170+J172+J173+J174,2)","v":602.79},"บาท/ลบ.ม.","[13] =[5] + [8] + [10] + [11] + [12]"]
[null,null,"…ค่างานต้นทุน",null,null,null,null,null,"=",{"$f":"+ROUNDDOWN(J175,1)","v":602.70000000000005},"บาท/ลบ.ม."]
[null,3.2,"งานชั้นพื้นทาง"]
["","3.2.1","งานชั้นพื้นทางหินคลุก",null,{"$f":"+CONCATENATE(\"ขนด้วย \",ข้อมูลขนส่ง!A19)","v":"ขนด้วย รถบรรทุก 10 ล้อ + ลากพ่วง"},null,null,null,null,{"$f":"+CONCATENATE(\"จากแหล่ง\",ราคาวัสดุ!M8)","v":"จากแหล่งโรงโม่       อ.นากลาง  จ.หนองบัวลำภู"}]
["",null,"ค่าวัสดุที่แหล่ง  (รวมค่าตัก)",null,null,null,null,null,"=",{"$f":"ราคาวัสดุ!L8","v":170},"บาท/ลบ.ม.","[1]"]
["",null,"ค่าขนส่ง",{"$f":"ข้อมูลขนส่ง!U19","v":62},"กม.",null,null,null,"=",{"$f":"ข้อมูลขนส่ง!Z19","v":126.94},"บาท/ลบ.ม.","[2]"]
["",null,"รวมค่าวัสดุที่หน้างาน",null,null,null,null,null,"=",{"$f":"SUM(J179:J180)","v":296.94},"บาท/ลบ.ม.","[3] = [1] + [2]"]
["",null,"ส่วนการยุบตัว",null,null,null,null,null,"=",{"$f":"1.5*J181","v":445.40999999999997},"บาท/ลบ.ม.","[4] = [3] x 1.50"]
["",null,"ค่าดำเนินการและค่าเสื่อมราคา (ผสม)",null,null,null,null,null,"=",{"$f":"ROUND(ค่าเสื่อมราคา!I36,2)","v":24.14},"บาท/ลบ.ม.","[5]","(จากตารางค่าดำเนินการฯ)"]
["",null,"ค่าดำเนินการและค่าเสื่อมราคา (บดทับ)",null,null,null,null,null,"=",{"$f":"ROUND(ค่าเสื่อมราคา!I37,2)","v":84.22},"บาท/ลบ.ม.","[6]","(จากตารางค่าดำเนินการฯ)"]
["",null,"รวมค่าใช้จ่าย",null,null,null,null,null,"=",{"$f":"SUM(J182:J184)","v":553.77},"บาท/ลบ.ม.","[7] = [4] + [5] + [6]"]
["",null,"…ค่างานต้นทุน",null,null,null,null,null,"=",{"$f":"+ROUNDDOWN(J185,1)","v":553.70000000000005},"บาท/ลบ.ม."]
["","3.2.2","(1)งานชั้นพื้นทางดินซีเมนต์",null,{"$f":"+CONCATENATE(\"ขนด้วย \",ข้อมูลขนส่ง!A15)","v":"ขนด้วย รถบรรทุก 10 ล้อ"},null,null,null,null,{"$f":"+CONCATENATE(\"จากแหล่ง\",ราคาวัสดุ!M5)","v":"จากแหล่งพื้นที่ใกล้เคียงสถานที่ก่อสร้าง"}]
["",null,"ค่าวัสดุลูกรังที่แหล่ง",null,null,null,null,null,"=",{"$f":"J154","v":140.19},"บาท/ลบ.ม.","[1]"]
["",null,"ค่าดำเนินการและค่าเสื่อมราคา (ขุด-ขน)",null,null,null,null,null,"=",{"$f":"J164","v":30.86},"บาท/ลบ.ม.","[2]","(จากตารางค่าดำเนินการฯ)"]
["",null,"ค่าขนส่ง",{"$f":"D165","v":2},"กม.",null,null,null,"=",{"$f":"J156","v":13.55},"บาท/ลบ.ม.","[3]","(จากตารางค่าขนส่ง)"]
["",null,"รวมค่าวัสดุที่หน้างาน",null,null,null,null,null,"=",{"$f":"SUM(J188:J190)","v":184.60000000000002},"บาท/ลบ.ม.","[4] = [1] + [2] + [3]"]
["",null,"ส่วนการยุบตัว",null,null,null,null,null,"=",{"$f":"+J191*1.6","v":295.36000000000007},"บาท/ลบ.ม.","[5] = [4] x 1.60"]
["",null,"ราคาซีเมนต์ (รวมค่าขนส่ง)",null,null,null,null,null,"=",{"$f":"ราคาวัสดุ!ราคาปูนtype1ที่แหล่ง+ข้อมูลขนส่ง!Z31","v":2310.4299999999998},"บาท / ตัน","[6]"]
["",null,"ปูนซีเมต์ ",4.5,"%     =",{"$f":"ROUNDDOWN(D194/100*2100,0)","v":94},"กก.   ในดินซีเมนต์   1    ลบ.ม.",null,null,null,null,"[7]"]
["",null,"ค่าปูนซีเมนต์",null,null,null,null,null,"=",{"$f":"J193*F194/1000","v":217.18041999999997},{"$f":"K147","v":"บาท/ลบ.ม."},"[8] = [6] x [7]"]
[null,null,"ค่าติดตั้งเครื่องผสม",null,"(ไม่คิดค่าใช้จ่าย)",null,null,null,"=",0,"บาท/ลบ.ม.","[9]"]
["",null,"ค่าดำเนินการและค่าเสื่อมราคา (ผสม)",null,null,null,null,null,"=",{"$f":"J172","v":42.15},"บาท/ลบ.ม.","[10]","(จากตารางค่าดำเนินการฯ)"]
["",null,"ค่าดำเนินการและค่าเสื่อมราคา (บดทับ)",null,null,null,null,null,"=",{"$f":"J173","v":52.96},"บาท/ลบ.ม.","[11]","(จากตารางค่าดำเนินการฯ)"]
["",null,"ค่าดำเนินการและค่าเสื่อมราคา (บ่ม)",null,null,null,null,null,"=",{"$f":"J174","v":43.66},"บาท/ลบ.ม.","[12]","(จากตารางค่าดำเนินการฯ)"]
["",null,"รวมค่าใช้จ่าย",null,null,null,null,null,"=",{"$f":"ROUND(J192+J195+J197+J198+J199,2)","v":651.30999999999995},"บาท/ลบ.ม.","[13] =[5] + [8] + [10] + [11] + [12]"]
["",null,"…ค่างานต้นทุน",null,null,null,null,null,"=",{"$f":"+ROUNDDOWN(J200,1)","v":651.29999999999995},"บาท/ลบ.ม."]
["","3.2.2","(2)งานชั้นพื้นทางหินคลุกซีเมนต์",null,{"$f":"E178","v":"ขนด้วย รถบรรทุก 10 ล้อ + ลากพ่วง"},null,null,null,null,{"$f":"J178","v":"จากแหล่งโรงโม่       อ.นากลาง  จ.หนองบัวลำภู"}]
["",null,"ค่าวัสดุที่แหล่ง  (รวมค่าตัก)",null,null,null,null,null,"=",{"$f":"IF(ข้อมูลโครงการ!R15=ข้อมูลโครงการ!X8,0,J179)","v":0},"บาท/ลบ.ม.","[1]"]
["",null,"ค่าขนส่ง",{"$f":"IF(ข้อมูลโครงการ!R15=ข้อมูลโครงการ!X8,D79,D180)","v":1},{"$f":"E180","v":"กม."},null,null,null,"=",{"$f":"IF(ข้อมูลโครงการ!R15=ข้อมูลโครงการ!X8,J79,J180)","v":11.19},"บาท/ลบ.ม.","[2]","(จากตารางค่าขนส่ง)"]
["",null,"รวมค่าวัสดุที่หน้างาน",null,null,null,null,null,"=",{"$f":"J203+J204","v":11.19},"บาท/ลบ.ม.","[3] = [1] + [2]"]
["",null,"ส่วนการยุบตัว",null,null,null,null,null,"=",{"$f":"J205*1.5","v":16.785},"บาท/ลบ.ม.","[4] = [3] x 1.50"]
["",null,"ราคาซีเมนต์ (รวมค่าขนส่ง)",null,null,null,null,null,"=",{"$f":"J193","v":2310.4299999999998},"บาท / ตัน","[5]"]
["",null,"ปูนซีเมต์ ",2,"%     =",50,"กก.ในหินคลุกซีเมนต์   1    ลบ.ม.",null,null,null,null,"[6]"]
["",null,"ค่าปูนซีเมนต์",null,null,null,null,null,"=",{"$f":"J207*F208/1000","v":115.52149999999999},"บาท/ลบ.ม.","[7] = [5] x [6]"]
[null,null,"ค่าติดตั้งเครื่องผสม",null,"(ไม่คิดค่าใช้จ่าย)",null,null,null,"=",0,"บาท/ลบ.ม.","[8]"]
["",null,"ค่าดำเนินการและค่าเสื่อมราคา (ผสม)",null,null,null,null,null,"=",{"$f":"ROUND(ค่าเสื่อมราคา!I74,2)","v":45.26},"บาท/ลบ.ม.","[9]","(จากตารางค่าดำเนินการฯ)"]
["",null,"ค่าดำเนินการและค่าเสื่อมราคา (บดทับ)",null,null,null,null,null,"=",{"$f":"ROUND(ค่าเสื่อมราคา!I75,2)","v":43.66},"บาท/ลบ.ม.","[10]","(จากตารางค่าดำเนินการฯ)"]
["",null,"ค่าดำเนินการและค่าเสื่อมราคา (บ่ม)",null,null,null,null,null,"=",{"$f":"J184","v":84.22},"บาท/ลบ.ม.","[11]","(จากตารางค่าดำเนินการฯ)"]
["",null,"รวมค่าใช้จ่าย",null,null,null,null,null,"=",{"$f":"J206+J209+J211+J212+J213","v":305.44650000000001},"บาท/ลบ.ม.","[12] =[4] + [7] + [9] + [10] + [11]"]
["",null,"…ค่างานต้นทุน",null,null,null,null,null,"=",{"$f":"+ROUNDDOWN(J214,1)","v":305.39999999999998},"บาท/ลบ.ม."]
["","3.2.2","(3)งานชั้นพื้นทางหินคลุกเดิม(จากการรื้อ)",null,{"$f":"E127","v":"ขนด้วย รถบรรทุก 10 ล้อ"}]
["",null,"ค่าขนส่ง",1,"กม.",null,null,null,"=",{"$f":"J79","v":11.19},"บาท/ลบ.ม.","[1]","(จากตารางค่าขนส่ง)"]
["",null,"ส่วนการยุบตัว",null,null,null,null,null,"=",{"$f":"1.5*J217","v":16.785},"บาท/ลบ.ม.","[2] = [1] x 1.50"]
["",null,"ค่าดำเนินการและค่าเสื่อมราคา (ผสม)",null,null,null,null,null,"=",{"$f":"J183","v":24.14},"บาท/ลบ.ม.","[3]","(จากตารางค่าดำเนินการฯ)"]
["",null,"ค่าดำเนินการและค่าเสื่อมราคา (บดทับ)",null,null,null,null,null,"=",{"$f":"J184","v":84.22},"บาท/ลบ.ม.","[4]","(จากตารางค่าดำเนินการฯ)"]
["",null,"รวมค่าใช้จ่าย",null,null,null,null,null,"=",{"$f":"SUM(J218:J220)","v":125.145},"บาท/ลบ.ม.","[5] =[2] + [3] + [4]"]
["",null,"…ค่างานต้นทุน",null,null,null,null,null,"=",{"$f":"+ROUNDDOWN(J221,1)","v":125.1},"บาท/ลบ.ม."]
[null,3.3,"งานปรับปรุงโครงสร้างถนนเดิม"]
[null,"3.3.1","(1) Deep  Patch"]
[null,null,"ค่าดำเนินการและค่าเสื่อมราคางานขุดรื้อพื้นทางเดิมแล้วบดทับ"]
[null,null,"        ผิวทาง (ขนทิ้ง)",null,null,null,null,null,"=",{"$f":"ROUND(ค่าเสื่อมราคา!I42,2)","v":10.97},"บาท/ตร.ม.","[1]","(จากตารางค่าดำเนินการฯ)"]
[null,null,"        ขุดรื้อหินคลุก","(",0.2,"ม. )",null,null,"=",{"$f":"ROUND(ค่าเสื่อมราคา!I41*E227/0.1,2)","v":27.32},"บาท/ตร.ม.","[2]","(จากตารางค่าดำเนินการฯ)"]
[null,null,"        ขุดรื้อรองพื้นทาง(ลูกรัง)                           (",null,0.2,"ม. )",null,null,"=",{"$f":"ROUND(ค่าเสื่อมราคา!I40*E228/0.1,2)","v":21.06},"บาท/ตร.ม.","[3]","(จากตารางค่าดำเนินการฯ)"]
[null,null,"ค่าวัสดุหินคลุก","(",0.2,"ม. )",null,null,"=",{"$f":"J181*E229*1.5","v":89.082000000000008},"บาท/ตร.ม.","[4]"]
[null,null,"ค่าดำเนินการและค่าเสื่อมราคา (บดทับ (ลูกรัง))",null,null,null,null,null,"=",{"$f":"ROUND(ค่าเสื่อมราคา!I31*E228,2)","v":10.59},"บาท/ตร.ม.","[5]","(จากตารางค่าดำเนินการฯ)"]
[null,null,"ค่าดำเนินการและค่าเสื่อมราคา (ผสมและบดทับ (หินคลุก))",null,null,null,null,null,"=",{"$f":"ROUND((J183+J184)*E229,2)","v":21.67},"บาท/ตร.ม.","[6]","(จากตารางค่าดำเนินการฯ)"]
[null,null,"รวมค่าใช้จ่าย",null,null,null,null,null,"=",{"$f":"SUM(J226:J231)","v":180.69200000000001},"บาท/ตร.ม.","[7]=[1]+[2]+[3]+[4]+[5]+[6]"]
[null,null,"…ค่างานต้นทุน",null,null,null,null,null,"=",{"$f":"+ROUNDDOWN(J232,1)","v":180.6},"บาท/ตร.ม."]
[null,"3.3.1","(2) Deep  Patch","(สำหรับงานฉาบผิว SS.)"]
[null,null,"ค่าดำเนินการและค่าเสื่อมราคางานขุดรื้อพื้นทางเดิมแล้วบดทับ"]
[null,null,"        ผิวทาง (ขนทิ้ง)",null,null,null,null,null,"=",{"$f":"ROUND(ค่าเสื่อมราคา!I42,2)","v":10.97},"บาท/ตร.ม.","[1]","(จากตารางค่าดำเนินการฯ)"]
[null,null,"        ขุดรื้อหินคลุก","(",0.2,"ม. )",null,null,"=",{"$f":"ROUND(ค่าเสื่อมราคา!I41*E237/0.1,2)","v":27.32},"บาท/ตร.ม.","[2]","(จากตารางค่าดำเนินการฯ)"]
[null,null,"ค่าวัสดุหินคลุก","(",0.2,"ม. )",null,null,"=",{"$f":"ROUND(J181*E238*1.5,2)","v":89.08},"บาท/ตร.ม.","[3]"]
[null,null,"ค่าวัสดุ+ค่าแรงงาน ( SST. )",null,null,null,null,null,"=",{"$f":"ROUND(J318,2)","v":45.35},"บาท/ตร.ม.","[4]","(จากค่างาน SST.)"]
[null,null,"ค่าดำเนินการและค่าเสื่อมราคา (ผสมและบดทับ (หินคลุก))",null,null,null,null,null,"=",{"$f":"J231","v":21.67},"บาท/ตร.ม.","[5]","(จากตารางค่าดำเนินการฯ)"]
[null,null,"รวมค่าใช้จ่าย",null,null,null,null,null,"=",{"$f":"SUM(J236:J240)","v":194.39},"บาท/ตร.ม.","[6]=[1]+[2]+[3]+[4]+[5]"]
[null,null,"…ค่างานต้นทุน",null,null,null,null,null,"=",{"$f":"+ROUNDDOWN(J241,1)","v":194.3},"บาท/ตร.ม."]
[null,"3.3.2","งาน Pavement In-Place Recycling"]
[null,"3.3.2","(1) สูตรค่างาน Pavement In-Place Recycling ",null,null,null,null,null,null,null,null,null,null,null,null,null,null,null,null,null,null,null,null,null,null,null,null,null,{"$f":"AB244:AB260","v":0}]
[null,{"$f":"IF(A245=0,\"\",A245)","v":""},"        N  =  [ Operating Cost + AY + SC ]",null,null,null,null,null,null,null,null,null,null,{"$f":"IF(Q245=\"\",\"\",\"(\"&Q245&\")\")","v":""},null,null,null,null,null,null,null,null,null,null,null,null,null,null,{"$f":"AB245:AB260","v":0}]
[null,"","        N  =  ค่างาน Pavement In-Place Recycling",null,null,null,"บาท/ตร.ม.",null,null,null,null,null,null,null,null,null,null,null,null,null,null,null,null,null,null,null,null,null,{"$f":"AB246:AB260","v":0}]
[null,"","        A  =  ปริมาณยางแอสฟัลต์",null,null,null," ตัน/ตร.ม.",null,null,null,null,null,null,null,null,null,null,null,null,null,null,null,null,null,null,null,null,null,{"$f":"AB247:AB260","v":0}]
[null,"","        Y  =  ราคายางแอสฟัลต์บวกค่าขนส่ง",null,null,null," บาท/ตัน",null,null,null,null,null,null,null,null,null,null,null,null,null,null,null,null,null,null,null,null,null,{"$f":"AB248:AB260","v":0}]
[null,"","        S  =  ปริมาณปูนซีเมนต์",null,null,null," ตัน/ตร.ม.",null,null,null,null,null,null,null,null,null,null,null,null,null,null,null,null,null,null,null,null,null,{"$f":"AB249:AB260","v":0}]
[null,"","        C  =  ราคาปริมาณปูนซีเมนต์บวกค่าขนส่ง",null,null,null," บาท/ตัน",null,null,null,null,null,null,null,null,null,null,null,null,null,null,null,null,null,null,null,null,null,{"$f":"AB250:AB260","v":0}]
[null,"3.3.2","(2) ข้อมูลประกอบการคิดค่างาน",null,null,null,null,null,null,null,null,null,null,null,null,null,null,null,null,null,null,null,null,null,null,null,null,null,{"$f":"AB251:AB260","v":0},null,"ขุดลึกเฉลี่ย","ปริมาณปูนซีเมนต์ ( S )"]
[null,{"$f":"IF(A252=0,\"\",A252)","v":""},null,"        Operating Cost (ค่าดำเนินการและค่าเสื่อมราคาขุด)",null,null,null,null,"=",{"$f":"IF(J253=0.15,ค่าเสื่อมราคา!I77,IF(J253=0.2,ค่าเสื่อมราคา!I78,IF(J253=0.25,ค่าเสื่อมราคา!I79,IF(J253=0.3,ค่าเสื่อมราคา!I80))))","v":35.29},"บาท/ตร.ม.","[1]","(จากตารางค่าดำเนินการฯ)",null,null,null,null,null,null,null,null,null,null,null,null,null,null,null,{"$f":"AB252:AB260","v":0},null,"(ซม.)",0.02,0.03,0.04,0.05]
[null,"",null,"        ความลึกในการขุดกัด",null,null,null,null,"=",{"$f":"BackUp!G256","v":0.2},"ม.","[2]",null,null,null,null,null,null,null,null,null,null,null,null,null,null,null,null,{"$f":"AB253:AB260","v":0},null,10,3.5999999999999999E-3,5.4000000000000003E-3,7.1999999999999998E-3,8.9999999999999993E-3]
[null,"",null,"        ปริมาณซีเมนต์ที่ใช้ (โดยน้ำหนัก)",null,null,null,null,"=",5,"%","[3]",null,null,null,null,null,null,null,null,null,null,null,null,null,null,null,null,{"$f":"AB254:AB260","v":0},null,20,7.1999999999999998E-3,1.0800000000000001E-2,1.44E-2,1.7999999999999999E-2]
[null,"",null,"        หน่วยน้ำหนักของวัสดุพื้นทางที่ขุดกัด",null,null,null,null,"=",2200," กก./ลบ.ม.","[4]",null,null,null,null,null,null,null,null,null,null,null,null,null,null,null,null,{"$f":"AB255:AB260","v":0},null,30,1.0800000000000001E-2,1.6199999999999999E-2,2.1600000000000001E-2,2.7E-2]
[null,"","ค่าปูนซีเมนต์ + ค่าขนส่ง                                                    ",null,null,null,null,null,"=",{"$f":"ราคาต่อหน่วย!L375","v":2310}," บาท/ตัน","[5]",null,null,null,null,null,null,null,null,null,null,null,null,null,null,null,null,{"$f":"AB256:AB260","v":0},null,"ความหนาพื้นทางเดิม (หินคลุก)",null,null,0.2,"ม."]
[null,"","ปริมาณปูนซีเมนต์ต่อตารางเมตร",null,null,null,null,null,"=",{"$f":"(J255*J253*J254/100)/1000","v":2.1999999999999999E-2}," ตัน/ตร.ม.","[6]",null,null,null,null,null,null,null,null,null,null,null,null,null,null,null,null,{"$f":"AB257:AB260","v":0}]
[null,null,"รวมค่าปูนซีเมนต์                              ",null,null,null,null,null,"=",{"$f":"J256*J257","v":50.82}," บาท/ตร.ม.","[7] = [5]x[6]"]
[null,null,"ค่าดำเนินการและค่าเสื่อมราคา (บดทับหินคลุกปรับระดับ)",null,null,null,null,null,"=",{"$f":"(J184*0)","v":0}," บาท/ตร.ม.","[8]"]
[null,{"$f":"IF(A260=0,\"\",A260)","v":""},"รวมค่าใช้จ่าย",null,null,null,null,null,"=",{"$f":"ROUND((J252+J258+J259),2)","v":86.11}," บาท/ตร.ม.","[9] = [1]+[7]+[8]",null,null,null,null,null,null,null,null,null,null,null,null,null,null,null,null,{"$f":"AB260:AB260","v":0}]
[null,null,"…ค่างานต้นทุน",null,null,null,null,null,"=",{"$f":"+ROUNDDOWN(J260,1)","v":86.1}," บาท/ตร.ม."]
[null,"3.3.3","งานอื่น ๆ เพิ่มเติม  "]
[]
[4,"งานผิวทางและไหล่ทาง"]
[null,4.0999999999999996,"งานผิวทาง"]
[null,null,"ตารางราคาวัสดุ+ขนส่ง (1)"]
[null,null,"ประเภทวัสดุ","หน่วย","ราคาวัสดุที่แหล่ง\n(บาท)",null,"ระยะทางขนส่ง\n(กม.)",null,"รถบรรทุก",null,"ค่าขนส่ง\n(บาท)","รวม\n(บาท)","แหล่งวัสดุ"]
[]
[null,null,"หินฝุ่น","ลบ.ม.",{"$f":"ราคาวัสดุ!L9","v":280},null,{"$f":"เปรียบเทียบราคา!N26","v":62},null,{"$f":"ข้อมูลขนส่ง!A19","v":"รถบรรทุก 10 ล้อ + ลากพ่วง"},null,{"$f":"เปรียบเทียบราคา!O26","v":90.67},{"$f":"ROUNDDOWN(E269+K269,0)","v":370},{"$f":"ราคาวัสดุ!M9","v":"โรงโม่       อ.นากลาง  จ.หนองบัวลำภู"}]
[null,null,"หิน 3/8\"","ลบ.ม.",{"$f":"ราคาวัสดุ!L10","v":230},null,{"$f":"เปรียบเทียบราคา!N27","v":62},null,null,null,{"$f":"เปรียบเทียบราคา!O27","v":90.67},{"$f":"ROUNDDOWN(E270+K270,0)","v":320}]
[null,null,"หิน 1/2\"","ลบ.ม.",{"$f":"ราคาวัสดุ!L11","v":330},null,{"$f":"เปรียบเทียบราคา!N28","v":62},null,null,null,{"$f":"เปรียบเทียบราคา!O28","v":90.67},420]
[null,null,"หิน 3/4\"","ลบ.ม.",{"$f":"ราคาวัสดุ!L12","v":290},null,{"$f":"เปรียบเทียบราคา!N29","v":62},null,null,null,{"$f":"เปรียบเทียบราคา!O29","v":90.67},380]
[null,null,"ยาง CSS-1h","ตัน",{"$f":"ราคาวัสดุ!L22","v":19057.939999999999},null,{"$f":"เปรียบเทียบราคา!N10","v":631},null,{"$f":"ข้อมูลขนส่ง!A25","v":"รถบรรทุก 10 ล้อ + ลากพ่วง"},null,{"$f":"เปรียบเทียบราคา!O10","v":920.47},19978,{"$f":"ราคาวัสดุ!M22","v":"บมจ. เอสโซ่ (ประเทศไทย) อ.ศรีราชา จ.ชลบุรี"}]
[null,null,"ยาง CSS-1","ตัน",{"$f":"ราคาวัสดุ!L23","v":19488.600000000002},null,{"$f":"เปรียบเทียบราคา!N11","v":631},null,null,null,{"$f":"เปรียบเทียบราคา!O11","v":920.47},20409]
[null,null,"ยาง CRS-2","ตัน",{"$f":"ราคาวัสดุ!L24","v":18841.939999999999},null,{"$f":"เปรียบเทียบราคา!N12","v":631},null,null,null,{"$f":"เปรียบเทียบราคา!O12","v":920.47},19762]
[null,null,"ยาง AC 60/70","ตัน",{"$f":"ราคาวัสดุ!L25","v":14469.27},null,{"$f":"เปรียบเทียบราคา!N13","v":631},null,null,null,{"$f":"เปรียบเทียบราคา!O13","v":920.47},15389]
[null,null,"ยาง MC-70","ตัน",{"$f":"ราคาวัสดุ!L26","v":35469.269999999997},null,{"$f":"เปรียบเทียบราคา!N14","v":631},null,null,null,{"$f":"เปรียบเทียบราคา!O14","v":920.47},36389]
[null,null,"ยาง CSS-1h(EMA)","ตัน",{"$f":"ราคาวัสดุ!L27","v":0},null,{"$f":"ข้อมูลขนส่ง!C27","v":356},null,{"$f":"ข้อมูลขนส่ง!A27","v":"รถบรรทุก 10 ล้อ + ลากพ่วง"},null,{"$f":"(ROUND(ข้อมูลขนส่ง!Z27,2))","v":518.97},{"$f":"ROUNDDOWN(E278+K278,0)","v":518},"บริษัท ทิปโก้แอสฟัลท์ จำกัด(มหาชน)"]
[null,null,"สารผสมเพิ่ม","ตัน",{"$f":"ราคาวัสดุ!L104","v":200000},null,{"$f":"G278","v":356},null,null,null,{"$f":"K278","v":518.97},{"$f":"ROUNDDOWN(E279+K279,0)","v":200518}]
[]
[null,"4.1.1","PRIME  COAT  &  TACK  COAT   สำหรับผิวทาง"]
[null,"4.1.1","(1)  PRIME COAT"]
["",null,"ชั้นพื้นทาง หินคลุก ใช้อัตราการลาดยาง Prime Coat  ",null,null,null,null,null,"=",{"$f":"IF(BackUp!B251<>BackUp!BX249,0.8,1)","v":0.8},"ลิตร / ตร.ม.","[1]","(จากตารางที่ 1)"]
[null,null,"ค่ายาง CSS-1 / MC-70    + ค่าขนส่ง",null,{"$f":"G273","v":631},"กม.",null,null,"=",{"$f":"L274","v":20409},"บาท / ตัน","[2] ","(จากตารางราคาวัสดุ+ขนส่ง (1))"]
["",null,{"$f":"\"ค่ายาง CSS-1 / MC-70  อัตราการลาด  \"&J283&\"  ลิตร/ตร.ม.\"","v":"ค่ายาง CSS-1 / MC-70  อัตราการลาด  0.8  ลิตร/ตร.ม."},null,null,null,null,null,"=",{"$f":"+(J283*J284/1000)","v":16.327200000000001},"บาท / ตร.ม.","[3] = [1] x [2]/1,000"]
["",null,"ค่าดำเนินการและค่าเสื่อมราคา (ลาดยาง Prime Coat)",null,null,null,null,null,"=",{"$f":"ROUND(ค่าเสื่อมราคา!I43,2)","v":6.76},"บาท / ตร.ม.","[4]","(จากตารางค่าดำเนินการฯ)"]
["",null,"รวมค่าใช้จ่าย",null,null,null,null,null,"=",{"$f":"SUM(J285:J286)","v":23.087200000000003},"บาท / ตร.ม.","[5] = [3]+[4]"]
["",null,"…ค่างานต้นทุน",null,null,null,null,null,"=",{"$f":"+ROUNDDOWN(J287,1)","v":23},"บาท / ตร.ม."]
[null,"4.1.1","(2) TACK COAT"]
[null,null,"ค่ายาง CRS-2   + ค่าขนส่ง",null,{"$f":"E284","v":631},"กม.",null,null,"=",{"$f":"L275","v":19762},"บาท / ตัน","[1]","(จากตารางราคาวัสดุ+ขนส่ง (1))"]
["",null,"ค่ายาง CRS-2 อัตราการลาด   0.3  ลิตร/ตร.ม.",null,null,null,null,null,"=",{"$f":"+(0.3*J290/1000)","v":5.9285999999999994},"บาท / ตร.ม.","[2] = 0.3 x [1]/1,000"]
["",null,"ค่าดำเนินการและค่าเสื่อมราคา(ลาดยาง Tack Coat)",null,null,null,null,null,"=",{"$f":"ROUND(ค่าเสื่อมราคา!I44,2)","v":6.57},"บาท / ตร.ม.","[3]","(จากตารางค่าดำเนินการฯ)"]
["",null,"รวมค่าใช้จ่าย",null,null,null,null,null,"=",{"$f":"SUM(J291:J292)","v":12.4986},"บาท / ตร.ม.","[4] = [2]+[3]"]
["",null,"…ค่างานต้นทุน",null,null,null,null,null,"=",{"$f":"+ROUNDDOWN(J293,1)","v":12.4},"บาท / ตร.ม."]
[null,null,"การใช้อัตรายางแอสฟัลท์ในการคำนวณราคากลางสำหรับงาน Prime Coat และ Asphalt Concrete"]
[null,null,"1.  งาน Prime Coat กำหนดแนวทาง ให้ใช้คัตแบคแอสฟัลท์หรือแอสฟัลท์อิมัลชันตามตารางที่ 1"]
[null,null,"ตารางที่ 1"]
[null,null,"ชนิดพื้นทาง",null,"อัตราการลาด Prime Coat   \n(ลิตร/ตร.ม.)",null,null,"อัตราการที่ใช้คิดราคากลาง\n(ลิตร/ตร.ม.)"]
[]
[null,null,"พื้นทางดินซีเมนต์",null,"0.6 - 1.0",null,null,0.8]
[null,null,"พื้นทางหินคลุกซีเมนต์",null,"0.6 - 1.0",null,null,0.8]
[null,null,"พื้นทางหินคลุก",null,"0.8 - 1.4",null,null,1]
[null,null,"2.  งานแอสฟัลท์คอนกรีต กำหนดแนวทางให้ใช้เปอร์เซ็นต์แอสฟัลท์ซีเมนต์โดยน้ำหนักของวัสดุมวลรวมตามตารางที่ 2 "]
[null,null,"ตารางที่ 2"]
[null,null,"ชนิดวัสดุมวลรวม","ปริมาณแอสฟัลท์ต์เป็นเปอร์เซนต์โดยน้ำหนักของวัสดุมวลรวม",null,null,null,null,null,null,"Asphaltic Boundbase",null,null,null,null,null,"(ชั้นรองผิวทาง(Binder Course))","(ชั้นผิวทาง(Wearing Course))","ชั้นผิวทาง(จากออกแบบ)","(ชั้น ไม่ระบุ)"]
[null,null,null,"ชั้นรองผิวทาง(Binder Course)",null,"ชั้นผิวทาง(Wearing Course)",null,null,"ชั้นผิวทาง(จากออกแบบ)",null,null,null,null,null,null,null,{"$f":"VLOOKUP($T$306,$C$307:$J$309,2,FALSE)","v":5.0999999999999996},{"$f":"VLOOKUP($T$306,$C$307:$J$309,4,FALSE)","v":5.2},{"$f":"VLOOKUP($T$306,$C$307:$J$309,7,FALSE)","v":5},{"$f":"IF(ข้อมูลโครงการ!$V$10=1,C307,IF(ข้อมูลโครงการ!$V$10=2,C308,C309))","v":"หินปูน(Limestone)"}]
[null,null,"หินปูน(Limestone)",5.0999999999999996,null,5.2,null,null,5,null,4.5]
[null,null,"หินแกรนิต(Granite)",5.4,null,5.5,null,null,5.4,null,"-"]
[null,null,"หินบะซอลต์(Basalt)",5.8,null,5.9,null,null,5.8,null,"-"]
["","4.1.2","งานผิวทาง CAPE SEAL",null,null,null,null,null,null,null,null,null,null,null,null,null,"Factor ค่าดำเนินการและค่าเสื่อมราคาตามสภาพภูมิอากาศ"]
["",null,"ระยะทางที่ปูผิวทาง ",null,null,null,null,null,"=",{"$f":"ปร.4!H6","v":0},"กม.",null,"",null,null,null,"ภูมิอากาศ","A","B","C"]
[null,null,"ค่าขนส่งวัสดุผสม 1/4 ของระยะทางดำเนินการ",null,null,{"$f":"ข้อมูลขนส่ง!C37","v":1},"กม.",null,"=",{"$f":"ข้อมูลขนส่ง!Z37","v":4.4000000000000004},"บาท / ตัน",null,"",null,null,null,"ฝนปกติ",{"$f":"ROUND(ค่าเสื่อมราคา!G46,2)","v":15.59},{"$f":"ROUND(ค่าเสื่อมราคา!G82,2)","v":2.57},{"$f":"ROUND(ค่าเสื่อมราคา!G81,2)","v":11.65}]
["",null,"ค่างานต้นทุน CHIP SEAL = ค่าดำเนินการและค่าเสื่อมราคา(ผิวทางแบบบาง)+ค่าหิน(1/2\")+ค่ายาง(CRS-2)+ค่าขนส่งวัสดุผสม",null,null,null,null,null,null,null,null,null,null,"",null,null,"ฝนชุก",{"$f":"ROUND(ค่าเสื่อมราคา!H46,2)","v":16.14},{"$f":"ROUND(ค่าเสื่อมราคา!H82,2)","v":2.67},{"$f":"ROUND(ค่าเสื่อมราคา!H81,2)","v":12.17}]
[null,null,"ค่าดำเนินการและค่าเสื่อมราคา (ผิวทางแบบบาง)",null,null,null,{"$f":"ข้อมูลโครงการ!R13","v":"ปกติ"},null,"=",{"$f":"IF(ข้อมูลขนส่ง!C4=\"ปกติ\",R312,R313)","v":15.59},"บาท/ตร.ม.","[1]","(จากตารางค่าดำเนินการฯ)"]
[null,null,"ค่าหิน(1/2\")   + ค่าขนส่ง",null,null,{"$f":"G271","v":62},"กม.",null,"=",{"$f":"L271","v":420},"บาท / ลบ.ม.","[2]","(จากตารางราคาวัสดุ+ขนส่ง (1))"]
[null,null,"ค่ายาง CRS-2   + ค่าขนส่ง",null,null,{"$f":"G275","v":631},"กม.",null,"=",{"$f":"L275","v":19762},"บาท / ตัน","[3]","(จากตารางราคาวัสดุ+ขนส่ง (1))"]
[null,null,"ค่าขนส่งวัสดุผสม",null,null,{"$f":"F312","v":1},"กม.",null,"=",{"$f":"J312","v":4.4000000000000004},"บาท / ตัน","[4]","(จากตารางค่าขนส่ง)"]
["",null,"รวม  = [1]+0.01286[2]+0.00123[3]+0.01222[4]",null,null,null,null,null,"=",{"$f":"+J314+0.01286*L271+0.00123*L275+0.01222*J312","v":45.352227999999997},"บาท/ตร.ม.","[5]"]
["",null,"ค่างานต้นทุน FOG SPRAY = ค่าดำเนินการและค่าเสื่อมราคา(Fog Spray)+ค่ายาง(CSS-1h)"]
[null,null,"ค่าดำเนินการและค่าเสื่อมราคา(Fog Spray)",null,null,null,{"$f":"G314","v":"ปกติ"},null,"=",{"$f":"IF(ข้อมูลขนส่ง!C4=\"ปกติ\",S312,S313)","v":2.57},"บาท/ตร.ม.","[6]","(จากตารางค่าดำเนินการฯ)"]
[null,null,"ค่ายาง(CSS-1h)   + ค่าขนส่ง",null,null,{"$f":"F316","v":631},"กม.",null,"=",{"$f":"L273","v":19978},"บาท / ตัน","[7]","(จากตารางราคาวัสดุ+ขนส่ง (1))"]
["",null,"รวม  = [6]+0.00031[7]",null,null,null,null,null,"=",{"$f":"+J320+0.00031*L273","v":8.7631800000000002},"บาท/ตร.ม.","[8]"]
["",null,"ค่างานต้นทุน SLURRY SEAL = ค่าดำเนินการและค่าเสื่อมราคา(Slurry Seal)+ค่าหิน(ฝุ่น)+ค่ายาง(CSS-1h)+ค่าปูนซีเมนต์+ค่าขนส่งวัสดุผสม"]
[null,null,"ค่าดำเนินการและค่าเสื่อมราคา(Slurry Seal)",null,null,null,{"$f":"G320","v":"ปกติ"},null,"=",{"$f":"IF(ข้อมูลขนส่ง!C4=\"ปกติ\",T312,T313)","v":11.65},"บาท/ตร.ม.","[9]","(จากตารางค่าดำเนินการฯ)"]
[null,null,"ค่าหิน(ฝุ่น) + ค่าขนส่ง",null,null,{"$f":"F315","v":62},"กม.",null,"=",{"$f":"L269","v":370},"บาท / ลบ.ม.","[10]","(จากตารางราคาวัสดุ+ขนส่ง (1))"]
[null,null,"ค่ายาง(CSS-1h) + ค่าขนส่ง",null,null,{"$f":"F316","v":631},"กม.",null,"=",{"$f":"L273","v":19978},"บาท / ตัน","[11]","(จากตารางราคาวัสดุ+ขนส่ง (1))"]
[null,null,"ค่าปูนซีเมนต์ + ค่าขนส่ง",null,null,{"$f":"ข้อมูลขนส่ง!U31","v":46},"กม.",null,"=",{"$f":"J207","v":2310.4299999999998},"บาท / ตัน","[12]","(จากตารางราคาวัสดุ+ขนส่ง (1))"]
[null,null,"ค่าขนส่งวัสดุผสม",null,null,{"$f":"F317","v":1},"กม.",null,"=",{"$f":"J317","v":4.4000000000000004},"บาท / ตัน","[13]","(จากตารางค่าขนส่ง)"]
["",null," รวม = [9]+(527.70+1.21550[10]+0.25779[11]+0.01450[12]+1.85[13])/182",null,null,null,null,null,"=",{"$f":"+J324+(527.7+1.2155*L269+0.25779*L273+0.0145*J193+1.85*J312)/182","v":45.546729972527473},"บาท/ตร.ม.","[14]"]
["",null,"รวมค่าใช้จ่าย CAPE SEAL",null,null,null,null,null,"=",{"$f":"+J318+J322+J329","v":99.662137972527461},"บาท/ตร.ม.","[15] = [5]+[8]+[14]"]
["",null,"…ค่างานต้นทุน CAPE SEAL",null,null,null,null,null,"=",{"$f":"+ROUNDDOWN(J330,1)","v":99.6},"บาท/ตร.ม."]
[null,"4.1.3",{"$f":"IF(ปร.4!V4=ปร.4!U7,\"งานผิวทาง Para Asphalt concrete\",IF(ปร.4!V4=ปร.4!U8,\"งานผิวทาง Asphalt concrete\"))","v":"งานผิวทาง Asphalt concrete"}]
["",null,{"$f":"\"กรณีปริมาณงาน \"&IF(ปร.4!V4=ปร.4!U7,\"Para Asphalt concrete\",IF(ปร.4!V4=ปร.4!U8,\"Asphalt concrete\"))&\" น้อยกว่า 10,000 ตัน ให้ใช้ค่าติดตั้งโรงงานสำหรับปริมาณงาน 10,000 ตัน ในการประเมิณราคา\"","v":"กรณีปริมาณงาน Asphalt concrete น้อยกว่า 10,000 ตัน ให้ใช้ค่าติดตั้งโรงงานสำหรับปริมาณงาน 10,000 ตัน ในการประเมิณราคา"}]
["",null,"วัสดุมวลรวมที่ใช้  คือ",{"$f":"T306","v":"หินปูน(Limestone)"}]
["","4.1.3",{"$f":"\"(1) \"&IF(ปร.4!V4=ปร.4!U7,\"งานผิวทาง Para Asphalt concrete\",IF(ปร.4!V4=ปร.4!U8,\"งานผิวทาง Asphalt concrete\"))","v":"(1) งานผิวทาง Asphalt concrete"},null,"ชั้นผิวทาง(จากออกแบบ)",null,null,null,{"$f":"IF($E$335=$Q$305,$Q$306,IF($E$335=$R$305,$R$306,IF($E$335=$S$305,$S$306,MIN($Q$306:$S$306))))","v":5}]
["",null,"หินผสมแอสฟัลท์ติกคอนกรีตรวมค่าขนส่ง =  0.50*(ราคาหินฝุ่น)+0.15*(ราคาหิน 3/8\")+0.10*(ราคาหิน 1/2\")+0.25*(ราคาหิน 3/4\" )"]
["",null,"หินผสมแอสฟัลท์ติกคอนกรีต",null,null,null,null,null,"=",{"$f":"0.5*$L$269+0.15*$L$270+0.1*$L$271+0.25*$L$272","v":370},"บาท / ลบ.ม.","[1]"]
[null,null,"รวมค่าวัสดุที่หน้างาน",null,null,null,null,null,"=",{"$f":"SUM(J337:J337)","v":370},"บาท / ลบ.ม.","[2] "]
["",null,{"$f":"IF(ปร.4!V4=ปร.4!U7,\"Para Asphalt concrete\",IF(ปร.4!V4=ปร.4!U8,\"Asphalt concrete\"))&\"  1  ตัน    หนา\"","v":"Asphalt concrete  1  ตัน    หนา"},null,{"$f":"F350","v":0},"ซม.","ปูได้   ",null,"=",{"$f":"TEXT(ROUNDDOWN(41.667/F350,2),\"0.00\")","v":{"$error":"#DIV/0!"}},"ตร.ม.","[3]","(จากตารางที่ 3)"]
["",null,{"$f":"\"ปริมาณ  \"&IF(ปร.4!V4=ปร.4!U7,\"Para Asphalt concrete\",IF(ปร.4!V4=ปร.4!U8,\"Asphalt concrete\"))&\"  ทั้งโครงการ\"","v":"ปริมาณ  Asphalt concrete  ทั้งโครงการ"},null,null,null,null,null,"=",{"$f":"ROUND((ปร.4!$M$55+ปร.4!$M$56+ปร.4!$M$70+ปร.4!$M$71)/ROUND(J339,2),0)","v":{"$error":"#DIV/0!"}},"ตัน"]
[null,null,{"$f":"\"ปริมาณ  \"&IF(ปร.4!V4=ปร.4!U7,\"Para Asphalt concrete\",IF(ปร.4!V4=ปร.4!U8,\"Asphalt concrete\"))&\"  ที่ใช้คำนวณ\"","v":"ปริมาณ  Asphalt concrete  ที่ใช้คำนวณ"},null,null,null,null,null,"=",{"$f":"IF(J340<=10000,10000,J340)","v":{"$error":"#DIV/0!"}},"ตัน","[4]"]
["",null,"ค่าขนส่งอุปกรณ์ 80 ตัน  (คิด 100 กม.)",null,null,null,null,null,"=",{"$f":"IF(J340<10000,ข้อมูลขนส่ง!$Z$39*80/10000,ข้อมูลขนส่ง!$Z$39*80/J340)","v":{"$error":"#DIV/0!"}},"บาท/ตัน","[5]","(จากตารางค่าขนส่ง)"]
["",null,"ค่าติดตั้งเครื่องผสม                =",{"$f":"IF(J340<10000,\"250,000 / 10,000\",\"250,000 / \"&TEXT(J340,\"0,000\"))","v":{"$error":"#DIV/0!"}},null,null,null,null,"=",{"$f":"IF(J340<10000,250000/10000,250000/J340)","v":{"$error":"#DIV/0!"}},"บาท/ตัน","[6]","(จากตารางค่าดำเนินการฯ)"]
[null,null,{"$f":"\"ยาง \"&เปรียบเทียบราคา!B13&\" + ค่าขนส่ง\"","v":"ยาง AC 60/70 + ค่าขนส่ง"},null,null,null,null,null,"=",{"$f":"$L$276","v":15389},"บาท/ตัน","[7]","(จากตารางราคาวัสดุ+ขนส่ง (1))"]
["",null,{"$f":"\"ค่ายาง \"&เปรียบเทียบราคา!B13&\" (\"&I335&\"%)  =\"","v":"ค่ายาง AC 60/70 (5%)  ="},{"$f":"TEXT(L276,\"0,000.00\")&\" x \"&I335&\" / 100\"","v":"15,389.00 x 5 / 100"},null,null,null,null,"=",{"$f":"$L$276*I335/100","v":769.45},"บาท/ตัน","[8]"]
["",null,"หินผสมแอสฟัลท์ติกคอนกรีต     =",null,"0.74    ลบ.ม.    @",null,{"$f":"J338","v":370},"บาท","=",{"$f":"ROUND(G346*0.74,2)","v":273.8},"บาท/ตัน","[9]"]
["",null,"ค่าดำเนินการและค่าเสื่อมราคา (ผสมแอสฟัลติกคอนกรีต)",null,null,null,"=",{"$f":"ROUND(ค่าเสื่อมราคา!$I$56,2)& \" x \"&IF(ปร.4!V4=ปร.4!U7,\"1.10\",IF(ปร.4!V4=ปร.4!U8,\"1.00\"))","v":"340.08 x 1.00"},"=",{"$f":"ROUND(ค่าเสื่อมราคา!$I$56,2)*(IF(ปร.4!V4=ปร.4!U7,\"1.10\",IF(ปร.4!V4=ปร.4!U8,\"1.00\")))","v":340.08},"บาท/ตัน","[10]","(จากตารางค่าดำเนินการฯ)"]
["",null," - ค่าขนส่งแอสฟัลติกคอนกรีต (ให้ไม่เกินระยะ L/4)",null,null,{"$f":"ข้อมูลขนส่ง!N37","v":1},"กม.",null,"=",{"$f":"ข้อมูลขนส่ง!$Z$37","v":4.4000000000000004},"บาท/ตัน","[11]","(จากตารางค่าขนส่ง)"]
["",null,"ค่าดำเนินการและค่าเสื่อมราคา (ปูและเมื่อบดทับ บน Prime Coat )",null,null,null,"=",{"$f":"ROUND(ค่าเสื่อมราคา!$I$60,2)& \" x \"&IF(ปร.4!V4=ปร.4!U7,\"1.10\",IF(ปร.4!V4=ปร.4!U8,\"1.00\"))","v":"14.36 x 1.00"},"=",{"$f":"ROUND(ค่าเสื่อมราคา!$I$60,2)*(IF(ปร.4!V4=ปร.4!U7,\"1.10\",IF(ปร.4!V4=ปร.4!U8,\"1.00\")))","v":14.36},"บาท/ตร.ม.","[12]","(จากตารางค่าดำเนินการฯ)"]
[null,null,"ค่าสัมประสิทธิ์การบดทับ",null,null,{"$f":"ข้อมูลโครงการ!T11*100","v":0},"ซม.",null,"=",{"$f":"VLOOKUP(F350,$C$360:$D$367,2)","v":{"$error":"#N/A"}},null,"[13]","(จากตารางที่ 3)"]
["13.63",null,"        ปูบน Prime Coat ",null,null,null,null,null,"=",{"$f":"ROUND($J$339*J349*J350,2)","v":{"$error":"#DIV/0!"}},"บาท/ตัน","[14] = [3]x[12]x[13]"]
["",null,"... รวมค่างานแอสฟัลติกคอนกรีต  ปูบน Prime Coat",null,null,null,null,null,"=",{"$f":"TEXT(J342+J343+J345+J346+J347+J348+J351,\"#,000.00\")","v":{"$error":"#DIV/0!"}},"บาท/ตัน","[15] = [5]+[6]+[8]+[9]+[10]+[11]+[14]"]
["",null,"…ค่างานต้นทุน  ปูบน Prime Coat  =",null,null,null,null,null,"=",{"$f":"ROUNDDOWN(J352/J339,1)","v":{"$error":"#DIV/0!"}},"บาท/ตร.ม.","[16] = [15]/[3]"]
[null,null,"ค่าดำเนินการและค่าเสื่อมราคา (ปูและเมื่อบดทับ บน Tack Coat  )",null,null,null,"=",{"$f":"ROUND(ค่าเสื่อมราคา!$I$61,2)& \" x \"&IF(ปร.4!V4=ปร.4!U7,\"1.10\",IF(ปร.4!V4=ปร.4!U8,\"1.00\"))","v":"11.3 x 1.00"},"=",{"$f":"ROUND(ค่าเสื่อมราคา!$I$61,2)*(IF(ปร.4!V4=ปร.4!U7,\"1.10\",IF(ปร.4!V4=ปร.4!U8,\"1.00\")))","v":11.3},"บาท/ตร.ม.","[17]","(จากตารางค่าดำเนินการฯ)"]
[null,null,"        ปูบน Tack Coat ",null,null,null,null,null,"=",{"$f":"ROUND($J$339*J354*J350,2)","v":{"$error":"#DIV/0!"}},"บาท/ตัน","[18] = [3]x[13]x[17]"]
["",null,"... รวมค่างานแอสฟัลติกคอนกรีต  ปูบน Tack Coat",null,null,null,null,null,"=",{"$f":"TEXT(J342+J343+J345+J346+J347+J348+J355,\"#,000.00\")","v":{"$error":"#DIV/0!"}},"บาท/ตัน","[19] = [5]+[6]+[8]+[9]+[10]+[11]+[18]"]
["",null,"…ค่างานต้นทุน    ปูบน Tack Coat  =",null,null,null,null,null,"=",{"$f":"ROUNDDOWN(J356/J339,1)","v":{"$error":"#DIV/0!"}},"บาท/ตร.ม.","[20] = [18]/[3]"]
[null,null,"ตารางที่ 3 ตัวแปรค่าดำเนินการปูลาดและบดทับตามความหนาแอสฟัลท์ติกคอนกรีต "]
[null,null,"ความหนา (ซม.)","ตัวแปร","พื้นที่ "]
[null,null,2.5,0.75,16.66]
[null,null,3,0.8,13.89]
[null,null,4,0.9,10.41]
[null,null,5,1,8.33]
[null,null,6,1.6,6.94]
[null,null,7,1.7,5.95]
[null,null,8,1.8,5.21]
[null,null,9,1.9,4.63]
[null,null,10,2,4.16]
[null,"4.1.4","งานผิวทางคอนกรีตเสริมเหล็ก"]
[null,null,"วัสดุสำหรับคอนกรีตเสริมเหล็ก"]
[null,1,"งานคอนกรีต"]
[null,null,"ตารางราคาวัสดุ+ขนส่ง (2)"]
[null,null,"ประเภทวัสดุ","หน่วย","ราคาวัสดุที่แหล่ง\n(บาท)",null,"ระยะทางขนส่ง\n(กม.)",null,"รถบรรทุก",null,"ค่าขนส่ง\n(บาท)","รวม\n(บาท)","แหล่งวัสดุ"]
[]
[null,null,"ปูนซีเมนต์","ลบ.ม.",{"$f":"ราคาวัสดุ!L16","v":2242.9899999999998},null,{"$f":"ข้อมูลขนส่ง!V31","v":46},null,{"$f":"ข้อมูลขนส่ง!A31","v":"รถบรรทุก 10 ล้อ + ลากพ่วง"},null,{"$f":"ข้อมูลขนส่ง!Z31","v":67.44},{"$f":"ROUNDDOWN(E375+K375,0)","v":2310},{"$f":"ราคาวัสดุ!M15","v":43872}]
[null,null,"ทรายหยาบ","ลบ.ม.",{"$f":"ราคาวัสดุ!L19","v":529.6},null,{"$f":"ข้อมูลขนส่ง!V21","v":30},null,{"$f":"ข้อมูลขนส่ง!A21","v":"รถบรรทุก 10 ล้อ"},null,{"$f":"ข้อมูลขนส่ง!Z21","v":100.39},{"$f":"ROUNDDOWN(E376+K376,0)","v":629},{"$f":"ราคาวัสดุ!M18","v":43872}]
[null,null,"ทรายถม","ลบ.ม.",{"$f":"ราคาวัสดุ!L20","v":529.6},null,{"$f":"G376","v":30},null,{"$f":"I376","v":"รถบรรทุก 10 ล้อ"},null,{"$f":"K376","v":100.39},{"$f":"L376","v":629},{"$f":"M376","v":43872}]
[null,null,"หิน / กรวด","ลบ.ม.",{"$f":"IF(ข้อมูลขนส่ง!F22=1,ราคาวัสดุ!L12,ราคาวัสดุ!L14)","v":290},null,{"$f":"ข้อมูลขนส่ง!V23","v":62},null,{"$f":"ข้อมูลขนส่ง!A23","v":"รถบรรทุก 10 ล้อ"},null,{"$f":"ข้อมูลขนส่ง!Z23","v":205.65},{"$f":"ROUNDDOWN(E378+K378,0)","v":495},{"$f":"IF(ข้อมูลขนส่ง!F22=1,ราคาวัสดุ!M12,ราคาวัสดุ!M14)","v":"โรงโม่       อ.นากลาง  จ.หนองบัวลำภู"}]
[null,null,"กรณีที่ปริมาณงานคอนกรีตน้อยกว่า  7,000  ลบ.ม.  ให้ใช้ค่าติดตั้งเครื่องผสมสำหรับปริมาณงาน  7,000  ลบ.ม.  ในการประเมินราคา"]
[null,null,"ปริมาณ คอนกรีต  ทั้งโครงการ",null,null,null,null,null,"=",null,"ลบ.ม."]
[null,null,"ปริมาณ คอนกรีต   ที่ใช้คำนวณ",null,null,null,null,null,"=",{"$f":"IF(J380<=7000,7000,J380)","v":7000},"ลบ.ม."]
[null,1.1000000000000001,"กรณีติดตั้งโรงผสมคอนกรีต"]
[null,null,"รายการ",null,null,null,"ค1\n(Lean)","ค1","ค2","ค3","ค3\n(สำหรับงานทาง)","ค4","หมายเหตุ"]
[]
[null,null,"ซีเมนต์",null,"เผื่อ",0.05,{"$f":"ROUND(0.24*(1+$F$385)*$L$375,2)","v":582.12},{"$f":"ROUND(0.29*(1+$F$385)*$L$375,2)","v":703.4},{"$f":"ROUND(0.32*(1+$F$385)*$L$375,2)","v":776.16},{"$f":"ROUND(0.35*(1+$F$385)*$L$375,2)","v":848.93},{"$f":"ROUND(0.35*(1+$F$385)*$L$375,2)","v":848.93},{"$f":"ROUND(0.4*(1+$F$385)*$L$375,2)","v":970.2}]
[null,null,"ทราย",null,"เผื่อ",0.2,{"$f":"ROUND(0.52*(1+$F$386)*$L$376,2)","v":392.5},{"$f":"ROUND(0.62*(1+$F$386)*$L$376,2)","v":467.98},{"$f":"ROUND(0.596*(1+$F$386)*$L$376,2)","v":449.86},{"$f":"ROUND(0.572*(1+$F$386)*$L$376,2)","v":431.75},{"$f":"ROUND(0.572*(1+$F$386)*$L$376,2)","v":431.75},{"$f":"ROUND(0.524*(1+$F$386)*$L$376,2)","v":395.52}]
[null,null,"หิน ",null,"เผื่อ",0.15,{"$f":"ROUND(0.87*(1+$F$387)*$L$378,2)","v":495.25},{"$f":"ROUND(0.725*(1+$F$387)*$L$378,2)","v":412.71},{"$f":"ROUND(0.764*(1+$F$387)*$L$378,2)","v":434.91},{"$f":"ROUND(0.736*(1+$F$387)*$L$378,2)","v":418.97},{"$f":"ROUND(0.736*(1+$F$387)*$L$378,2)","v":418.97},{"$f":"ROUND(0.728*(1+$F$387)*$L$378,2)","v":414.41}]
[null,null,"ค่าติดตั้งเครื่องผสมคอนกรีต 150,000 บาท/ครั้ง",null,null,null,{"$f":"ROUND(150000/$J$381,2)","v":21.43},21.43,21.43,21.43,21.43,21.43]
[null,null,"ค่าผสมคอนกรีต  (จากตารางค่าดำเนินการฯ)",null,null,null,{"$f":"ROUND(ค่าเสื่อมราคา!$I$64,2)","v":181.47},{"$f":"ROUND(ค่าเสื่อมราคา!$I$64,2)","v":181.47},{"$f":"ROUND(ค่าเสื่อมราคา!$I$64,2)","v":181.47},{"$f":"ROUND(ค่าเสื่อมราคา!$I$64,2)","v":181.47},{"$f":"ROUND(ค่าเสื่อมราคา!$I$64,2)","v":181.47},{"$f":"ROUND(ค่าเสื่อมราคา!$I$64,2)","v":181.47}]
[null,null,"ค่าแรงเทคอนกรีต  (จากบัญชีค่าแรงงานฯ)",null,null,null,{"$f":"$J$404","v":306},{"$f":"$J$404","v":306},{"$f":"$J$404","v":306},{"$f":"$J$404","v":306}," -ไม่คิด-",{"$f":"$J$404","v":306}]
[null,null,"รวมค่าใช้จ่าย",null,null,null,{"$f":"SUM(G385:G390)","v":1978.77},2092.9900000000002,2169.83,2208.5500000000002,1902.55,2289.0300000000002]
[null,null,"…ค่างานต้นทุน",null,"(บาท / ลบ.ม.)",null,{"$f":"+ROUNDDOWN(G391,0)","v":1978},2092,2169,2208,1902,2289]
[null,1.2,"กรณีไม่ติดตั้งโรงผสมคอนกรีต"]
[null,null,"รายการ",null,null,null,"ค1\n(Lean)","ค1","ค2","ค3","ค4","ปูนทรายผสม\nยาแนวท่อ","หมายเหตุ"]
[]
[null,null,"ซีเมนต์",null,"เผื่อ",0.05,{"$f":"ROUND(0.24*(1+$F$385)*$L$375,2)","v":582.12},{"$f":"ROUND(0.29*(1+$F$385)*$L$375,2)","v":703.4},{"$f":"ROUND(0.32*(1+$F$385)*$L$375,2)","v":776.16},{"$f":"ROUND(0.35*(1+$F$385)*$L$375,2)","v":848.93},{"$f":"ROUND(0.4*(1+$F$385)*$L$375,2)","v":970.2},{"$f":"ROUND(0.44*(1+$F$385)*$L$375,2)","v":1067.22}]
[null,null,"ทราย",null,"เผื่อ",0.2,{"$f":"ROUND(0.52*(1+$F$386)*$L$376,2)","v":392.5},{"$f":"ROUND(0.62*(1+$F$386)*$L$376,2)","v":467.98},{"$f":"ROUND(0.596*(1+$F$386)*$L$376,2)","v":449.86},{"$f":"ROUND(0.572*(1+$F$386)*$L$376,2)","v":431.75},{"$f":"ROUND(0.524*(1+$F$386)*$L$376,2)","v":395.52},{"$f":"ROUND(0.95*(1+$F$386)*$L$376,2)","v":717.06}]
[null,null,"หิน ",null,"เผื่อ",0.15,{"$f":"ROUND(0.87*(1+$F$387)*$L$378,2)","v":495.25},{"$f":"ROUND(0.725*(1+$F$387)*$L$378,2)","v":412.71},{"$f":"ROUND(0.764*(1+$F$387)*$L$378,2)","v":434.91},{"$f":"ROUND(0.736*(1+$F$387)*$L$378,2)","v":418.97},{"$f":"ROUND(0.728*(1+$F$387)*$L$378,2)","v":414.41},"-"]
[null,null,"ค่าแรงผสมและเทคอนกรีต  (จากบัญชีค่าแรงงานฯ)",null,null,null,{"$f":"J403","v":398},{"$f":"$J$402","v":436},{"$f":"$J$402","v":436},{"$f":"$J$402","v":436},{"$f":"$J$402","v":436},{"$f":"J403","v":398}]
[null,null,"รวมค่าใช้จ่าย",null,null,null,{"$f":"SUM(G396:G399)","v":1867.87},2020.0900000000001,2096.9300000000003,2135.6499999999996,2216.13,2182.2799999999997]
[null,null,"…ค่างานต้นทุน",null,"(บาท / ลบ.ม.)",null,{"$f":"+ROUNDDOWN(G400,0)","v":1867},2020,2096,2135,2216,2182]
["",null,"...ค่าแรงผสมและเทคอนกรีต (จากบัญชีค่าแรงงานฯ)",null,null,null,null,null,"=",{"$f":"ราคาวัสดุ!L111","v":436},"บาท/ลบ.ม."]
["",null,"...ค่าแรงผสมและเทคอนกรีตหยาบ  (จากบัญชีค่าแรงงานฯ)",null,null,null,null,null,"=",{"$f":"ราคาวัสดุ!L110","v":398},"บาท/ลบ.ม."]
[null,null,"...ค่าแรงเทคอนกรีตผสมเสร็จ  (จากบัญชีค่าแรงงานฯ)",null,null,null,null,null,"=",{"$f":"ราคาวัสดุ!L112","v":306},"บาท/ลบ.ม."]
[null,null,"หมายเหตุ  - ค่าผสมและเทคอนกรีตใช้ตามบัญชีค่าแรงงาน/ดำเนินการสำหรับถอดแบบคำนวณราคากลางงานก่อสร้าง ฉบับปรับปรุง  เดือนสิงหาคม 2551"]
[null,null,"                     กรมบัญชีกลาง กระทรวงการคลัง"]
[null,null,"                  - ค่าขนขึ้น-ลงปูนซีเมนต์ใช้ตามหลักเกณฑ์การคำนวณราคากลางงานก่อสร้างทาง สะพาน และท่อเหลี่ยม กรมบัญชีกลาง กระทรวงการคลัง"]
[null,null,"                  - เปอร์เซนต์เผื่อของส่วนผสมคอนกรีตใช้ตามหลักเกณฑ์การคำนวณราคากลางงานก่อสร้างทาง สะพาน และท่อเหลี่ยม กรมบัญชีกลาง "]
[null,null,"                    กระทรวงการคลัง"]
[null,null,"                   - การเผื่อความเสียหายของปริมาณวัสดุผสมคอนกรีต ให้คิดในราคาต่อหน่วยดังนี้"]
[null,null,null,"                      - ปริมาณปูนซีเมนต์คิดเผื่อร้อยละ 5"]
[null,null,null,"                      - ปริมาณทรายหยาบคิดเผื่อร้อยละ 20"]
[null,null,null,"                      - ปริมาณหินคิดเผื่อร้อยละ 15"]
["",null,"ตารางค่าเหล็กเสริม"]
["",null,"เหล็ก","ราคาที่แหล่ง\n(บาท/ตัน)","ค่าขนส่ง",null,null,"ค่าขนขึ้น-ลง (บาท/ตัน)","รวมค่าใช้จ่าย\n(บาท/ตัน)",null,"ค่างานต้นทุน\n(บาท/ตัน)",null,"หมายเหตุ"]
[null,null,null,null,"(กม.)",null,"(บาท/ตัน)",null,null,null,"(บาท/ตัน)","(บาท/กก.)"]
["",null,"RB6",{"$f":"ราคาวัสดุ!L30","v":20630.38},{"$f":"ข้อมูลขนส่ง!U29","v":46},null,{"$f":"ข้อมูลขนส่ง!Z29","v":67.44},80,{"$f":"ROUNDDOWN($G$417+D417+H417,-1)","v":20770},null,{"$f":"I417","v":20770},{"$f":"ROUNDDOWN(I417/1000,2)","v":20.77},"SR-24"]
["",null,"RB9",{"$f":"ราคาวัสดุ!L31","v":18448.04},{"$f":"E417","v":46},null,{"$f":"G417","v":67.44},{"$f":"H417","v":80},{"$f":"ROUNDDOWN($G$417+D418+H418,-1)","v":18590},null,18590,18.59,"SR-24"]
["",null,"RB19",{"$f":"ราคาวัสดุ!L34","v":19688.080000000002},46,null,67.44,80,19830,null,19830,19.829999999999998,"SR-24"]
[null,null,"RB25",{"$f":"ราคาวัสดุ!L35","v":21818.22},46,null,{"$f":"G419","v":67.44},{"$f":"H419","v":80},{"$f":"ROUNDDOWN($G$417+D420+H420,-1)","v":21960},null,{"$f":"I420","v":21960},{"$f":"ROUNDDOWN(I420/1000,2)","v":21.96},"SR-24"]
["",null,"DB12",{"$f":"ราคาวัสดุ!L37","v":16995.240000000002},{"$f":"E419","v":46},null,{"$f":"G419","v":67.44},{"$f":"H419","v":80},17140,null,17140,17.14,"SD-30"]
["",null,"DB16",{"$f":"ราคาวัสดุ!L38","v":19844.240000000002},46,null,67.44,80,19990,null,19990,19.989999999999998,"SD-30"]
["",null,"DB20",{"$f":"ราคาวัสดุ!L39","v":19829.59},46,null,67.44,80,19970,null,19970,19.97,"SD-30"]
["",null,"DB25",{"$f":"ราคาวัสดุ!L40","v":19953.27},46,null,67.44,80,20100,null,20100,20.100000000000001,"SD-30"]
["",null,"DB12",{"$f":"ราคาวัสดุ!L42","v":17434.580000000002},{"$f":"E424","v":46},null,67.44,80,17580,null,{"$f":"I425","v":17580},17.579999999999998,"SD-40"]
["",null,"DB16",{"$f":"ราคาวัสดุ!L43","v":17000},{"$f":"E425","v":46},null,67.44,80,17140,null,{"$f":"I426","v":17140},17.14,"SD-40"]
["",null,"DB20",{"$f":"ราคาวัสดุ!L44","v":17000},{"$f":"E426","v":46},null,67.44,80,17140,null,{"$f":"I427","v":17140},17.14,"SD-40"]
["",null,"DB25",{"$f":"ราคาวัสดุ!L45","v":16700},{"$f":"E427","v":46},null,67.44,80,16840,null,{"$f":"I428","v":16840},16.84,"SD-40"]
["",null,"wire mesh","ราคาที่แหล่ง\n(บาท/ตร.ม.)","ระยะทางขนส่ง\n(กม.)",null,"ค่าขนส่ง\n(บาท/ตร.ม.)","ค่าขนขึ้น-ลง(บาท/ตัน)","ราคารวมค่าขนส่ง\n(บาท/ตร.ม.)",null,"ค่างานต้นทุน\n(บาท/ตร.ม.)",null,"หมายเหตุ"]
[]
["",null,{"$f":"\" Ø \"&TEXT(AD481,\"0.0\")&\"x\"&TEXT(AG481,\"0.0\")&\" มม.\"","v":" Ø 6.0x4.0 มม."},{"$f":"ราคาวัสดุ!L48","v":27.1},{"$f":"E424","v":46},null,{"$f":"ROUND(G424*AJ481/1000,2)","v":0.11},{"$f":"ROUND(H424*AJ481/1000,2)","v":0.13},{"$f":"ROUNDDOWN($G$431+D431+H431,0)","v":27},null,{"$f":"I431","v":27},null,{"$f":"\"@\"&TEXT(AE481,\"0.00\")&\"x\"&TEXT(AH481,\"0.00\")&\" ม.  \"","v":"@0.20x0.20 ม.  "}]
[null,null,{"$f":"\" Ø \"&TEXT(AD470,\"0.0\")&\"x\"&TEXT(AG470,\"0.0\")&\" มม.\"","v":" Ø 6.0x4.0 มม."},{"$f":"ราคาวัสดุ!L48","v":27.1},{"$f":"E425","v":46},null,{"$f":"ROUND(G425*AJ483/1000,2)","v":7.0000000000000007E-2},{"$f":"ROUND(H425*AJ483/1000,2)","v":0.09},{"$f":"ROUNDDOWN($G$431+D432+H432,0)","v":27},null,{"$f":"I432","v":27},null,{"$f":"\"@\"&TEXT(AE470,\"0.00\")&\"x\"&TEXT(AH470,\"0.00\")&\" ม.  \"","v":"@0.30x0.30 ม.  "}]
["",null,"ลวดอัดแรง","ราคาที่แหล่ง\n(บาท/ตัน)","ระยะทางขนส่ง\n(กม.)",null,"ค่าขนส่ง\n(บาท/ตร.ม.)","ค่าขนขึ้น-ลง(บาท/ตัน)","ราคารวมค่าขนส่ง\n(บาท/ตร.ม.)",null,"ค่างานต้นทุน\n(บาท/ตัน)",null,"หมายเหตุ"]
[null,null,null,null,null,null,null,null,null,null,"(บาท/ตัน)","(บาท/กก.)"]
["",null," Ø  4, 5, 7, 9  มม.",{"$f":"ราคาวัสดุ!L52","v":40000},{"$f":"E428","v":46},null,{"$f":"G417","v":67.44},{"$f":"H417","v":80},{"$f":"ROUNDDOWN($G$431+D435+H435,0)","v":40080},null,{"$f":"I435","v":40080},{"$f":"ROUNDDOWN(I435/1000,2)","v":40.08},"PC WIRE  "]
[null,null," Ø 9.5 , 12.7 มม.",{"$f":"ราคาวัสดุ!L53","v":45000},{"$f":"E435","v":46},null,{"$f":"G435","v":67.44},{"$f":"H435","v":80},{"$f":"ROUNDDOWN($G$431+D436+H436,0)","v":45080},null,45080,45.08,"PC STRAND  7 เส้น"]
["",null,"...ค่าแรงผูกเหล็ก",null,null,null,"=",{"$f":"ราคาวัสดุ!L55","v":4100},"บาท/ตัน","=",{"$f":"ROUND(H437/1000,2)","v":4.0999999999999996},"บาท/กก."," (จากบัญชีค่าแรงงานฯ)"]
[null,null,"...ค่าแรงงานเหล็กตะแกรง WIRE MESH ",null,null,null,null,null,null,"=",{"$f":"ราคาวัสดุ!L56","v":5},"บาท/ตร.ม."," (จากบัญชีค่าแรงงานฯ)"]
[null,null,"...ค่าแรงงานลวดอัดแรง",null,null,null,"=",{"$f":"ราคาวัสดุ!L57","v":15000},"บาท/ตัน","=",{"$f":"ROUND(H439/1000,2)","v":15},"บาท/กก."]
[null,null,"หมายเหตุ  - ค่าแรงผูกเหล็กใช้ตามบัญชีค่าแรงงาน/ดำเนินการสำหรับถอดแบบคำนวณราคากลางงานก่อสร้าง กรมบัญชีกลางกระทรวงการคลัง"]
[null,null,"                  - ค่าขนขึ้น-ลงเหล็กใช้ตามหลักเกณฑ์การคำนวณราคากลางงานก่อสร้างทาง สะพาน และท่อเหลี่ยม กรมบัญชีกลาง กระทรวงการคลัง"]
[null,null,"                  - เปอร์เซนต์ลวดผูกเหล็กใช้ตามหลักเกณฑ์การคำนวณราคากลางงานก่อสร้างทาง สะพาน และท่อเหลี่ยม กรมบัญชีกลาง กระทรวงการคลัง"]
["",1.3,"งานไม้แบบ"]
[null,null,"คิดจากพื้นที่",null,1,"ตร.ม."]
["",null,"ไม้กระบาก",null,1,"ลบ.ฟ. @",null,{"$f":"ราคาวัสดุ!L65","v":585.66999999999996},"=",{"$f":"ROUNDDOWN(E445*H445,2)","v":585.66999999999996},"บาท/ตร.ม.","[1]"]
["",null,"ไม้คร่าว",null,0.3,"ลบ.ฟ. @",null,{"$f":"ราคาวัสดุ!L66","v":427.57},"=",{"$f":"ROUNDDOWN(E446*H446,2)","v":128.27000000000001},"บาท/ตร.ม.","[2]"]
["",null,"ค้ำยันไม้แบบ",null,0.3,"ต้น/ตร.ม.@",null,{"$f":"ราคาวัสดุ!L67","v":50},"=",{"$f":"ROUNDDOWN(E447*H447,2)","v":15},"บาท/ตร.ม.","[3]"]
[null,null,"รวมค่าใช้จ่าย",null,null,null,null,null,"=",{"$f":"SUM(J445:J447)","v":728.93999999999994},"บาท/ตร.ม.","[4] = [1] + …. + [3]"]
["",null,"ไม้อัดยางหนา 4 มม.",null,1,"ตร.ม. @",null,{"$f":"221.96/(1.22*2.44)","v":74.563289438323039},"=",{"$f":"ROUNDDOWN(E449*H449,2)","v":74.56},"บาท/ตร.ม.","[5]"]
[null,null,"รวมค่าใช้จ่าย",null,null,null,null,null,"=",{"$f":"J445+J446+J449","v":788.5},"บาท/ตร.ม.","[6] = [1] + [2] + [5]"]
["",null,"ตะปู",null,0.25,"กก./ตร.ม.@",null,{"$f":"ราคาวัสดุ!L69","v":40.369999999999997},"=",{"$f":"ROUNDDOWN(E451*H451,2)","v":10.09},"บาท/ตร.ม.","[7]"]
[null,null,"น้ำมันทาผิวไม้",null,1,"ตร.ม. @",null,{"$f":"ราคาวัสดุ!L70","v":25},"=",{"$f":"ROUNDDOWN(E452*H452,2)","v":25},"บาท/ตร.ม.","[8]"]
[null,null,"ค่าแรงไม้แบบ",null,1,"ตร.ม. @",null,null,"=",{"$f":"ราคาวัสดุ!L71","v":154},"บาท/ตร.ม.","[9]"," (จากบัญชีค่าแรงงานฯ)"]
[null,null,"….รวมค่าแรงประกอบแบบ + น้ำมันทาผิวไม้ + ตะปู",null,null,null,null,null,"=",{"$f":"SUM(J451:J453)","v":189.09},"บาท/ตร.ม.","[10] =  [7]+ [8]+[9]"]
["",null,"…ต้นทุนค่าไม้แบบ (1)",null,"ใช้งาน 4 ครั้ง",null,null,null,"=",{"$f":"ROUNDDOWN((J448)/4+J454,-1)","v":370},"บาท/ตร.ม.","[11] = [4]/4 + [10]"]
[null,null,"…ต้นทุนค่าไม้แบบ (2)",null,"ใช้งาน 5 ครั้ง",null,null,null,"=",{"$f":"ROUNDDOWN((J448)/5+J454,-1)","v":330},"บาท/ตร.ม.","[12] = [4]/5 + [10]"]
[null,null,"…ต้นทุนค่าไม้แบบ (3)",null,"ใช้งาน 3 ครั้ง",null,null,null,"=",{"$f":"ROUNDDOWN(J450/3+J454,-1)","v":450},"บาท/ตร.ม.","[13] = [6]/3 + [10]"]
[null,null,"หมายเหตุ  - ค่าแรงไม้แบบใช้ตามบัญชีค่าแรงงาน/ดำเนินการสำหรับถอดแบบคำนวณราคากลางงานก่อสร้าง กรมบัญชีกลาง กระทรวงการคลัง"]
["",null,"ค่าทรายรองพื้น"]
["",null,"ค่าทรายรองพื้นที่แหล่ง",null,null,null,null,"ลบ.ม. ละ","=",{"$f":"ราคาวัสดุ!L20","v":529.6},"บาท"]
["",null,"ค่าขนส่ง",{"$f":"ข้อมูลขนส่ง!U21","v":30},"กม.",null,null,"ลบ.ม. ละ","=",{"$f":"ข้อมูลขนส่ง!Z21","v":100.39},"บาท"]
["",null,"ค่าแรงปรับเกลี่ยแต่งทราย",null,null,null,null,"ลบ.ม. ละ","=",46,"บาท"]
["",null," ...รวม ",null,null,null,null,null,"=",{"$f":"SUM(J460:J462)","v":675.99},"บาท"]
["",null,"...ค่าทรายรองพื้น",null,null,null,null,"ลบ.ม. ละ","=",{"$f":"ROUND(SUM(J460:J462),-1)","v":680},"บาท"]
[null,"4.1.4","(1.1)งานผิวทางคอนกรีตเสริมเหล็ก (ถนนคอนกรีตภายในหมู่บ้าน)"]
["",null,"พิจารณาที่ถนน",null,"กว้าง",3,"ม.  ยาว",10,"ม.   หนา",{"$f":"BackUp!E244","v":0.15},"เมตร"]
[null,null,{"$f":"IF(Y467=0.2,(\" - เหล็กเส้น \"),(\" - เหล็กเส้น \"&TEXT(U470,\"0.00\")&\"x\"&TEXT(X470,\"0.00\")&\" มม.@\"&TEXT(V470,\"0.00\")&\"x\"&TEXT(Y470,\"0.00\")&\" ม.\"))","v":" - เหล็กเส้น 9.00x6.00 มม.@0.30x0.30 ม."},null,null,"=",{"$f":"IF(Y467=0.2,0,AA470*1.1)","v":2.6433000000000004},"กก./ตร.ม.","=",{"$f":"IF(Y467=0.2,0,ROUNDDOWN((W470*$K$418/1000*1.1+Z470*$K$417/1000*1.1+G467*$K$437+G467*0.025*ราคาวัสดุ!L46),0))","v":65},"บาท/ตร.ม.","เผื่อ 10 %","(ค่าเหล็ก+ค่าลวด+ค่าผูก)",null,null,null,null,null,null,"คิดกว้าง",{"$f":"F466","v":3},"ม.    ยาว",{"$f":"H466","v":10},"ม.   หนา",{"$f":"J466","v":0.15},"ม. จำนวน",{"$f":"ข้อมูลโครงการ!T12","v":0},"ช่องจราจร"]
[null,null,{"$f":"IF(Y467=0.2,(\" - Wire Mesh \"),(\" - Wire Mesh \"&TEXT(AD470,\"0.00\")&\"x\"&TEXT(AG470,\"0.00\")&\" มม.@\"&TEXT(AE470,\"0.00\")&\"x\"&TEXT(AH470,\"0.00\")&\" ม.\"))","v":" - Wire Mesh 6.00x4.00 มม.@0.30x0.30 ม."},null,null,"=",{"$f":"IF(Y467=0.2,0,AJ470)","v":1.07},"กก./ตร.ม.","=",{"$f":"IF(Y467=0.2,0,ROUNDDOWN(IF(Y467=0.2,($K$431+$K$438),($K$432+$K$438)),2))","v":32},"บาท/ตร.ม.",null,"(ค่าเหล็ก+ค่าวาง)",null,null,null,"ใช้เหล็กเส้นกลม",null,null,"ถนน คสล.","ตะแกรงเหล็ก RB",null,null,null,null,null,"รวม",null,"ถนน คสล.","ตะแกรงเหล็ก  Wire Mesh",null,null,null,null,null,"รวม"]
[null,null,"ค่างานคอนกรีต","ค3\n(สำหรับงานทาง)",null,{"$f":"F466*H466*J466","v":4.5},"ลบ.ม. @",{"$f":"HLOOKUP(D469,$G$383:$L$392,10)","v":1902},"=",{"$f":"F469*H469","v":8559},"บาท","[1]",null,null,null,null,"ใช้เหล็ก Wire Mesh",null,null,"หนา","Ø ตามยาว","ระยะ","นน./ตร.ม.","Ø ตามขวาง","ระยะ","นน./ตร.ม.",null,null,"หนา","Ø ตามยาว","ระยะ","นน./ตร.ม.","Ø ตามขวาง","ระยะ","นน./ตร.ม."]
[null,null,"ตะแกรงเหล็ก + ค่าแรง","ใช้เหล็ก Wire Mesh",null,{"$f":"F466*H466","v":30},"ตร.ม. @",{"$f":"IF(D470=Q468,J467,J468)","v":32},"=",960,"บาท","[2]",null,null,null,null,null,null,null,0.15,9,0.3,{"$f":"ROUND(ROUND(61.65*U470*U470/10000,3)*ROUND(1/V470,3),3)","v":1.663},6,{"$f":"IF(AA467=2,0.4,0.3)","v":0.3},{"$f":"ROUND(ROUND(61.65*X470*X470/10000,3)*ROUND(1/Y470,3),3)","v":0.74},{"$f":"ROUNDDOWN((W470+Z470),3)","v":2.403},"กก.",0.15,6,0.3,{"$f":"ROUND(ROUND(61.65*AD470*AD470/10000,3)*ROUND(1/AE470,3),3)","v":0.74},4,0.3,{"$f":"ROUND(ROUND(61.65*AG470*AG470/10000,3)*ROUND(1/AH470,3),3)","v":0.33},{"$f":"ROUNDDOWN(AF470+AI470,3)","v":1.07},"กก."]
[null,null,"แผ่นพลาสติก",null,null,{"$f":"F470","v":30},"ตร.ม. @",3,"=",90,"บาท","[3]"]
[null,null,"ค่าปูผิวคอนกรีต",null,null,{"$f":"F470","v":30},"ตร.ม. @",{"$f":"ROUND(ค่าเสื่อมราคา!$I$67,2)","v":11.93},"=",357.9,"บาท","[4]","(จากตารางค่าดำเนินการฯ)"]
[null,null,{"$f":"IF(AA467=2,\"ค่าติดตั้งแบบข้าง (คิด 1.5 เท่าของความยาว)\",\"ค่าติดตั้งแบบข้าง\")","v":"ค่าติดตั้งแบบข้าง"},null,null,{"$f":"IF(AA467=2,W467*1.5,W467)","v":10},"ม. @",{"$f":"ROUND(ค่าเสื่อมราคา!$I$66,2)","v":20.6},"=",206,"บาท","[5]","(จากตารางค่าดำเนินการฯ)"]
[null,null,"ค่าบ่ม",null,null,{"$f":"F472","v":30},"ตร.ม. @",{"$f":"ROUND(ค่าเสื่อมราคา!$I$70,2)","v":8.73},"=",261.90000000000003,"บาท","[6]","(จากตารางค่าดำเนินการฯ)"]
[null,null,"รวมค่าใช้จ่าย",null,null,null,null,null,"=",{"$f":"SUM(J469:J474)","v":10434.799999999999},{"$f":"\"บาท/\"&F466*H466&\" ตร.ม.\"","v":"บาท/30 ตร.ม."},"[7] = [1]+….+[6]"]
[null,null,"… ค่างานต้นทุน",null,null,null,null,null,"=",{"$f":"ROUNDDOWN(J475/F466/H466,0)","v":347},"บาท/ตร.ม."]
[null,"4.1.4","(1.2)งานผิวทางคอนกรีตเสริมเหล็ก "]
["",null,"พิจารณาที่ถนน",null,"กว้าง",4,"ม.  ยาว",10,"ม.   หนา",{"$f":"BackUp!E244","v":0.15},"เมตร",null,null,null,null,null,null,null,null,"คิดกว้าง",{"$f":"F478","v":4},"ม.    ยาว",{"$f":"H478","v":10},"ม.   หนา",{"$f":"J478","v":0.15},"ม. จำนวน",{"$f":"ข้อมูลโครงการ!T12","v":0},"ช่องจราจร"]
[null,null,{"$f":"IF(Y478=0.2,(\" - เหล็กเส้น \"&TEXT(U481,\"0.00\")&\"x\"&TEXT(X481,\"0.00\")&\" มม.@\"&TEXT(V481,\"0.00\")&\"x\"&TEXT(Y481,\"0.00\")&\" ม.\"),(\" - เหล็กเส้น \"&TEXT(U483,\"0.00\")&\"x\"&TEXT(X483,\"0.00\")&\" มม.@\"&TEXT(V483,\"0.00\")&\"x\"&TEXT(Y483,\"0.00\")&\" ม.\"))","v":" - เหล็กเส้น 9.00x6.00 มม.@0.30x0.30 ม."},null,null,"=",{"$f":"AA484*1.1","v":2.6433000000000004},"กก./ตร.ม.","=",{"$f":"ROUNDDOWN((W484*$K$418/1000*1.1+Z484*$K$417/1000*1.1+G479*$K$437+G479*0.025*ราคาวัสดุ!L46),2)","v":65.58},"บาท/ตร.ม.","เผื่อ 10 %","(ค่าเหล็ก+ค่าลวด+ค่าผูก)",null,null,null,"ใช้เหล็กเส้นกลม",null,null,"ถนน คสล.","ตะแกรงเหล็ก RB",null,null,null,null,null,"รวม",null,"ถนน คสล.","ตะแกรงเหล็ก  Wire Mesh",null,null,null,null,null,"รวม"]
[null,null,{"$f":"IF(Y478=0.2,(\" - Wire Mesh \"&TEXT(AD481,\"0.00\")&\"x\"&TEXT(AG481,\"0.00\")&\" มม.@\"&TEXT(AE481,\"0.00\")&\"x\"&TEXT(AH481,\"0.00\")&\" ม.\"),(\" - Wire Mesh \"&TEXT(AD483,\"0.00\")&\"x\"&TEXT(AG483,\"0.00\")&\" มม.@\"&TEXT(AE483,\"0.00\")&\"x\"&TEXT(AH483,\"0.00\")&\" ม.\"))","v":" - Wire Mesh 6.00x4.00 มม.@0.30x0.30 ม."},null,null,"=",{"$f":"AJ484","v":1.07},"กก./ตร.ม.","=",{"$f":"+K431","v":27},"บาท/ตร.ม.",null,"(ค่าเหล็ก+ค่าวาง)",null,null,null,"ใช้เหล็ก Wire Mesh",null,null,"หนา","Ø ตามยาว","ระยะ","นน./ตร.ม.","Ø ตามขวาง","ระยะ","นน./ตร.ม.",null,null,"หนา","Ø ตามยาว","ระยะ","นน./ตร.ม.","Ø ตามขวาง","ระยะ","นน./ตร.ม."]
[null,null,"ค่างานคอนกรีต","ค3\n(สำหรับงานทาง)",null,{"$f":"F478*H478*J478","v":6},"ลบ.ม. @",{"$f":"HLOOKUP(D481,$G$383:$L$392,10)","v":1902},"=",{"$f":"F481*H481","v":11412},"บาท","[1]",null,null,null,null,null,null,null,0.2,9,0.2,{"$f":"ROUND(ROUND(61.65*U481*U481/10000,3)*ROUND(1/V481,3),3)","v":2.4950000000000001},6,0.2,{"$f":"ROUND(ROUND(61.65*X481*X481/10000,3)*ROUND(1/Y481,3),3)","v":1.1100000000000001},{"$f":"ROUNDDOWN((W481+Z481),3)","v":3.605},"กก.",0.2,6,0.2,{"$f":"ROUND(ROUND(61.65*AD481*AD481/10000,3)*ROUND(1/AE481,3),3)","v":1.1100000000000001},4,0.2,{"$f":"ROUND(ROUND(61.65*AG481*AG481/10000,3)*ROUND(1/AH481,3),3)","v":0.495},{"$f":"+AF481+AI481","v":1.605},"กก."]
[null,null,"ตะแกรงเหล็ก+ค่าแรง","ใช้เหล็ก Wire Mesh",null,{"$f":"F478*H478","v":40},"ตร.ม. @",{"$f":"IF(D482=Q479,J479,J480)","v":27},"=",{"$f":"F482*H482","v":1080},"บาท","[2]",null,null,null,null,null,null,null,0.18,9,0.23,{"$f":"ROUND(ROUND(61.65*U482*U482/10000,3)*ROUND(1/V482,3),3)","v":2.17},6,0.2,{"$f":"ROUND(ROUND(61.65*X482*X482/10000,3)*ROUND(1/Y482,3),3)","v":1.1100000000000001},{"$f":"ROUNDDOWN((W482+Z482),3)","v":3.28},"กก.",0.18,6,0.2,{"$f":"ROUND(ROUND(61.65*AD482*AD482/10000,3)*ROUND(1/AE482,3),3)","v":1.1100000000000001},4,0.2,{"$f":"ROUND(ROUND(61.65*AG482*AG482/10000,3)*ROUND(1/AH482,3),3)","v":0.495},{"$f":"+AF482+AI482","v":1.605},"กก."]
[null,null,"ค่าปูผิวคอนกรีต",null,null,{"$f":"F482","v":40},"ตร.ม. @",{"$f":"ROUND(ค่าเสื่อมราคา!$I$67,2)","v":11.93},"=",null,"บาท","[3]","(จากตารางค่าดำเนินการฯ)",null,null,null,null,null,null,0.15,9,0.3,{"$f":"ROUND(ROUND(61.65*U483*U483/10000,3)*ROUND(1/V483,3),3)","v":1.663},6,{"$f":"IF(AA478=2,0.4,0.3)","v":0.3},{"$f":"ROUND(ROUND(61.65*X483*X483/10000,3)*ROUND(1/Y483,3),3)","v":0.74},{"$f":"ROUNDDOWN((W483+Z483),3)","v":2.403},"กก.",0.15,6,0.3,{"$f":"ROUND(ROUND(61.65*AD483*AD483/10000,3)*ROUND(1/AE483,3),3)","v":0.74},4,0.3,{"$f":"ROUND(ROUND(61.65*AG483*AG483/10000,3)*ROUND(1/AH483,3),3)","v":0.33},{"$f":"ROUNDDOWN(AF483+AI483,3)","v":1.07},"กก."]
[null,null,{"$f":"IF(AA478=2,\"ค่าติดตั้งแบบข้าง (คิด 1.5 เท่าของความยาว)\",\"ค่าติดตั้งแบบข้าง\")","v":"ค่าติดตั้งแบบข้าง"},null,null,{"$f":"IF(AA478=2,W478*1.5,W478)","v":10},"ม. @",{"$f":"ROUND(ค่าเสื่อมราคา!$I$66,2)","v":20.6},"=",{"$f":"F484*H484","v":206},"บาท","[4]","(จากตารางค่าดำเนินการฯ)",null,null,null,null,null,"USE",{"$f":"VLOOKUP($Y$478,$T$481:$AK$483,1,FALSE)","v":0.15},{"$f":"VLOOKUP($Y$478,$T$481:$AK$495,2,FALSE)","v":9},{"$f":"VLOOKUP($Y$478,$T$481:$AK$495,3,FALSE)","v":0.3},{"$f":"VLOOKUP($Y$478,$T$481:$AK$495,4,FALSE)","v":1.663},{"$f":"VLOOKUP($Y$478,$T$481:$AK$495,5,FALSE)","v":6},{"$f":"VLOOKUP($Y$478,$T$481:$AK$495,6,FALSE)","v":0.3},{"$f":"VLOOKUP($Y$478,$T$481:$AK$495,7,FALSE)","v":0.74},{"$f":"VLOOKUP($Y$478,$T$481:$AK$495,8,FALSE)","v":2.403},{"$f":"VLOOKUP($Y$478,$T$481:$AK$495,9,FALSE)","v":"กก."},{"$f":"VLOOKUP($Y$478,$T$481:$AK$495,10,FALSE)","v":0.15},{"$f":"VLOOKUP($Y$478,$T$481:$AK$495,11,FALSE)","v":6},{"$f":"VLOOKUP($Y$478,$T$481:$AK$495,12,FALSE)","v":0.3},{"$f":"VLOOKUP($Y$478,$T$481:$AK$495,13,FALSE)","v":0.74},{"$f":"VLOOKUP($Y$478,$T$481:$AK$495,14,FALSE)","v":4},{"$f":"VLOOKUP($Y$478,$T$481:$AK$495,15,FALSE)","v":0.3},{"$f":"VLOOKUP($Y$478,$T$481:$AK$495,16,FALSE)","v":0.33},{"$f":"VLOOKUP($Y$478,$T$481:$AK$495,17,FALSE)","v":1.07},{"$f":"VLOOKUP($Y$478,$T$481:$AK$495,18,FALSE)","v":"กก."}]
[null,null,"ค่าบ่ม",null,null,null,"ตร.ม. @",{"$f":"ROUND(ค่าเสื่อมราคา!$I$70,2)","v":8.73},"=",{"$f":"F485*H485","v":0},"บาท","[5]","(จากตารางค่าดำเนินการฯ)"]
[null,null,"รวมค่าใช้จ่าย",null,null,null,null,null,"=",{"$f":"SUM(J480:J485)","v":12725},{"$f":"\"บาท/\"&F478*H478&\" ตร.ม.\"","v":"บาท/40 ตร.ม."},"[6] = [1]+….+[5]"]
[null,null,"… ค่างานต้นทุน",null,null,null,null,null,"=",{"$f":"ROUNDDOWN(J486/F478/H478,0)","v":318},"บาท/ตร.ม.",null,null,null,null,null,null,null,null,"คิดกว้าง",4,"ม.    ยาว",{"$f":"H466","v":10},"ม.   หนา",{"$f":"J466","v":0.15},"ม."]
[null,"4.1.4","(2) Expansion  Joint",null,{"$f":"\"(คิดจากถนนกว้าง \"&TEXT(U487,\"0.00\")&\" ม. หนา \"&TEXT(Y487,\"0.00\")&\" ม.)\"","v":"(คิดจากถนนกว้าง 4.00 ม. หนา 0.15 ม.)"},null,null,null,null,null,null,null,null,null,null,null,null,null,null,"ถนน คสล.","Dowel Bar"]
[null,null,{"$f":"\"เหล็ก Dowel bar RB\"&IF($T$118=0.2,U490,U491)","v":"เหล็ก Dowel bar RB25"},null,null,{"$f":"IF(Y487=0.15,X491,X490)*1.1","v":27.548400000000004},"กก. @",{"$f":"IF(Y487=0.15,L419,L420)","v":19.829999999999998},"=",{"$f":"F489*H489","v":546.28477200000009},"บาท","[1]","เผื่อ 10 %",null,null,null,null,null,null,"หนา","Ø ","ระยะ","ความยาว","นน."]
[null,null,"CAP + จาระบี",null,null,{"$f":"ROUNDDOWN(U487/(IF($T$490=0.15,V491,V490)),0)","v":13},"ชุด @",10,"=",{"$f":"F490*H490","v":130},"บาท","[2]",null,null,null,null,null,null,null,"0.18 , 0.20",25,0.3,0.5,{"$f":"ROUNDDOWN((ROUNDDOWN(U487/V490,0))*W490*ROUND(61.65*(U490/100)^2,3),3)","v":25.044}]
[null,null,"ชีโลเท็กซ์(กระดาษชานอ้อย)",null,null,{"$f":"Y487*U487","v":0.6},"ตร.ม. @",{"$f":"400/2.88","v":138.88888888888889},"=",83.333333333333329,"บาท","[3]",null,null,null,null,null,null,null,0.15,25,0.3,0.5,{"$f":"ROUNDDOWN((ROUNDDOWN(U487/V491,0))*W491*ROUND(61.65*(U491/100)^2,3),3)","v":25.044}]
[null,null,"ค่ายางแอสฟัลท์ผสมทราย",null,null,{"$f":"F493*0.025*0.025*1000","v":2.5000000000000004},"ลิตร @",{"$f":"(L277/1000*0.025*0.025*1000+0.025*0.025*L376)*U487/F492","v":37.018000000000001},"=",{"$f":"F492*H492","v":92.545000000000016},"บาท","[4]"]
[null,null,"ค่าหยอดยางรอยต่อคอนกรีต",null,null,{"$f":"U487","v":4},"ม. @",{"$f":"ค่าเสื่อมราคา!$I$69","v":13.65},"=",{"$f":"F493*H493","v":54.6},"บาท","[5]","(จากตารางค่าดำเนินการฯ)"]
[null,null,"ค่าไม้แบบ (ไม้แบบ 2)  ",null,null,{"$f":"Y487*U487","v":0.6},"ตร.ม. @",{"$f":"J456","v":330},"=",198,"บาท","[6]"]
[null,null,"แผ่นพลาสติก",null,null,{"$f":"F493*1.2","v":4.8},"ตร.ม. @",3,"=",{"$f":"F495*H495","v":14.399999999999999},"บาท","[7]"]
[null,null,"รวมค่าใช้จ่าย",null,null,null,null,null,"=",{"$f":"SUM(J489:J495)","v":1119.1631053333335},"บาท/2 ม.","[8] = [1]+...+[7]"]
[null,null,"… ค่างานต้นทุน",null,null,null,null,null,"=",{"$f":"ROUNDDOWN(J496/U487,0)","v":279},"บาท/ม.",null,null,null,null,null,null,null,null,"คิดกว้าง",{"$f":"U487","v":4},"ม.    ยาว",{"$f":"W487","v":10},"ม.   หนา",{"$f":"Y487","v":0.15},"ม."]
[null,"4.1.4","(3) Contraction  Joint",null,{"$f":"\"(คิดจากถนนกว้าง \"&TEXT(U497,\"0.00\")&\" ม. หนา \"&TEXT(Y497,\"0.00\")&\" ม.)\"","v":"(คิดจากถนนกว้าง 4.00 ม. หนา 0.15 ม.)"},null,null,null,null,null,null,null,null,null,null,null,null,null,null,"ถนน คสล.","Dowel Bar"]
[null,null,{"$f":"\"เหล็ก Dowel bar RB\"&IF($T$127=0.2,U500,U501)","v":"เหล็ก Dowel bar RB25"},null,null,{"$f":"IF(Y497=0.15,X501,X500)*1.1","v":27.548400000000004},"กก. @",{"$f":"IF(Y497=0.15,L419,L420)","v":19.829999999999998},"=",{"$f":"F499*H499","v":546.28477200000009},"บาท","[1]","เผื่อ 10 %",null,null,null,null,null,null,"หนา","Ø ","ระยะ","ความยาว","นน."]
[null,null,"CAP + จาระบี",null,null,{"$f":"ROUNDDOWN(U497/(IF($T$500=0.15,V501,V500)),0)","v":13},"ชุด @",{"$f":"H490","v":10},"=",{"$f":"F500*H500","v":130},"บาท","[2]",null,null,null,null,null,null,null,"0.18 , 0.20",25,0.3,0.5,{"$f":"ROUNDDOWN((ROUNDDOWN(U497/V500,0))*W500*ROUND(61.65*(U500/100)^2,3),3)","v":25.044}]
[null,null,"ค่าตัด  JOINT และหยอดยาง",null,null,{"$f":"U497","v":4},"ม. @",{"$f":"ค่าเสื่อมราคา!$I$67","v":11.93},"=",{"$f":"F501*H501","v":47.72},"บาท","[3]","(จากตารางค่าดำเนินการฯ)",null,null,null,null,null,null,0.15,25,0.3,0.5,{"$f":"ROUNDDOWN((ROUNDDOWN(U497/V501,0))*W501*ROUND(61.65*(U501/100)^2,3),3)","v":25.044}]
[null,null,"ค่ายางแอสฟัลท์ผสมทราย",null,null,{"$f":"F493*0.01*Y497/4*1000","v":1.5},"ลิตร @",{"$f":"H492","v":37.018000000000001},"=",{"$f":"F502*H502","v":55.527000000000001},"บาท","[4]"]
[null,null,"แผ่นพลาสติก",null,null,{"$f":"F501*1.2","v":4.8},"ม. @",3,"=",{"$f":"F503*H503","v":14.399999999999999},"บาท","[5]"]
[null,null,"รวมค่าใช้จ่าย",null,null,null,null,null,"=",{"$f":"SUM(J499:J503)","v":793.93177200000014},"บาท/2 ม.","[6] = [1]+….+[5]",null,null,null,null,null,null,null,0.15,9,0.3,{"$f":"ROUND(ROUND(61.65*U504*U504/10000,3)*ROUND(1/V504,3),3)","v":1.663},6,{"$f":"IF(AA487=2,0.4,0.3)","v":0.3},{"$f":"ROUND(ROUND(61.65*X504*X504/10000,3)*ROUND(1/Y504,3),3)","v":0.74},{"$f":"ROUNDDOWN((W504+Z504),3)","v":2.403},"กก.",0.15,6,0.3,{"$f":"ROUND(ROUND(61.65*AD504*AD504/10000,3)*ROUND(1/AE504,3),3)","v":0.74},4,0.3,{"$f":"ROUND(ROUND(61.65*AG504*AG504/10000,3)*ROUND(1/AH504,3),3)","v":0.33},{"$f":"ROUNDDOWN(AF504+AI504,3)","v":1.07},"กก."]
[null,null,"… ค่างานต้นทุน",null,null,null,null,null,"=",{"$f":"ROUNDDOWN(J504/U497,0)","v":198},"บาท/ม."]
[null,"4.1.4","(4) Longitudinal  Joint",null,{"$f":"\"(คิดจากความยาว \"&TEXT(W506,\"0.00\")&\" ม. หนา \"&TEXT(Y506,\"0.00\")&\" ม.)\"","v":"(คิดจากความยาว 10.00 ม. หนา 0.15 ม.)"},null,null,null,null,null,null,null,null,null,null,null,null,null,null,"คิดกว้าง",{"$f":"U497","v":4},"ม.    ยาว",{"$f":"W497","v":10},"ม.   หนา",{"$f":"Y497","v":0.15},"ม."]
[null,null,{"$f":"\"เหล็ก Dowel bar DB\"&IF($T$134=0.2,U509,U510)","v":"เหล็ก Dowel bar DB12"},null,null,{"$f":"IF(Y506=0.15,X510,X509)*1.1","v":9.7680000000000025},"กก. @",{"$f":"L421","v":17.14},"=",{"$f":"F507*H507","v":167.42352000000005},"บาท","[1]","เผื่อ 10 %",null,null,null,null,null,null,"ถนน คสล.","Tie Bar"]
[null,null,"ค่าตัด  JOINT และหยอดยาง",null,null,{"$f":"IF(AA467=1,0,W506)","v":10},"ม. @",{"$f":"H501","v":11.93},"=",{"$f":"F508*H508","v":119.3},"บาท","[2]",null,null,null,null,null,null,null,"หนา","Ø ","ระยะ","ความยาว","นน."]
[null,null,"ค่ายางแอสฟัลท์ผสมทราย",null,null,{"$f":"IF(AA467=1,0,W506)*0.01*Y506/4*1000","v":3.75},"ลิตร @",{"$f":"H502","v":37.018000000000001},"=",{"$f":"F509*H509","v":138.8175},"บาท","[3]",null,null,null,null,null,null,null,"0.18 , 0.20",12,0.75,0.5,{"$f":"ROUNDDOWN((ROUNDDOWN(W506/V509,0))*W509*ROUND(61.65*(U509/100)^2,3),3)","v":5.7720000000000002}]
[null,null,"รวมค่าใช้จ่าย",null,null,null,null,null,"=",{"$f":"SUM(J507:J509)","v":425.54102000000006},"บาท/10 ม.","[4] = [1]+[2]+[3]",null,null,null,null,null,null,null,0.15,12,0.5,0.5,{"$f":"ROUNDDOWN((ROUNDDOWN(W506/V510,0))*W510*ROUND(61.65*(U510/100)^2,3),3)","v":8.8800000000000008}]
[null,null,"ค่าเจาะเสริมเสียบเหล็ก",null,null,null,null,null,null,20]
[null,null,"… ค่างานต้นทุน",null,null,null,null,null,"=",{"$f":"ROUNDDOWN(J510/W506,0)+J511","v":62},"บาท/ม."]
["","4.1.5","งาน PARA SLURRY SEAL",null,{"$f":"ข้อมูลโครงการ!M10","v":"( Type 3 )"},null,null,null,null,null,null,null,null,null,null,null,null,null,null,"Factor ค่าดำเนินการและค่าเสื่อมราคาตามสภาพภูมิอากาศ"]
["",null,"ระยะทางที่ปูผิวทาง ",null,null,null,null,null,"=",{"$f":"J311","v":0},"กม.",null,"",null,null,null,null,null,null,"ภูมิอากาศ","A","B","C"]
[null,null,"ค่าขนส่งวัสดุผสม 1/4 ของระยะทางดำเนินการ",null,null,{"$f":"F312","v":1},"กม.",null,"=",{"$f":"J312","v":4.4000000000000004},"บาท / ตัน",null,"",null,null,null,null,null,null,"ฝนปกติ",{"$f":"R312","v":15.59},2.57,11.65]
["",null,"ค่างานต้นทุน CHIP SEAL = ค่าดำเนินการและค่าเสื่อมราคา(ผิวทางแบบบาง)+ค่าหิน(1/2\")+ค่ายาง(CRS-2)+ค่าขนส่งวัสดุผสม",null,null,null,null,null,null,null,null,null,null,"",null,null,null,null,null,"ฝนชุก",16.14,2.67,12.17]
[null,null,"ค่าดำเนินการและค่าเสื่อมราคา (ผิวทางแบบบาง)",null,null,null,{"$f":"G314","v":"ปกติ"},null,"=",{"$f":"J314","v":15.59},"บาท/ตร.ม.","[1]","(จากตารางค่าดำเนินการฯ)"]
[null,null,"ค่าหิน(1/2\")   + ค่าขนส่ง",null,null,{"$f":"F315","v":62},"กม.",null,"=",{"$f":"J315","v":420},"บาท / ลบ.ม.","[2]","(จากตารางราคาวัสดุ+ขนส่ง (1))"]
[null,null,"ค่ายาง CRS-2   + ค่าขนส่ง",null,null,{"$f":"F316","v":631},"กม.",null,"=",{"$f":"J316","v":19762},"บาท / ตัน","[3]","(จากตารางราคาวัสดุ+ขนส่ง (1))"]
[null,null,"ค่าขนส่งวัสดุผสม",null,null,{"$f":"F317","v":1},"กม.",null,"=",{"$f":"J317","v":4.4000000000000004},"บาท / ตัน","[4]","(จากตารางค่าขนส่ง)"]
["",null,"รวม  = [1]+0.01286[2]+0.00123[3]+0.01222[4]",null,null,null,null,null,"=",{"$f":"J318","v":45.352227999999997},"บาท/ตร.ม.","[5]"]
["",null,"ค่างานต้นทุน FOG SPRAY = ค่าดำเนินการและค่าเสื่อมราคา(Fog Spray)+ค่ายาง(CSS-1h)"]
[null,null,"ค่าดำเนินการและค่าเสื่อมราคา(Fog Spray)",null,null,null,{"$f":"G517","v":"ปกติ"},null,"=",{"$f":"J320","v":2.57},"บาท/ตร.ม.","[6]","(จากตารางค่าดำเนินการฯ)"]
[null,null,"ค่ายาง(CSS-1h)   + ค่าขนส่ง",null,null,{"$f":"F519","v":631},"กม.",null,"=",{"$f":"J321","v":19978},"บาท / ตัน","[7]","(จากตารางราคาวัสดุ+ขนส่ง (1))"]
["",null,"รวม  = [6]+0.00031[7]",null,null,null,null,null,"=",{"$f":"J322","v":8.7631800000000002},"บาท/ตร.ม.","[8]"]
[null,null," = ค่าดำเนินการและค่าเสื่อมราคา(Slurry Seal)+ค่าหิน(ฝุ่น)+ค่ายาง(CSS-1h(EMA))+สารผสมเพิ่ม+ค่าปูนซีเมนต์+ค่าขนส่งวัสดุผสม",null,null,null,null,null,null,null,null,null,null,null,null,null,null,null,null,"( Type 1 )",3.7000000000000002E-3,0.94399999999999995,3.3000000000000002E-2,0.03]
[null,null,"ค่าดำเนินการและค่าเสื่อมราคา(Slurry Seal)",null,null,null,{"$f":"G320","v":"ปกติ"},null,"=",{"$f":"J324","v":11.65},"บาท/ตร.ม.","[9]","(จากตารางค่าดำเนินการฯ)",null,null,null,null,null,null,"( Type 2 )",6.7000000000000002E-3,1.39,4.9000000000000002E-2,5.3999999999999999E-2]
[null,null,"ค่าหิน(ฝุ่น) + ค่าขนส่ง",null,null,{"$f":"F325","v":62},"กม.",null,"=",{"$f":"J325","v":370},"บาท / ลบ.ม.","[10]","(จากตารางราคาวัสดุ+ขนส่ง (1))",null,null,null,null,null,null,"( Type 3 )",1.17E-2,2.0539999999999998,7.1999999999999995E-2,9.0999999999999998E-2]
[null,null,"ค่ายาง(CSS-1h(EMA)) + ค่าขนส่ง",null,null,{"$f":"G278","v":356},"กม.",null,"=",{"$f":"L278","v":518},"บาท / ตัน","[11]","(จากตารางราคาวัสดุ+ขนส่ง (1))",null,null,null,null,null,"USE",{"$f":"E513","v":"( Type 3 )"},{"$f":"VLOOKUP($T$529,$T$526:$X$528,2,FALSE)","v":1.17E-2},{"$f":"VLOOKUP($T$529,$T$526:$X$528,3,FALSE)","v":2.0539999999999998},{"$f":"VLOOKUP($T$529,$T$526:$X$528,4,FALSE)","v":7.1999999999999995E-2},{"$f":"VLOOKUP($T$529,$T$526:$X$528,5,FALSE)","v":9.0999999999999998E-2}]
[null,null,"ค่าสารผสมเพิ่ม",null,null,{"$f":"G279","v":356},"กม.",null,"=",{"$f":"L279","v":200518},"บาท / ตัน","[12]","(จากตารางราคาวัสดุ+ขนส่ง (1))",null,null,null,null,null,null,null,{"$f":"TEXT(U529,\"0.0000\")","v":"0.0117"},{"$f":"TEXT(V529,\"0.000\")","v":"2.054"},{"$f":"TEXT(W529,\"0.000\")","v":"0.072"},{"$f":"TEXT(X529,\"0.000\")","v":"0.091"}]
[null,null,"ค่าปูนซีเมนต์ + ค่าขนส่ง",null,null,{"$f":"F327","v":46},"กม.",null,"=",{"$f":"J327","v":2310.4299999999998},"บาท / ตัน","[13]","(จากตารางราคาวัสดุ+ขนส่ง (1))"]
[null,null,"ค่าขนส่งวัสดุผสม",null,null,{"$f":"F328","v":1},"กม.",null,"=",{"$f":"J328","v":4.4000000000000004},"บาท / ตัน","[14]","(จากตารางค่าขนส่ง)"]
[null,null,{"$f":"\" รวม = \"&\"[9] + (\"&U530&\"[10]+\"&V530&\"[11]+\"&W530&\"[12]+\"&X530&\"[13])\"","v":" รวม = [9] + (0.0117[10]+2.054[11]+0.072[12]+0.091[13])"},null,null,null,null,null,"=",{"$f":"ROUNDDOWN((J527+(U529*J528+V529*J529/1000+W529*J530/1000+X529*J531/1000)),1)","v":31.6},"บาท/ตร.ม.","[15]"]
[null,null,"รวมค่าใช้จ่าย  PARA CAPE SEAL",null,null,null,null,null,"=",{"$f":"J521+J525+J533","v":85.715407999999996},"บาท/ตร.ม.","[16] =[5]+[8]+[15]"]
[null,null,"…ค่างานต้นทุน PARA CAPE SEAL",null,null,null,null,null,"=",{"$f":"+ROUNDDOWN(J534,1)","v":85.7},"บาท/ตร.ม."]
["","4.1..","งานผิวจราจรลูกรัง",null,{"$f":"E153","v":"ขนด้วย รถบรรทุก 10 ล้อ"},null,null,null,null,{"$f":"J153","v":"จากแหล่งพื้นที่ใกล้เคียงสถานที่ก่อสร้าง"}]
["",null,"ค่าวัสดุที่แหล่ง",null,null,null,null,null,"=",140.19,"บาท/ลบ.ม.","[1]"]
["",null,"ค่าดำเนินการและค่าเสื่อมราคา (ขุด-ขน)",null,null,null,null,null,"=",30.86,"บาท/ลบ.ม.","[2]","(จากตารางค่าดำเนินการฯ)"]
["",null,"ค่าขนส่ง",{"$f":"D156","v":2},"กม.",null,null,null,"=",13.55,"บาท/ลบ.ม.","[3]","(จากตารางค่าขนส่ง)"]
["",null,"รวมค่าวัสดุที่หน้างาน",null,null,null,null,null,"=",184.60000000000002,"บาท/ลบ.ม.","[4] = [1] + [2] + [3]"]
["",null,"ส่วนการยุบตัว",null,null,null,null,null,"=",295.36000000000007,"บาท/ลบ.ม.","[5] = [4] x 1.60"]
["",null,"ค่าดำเนินการและค่าเสื่อมราคา (บดทับ)",null,null,null,null,null,"=",52.96,"บาท/ลบ.ม.","[6]","(จากตารางค่าดำเนินการฯ)"]
["",null,"รวมค่าใช้จ่าย",null,null,null,null,null,"=",348.32000000000005,"บาท/ลบ.ม.","[7] = [5] + [6]"]
["",null,"…ค่างานต้นทุน",null,null,null,null,null,"=",{"$f":"+ROUNDDOWN(J543,0)","v":348},"บาท/ลบ.ม."]
[null,4.2,"งานไหล่ทาง"]
["","4.2.1","(1) PRIME  COAT    สำหรับไหล่ทาง"]
["",null,"ใช้ราคาต่อหน่วยเดียวกับงานผิวทาง หัวข้อ 4.1.1(1)"]
[null,"4.2.1","(2)  TACK  COAT   สำหรับไหล่ทาง"]
[null,null,"ใช้ราคาต่อหน่วยเดียวกับงานผิวทาง หัวข้อ 4.1.1(2)"]
[null,"4.2.2","งานผิวไหล่ทาง  Cape  Seal"]
[null,null,"ใช้ราคาต่อหน่วยเดียวกับงานผิวทาง หัวข้อ 4.1.2"]
[null,"4.2.3","งานผิวไหล่ทาง  Asphaltic concrete  "]
[null,null,"ใช้ราคาต่อหน่วยเดียวกับงานผิวทาง หัวข้อ 4.1.3(1)"]
[null,"4.2.4","งานผิวไหล่ทางคอนกรีตเสริมเหล็ก"]
[null,"4.2.4","(1) งานผิวไหล่ทางคอนกรีตเสริมเหล็ก"]
[null,null,"ใช้ราคาต่อหน่วยเดียวกับงานผิวทาง หัวข้อ 4.1.4(1)"]
[null,"4.2.4","(2)  Expansion  Joint"]
[null,null,"ใช้ราคาต่อหน่วยเดียวกับงานผิวทาง หัวข้อ 4.1.4(2)"]
[null,"4.2.4","(3)  Contraction  Joint"]
[null,null,"ใช้ราคาต่อหน่วยเดียวกับงานผิวทาง หัวข้อ 4.1.4(3)"]
[null,"4.2.4","(4)  Longitudinal  Joint"]
[null,null,"ใช้ราคาต่อหน่วยเดียวกับงานผิวทาง หัวข้อ 4.1.4(4)"]
[null,"4.2.5","งานผิวไหล่ทางชนิด อื่น ๆ  ( ระบุชนิด )"]
[]
[5,"งานเบ็ดเตล็ด"]
[null,"5.1.1","งานท่อระบายน้ำ คสล. ชนิดกลม "]
[null,"5.1.1","(1) งานท่อลอดกลม คสล.ขนาด Ø 0.40 ม. x 1.00 ม.",null,null,null,"(ขนได้ 32 ท่อน / เที่ยว)"]
[null,null," - ค่าขุดดิน",null,null,{"$f":"ROUNDDOWN(($U$569+0.3*2)*($U$569+0.4)*1,2)","v":1.03},"ลบ.ม. @",{"$f":"ราคาวัสดุ!$L$109","v":99},"=",{"$f":"F568*H568","v":101.97},"บาท/ม.","[1]"," (จากบัญชีค่าแรงงานฯ)",null,null,null,null,null,null,"ขนาดท่อ","Ø ภายนอก"]
[null,null," - ค่าท่อ คสล. ",null,null,1,"ม. ",null,"=",{"$f":"ราคาวัสดุ!L73","v":385.61},"บาท/ม.","[2]",null,null,null,null,null,null,null,0.4,{"$f":"T569+0.06*2","v":0.52}]
[null,null," -  ค่าขนส่งท่อ",{"$f":"ข้อมูลขนส่ง!$C$41","v":70},null,{"$f":"\" = (\"&TEXT(ข้อมูลขนส่ง!$Z$41,\"0.00\")&\" x 13 + 300 ) / 32\"","v":" = (165.64 x 13 + 300 ) / 32"},null,null,"=",{"$f":"(ข้อมูลขนส่ง!$Z$41*13+300)/32","v":76.666249999999991},"บาท/ม.","[3]",null,null,null,null,null,null,null,0.6,{"$f":"T570+0.075*2","v":0.75}]
[null,null," - ทรายถมหลังท่อ",null,null,null,"ลบ.ม. @",{"$f":"$L$377","v":629},"=",{"$f":"F571*H571","v":0},"บาท/ม.","[4]",null,null,null,null,null,null,null,0.8,{"$f":"T571+0.095*2","v":0.99}]
[null,null," - ค่าวางและถมคืน",null,null,1,"ม. ",null,"=",90,"บาท/ม.","[5]",null,null,null,null,null,null,null,1,{"$f":"T572+0.11*2","v":1.22}]
[null,null,"รวมค่าใช้จ่าย",null,null,null,null,null,"=",{"$f":"SUM(J568:J572)","v":654.24625000000003},"บาท/ม.","[6] = [1]+[2]+[3]+[4]+[5]",null,null,null,null,null,null,null,1.2,{"$f":"T573+0.125*2","v":1.45}]
[null,null,"…ค่างานต้นทุน",null,null,null,null,null,"=",{"$f":"ROUNDDOWN(J573,-1)","v":650},"บาท/ม.","[7] = [6]",null,null,null,null,null,null,null,1.5,{"$f":"T574+0.15*2","v":1.8}]
[null,null," - ค่าคอนกรีตรองพื้นท่อ 0.05 ม.    (ดิน CBR>4)  =",null,null,{"$f":"0.05*(0.4+0.12+0.3*2)","v":5.6000000000000008E-2},"ลบ.ม. @",{"$f":"$G$401","v":1867},"=",{"$f":"F575*H575","v":104.55200000000002},"บาท/ม.","[8]"]
[null,null," - ค่าคอนกรีตรองพื้นท่อ 0.25D ม. (ดิน CBR<4)  =",null,null,{"$f":"0.25*0.4*(0.4+0.12+0.3*2)","v":0.11200000000000002},"ลบ.ม. @",{"$f":"$G$401","v":1867},"=",null,"บาท/ม.","[9]"]
[null,null," - ค่าคอนกรีตข้างท่อ 0.15D ม.                                  =",null,null,{"$f":"(0.15*0.4*(0.4/2+0.3*2))","v":4.8000000000000001E-2},"ลบ.ม. @",{"$f":"$G$401","v":1867},"=",null,"บาท/ม.","[10]"]
[null,null,"... ค่างานต้นทุนวางท่อ Ø  0.40 ม. ต่อ 1 ท่อน รวมคอนกรีตรองพื้นหนา 0.05 ม.",null,null,null,null,null,"=",{"$f":"ROUNDDOWN(J574+J575+J577,0)","v":754},"บาท/ม.","[11] = [7]+[8]+[10]"]
[null,null,"... ค่างานต้นทุนวางท่อ Ø  0.40 ม. ต่อ 1 ท่อน รวมคอนกรีตรองพื้นหนา 0.25 D",null,null,null,null,null,"=",{"$f":"ROUNDDOWN(J574+J576+J577,0)","v":650},"บาท/ม.","[12] = [7]+[9]+[10]"]
[null,"5.1.1","(2) งานท่อลอดกลม คสล.ขนาด Ø 0.60 ม. x 1.00 ม.",null,null,null,"(ขนได้ 24 ท่อน / เที่ยว)"]
[null,null," - ค่าขุดดิน",null,null,{"$f":"ROUNDDOWN(($U$570+0.3*2)*($U$570+0.4)*1,2)","v":1.55},"ลบ.ม. @",{"$f":"ราคาวัสดุ!$L$109","v":99},"=",{"$f":"F581*H581","v":153.45000000000002},"บาท/ม.","[1]"," (จากบัญชีค่าแรงงานฯ)"]
[null,null," - ค่าท่อ คสล. ",null,null,1,"ม. ",null,"=",{"$f":"ราคาวัสดุ!L74","v":531.03},"บาท/ม.","[2]"]
[null,null," -  ค่าขนส่งท่อ",{"$f":"ข้อมูลขนส่ง!$C$41","v":70},null,{"$f":"\" = (\"&TEXT(ข้อมูลขนส่ง!$Z$41,\"0.00\")&\" x 13 + 300 ) / 24\"","v":" = (165.64 x 13 + 300 ) / 24"},null,null,"=",{"$f":"(ข้อมูลขนส่ง!$Z$41*13+300)/24","v":102.22166666666665},"บาท/ม.","[3]"]
[null,null," - ทรายถมหลังท่อ",null,null,{"$f":"ROUND(F581-PI()/4*$U$570*$U$570-($U$570+0.3*2)*0.15*$T$570,2)","v":0.99},"ลบ.ม. @",{"$f":"$L$377","v":629},"=",{"$f":"F584*H584","v":622.71},"บาท/ม.","[4]"]
[null,null," - ค่าวางและถมคืน",null,null,null,null,null,"=",345,"บาท/ม.","[5]"]
[null,null,"รวมค่าใช้จ่าย",null,null,null,null,null,"=",{"$f":"SUM(J581:J585)","v":1754.4116666666669},"บาท/ม.","[6] = [1]+[2]+[3]+[4]+[5]"]
[null,null,"…ค่างานต้นทุน",null,null,null,null,null,"=",{"$f":"ROUNDDOWN(J586,-1)","v":1750},"บาท/ม.","[7] = [6]"]
[null,null," - ค่าคอนกรีตรองพื้นท่อ 0.05 ม.    (ดิน CBR>4)  =",null,null,{"$f":"0.05*(0.6+0.15+0.3*2)","v":6.7500000000000004E-2},"ลบ.ม. @",{"$f":"$G$401","v":1867},"=",{"$f":"F588*H588","v":126.02250000000001},"บาท/ม.","[8]"]
[null,null," - ค่าคอนกรีตรองพื้นท่อ 0.25D ม. (ดิน CBR<4)  =",null,null,{"$f":"0.25*0.6*(0.6+0.15+0.3*2)","v":0.20250000000000001},"ลบ.ม. @",{"$f":"$G$401","v":1867},"=",{"$f":"F589*H589","v":378.06750000000005},"บาท/ม.","[9]"]
[null,null," - ค่าคอนกรีตข้างท่อ 0.15D ม.                                  =",null,null,{"$f":"(0.15*0.6*(0.6/2+0.3*2))","v":8.0999999999999989E-2},"ลบ.ม. @",{"$f":"$G$401","v":1867},"=",{"$f":"F590*H590","v":151.22699999999998},"บาท/ม.","[10]"]
[null,null,"... ค่างานต้นทุนวางท่อ Ø  0.60 ม. ต่อ 1 ท่อน รวมคอนกรีตรองพื้นหนา 0.05 ม.",null,null,null,null,null,"=",{"$f":"ROUNDDOWN(J587+J588+J590,0)","v":2027},"บาท/ม.","[11] = [7]+[8]+[10]"]
[null,null,"... ค่างานต้นทุนวางท่อ Ø  0.60 ม. ต่อ 1 ท่อน รวมคอนกรีตรองพื้นหนา 0.25 D",null,null,null,null,null,"=",{"$f":"ROUNDDOWN(J587+J589+J590,0)","v":2279},"บาท/ม.","[12] = [7]+[9]+[10]"]
[null,"5.1.1","(3) งานท่อลอดกลม คสล.ขนาด Ø 0.80 ม. x 1.00 ม.",null,null,null,"(ขนได้ 18 ท่อน / เที่ยว)"]
[null,null," - ค่าขุดดิน",null,null,{"$f":"ROUNDDOWN(($U$571+0.3*2)*($U$571+0.4)*1,2)","v":2.21},"ลบ.ม. @",{"$f":"ราคาวัสดุ!$L$109","v":99},"=",{"$f":"F594*H594","v":218.79},"บาท/ม.","[1]"]
[null,null," - ค่าท่อ คสล. ",null,null,1,"ม. ",null,"=",{"$f":"ราคาวัสดุ!L75","v":889.02},"บาท/ม.","[2]"]
[null,null," -  ค่าขนส่งท่อ",{"$f":"ข้อมูลขนส่ง!$C$41","v":70},null,{"$f":"\" = (\"&TEXT(ข้อมูลขนส่ง!$Z$41,\"0.00\")&\" x 13 + 300 ) / 18\"","v":" = (165.64 x 13 + 300 ) / 18"},null,null,"=",{"$f":"(ข้อมูลขนส่ง!$Z$41*13+300)/18","v":136.29555555555555},"บาท/ม.","[3]"]
[null,null," - ทรายถมหลังท่อ",null,null,{"$f":"ROUND(F594-PI()/4*$U$571*$U$571-($U$571+0.3*2)*0.15*$T$571,2)","v":1.25},"ลบ.ม. @",{"$f":"$L$377","v":629},"=",{"$f":"F597*H597","v":786.25},"บาท/ม.","[4]"]
[null,null," - ค่าวางและถมคืน",null,null,null,null,null,"=",345,"บาท/ม.","[5]"]
[null,null,"รวมค่าใช้จ่าย",null,null,null,null,null,"=",{"$f":"SUM(J594:J598)","v":2375.3555555555554},"บาท/ม.","[6] = [1]+[2]+[3]+[4]+[5]"]
[null,null,"…ค่างานต้นทุน",null,null,null,null,null,"=",{"$f":"ROUNDDOWN(J599,-1)","v":2370},"บาท/ม.","[7] = [6]"]
[null,null," - ค่าคอนกรีตรองพื้นท่อ 0.05 ม.    (ดิน CBR>4)  =",null,null,{"$f":"0.05*(0.8+0.19+0.3*2)","v":7.9500000000000001E-2},"ลบ.ม. @",{"$f":"$G$401","v":1867},"=",{"$f":"F601*H601","v":148.4265},"บาท/ม.","[8]"]
[null,null," - ค่าคอนกรีตรองพื้นท่อ 0.25D ม. (ดิน CBR<4)  =",null,null,{"$f":"0.25*0.8*(0.8+0.19+0.3*2)","v":0.318},"ลบ.ม. @",{"$f":"$G$401","v":1867},"=",{"$f":"F602*H602","v":593.70600000000002},"บาท/ม.","[9]"]
[null,null," - ค่าคอนกรีตข้างท่อ 0.15D ม.                                  =",null,null,{"$f":"(0.15*0.8*(0.8/2+0.3*2))","v":0.12},"ลบ.ม. @",{"$f":"$G$401","v":1867},"=",{"$f":"F603*H603","v":224.04},"บาท/ม.","[10]"]
[null,null,"... ค่างานต้นทุนวางท่อ Ø  0.80 ม. ต่อ 1 ท่อน รวมคอนกรีตรองพื้นหนา 0.05 ม.",null,null,null,null,null,"=",{"$f":"ROUNDDOWN(J600+J601+J603,0)","v":2742},"บาท/ม.","[11] = [7]+[8]+[10]"]
[null,null,"... ค่างานต้นทุนวางท่อ Ø  0.80 ม. ต่อ 1 ท่อน รวมคอนกรีตรองพื้นหนา 0.25 D",null,null,null,null,null,"=",{"$f":"ROUNDDOWN(J600+J602+J603,0)","v":3187},"บาท/ม.","[12] = [7]+[9]+[10]"]
[null,"5.1.1","(4) งานท่อลอดกลม คสล. ขนาด Ø 1.00 ม. x 1.00 ม.",null,null,null,"(ขนได้ 10 ท่อน / เที่ยว)"]
[null,null," - ค่าขุดดิน",null,null,{"$f":"ROUNDDOWN(($U$572+0.3*2)*($U$572+0.4)*1,2)","v":2.94},"ลบ.ม. @",{"$f":"ราคาวัสดุ!$L$109","v":99},"=",{"$f":"F607*H607","v":291.06},"บาท/ม.","[1]"]
[null,null," - ค่าท่อ คสล. ",null,null,1,"ม. ",null,"=",{"$f":"ราคาวัสดุ!L76","v":1278.74},"บาท/ม.","[2]"]
[null,null," -  ค่าขนส่งท่อ",{"$f":"ข้อมูลขนส่ง!$C$41","v":70},null,{"$f":"\" = (\"&TEXT(ข้อมูลขนส่ง!$Z$41,\"0.00\")&\" x 13 + 300 ) / 10\"","v":" = (165.64 x 13 + 300 ) / 10"},null,null,"=",{"$f":"(ข้อมูลขนส่ง!$Z$41*13+300)/10","v":245.33199999999997},"บาท/ม.","[3]"]
[null,null," - ทรายถมหลังท่อ",null,null,{"$f":"ROUND(F607-PI()/4*$U$572*$U$572-($U$572+0.3*2)*0.15*$T$572,2)","v":1.5},"ลบ.ม. @",{"$f":"$L$377","v":629},"=",{"$f":"F610*H610","v":943.5},"บาท/ม.","[4]"]
[null,null," - ค่าวางและถมคืน",null,null,null,null,null,"=",345,"บาท/ม.","[5]"]
[null,null,"รวมค่าใช้จ่าย",null,null,null,null,null,"=",{"$f":"SUM(J607:J611)","v":3103.6319999999996},"บาท/ม.","[6] = [1]+[2]+[3]+[4]+[5]"]
[null,null,"…ค่างานต้นทุน",null,null,null,null,null,"=",{"$f":"ROUNDDOWN(J612,-1)","v":3100},"บาท/ม.","[7] = [6]"]
[null,null," - ค่าคอนกรีตรองพื้นท่อ 0.05 ม.    (ดิน CBR>4)  =",null,null,{"$f":"0.05*(1+0.22+0.3*2)","v":9.0999999999999998E-2},"ลบ.ม. @",{"$f":"$G$401","v":1867},"=",{"$f":"F614*H614","v":169.89699999999999},"บาท/ม.","[8]"]
[null,null," - ค่าคอนกรีตรองพื้นท่อ 0.25D ม. (ดิน CBR<4)  =",null,null,{"$f":"0.25*1*(1+0.22+0.3*2)","v":0.45499999999999996},"ลบ.ม. @",{"$f":"$G$401","v":1867},"=",{"$f":"F615*H615","v":849.4849999999999},"บาท/ม.","[9]"]
[null,null," - ค่าคอนกรีตข้างท่อ 0.15D ม.                                  =",null,null,{"$f":"(0.15*1*(1/2+0.3*2))","v":0.16500000000000001},"ลบ.ม. @",{"$f":"$G$401","v":1867},"=",{"$f":"F616*H616","v":308.05500000000001},"บาท/ม.","[10]"]
[null,null,"... ค่างานต้นทุนวางท่อ Ø  1.00 ม. ต่อ 1 ท่อน รวมคอนกรีตรองพื้นหนา 0.05 ม.",null,null,null,null,null,"=",{"$f":"ROUNDDOWN(J613+J614+J616,0)","v":3577},"บาท/ม.","[11] = [7]+[8]+[10]"]
[null,null,"... ค่างานต้นทุนวางท่อ Ø  1.00 ม. ต่อ 1 ท่อน รวมคอนกรีตรองพื้นหนา 0.25 D",null,null,null,null,null,"=",{"$f":"ROUNDDOWN(J613+J615+J616,0)","v":4257},"บาท/ม.","[12] = [7]+[9]+[10]"]
[null,"5.1.1","(5) งานท่อลอดกลม คสล. ขนาด Ø 1.20 ม. x 1.00 ม.",null,null,null,"(ขนได้ 8 ท่อน / เที่ยว)"]
[null,null," - ค่าขุดดิน",null,null,{"$f":"ROUNDDOWN(($U$573+0.3*2)*($U$573+0.4)*1,2)","v":3.79},"ลบ.ม. @",{"$f":"ราคาวัสดุ!$L$109","v":99},"=",{"$f":"F620*H620","v":375.21},"บาท/ม.","[1]"]
[null,null," - ค่าท่อ คสล. ",null,null,1,"ม. ",null,"=",{"$f":"ราคาวัสดุ!L77","v":1678.04},"บาท/ม.","[2]"]
[null,null," -  ค่าขนส่งท่อ",{"$f":"ข้อมูลขนส่ง!$C$41","v":70},null,{"$f":"\" = (\"&TEXT(ข้อมูลขนส่ง!$Z$41,\"0.00\")&\" x 13 + 300 ) / 8\"","v":" = (165.64 x 13 + 300 ) / 8"},null,null,"=",{"$f":"(ข้อมูลขนส่ง!$Z$41*13+300)/8","v":306.66499999999996},"บาท/ม.","[3]"]
[null,null," - ทรายถมหลังท่อ",null,null,{"$f":"ROUND(F620-PI()/4*$U$573*$U$573-($U$573+0.3*2)*0.15*$T$573,2)","v":1.77},"ลบ.ม. @",{"$f":"$L$377","v":629},"=",{"$f":"F623*H623","v":1113.33},"บาท/ม.","[4]"]
[null,null," - ค่าวางและถมคืน",null,null,null,null,null,"=",345,"บาท/ม.","[5]"]
[null,null,"รวมค่าใช้จ่าย",null,null,null,null,null,"=",{"$f":"SUM(J620:J624)","v":3818.2449999999999},"บาท/ม.","[6] = [1]+[2]+[3]+[4]+[5]"]
[null,null,"…ค่างานต้นทุน",null,null,null,null,null,"=",{"$f":"ROUNDDOWN(J625,-1)","v":3810},"บาท/ม.","[7] = [6]"]
[null,null," - ค่าคอนกรีตรองพื้นท่อ 0.05 ม.    (ดิน CBR>4)  =",null,null,{"$f":"0.05*(1.2+0.25+0.3*2)","v":0.10249999999999999},"ลบ.ม. @",{"$f":"$G$401","v":1867},"=",{"$f":"F627*H627","v":191.36749999999998},"บาท/ม.","[8]"]
[null,null," - ค่าคอนกรีตรองพื้นท่อ 0.25D ม. (ดิน CBR<4)  =",null,null,{"$f":"0.25*1.2*(1.2+0.25+0.3*2)","v":0.61499999999999988},"ลบ.ม. @",{"$f":"$G$401","v":1867},"=",{"$f":"F628*H628","v":1148.2049999999997},"บาท/ม.","[9]"]
[null,null," - ค่าคอนกรีตข้างท่อ 0.15D ม.                                  =",null,null,{"$f":"(0.15*1.2*(1.2/2+0.3*2))","v":0.216},"ลบ.ม. @",{"$f":"$G$401","v":1867},"=",{"$f":"F629*H629","v":403.27199999999999},"บาท/ม.","[10]"]
[null,null,"... ค่างานต้นทุนวางท่อ Ø  1.20 ม. ต่อ 1 ท่อน รวมคอนกรีตรองพื้นหนา 0.05 ม.",null,null,null,null,null,"=",{"$f":"ROUNDDOWN(J626+J627+J629,0)","v":4404},"บาท/ม.","[11] = [7]+[8]+[10]"]
[null,null,"... ค่างานต้นทุนวางท่อ Ø  1.20 ม. ต่อ 1 ท่อน รวมคอนกรีตรองพื้นหนา 0.25 D",null,null,null,null,null,"=",{"$f":"ROUNDDOWN(J626+J628+J629,0)","v":5361},"บาท/ม.","[12] = [7]+[9]+[10]"]
[null,null,"หมายเหตุ     "]
[null,null,null,"ค่าขนส่งท่อคิดจากการขนโดยรถบรรทุก  10  ล้อ  เที่ยวละ  13  ตัน"]
[null,null,null,"ค่าขนท่อขึ้น – ลง  คิดเที่ยวละ",null,null,"300.-  บาท"]
[null,null,null,"ค่าขนส่ง ……………  กม.",null,null," =  ………… x 13 + 300    = ………………",null,null,null,"บาท / เที่ยวค่าขนส่ง"]
[null,null,null,"เฉลี่ย ",null,null," =  …………  / …….….    = .………………",null,null,null,"บาท / ม."]
[null,null,null,"ตารางที่ 5"]
[null,null,null,"ขนาดท่อ","จำนวน / เที่ยว",null,"ปริมาตรท่อ\nรวมช่องว่างภายใน"]
[]
[null,null,null,"(ม.)","(ม.)",null,"(ลบ.ม.)"]
[null,null,null,"Ø 0.30",48,null,0.126]
[null,null,null,"Ø 0.40",32,null,0.21199999999999999]
[null,null,null,"Ø 0.50",24,null,0.32200000000000001]
[null,null,null,"Ø 0.60",24,null,0.442]
[null,null,null,"Ø 0.80",18,null,0.77]
[null,null,null,"Ø 1.00",10,null,1.169]
[null,null,null,"Ø 1.20",8,null,1.651]
[null,null,null,"Ø 1.50",5,null,2.5449999999999999]
[null,"5.1.2","งานกำแพง คสล. ปากท่อ"]
[null,"5.1.2","(1) สำหรับกำแพงปากท่อ ขนาด 1- Ø 0.60 ต่อ 1 ด้าน",null,null,{"$f":"\"(\"&BackUp!O267&\")\"","v":"(ทช-5-103/45)"}]
[null,null,"งานดินขุด",null,null,{"$f":"ตารางถอดแบบกำแพงปากท่อ!B6","v":0.20300000000000001}," ลบ.ม.  @",{"$f":"ราคาวัสดุ!L109","v":99},"=",{"$f":"F651*H651","v":20.097000000000001},"บาท","[1]"]
[null,null,"งานคอนกรีต ค2",null,null,{"$f":"ตารางถอดแบบกำแพงปากท่อ!C6","v":0.997}," ลบ.ม.  @",{"$f":"$I$401","v":2096},"=",{"$f":"F652*H652","v":2089.712},"บาท","[2]"]
[null,null,"งานไม้แบบ (1)",null,null,{"$f":"ตารางถอดแบบกำแพงปากท่อ!D6","v":3.4849999999999999},"ตร.ม.  @",{"$f":"J455","v":370},"=",{"$f":"F653*H653","v":1289.45},"บาท","[3]"]
[null,null,"งานเหล็กเสริมรวมค่าขนส่ง"]
[null,null,"    - RB9",null,null,{"$f":"1.1*ตารางถอดแบบกำแพงปากท่อ!E6","v":31.196000000000002},"กก. @",{"$f":"ROUNDDOWN(($K$418)/1000,2)","v":18.59},"=",{"$f":"F655*H655","v":579.93363999999997},"บาท","[4]","เผื่อ 10 %"]
[null,null,"    - RB12",null,null,{"$f":"1.1*ตารางถอดแบบกำแพงปากท่อ!F6","v":7.6230000000000002},"กก.@",{"$f":"ROUNDDOWN(($K$419)/1000,2)","v":19.829999999999998},"=",{"$f":"F656*H656","v":151.16408999999999},"บาท","[5]","เผื่อ 10 %"]
[null,null,"งานดัด และผูกเหล็ก",null,null,{"$f":"F656+F655","v":38.819000000000003},"กก.@",{"$f":"ROUNDDOWN(($H$437)/1000,2)","v":4.0999999999999996},"=",{"$f":"F657*H657","v":159.15789999999998},"บาท","[6]","(จากบัญชีค่าแรงงานฯ)"]
[null,null,"ลวดผูกเหล็ก",null,null,{"$f":"25*F657/1000","v":0.97047499999999998},"กก.@",{"$f":"ราคาวัสดุ!L46","v":57.95},"=",{"$f":"F658*H658","v":56.239026250000002},"บาท","[7]"]
[null,null,"ตะปู",null,null,{"$f":"0.25*F653","v":0.87124999999999997},"กก.@",{"$f":"ราคาวัสดุ!L69","v":40.369999999999997},"=",{"$f":"F659*H659","v":35.172362499999998},"บาท","[8]"]
[null,null,"รวมค่าใช้จ่าย",null,null,null,null,null,"=",{"$f":"SUM(J651:J659)","v":4380.9260187500013},"บาท","[9] = [1]+….+[8]"]
[null,null,"…ค่างานต้นทุน",null,null,null,null,null,"=",{"$f":"+ROUNDDOWN(J660,-1)","v":4380},"บาท/ด้าน"]
[null,"5.1.2","(2) สำหรับกำแพงปากท่อ ขนาด 2- Ø 0.60 ต่อ 1 ด้าน",null,null,{"$f":"F650","v":"(ทช-5-103/45)"}]
[null,null,"งานดินขุด",null,null,{"$f":"ตารางถอดแบบกำแพงปากท่อ!B7","v":0.312}," ลบ.ม.  @",{"$f":"H651","v":99},"=",{"$f":"F663*H663","v":30.888000000000002},"บาท","[1]"]
[null,null,"งานคอนกรีต ค2",null,null,{"$f":"ตารางถอดแบบกำแพงปากท่อ!C7","v":1.478}," ลบ.ม.  @",{"$f":"$I$401","v":2096},"=",{"$f":"F664*H664","v":3097.8879999999999},"บาท","[2]"]
[null,null,"งานไม้แบบ (1)",null,null,{"$f":"ตารางถอดแบบกำแพงปากท่อ!D7","v":4.7450000000000001},"ตร.ม.  @",{"$f":"H653","v":370},"=",{"$f":"F665*H665","v":1755.65},"บาท","[3]"]
[null,null,"งานเหล็กเสริมรวมค่าขนส่ง"]
[null,null,"    - RB9",null,null,{"$f":"1.1*ตารางถอดแบบกำแพงปากท่อ!E7","v":46.079000000000008},"กก. @",{"$f":"H655","v":18.59},"=",{"$f":"F667*H667","v":856.60861000000011},"บาท","[4]","เผื่อ 10 %"]
[null,null,"    - RB12",null,null,{"$f":"1.1*ตารางถอดแบบกำแพงปากท่อ!F7","v":11.726000000000001},"กก.@",{"$f":"H656","v":19.829999999999998},"=",{"$f":"F668*H668","v":232.52658},"บาท","[5]","เผื่อ 10 %"]
[null,null,"งานดัด และผูกเหล็ก",null,null,{"$f":"F668+F667","v":57.805000000000007},"กก.@",{"$f":"ROUNDDOWN(($H$437)/1000,2)","v":4.0999999999999996},"=",{"$f":"F669*H669","v":237.00050000000002},"บาท","[6]","(จากบัญชีค่าแรงงานฯ)"]
[null,null,"ลวดผูกเหล็ก",null,null,{"$f":"25*F669/1000","v":1.4451250000000002},"กก.@",{"$f":"H658","v":57.95},"=",{"$f":"F670*H670","v":83.74499375000002},"บาท","[7]"]
[null,null,"ตะปู",null,null,{"$f":"0.25*F665","v":1.18625},"กก.@",{"$f":"H659","v":40.369999999999997},"=",{"$f":"F671*H671","v":47.888912499999996},"บาท","[8]"]
[null,null,"รวมค่าใช้จ่าย",null,null,null,null,null,"=",{"$f":"SUM(J663:J671)","v":6342.1955962499987},"บาท","[9] = [1]+….+[8]"]
[null,null,"…ค่างานต้นทุน",null,null,null,null,null,"=",{"$f":"+ROUNDDOWN(J672,-1)","v":6340},"บาท/ด้าน"]
[null,"5.1.2","(3) สำหรับกำแพงปากท่อ ขนาด 3- Ø 0.60 ต่อ 1 ด้าน",null,null,{"$f":"F662","v":"(ทช-5-103/45)"}]
[null,null,"งานดินขุด",null,null,{"$f":"ตารางถอดแบบกำแพงปากท่อ!B8","v":0.42099999999999999}," ลบ.ม.  @",{"$f":"H663","v":99},"=",{"$f":"F675*H675","v":41.679000000000002},"บาท","[1]"]
[null,null,"งานคอนกรีต ค2",null,null,{"$f":"ตารางถอดแบบกำแพงปากท่อ!C8","v":1.9610000000000001}," ลบ.ม.  @",{"$f":"$I$401","v":2096},"=",{"$f":"F676*H676","v":4110.2560000000003},"บาท","[2]"]
[null,null,"งานไม้แบบ (1)",null,null,{"$f":"ตารางถอดแบบกำแพงปากท่อ!D8","v":6.0049999999999999},"ตร.ม.  @",{"$f":"H665","v":370},"=",{"$f":"F677*H677","v":2221.85},"บาท","[3]"]
[null,null,"งานเหล็กเสริมรวมค่าขนส่ง"]
[null,null,"    - RB9",null,null,{"$f":"1.1*ตารางถอดแบบกำแพงปากท่อ!E8","v":60.951000000000001},"กก. @",{"$f":"H667","v":18.59},"=",{"$f":"F679*H679","v":1133.07909},"บาท","[4]","เผื่อ 10 %"]
[null,null,"    - RB12",null,null,{"$f":"1.1*ตารางถอดแบบกำแพงปากท่อ!F8","v":15.829000000000002},"กก.@",{"$f":"H668","v":19.829999999999998},"=",{"$f":"F680*H680","v":313.88907},"บาท","[5]","เผื่อ 10 %"]
[null,null,"งานดัด และผูกเหล็ก",null,null,{"$f":"F680+F679","v":76.78},"กก.@",{"$f":"H669","v":4.0999999999999996},"=",{"$f":"F681*H681","v":314.798},"บาท","[6]","(จากบัญชีค่าแรงงานฯ)"]
[null,null,"ลวดผูกเหล็ก",null,null,{"$f":"25*F681/1000","v":1.9195},"กก.@",{"$f":"H670","v":57.95},"=",{"$f":"F682*H682","v":111.23502500000001},"บาท","[7]"]
[null,null,"ตะปู",null,null,{"$f":"0.25*F677","v":1.50125},"กก.@",{"$f":"H671","v":40.369999999999997},"=",{"$f":"F683*H683","v":60.605462499999994},"บาท","[8]"]
[null,null,"รวมค่าใช้จ่าย",null,null,null,null,null,"=",{"$f":"SUM(J675:J683)","v":8307.3916475000005},"บาท","[9] = [1]+….+[8]"]
[null,null,"…ค่างานต้นทุน",null,null,null,null,null,"=",{"$f":"+ROUNDDOWN(J684,-1)","v":8300},"บาท/ด้าน"]
[null,"5.1.2","(4) สำหรับกำแพงปากท่อ ขนาด 1- Ø 0.80 ต่อ 1 ด้าน",null,null,{"$f":"F674","v":"(ทช-5-103/45)"}]
[null,null,"งานดินขุด",null,null,{"$f":"ตารางถอดแบบกำแพงปากท่อ!B9","v":0.22800000000000001}," ลบ.ม.  @",{"$f":"H675","v":99},"=",{"$f":"F687*H687","v":22.571999999999999},"บาท","[1]"]
[null,null,"งานคอนกรีต ค2",null,null,{"$f":"ตารางถอดแบบกำแพงปากท่อ!C9","v":1.1890000000000001}," ลบ.ม.  @",{"$f":"$I$401","v":2096},"=",{"$f":"F688*H688","v":2492.1440000000002},"บาท","[2]"]
[null,null,"งานไม้แบบ (1)",null,null,{"$f":"ตารางถอดแบบกำแพงปากท่อ!D9","v":3.9049999999999998},"ตร.ม.  @",{"$f":"H677","v":370},"=",{"$f":"F689*H689","v":1444.85},"บาท","[3]"]
[null,null,"งานเหล็กเสริมรวมค่าขนส่ง"]
[null,null,"    - RB9",null,null,{"$f":"1.1*ตารางถอดแบบกำแพงปากท่อ!E9","v":38.412000000000006},"กก. @",{"$f":"H679","v":18.59},"=",{"$f":"F691*H691","v":714.07908000000009},"บาท","[4]","เผื่อ 10 %"]
[null,null,"    - RB12",null,null,{"$f":"1.1*ตารางถอดแบบกำแพงปากท่อ!F9","v":8.5580000000000016},"กก.@",{"$f":"H680","v":19.829999999999998},"=",{"$f":"F692*H692","v":169.70514000000003},"บาท","[5]","เผื่อ 10 %"]
[null,null,"งานดัด และผูกเหล็ก",null,null,{"$f":"F692+F691","v":46.970000000000006},"กก.@",{"$f":"H681","v":4.0999999999999996},"=",{"$f":"F693*H693","v":192.577},"บาท","[6]","(จากบัญชีค่าแรงงานฯ)"]
[null,null,"ลวดผูกเหล็ก",null,null,{"$f":"25*F693/1000","v":1.1742500000000002},"กก.@",{"$f":"H682","v":57.95},"=",{"$f":"F694*H694","v":68.047787500000013},"บาท","[7]"]
[null,null,"ตะปู",null,null,{"$f":"0.25*F689","v":0.97624999999999995},"กก.@",{"$f":"H683","v":40.369999999999997},"=",{"$f":"F695*H695","v":39.411212499999998},"บาท","[8]"]
[null,null,"รวมค่าใช้จ่าย",null,null,null,null,null,"=",{"$f":"SUM(J687:J695)","v":5143.3862200000003},"บาท","[9] = [1]+….+[8]"]
[null,null,"…ค่างานต้นทุน",null,null,null,null,null,"=",{"$f":"+ROUNDDOWN(J696,-1)","v":5140},"บาท/ด้าน"]
[null,"5.1.2","(5) สำหรับกำแพงปากท่อ ขนาด 2- Ø 0.80 ต่อ 1 ด้าน",null,null,{"$f":"F686","v":"(ทช-5-103/45)"}]
[null,null,"งานดินขุด",null,null,{"$f":"ตารางถอดแบบกำแพงปากท่อ!B10","v":0.372}," ลบ.ม.  @",{"$f":"H687","v":99},"=",{"$f":"F699*H699","v":36.828000000000003},"บาท","[1]"]
[null,null,"งานคอนกรีต ค2",null,null,{"$f":"ตารางถอดแบบกำแพงปากท่อ!C10","v":1.8680000000000001}," ลบ.ม.  @",{"$f":"$I$401","v":2096},"=",{"$f":"F700*H700","v":3915.3280000000004},"บาท","[2]"]
[null,null,"งานไม้แบบ (1)",null,null,{"$f":"ตารางถอดแบบกำแพงปากท่อ!D10","v":5.5730000000000004},"ตร.ม.  @",{"$f":"H689","v":370},"=",{"$f":"F701*H701","v":2062.0100000000002},"บาท","[3]"]
[null,null,"งานเหล็กเสริมรวมค่าขนส่ง"]
[null,null,"    - RB9",null,null,{"$f":"1.1*ตารางถอดแบบกำแพงปากท่อ!E10","v":59.411000000000001},"กก. @",{"$f":"H691","v":18.59},"=",{"$f":"F703*H703","v":1104.4504899999999},"บาท","[4]","เผื่อ 10 %"]
[null,null,"    - RB12",null,null,{"$f":"1.1*ตารางถอดแบบกำแพงปากท่อ!F10","v":13.992000000000003},"กก.@",{"$f":"H692","v":19.829999999999998},"=",{"$f":"F704*H704","v":277.46136000000001},"บาท","[5]","เผื่อ 10 %"]
[null,null,"งานดัด และผูกเหล็ก",null,null,{"$f":"F704+F703","v":73.403000000000006},"กก.@",{"$f":"H693","v":4.0999999999999996},"=",{"$f":"F705*H705","v":300.95229999999998},"บาท","[6]","(จากบัญชีค่าแรงงานฯ)"]
[null,null,"ลวดผูกเหล็ก",null,null,{"$f":"25*F705/1000","v":1.835075},"กก.@",{"$f":"H694","v":57.95},"=",{"$f":"F706*H706","v":106.34259625},"บาท","[7]"]
[null,null,"ตะปู",null,null,{"$f":"0.25*F701","v":1.3932500000000001},"กก.@",{"$f":"H695","v":40.369999999999997},"=",{"$f":"F707*H707","v":56.245502500000001},"บาท","[8]"]
[null,null,"รวมค่าใช้จ่าย",null,null,null,null,null,"=",{"$f":"SUM(J699:J707)","v":7859.6182487500009},"บาท","[9] = [1]+….+[8]"]
[null,null,"…ค่างานต้นทุน",null,null,null,null,null,"=",{"$f":"+ROUNDDOWN(J708,-1)","v":7850},"บาท/ด้าน"]
[null,"5.1.2","(6) สำหรับกำแพงปากท่อ ขนาด 3- Ø 0.80 ต่อ 1 ด้าน",null,null,{"$f":"F698","v":"(ทช-5-103/45)"}]
[null,null,"งานดินขุด",null,null,{"$f":"ตารางถอดแบบกำแพงปากท่อ!B11","v":0.51600000000000001}," ลบ.ม.  @",{"$f":"H699","v":99},"=",{"$f":"F711*H711","v":51.084000000000003},"บาท","[1]"]
[null,null,"งานคอนกรีต ค2",null,null,{"$f":"ตารางถอดแบบกำแพงปากท่อ!C11","v":2.5470000000000002}," ลบ.ม.  @",{"$f":"$I$401","v":2096},"=",{"$f":"F712*H712","v":5338.5120000000006},"บาท","[2]"]
[null,null,"งานไม้แบบ (1)",null,null,{"$f":"ตารางถอดแบบกำแพงปากท่อ!D11","v":7.2409999999999997},"ตร.ม.  @",{"$f":"H701","v":370},"=",{"$f":"F713*H713","v":2679.17},"บาท","[3]"]
[null,null,"งานเหล็กเสริมรวมค่าขนส่ง"]
[null,null,"    - RB9",null,null,{"$f":"1.1*ตารางถอดแบบกำแพงปากท่อ!E11","v":82.918000000000006},"กก. @",{"$f":"H703","v":18.59},"=",{"$f":"F715*H715","v":1541.4456200000002},"บาท","[4]","เผื่อ 10 %"]
[null,null,"    - RB12",null,null,{"$f":"1.1*ตารางถอดแบบกำแพงปากท่อ!F11","v":19.414999999999999},"กก.@",{"$f":"H704","v":19.829999999999998},"=",{"$f":"F716*H716","v":384.99944999999997},"บาท","[5]","เผื่อ 10 %"]
[null,null,"งานดัด และผูกเหล็ก",null,null,{"$f":"F716+F715","v":102.333},"กก.@",{"$f":"H705","v":4.0999999999999996},"=",{"$f":"F717*H717","v":419.56529999999998},"บาท","[6]","(จากบัญชีค่าแรงงานฯ)"]
[null,null,"ลวดผูกเหล็ก",null,null,{"$f":"25*F717/1000","v":2.558325},"กก.@",{"$f":"H706","v":57.95},"=",{"$f":"F718*H718","v":148.25493374999999},"บาท","[7]"]
[null,null,"ตะปู",null,null,{"$f":"0.25*F713","v":1.8102499999999999},"กก.@",{"$f":"H707","v":40.369999999999997},"=",{"$f":"F719*H719","v":73.079792499999996},"บาท","[8]"]
[null,null,"รวมค่าใช้จ่าย",null,null,null,null,null,"=",{"$f":"SUM(J711:J719)","v":10636.111096250001},"บาท","[9] = [1]+….+[8]"]
[null,null,"…ค่างานต้นทุน",null,null,null,null,null,"=",{"$f":"+ROUNDDOWN(J720,-1)","v":10630},"บาท/ด้าน"]
[null,"5.1.2","(7) สำหรับกำแพงปากท่อ ขนาด 1- Ø 1.00 ต่อ 1 ด้าน",null,null,{"$f":"F710","v":"(ทช-5-103/45)"}]
[null,null,"งานดินขุด",null,null,{"$f":"ตารางถอดแบบกำแพงปากท่อ!B12","v":0.252}," ลบ.ม.  @",{"$f":"H711","v":99},"=",{"$f":"F723*H723","v":24.948},"บาท","[1]"]
[null,null,"งานคอนกรีต ค2",null,null,{"$f":"ตารางถอดแบบกำแพงปากท่อ!C12","v":1.3819999999999999}," ลบ.ม.  @",{"$f":"$I$401","v":2096},"=",{"$f":"F724*H724","v":2896.6719999999996},"บาท","[2]"]
[null,null,"งานไม้แบบ (1)",null,null,{"$f":"ตารางถอดแบบกำแพงปากท่อ!D12","v":4.3099999999999996},"ตร.ม.  @",{"$f":"H713","v":370},"=",{"$f":"F725*H725","v":1594.6999999999998},"บาท","[3]"]
[null,null,"งานเหล็กเสริมรวมค่าขนส่ง"]
[null,null,"    - RB9",null,null,{"$f":"1.1*ตารางถอดแบบกำแพงปากท่อ!E12","v":44.825000000000003},"กก. @",{"$f":"H715","v":18.59},"=",{"$f":"F727*H727","v":833.29675000000009},"บาท","[4]","เผื่อ 10 %"]
[null,null,"    - RB12",null,null,{"$f":"1.1*ตารางถอดแบบกำแพงปากท่อ!F12","v":9.4600000000000009},"กก.@",{"$f":"H716","v":19.829999999999998},"=",{"$f":"F728*H728","v":187.59180000000001},"บาท","[5]","เผื่อ 10 %"]
[null,null,"งานดัด และผูกเหล็ก",null,null,{"$f":"F728+F727","v":54.285000000000004},"กก.@",{"$f":"H717","v":4.0999999999999996},"=",{"$f":"F729*H729","v":222.5685},"บาท","[6]","(จากบัญชีค่าแรงงานฯ)"]
[null,null,"ลวดผูกเหล็ก",null,null,{"$f":"25*F729/1000","v":1.3571249999999999},"กก.@",{"$f":"H718","v":57.95},"=",{"$f":"F730*H730","v":78.645393749999997},"บาท","[7]"]
[null,null,"ตะปู",null,null,{"$f":"0.25*F725","v":1.0774999999999999},"กก.@",{"$f":"H719","v":40.369999999999997},"=",{"$f":"F731*H731","v":43.498674999999992},"บาท","[8]"]
[null,null,"รวมค่าใช้จ่าย",null,null,null,null,null,"=",{"$f":"SUM(J723:J731)","v":5881.9211187500005},"บาท","[9] = [1]+….+[8]"]
[null,null,"…ค่างานต้นทุน",null,null,null,null,null,"=",{"$f":"+ROUNDDOWN(J732,-1)","v":5880},"บาท/ด้าน"]
[null,"5.1.2","(8) สำหรับกำแพงปากท่อ ขนาด 2- Ø 1.00 ต่อ  1 ด้าน",null,null,{"$f":"F722","v":"(ทช-5-103/45)"}]
[null,null,"งานดินขุด",null,null,{"$f":"ตารางถอดแบบกำแพงปากท่อ!B13","v":0.43}," ลบ.ม.  @",{"$f":"H723","v":99},"=",{"$f":"F735*H735","v":42.57},"บาท","[1]"]
[null,null,"งานคอนกรีต ค2",null,null,{"$f":"ตารางถอดแบบกำแพงปากท่อ!C13","v":2.2719999999999998}," ลบ.ม.  @",{"$f":"$I$401","v":2096},"=",{"$f":"F736*H736","v":4762.1119999999992},"บาท","[2]"]
[null,null,"งานไม้แบบ (1)",null,null,{"$f":"ตารางถอดแบบกำแพงปากท่อ!D13","v":6.3739999999999997},"ตร.ม.  @",{"$f":"H725","v":370},"=",{"$f":"F737*H737","v":2358.3799999999997},"บาท","[3]"]
[null,null,"งานเหล็กเสริมรวมค่าขนส่ง"]
[null,null,"    - RB9",null,null,{"$f":"1.1*ตารางถอดแบบกำแพงปากท่อ!E13","v":76.384},"กก. @",{"$f":"H727","v":18.59},"=",{"$f":"F739*H739","v":1419.97856},"บาท","[4]","เผื่อ 10 %"]
[null,null,"    - RB12",null,null,{"$f":"1.1*ตารางถอดแบบกำแพงปากท่อ!F13","v":16.181000000000001},"กก.@",{"$f":"H728","v":19.829999999999998},"=",{"$f":"F740*H740","v":320.86923000000002},"บาท","[5]","เผื่อ 10 %"]
[null,null,"งานดัด และผูกเหล็ก",null,null,{"$f":"F740+F739","v":92.564999999999998},"กก.@",{"$f":"H729","v":4.0999999999999996},"=",{"$f":"F741*H741","v":379.51649999999995},"บาท","[6]","(จากบัญชีค่าแรงงานฯ)"]
[null,null,"ลวดผูกเหล็ก",null,null,{"$f":"25*F741/1000","v":2.3141250000000002},"กก.@",{"$f":"H730","v":57.95},"=",{"$f":"F742*H742","v":134.10354375000003},"บาท","[7]"]
[null,null,"ตะปู",null,null,{"$f":"0.25*F737","v":1.5934999999999999},"กก.@",{"$f":"H731","v":40.369999999999997},"=",{"$f":"F743*H743","v":64.329594999999998},"บาท","[8]"]
[null,null,"รวมค่าใช้จ่าย",null,null,null,null,null,"=",{"$f":"SUM(J735:J743)","v":9481.8594287499964},"บาท","[9] = [1]+….+[8]"]
[null,null,"…ค่างานต้นทุน",null,null,null,null,null,"=",{"$f":"+ROUNDDOWN(J744,-1)","v":9480},"บาท/ด้าน"]
[null,"5.1.2","(9) สำหรับกำแพงปากท่อ ขนาด 3- Ø 1.00 ต่อ  1 ด้าน",null,null,{"$f":"F734","v":"(ทช-5-103/45)"}]
[null,null,"งานดินขุด",null,null,{"$f":"ตารางถอดแบบกำแพงปากท่อ!B14","v":0.60899999999999999}," ลบ.ม.  @",{"$f":"H735","v":99},"=",{"$f":"F747*H747","v":60.290999999999997},"บาท","[1]"]
[null,null,"งานคอนกรีต ค2",null,null,{"$f":"ตารางถอดแบบกำแพงปากท่อ!C14","v":3.1619999999999999}," ลบ.ม.  @",{"$f":"$I$401","v":2096},"=",{"$f":"F748*H748","v":6627.5519999999997},"บาท","[2]"]
[null,null,"งานไม้แบบ (1)",null,null,{"$f":"ตารางถอดแบบกำแพงปากท่อ!D14","v":8.4380000000000006},"ตร.ม.  @",{"$f":"H737","v":370},"=",{"$f":"F749*H749","v":3122.0600000000004},"บาท","[3]"]
[null,null,"งานเหล็กเสริมรวมค่าขนส่ง"]
[null,null,"    - RB9",null,null,{"$f":"1.1*ตารางถอดแบบกำแพงปากท่อ!E14","v":107.943},"กก.   @",{"$f":"H739","v":18.59},"=",{"$f":"F751*H751","v":2006.6603700000001},"บาท","[4]","เผื่อ 10 %"]
[null,null,"    - RB12",null,null,{"$f":"1.1*ตารางถอดแบบกำแพงปากท่อ!F14","v":22.902000000000001},"กก.   @",{"$f":"H740","v":19.829999999999998},"=",{"$f":"F752*H752","v":454.14666},"บาท","[5]","เผื่อ 10 %"]
[null,null,"งานดัด และผูกเหล็ก",null,null,{"$f":"F752+F751","v":130.845},"กก.   @",{"$f":"H741","v":4.0999999999999996},"=",{"$f":"F753*H753","v":536.46449999999993},"บาท","[6]","(จากบัญชีค่าแรงงานฯ)"]
[null,null,"ลวดผูกเหล็ก",null,null,{"$f":"25*F753/1000","v":3.2711250000000001},"กก.   @",{"$f":"H742","v":57.95},"=",{"$f":"F754*H754","v":189.56169375000002},"บาท","[7]"]
[null,null,"ตะปู",null,null,{"$f":"0.25*F749","v":2.1095000000000002},"กก.   @",{"$f":"H743","v":40.369999999999997},"=",{"$f":"F755*H755","v":85.160515000000004},"บาท","[8]"]
[null,null,"รวมค่าใช้จ่าย",null,null,null,null,null,"=",{"$f":"SUM(J747:J755)","v":13081.89673875},"บาท","[9] = [1]+….+[8]"]
[null,null,"…ค่างานต้นทุน",null,null,null,null,null,"=",{"$f":"+ROUNDDOWN(J756,-1)","v":13080},"บาท/ด้าน"]
[null,"5.1.2","(10) สำหรับกำแพงปากท่อ ขนาด 1- Ø 1.20 ต่อ  1 ด้าน",null,null,{"$f":"F746","v":"(ทช-5-103/45)"}]
[null,null,"งานดินขุด",null,null,{"$f":"ตารางถอดแบบกำแพงปากท่อ!B15","v":0.27500000000000002}," ลบ.ม.  @",{"$f":"H747","v":99},"=",{"$f":"F759*H759","v":27.225000000000001},"บาท","[1]"]
[null,null,"งานคอนกรีต ค2",null,null,{"$f":"ตารางถอดแบบกำแพงปากท่อ!C15","v":1.581}," ลบ.ม.  @",{"$f":"$I$401","v":2096},"=",{"$f":"F760*H760","v":3313.7759999999998},"บาท","[2]"]
[null,null,"งานไม้แบบ (1)",null,null,{"$f":"ตารางถอดแบบกำแพงปากท่อ!D15","v":4.7149999999999999},"ตร.ม.  @",{"$f":"H749","v":370},"=",{"$f":"F761*H761","v":1744.55},"บาท","[3]"]
[null,null,"งานเหล็กเสริมรวมค่าขนส่ง"]
[null,null,"    - RB9",null,null,{"$f":"1.1*ตารางถอดแบบกำแพงปากท่อ!E15","v":54.725000000000001},"กก.   @",{"$f":"H751","v":18.59},"=",{"$f":"F763*H763","v":1017.33775},"บาท","[4]","เผื่อ 10 %"]
[null,null,"    - RB12",null,null,{"$f":"1.1*ตารางถอดแบบกำแพงปากท่อ!F15","v":10.351000000000001},"กก.   @",{"$f":"H752","v":19.829999999999998},"=",{"$f":"F764*H764","v":205.26033000000001},"บาท","[5]","เผื่อ 10 %"]
[null,null,"งานดัด และผูกเหล็ก",null,null,{"$f":"F764+F763","v":65.076000000000008},"กก.   @",{"$f":"H753","v":4.0999999999999996},"=",{"$f":"F765*H765","v":266.8116},"บาท","[6]","(จากบัญชีค่าแรงงานฯ)"]
[null,null,"ลวดผูกเหล็ก",null,null,{"$f":"25*F765/1000","v":1.6269},"กก.   @",{"$f":"H754","v":57.95},"=",{"$f":"F766*H766","v":94.278855000000007},"บาท","[7]"]
[null,null,"ตะปู",null,null,{"$f":"0.25*F761","v":1.17875},"กก.   @",{"$f":"H755","v":40.369999999999997},"=",{"$f":"F767*H767","v":47.586137499999992},"บาท","[8]"]
[null,null,"รวมค่าใช้จ่าย",null,null,null,null,null,"=",{"$f":"SUM(J759:J767)","v":6716.8256724999992},"บาท","[9] = [1]+….+[8]"]
[null,null,"…ค่างานต้นทุน",null,null,null,null,null,"=",{"$f":"+ROUNDDOWN(J768,-1)","v":6710},"บาท/ด้าน"]
[null,"5.1.2","(11) สำหรับกำแพงปากท่อ ขนาด 2- Ø 1.20 ต่อ  1 ด้าน",null,null,{"$f":"F758","v":"(ทช-5-103/45)"}]
[null,null,"งานดินขุด",null,null,{"$f":"ตารางถอดแบบกำแพงปากท่อ!B16","v":0.48899999999999999}," ลบ.ม.  @",{"$f":"H759","v":99},"=",{"$f":"F771*H771","v":48.411000000000001},"บาท","[1]"]
[null,null,"งานคอนกรีต ค2",null,null,{"$f":"ตารางถอดแบบกำแพงปากท่อ!C16","v":3.1549999999999998}," ลบ.ม.  @",{"$f":"$I$401","v":2096},"=",{"$f":"F772*H772","v":6612.8799999999992},"บาท","[2]"]
[null,null,"งานไม้แบบ (1)",null,null,{"$f":"ตารางถอดแบบกำแพงปากท่อ!D16","v":7.1749999999999998},"ตร.ม.  @",{"$f":"H761","v":370},"=",{"$f":"F773*H773","v":2654.75},"บาท","[3]"]
[null,null,"งานเหล็กเสริมรวมค่าขนส่ง"]
[null,null,"    - RB9",null,null,{"$f":"1.1*ตารางถอดแบบกำแพงปากท่อ!E16","v":98.725000000000009},"กก.   @",{"$f":"H763","v":18.59},"=",{"$f":"F775*H775","v":1835.2977500000002},"บาท","[4]","เผื่อ 10 %"]
[null,null,"    - RB12",null,null,{"$f":"1.1*ตารางถอดแบบกำแพงปากท่อ!F16","v":18.359000000000002},"กก.   @",{"$f":"H764","v":19.829999999999998},"=",{"$f":"F776*H776","v":364.05896999999999},"บาท","[5]","เผื่อ 10 %"]
[null,null,"งานดัด และผูกเหล็ก",null,null,{"$f":"F776+F775","v":117.084},"กก.   @",{"$f":"H765","v":4.0999999999999996},"=",{"$f":"F777*H777","v":480.0444},"บาท","[6]","(จากบัญชีค่าแรงงานฯ)"]
[null,null,"ลวดผูกเหล็ก",null,null,{"$f":"25*F777/1000","v":2.9270999999999998},"กก.   @",{"$f":"H766","v":57.95},"=",{"$f":"F778*H778","v":169.62544499999998},"บาท","[7]"]
[null,null,"ตะปู",null,null,{"$f":"0.25*F773","v":1.79375},"กก.   @",{"$f":"H767","v":40.369999999999997},"=",{"$f":"F779*H779","v":72.413687499999995},"บาท","[8]"]
[null,null,"รวมค่าใช้จ่าย",null,null,null,null,null,"=",{"$f":"SUM(J771:J779)","v":12237.4812525},"บาท","[9] = [1]+….+[8]"]
[null,null,"…ค่างานต้นทุน",null,null,null,null,null,"=",{"$f":"+ROUNDDOWN(J780,-1)","v":12230},"บาท/ด้าน"]
[null,"5.1.2","(12) สำหรับกำแพงปากท่อ ขนาด 3- Ø 1.20 ต่อ  1 ด้าน",null,null,{"$f":"F770","v":"(ทช-5-103/45)"}]
[null,null,"งานดินขุด",null,null,{"$f":"ตารางถอดแบบกำแพงปากท่อ!B17","v":0.70199999999999996}," ลบ.ม.  @",{"$f":"H771","v":99},"=",{"$f":"F783*H783","v":69.49799999999999},"บาท","[1]"]
[null,null,"งานคอนกรีต ค2",null,null,{"$f":"ตารางถอดแบบกำแพงปากท่อ!C17","v":3.823}," ลบ.ม.  @",{"$f":"$I$401","v":2096},"=",{"$f":"F784*H784","v":8013.0079999999998},"บาท","[2]"]
[null,null,"งานไม้แบบ (1)",null,null,{"$f":"ตารางถอดแบบกำแพงปากท่อ!D17","v":9.6349999999999998},"ตร.ม.  @",{"$f":"H773","v":370},"=",{"$f":"F785*H785","v":3564.95},"บาท","[3]"]
[null,null,"งานเหล็กเสริมรวมค่าขนส่ง"]
[null,null,"    - RB9",null,null,{"$f":"1.1*ตารางถอดแบบกำแพงปากท่อ!E17","v":139.33700000000002},"กก.   @",{"$f":"H775","v":18.59},"=",{"$f":"F787*H787","v":2590.2748300000003},"บาท","[4]","เผื่อ 10 %"]
[null,null,"    - RB12",null,null,{"$f":"1.1*ตารางถอดแบบกำแพงปากท่อ!F17","v":26.378000000000004},"กก.   @",{"$f":"H776","v":19.829999999999998},"=",{"$f":"F788*H788","v":523.07574},"บาท","[5]","เผื่อ 10 %"]
[null,null,"งานดัด และผูกเหล็ก",null,null,{"$f":"F788+F787","v":165.71500000000003},"กก.   @",{"$f":"H777","v":4.0999999999999996},"=",{"$f":"F789*H789","v":679.43150000000003},"บาท","[6]","(จากบัญชีค่าแรงงานฯ)"]
[null,null,"ลวดผูกเหล็ก",null,null,{"$f":"25*F789/1000","v":4.142875000000001},"กก.   @",{"$f":"H778","v":57.95},"=",{"$f":"F790*H790","v":240.07960625000007},"บาท","[7]"]
[null,null,"ตะปู",null,null,{"$f":"0.25*F785","v":2.4087499999999999},"กก.   @",{"$f":"H779","v":40.369999999999997},"=",{"$f":"F791*H791","v":97.241237499999997},"บาท","[8]"]
[null,null,"รวมค่าใช้จ่าย",null,null,null,null,null,"=",{"$f":"SUM(J783:J791)","v":15777.558913749999},"บาท","[9] = [1]+….+[8]"]
[null,null,"…ค่างานต้นทุน",null,null,null,null,null,"=",{"$f":"+ROUNDDOWN(J792,-1)","v":15770},"บาท/ด้าน"]
[null,"5.1.3","รางระบายน้ำ คสล."]
[null,"5.1.3","(1) แบบตัวยูเปิด","(รน-303/56)"]
[null,null,"คิดจากความยาว",null,100,"ม."]
[null,null," -กรวดหยาบ 3/8\"-2\"",null,null,{"$f":"(0.3*0.6/2+0.3*0.3/2)*0.6*ROUNDDOWN(E796/3,0)","v":2.673},"ลบ.ม.@",{"$f":"ราคาต่อหน่วย!$L$378","v":495},"=",{"$f":"ROUND(F797*H797,2)","v":1323.14},"บาท","[1]"]
[null,null," - คอนกรีต ค 2",null,"ราง",{"$f":"ROUND((0.7+0.5+1.12)*0.07*E796,2)","v":16.239999999999998},"ลบ.ม.@",{"$f":"ราคาต่อหน่วย!$I$401","v":2096},"=",34039.040000000001,"บาท","[2]","ราง"]
[null,null," - คอนกรีต ค 2",null,"Ditch Check",{"$f":"ROUND((0.3*0.2+(0.3+0.2)/2*0.42)*1.25,2)","v":0.21},"ลบ.ม.@",{"$f":"ราคาต่อหน่วย!$I$401","v":2096},"=",{"$f":"ROUND(F799*H799,2)","v":440.16},"บาท","[3]","Ditch Check"]
[null,null," - เหล็ก","เหล็กกลม Ø 6 mm.","ราง",{"$f":"ROUND(((61.65*(6/10)^2/100*((0.7+0.5+1.12)*E796/0.2+E796*(0.7+0.5+1.12)/0.2)*1.1)),3)","v":566.39099999999996},"กก.@",{"$f":"ราคาต่อหน่วย!$L$417","v":20.77},"=",11763.94,"บาท","[4]","เผื่อ 10 %"]
[null,null,null,"เหล็กกลม Ø 6 mm.","Ditch Check",{"$f":"ROUND(61.65*(6/10)^2/100*(0.57*2+0.25+0.15)*1.25/0.2*1.1,3)","v":2.35},"กก.@",{"$f":"ราคาต่อหน่วย!$L$417","v":20.77},"=",{"$f":"ROUND(F801*H801,2)","v":48.81},"บาท","[5]","เผื่อ 10 %"]
[null,null,null,"เหล็กกลม Ø 16 mm.","Ditch Check",{"$f":"ROUND(61.65*(16/10)^2/100*1.25*5*1.1,3)","v":10.85},"กก.@",{"$f":"ราคาต่อหน่วย!$L$422","v":19.989999999999998},"=",{"$f":"ROUND(F802*H802,2)","v":216.89},"บาท","[6]","เผื่อ 10 %"]
[null,null," - ค่าแรงผูกเหล็ก",null,null,{"$f":"SUM(F800:F802)","v":579.59100000000001},"กก.@",{"$f":"ราคาต่อหน่วย!$K$437","v":4.0999999999999996},"=",2376.3200000000002,"บาท","[7]","(จากบัญชีค่าแรงงานฯ)"]
[null,null," - ลวดผูกเหล็ก",null,null,{"$f":"ROUND(F803*0.025,2)","v":14.49},"กก.@",{"$f":"ราคาวัสดุ!$L$46","v":57.95},"=",839.7,"บาท","[8]"]
[null,null," - ไม้แบบ (1)",null,null,{"$f":"FLOOR(0.62*1.25*2+(0.3*0.2+(0.3+0.2)/2*0.42)*2,0.05)","v":1.85},"ตร.ม.@",{"$f":"ราคาต่อหน่วย!$J$455","v":370},"=",684.5,"บาท","[9]"]
[null,null," - ท่อ PVC 1 \"",null,null,{"$f":"0.6*ROUNDDOWN(E796/3,0)","v":19.8},"ม.@",10,"=",{"$f":"ROUND(F806*H806,2)","v":198},"บาท","[10]"]
[null,null," - รวมค่าใช้จ่าย",null,null,null,null,null,"=",{"$f":"ROUNDDOWN(SUM(J797:J806),0)","v":51930},{"$f":"\"บาท/\"&E796&\" ม.\"","v":"บาท/100 ม."},"[11] = [1]+….+[10]"]
[null,null,"…ค่างานต้นทุน",null,null,null,null,null,"=",{"$f":"ROUNDDOWN(J807/E796,-1)","v":510},"บาท/ม."]
[]
[null,"5.1.3","(2 ) รางระบายน้ำตัวยู  พร้อมฝาปิด คสล.",null,{"$f":"\"ขนิด\"","v":"ขนิด"},{"$f":"ปร.4!G102","v":"ข-30"},"ความสูงเฉลี่ย (H)",null,"=",{"$f":"VLOOKUP($T$814,$T$820:$AQ$828,AQ816)","v":0.7},"เมตร","(รน-301/56)",null,null,null,null,null,null,null,null,null,null,null,null,null,null,null,null,null,null,null,null,null,null,null,null,null,null,null,null,null,null,"ไม้แบบ","นน.เหล็ก"]
[null,null,"คิดจากความยาว",null,10,"ม.",null,null,null,null,null,null,null,null,null,null,null,null,null,"ชนิด","W","T1","T2","คอนกรีต","ระยะห่างเหล็กเสริม(ม.)",null,null,null,null,null,null,null,null,null,null,null,null,null,null,"D",null,null,null,"(กก.)"]
[null,null,"  รางระบายน้ำ",null,null,null,null,null,null,null,null,null,null,null,null,null,null,null,null,null,"(ซม.)","(ซม.)","(ซม.)",null,"Temp(ราง)",null,null,"Temp(ฝา)",null,null,"A",null,null,"B",null,null,"C"]
[null,null," - ขุดดิน",null,null,{"$f":"ROUND(((U814+V814*2)+0.2)*(W814+J810+V814+0.15)*E811,2)","v":7.35},"ลบ.ม.@",{"$f":"ราคาต่อหน่วย!$J$78*1.25+ราคาต่อหน่วย!$J$81","v":33.887500000000003},"=",{"$f":"ROUND(F813*H813,2)","v":249.07},"บาท","[1]",null,null,null,null,null,null,null,null,null,null,null,null,null,null,null,null,null,null,null,null,null,null,null,null,null,"@",{"$f":"VLOOKUP($T$814,$T$820:$AP$828,AM816,FALSE)","v":0.15},{"$f":"VLOOKUP($T$814,$T$820:$AP$828,AN816,FALSE)","v":9},"@",{"$f":"VLOOKUP($T$814,$T$820:$AP$828,AP816,FALSE)","v":0.15},null,6,9,12]
[null,null," - ทรายหยาบ",null,null,{"$f":"ROUND(0.1*((V814*2+U814)+0.2)*E811,2)","v":0.7},"ลบ.ม.@",{"$f":"ราคาต่อหน่วย!$L$376","v":629},"=",440.3,"บาท","[2]",null,null,null,null,null,null,null,{"$f":"F810","v":"ข-30"},{"$f":"VLOOKUP($T$814,$T$820:$AP$828,U817,FALSE)","v":0.3},{"$f":"VLOOKUP($T$814,$T$820:$AP$828,V817,FALSE)","v":0.1},{"$f":"VLOOKUP($T$814,$T$820:$AP$828,W817,FALSE)","v":0.1},null,{"$f":"VLOOKUP($T$814,$T$820:$AP$828,Y817,FALSE)","v":6},"@",{"$f":"VLOOKUP($T$814,$T$820:$AP$828,AA817,FALSE)","v":0.2},{"$f":"VLOOKUP($T$814,$T$820:$AP$828,AB817,FALSE)","v":6},"@",{"$f":"VLOOKUP($T$814,$T$820:$AP$828,AD817,FALSE)","v":0.2},{"$f":"VLOOKUP($T$814,$T$820:$AP$828,AE817,FALSE)","v":9},"@",{"$f":"VLOOKUP($T$814,$T$820:$AP$828,AG817,FALSE)","v":0.15},{"$f":"VLOOKUP($T$814,$T$820:$AP$828,AH817,FALSE)","v":9},"@",{"$f":"VLOOKUP($T$814,$T$820:$AP$828,AJ817,FALSE)","v":0.15},{"$f":"VLOOKUP($T$814,$T$820:$AP$828,AK817,FALSE)","v":9},null,null,{"$f":"(V814*2+U814-0.05*2+(V814-0.025*2)*2)*ROUND(1/AP813,0)","v":3.5},null,null,{"$f":"(W814+J810+V814)*2+(J810*2)","v":3.1999999999999997},{"$f":"((61.65*(Y814/10)^2/100*Y815))","v":5.7704399999999998},{"$f":"(IF(AH814=AS813,(61.65*(AH814/10)^2/100*AH815),0)+IF(AE814=AS813,(61.65*(AE814/10)^2/100*AE815),0)+IF(AK814=AS813,(61.65*(AK814/10)^2/100*AK815),0)+IF(AN813=AS813,(61.65*(AN813/10)^2/100*AN814),0))","v":16.079553000000001},{"$f":"(IF(AH814=AT813,(61.65*(AH814/10)^2/100*AH815),0)+IF(AE814=AT813,(61.65*(AE814/10)^2/100*AE815),0)+IF(AK814=AT813,(61.65*(AK814/10)^2/100*AK815),0)+IF(AN813=AT813,(61.65*(AN813/10)^2/100*AN814),0))","v":0}]
[null,null," - คอนกรีตหยาบ",null,null,{"$f":"ROUND(0.05*((V814*2+U814)+0.2)*E811,2)","v":0.35},"ลบ.ม.@",{"$f":"ราคาต่อหน่วย!$G$401","v":1867},"=",653.45000000000005,"บาท","[3]",null,null,null,null,null,null,null,"รางน้ำ/เมตร",null,null,null,{"$f":"(0.05*W814*2)+(V814*J810*2)+(V814*(U814+V814*2+0.1))+0.05*0.05","v":0.21249999999999999},{"$f":"(1+1+ROUND(J810/AA814,0))*2*2+ROUND(((U814+0.05*2)/AA814),0*2)","v":26},null,null,null,null,null,{"$f":"((W814+J810+V814)*2+(V814*2+U814))*ROUND(1/AG814,0)","v":16.099999999999998},null,null,{"$f":"(J810+V814/2+0.05+0.1)*2*ROUND(1/AJ814,0)","v":12.6},null,null,null,null,null,null,null,null,{"$f":"((U814+0.1)*2+0.4*2)*W814","v":0.16000000000000003},{"$f":"((61.65*(AB814/10)^2/100*AB816))","v":0.56816639999999996},{"$f":"IF(AK814=AS813,((61.65*(AK814/10)^2/100*AK816)),0)","v":1.3482855},{"$f":"IF(AK814=AT813,((61.65*(AK814/10)^2/100*AK816)),0)","v":0}]
[null,null," - คอนกรีต ค 2",null,null,{"$f":"+X815*E811","v":2.125},"ลบ.ม.@",{"$f":"ราคาต่อหน่วย!$I$401","v":2096},"=",4454,"บาท","[4]",null,null,null,null,null,null,null,"ฝา/ฝา",null,null,null,{"$f":"W814*(U814+0.09)-IF(U814=0.3,((U814+0.09-0.05*2)+(U814+0.09-0.05*2-0.005*2))*0.03*W814*2)*0.4","v":3.7632000000000006E-2},null,null,null,{"$f":"((0.34+U814/2*2)*2*2+(0.34+W814-0.025*2)*(ROUND((U814+0.1)/AD814,0)-2))","v":2.56},null,null,null,null,null,null,null,null,{"$f":"(U814+0.05*2-0.025*2+(W814-0.025*2)*2)*3*2","v":2.7},19,20,21,22,23,24]
[null,null," - ไม้แบบ (1)",null,null,{"$f":"FLOOR(AQ814*E811,0.05)","v":32},"ตร.ม.@",{"$f":"ราคาต่อหน่วย!$J$455","v":370},"=",11840,"บาท","[5]",null,null,null,null,null,null,null,1,2,3,4,5,6,7,8,9,10,11,12,13,14,15,16,17,18]
[null,null," - เหล็ก","เหล็กกลม Ø 6 mm.",null,{"$f":"ROUND(AR814*E811*1.1,3)","v":63.475000000000001},"กก.@",{"$f":"ราคาต่อหน่วย!$L$417","v":20.77},"=",1318.38,"บาท","[6]","เผื่อ 10 %",null,null,null,null,null,null,"Detal",null,null,null,null,null,null,null,null,null,null,null,null,null,null,null,null,null,null,null,null,null,null,"ลึก"]
[null,null,null,"เหล็กกลม Ø 9 mm.",null,{"$f":"ROUND(AS814*E811*1.1,3)","v":176.875},"กก.@",{"$f":"ราคาต่อหน่วย!$L$418","v":18.59},"=",3288.11,"บาท","[7]","เผื่อ 10 %",null,null,null,null,null,null,"ชนิด","W","T1","T2","คอนกรีต","ระยะห่างเหล็กเสริม(ม.)",null,null,null,null,null,null,null,null,null,null,null,null,null,null,"D"]
[null,null,null,"เหล็กกลม DB 12 mm.",null,{"$f":"ROUND(AT814*E811*1.1,3)","v":0},"กก.@",{"$f":"IF(F820=0,0,ราคาต่อหน่วย!$L$421)","v":0},"=",0,"บาท","[8]","เผื่อ 10 %",null,null,null,null,null,null,null,"(ซม.)","(ซม.)","(ซม.)",null,"Temp(ราง)",null,null,"Temp(ฝา)",null,null,"A",null,null,"B",null,null,"C","@",0.15,9,"@",0.15,0.3]
[null,null," - ค่าแรงผูกเหล็ก",null,null,{"$f":"SUM(F818:F820)","v":240.35},"กก.@",{"$f":"ราคาต่อหน่วย!$K$437","v":4.0999999999999996},"=",985.44,"บาท","[9]","(จากบัญชีค่าแรงงานฯ)",null,null,null,null,null,null,"ก-30",0.3,0.1,0.1,null,6,"@",0.2,6,"@",0.2,9,"@",0.2,9,"@",0.2,9,"@",0.15,9,"@",0.15,0.5]
[null,null," - ลวดผูกเหล็ก",null,null,{"$f":"ROUND(F821*0.025,2)","v":6.01},"กก.@",{"$f":"ราคาวัสดุ!$L$46","v":57.95},"=",348.28,"บาท","[10]",null,null,null,null,null,null,null,"ข-30",0.3,0.1,0.1,null,6,"@",0.2,6,"@",0.2,9,"@",0.15,9,"@",0.15,9,"@",0.15,9,"@",0.15,0.7]
[null,null,null,"เหล็กฉาก  50x50x6 mm.  ",null,{"$f":"2*E811","v":20},"ม.@",{"$f":"ROUND(ราคาวัสดุ!L59/6,2)","v":81},"=",1620,"บาท","[11]",null,null,null,null,null,null,null,"ค-30",0.3,0.12,0.1,null,6,"@",0.2,6,"@",0.2,9,"@",0.1,9,"@",0.1,9,"@",0.15,9,"@",0.15,1]
[null,null,"รวมค่าใช้จ่าย",null,null,null,null,null,"=",{"$f":"ROUNDDOWN(SUM(J813:J823),0)","v":25197},{"$f":"\"บาท/\"&E811&\" ม.\"","v":"บาท/10 ม."},"[12] = [1]+….+[11]",null,null,null,null,null,null,null,"ง-30",0.3,0.15,0.1,null,6,"@",0.15,6,"@",0.2,12,"@",0.1,12,"@",0.1,9,"@",0.1,9,"@",0.1,0.3]
[null,null,"…ค่างานต้นทุน",null,null,null,null,null,null,{"$f":"ROUNDDOWN(J824/E811,-1)","v":2510},"บาท/ม.",null,null,null,null,null,null,null,null,"ก-50",0.5,0.1,0.15,null,6,"@",0.2,6,"@",0.15,9,"@",0.2,9,"@",0.2,9,"@",0.1,9,"@",0.1,0.5]
[null,null," - ฝารางระบายน้ำตัวยู",null,null,"(ขนาด 0.40x0.39 ม.)",null,null,null,null,null,null,null,null,null,null,null,null,null,"ข-50",0.5,0.1,0.15,null,6,"@",0.2,6,"@",0.15,9,"@",0.15,9,"@",0.15,9,"@",0.1,9,"@",0.1,0.7]
[null,null," - คอนกรีต ค 2",null,null,{"$f":"X816*E811/0.4","v":0.94080000000000008},"ลบ.ม.@",{"$f":"ราคาต่อหน่วย!$I$401","v":2096},"=",{"$f":"ROUND(F827*H827,2)","v":1971.92},"บาท","[13]",null,null,null,null,null,null,null,"ค-50",0.5,0.12,0.15,null,6,"@",0.2,6,"@",0.15,9,"@",0.1,9,"@",0.1,9,"@",0.1,9,"@",0.1,1]
[null,null," - ไม้แบบ (1)",null,null,{"$f":"FLOOR(AQ815*E811/0.4,0.05)","v":4},"ตร.ม.@",{"$f":"ราคาต่อหน่วย!$J$455","v":370},"=",{"$f":"ROUND(F828*H828,2)","v":1480},"บาท","[14]",null,null,null,null,null,null,null,"ง-50",0.5,0.15,0.15,null,6,"@",0.15,6,"@",0.15,12,"@",0.1,12,"@",0.1,9]
[null,null," - เหล็ก","เหล็กกลม Ø 6 mm.",null,{"$f":"ROUND(AR815*E811/0.4*1.1,3)","v":15.625},"กก.@",{"$f":"ราคาต่อหน่วย!$L$417","v":20.77},"=",324.52999999999997,"บาท","[15]","เผื่อ 10 %"]
[null,null,null,"เหล็กกลม Ø 9 mm.",null,{"$f":"ROUND(AS815*E811/0.4*1.1,3)","v":37.078000000000003},"กก.@",{"$f":"ราคาต่อหน่วย!$L$418","v":18.59},"=",689.28,"บาท","[16]","เผื่อ 10 %"]
[null,null,null,"เหล็กกลม Ø 12 mm.",null,{"$f":"ROUND(AT815*E811/0.4*1.1,3)","v":0},"กก.@",{"$f":"ราคาต่อหน่วย!$L$421","v":17.14},"=",0,"บาท","[17]","เผื่อ 10 %"]
[null,null," - ค่าแรงผูกเหล็ก",null,null,{"$f":"SUM(F829:F831)","v":52.703000000000003},"กก.@",{"$f":"ราคาต่อหน่วย!$K$437","v":4.0999999999999996},"=",216.08,"บาท","[18]","(จากบัญชีค่าแรงงานฯ)"]
[null,null," - ลวดผูกเหล็ก",null,null,{"$f":"ROUND(F832*0.025,2)","v":1.32},"กก.@",{"$f":"ราคาวัสดุ!$L$46","v":57.95},"=",76.489999999999995,"บาท","[19]"]
[null,null,null,"เหล็กฉาก  50x50x6 mm. ",null,{"$f":"0.8*E811/0.4","v":20},"ม.@",{"$f":"ROUND(ราคาวัสดุ!L59/6,2)","v":81},"=",1620,"บาท","[20]"]
[null,null,"รวมค่าใช้จ่าย",null,null,null,null,null,"=",{"$f":"SUM(J827:J834)","v":6378.2999999999993},{"$f":"\"บาท/\"&E811&\" ม.\"","v":"บาท/10 ม."},"[21]"]
[null,null," - รวมฝารางระบายน้ำตัวยู/เมตร ",null,null,null,null,null,"=",{"$f":"ROUNDDOWN(J835/E811,0)","v":637},"บาท","[22]"]
[null,null," - รวมค่าใช้จ่ายรางระบายน้ำ + ฝา",null,null,null,null,null,"=",{"$f":"J825+J836","v":3147},"บาท","[23] = [12]+[22]"]
[null,null,"…ค่างานต้นทุน",null,null,null,null,null,"=",{"$f":"ROUNDDOWN(J837,-1)","v":3140},"บาท"]
[null,"5.1.3","(3.1) รางระบายน้ำแบบรางตื้น",null,"(บร-402/56)"]
[null,null,"คิดจากความยาว",null,13.5,"ม."]
[null,null," - ทรายหยาบ",null,null,{"$f":"ROUND(0.05*(0.85+0.3)*E840,2)","v":0.78},"ลบ.ม.@",{"$f":"ราคาต่อหน่วย!$L$376","v":629},"=",{"$f":"ROUND(F841*H841,2)","v":490.62},"บาท","[1]"]
[null,null," - คอนกรีต ค 2",null,null,{"$f":"ROUND((0.85*0.25*E840)-(1/2*0.6*0.06*E840),2)","v":2.63},"ลบ.ม.@",{"$f":"ราคาต่อหน่วย!$I$401","v":2096},"=",5512.48,"บาท","[2]"]
[null,null," - เหล็ก","เหล็กกลม Ø 9 mm.",null,{"$f":"ROUND(((61.65*(9/10)^2/100*(5*E840+1.3*E840/0.2)*1.1)),3)","v":85.278999999999996},"กก.@",{"$f":"ราคาต่อหน่วย!$L$418","v":18.59},"=",1585.34,"บาท","[3]","เผื่อ 10 %"]
[null,null," - ค่าแรงผูกเหล็ก",null,null,{"$f":"SUM(F843:F843)","v":85.278999999999996},"กก.@",{"$f":"ราคาต่อหน่วย!$K$437","v":4.0999999999999996},"=",349.64,"บาท","[4]","(จากบัญชีค่าแรงงานฯ)"]
[null,null," - ลวดผูกเหล็ก",null,null,{"$f":"ROUND(F844*0.025,2)","v":2.13},"กก.@",{"$f":"ราคาวัสดุ!$L$46","v":57.95},"=",123.43,"บาท","[5]"]
[null,null," - ไม้แบบ (1)",null,null,{"$f":"FLOOR(0.25*2*E840,0.05)","v":6.75},"ตร.ม.@",{"$f":"ราคาต่อหน่วย!$J$455","v":370},"=",2497.5,"บาท","[6]"]
[null,null," - รวมค่าใช้จ่าย",null,null,null,null,null,"=",{"$f":"ROUNDDOWN(SUM(J841:J846),0)","v":10559},{"$f":"\"บาท/\"&E840&\" ม.\"","v":"บาท/13.5 ม."},"[7] = [1]+….+[6]"]
[null,null,"…ค่างานต้นทุน",null,null,null,null,null,"=",{"$f":"ROUNDDOWN(J847/E840,-1)","v":780},"บาท/ม."]
[null,"5.1.3","(3.2) รางระบายน้ำแบบรางตื้น",null,"(กำหนดเอง กว้าง 1.40 ม.)"]
[null,null,"คิดจากความยาว",null,13.5,"ม."]
[null,null," - ทรายหยาบ",null,null,{"$f":"ROUND(0.05*1.4*E850,2)","v":0.95},"ลบ.ม.@",{"$f":"ราคาต่อหน่วย!$L$376","v":629},"=",{"$f":"ROUND(F851*H851,2)","v":597.54999999999995},"บาท","[1]"]
[null,null," - คอนกรีต ค 2",null,null,{"$f":"ROUND((1.4*0.25*E850)-(1/2*0.85*0.05*E850),2)","v":4.4400000000000004},"ลบ.ม.@",{"$f":"ราคาต่อหน่วย!$I$401","v":2096},"=",9306.24,"บาท","[2]"]
[null,null," - เหล็ก","เหล็กกลม Ø 9 mm.",null,{"$f":"ROUND(((ROUNDDOWN(61.65*(9/10)^2/100,3)*(9*(E850-0.1)+(0.15*2+1.3+0.11*2)*(ROUNDDOWN((E850-0.1)/0.2,0)+1))*1.1)),2)","v":134.13},"กก. @",{"$f":"ราคาต่อหน่วย!$L$418","v":18.59},"=",2493.48,"บาท","[3]","เผื่อ 10 %"]
[null,null," - ค่าแรงผูกเหล็ก",null,null,{"$f":"SUM(F853:F853)","v":134.13},"กก. @",{"$f":"ราคาต่อหน่วย!$K$437","v":4.0999999999999996},"=",549.92999999999995,"บาท","[4]","(จากบัญชีค่าแรงงานฯ)"]
[null,null," - ลวดผูกเหล็ก",null,null,{"$f":"ROUND(F854*0.025,2)","v":3.35},"กก.@",{"$f":"ราคาวัสดุ!$L$46","v":57.95},"=",194.13,"บาท","[5]"]
[null,null," - ไม้แบบ (1)",null,null,{"$f":"ROUNDDOWN(2*0.25*E850,2)","v":6.75},"ตร.ม.@",{"$f":"ราคาต่อหน่วย!$J$455","v":370},"=",2497.5,"บาท","[6]"]
[null,null," - รวมค่าใช้จ่าย",null,null,null,null,null,"=",{"$f":"ROUNDDOWN(SUM(J851:J856),0)","v":15638},{"$f":"\"บาท/\"&E850&\" ม.\"","v":"บาท/13.5 ม."},"[7] = [1]+….+[6]"]
[null,null,"…ค่างานต้นทุน",null,null,null,null,null,"=",{"$f":"ROUNDDOWN(J857/E850,-1)","v":1150},"บาท/ม."]
[null,"5.1.3","(4) รางระบายน้ำคอนกรีตอัดแรง",null,"(กำหนดเอง ขนาด 0.58 x 0.60 ม.)"]
[null,null,"คิดจากความยาว",null,10,"ม."]
[null,null,"   รางระบายน้ำ"]
[null,null," - ขุดดิน",null,null,{"$f":"0.6*0.63*E860*1.1","v":4.1580000000000004},"ลบ.ม.@",{"$f":"ราคาต่อหน่วย!$J$78*1.25+ราคาต่อหน่วย!$J$81","v":33.887500000000003},"=",{"$f":"ROUND(F862*H862,2)","v":140.9},"บาท","[1]"]
[null,null," - คอนกรีตหยาบ",null,null,{"$f":"0.6*0.05*E860*1.05","v":0.315},"ลบ.ม.@",{"$f":"ราคาต่อหน่วย!$G$401","v":1867},"=",{"$f":"ROUND(F863*H863,2)","v":588.11},"บาท","[2]"]
[null,null," - คอนกรีต ค 4",null,null,{"$f":"ROUND((0.155*E860),2)","v":1.55},"ลบ.ม.@",{"$f":"ราคาต่อหน่วย!$K$401","v":2216},"=",{"$f":"ROUND(F864*H864,2)","v":3434.8},"บาท","[3]"]
[null,null," - เหล็ก","เหล็กกลม Ø 6 mm.",null,{"$f":"ROUND(((61.65*(6/10)^2/100*(2*(E860-0.025*2))*1.1/1000)),3)+ROUND(((61.65*(6/10)^2/100*((ROUNDDOWN(E860/0.225,0)+1)*(0.53*2+0.55+0.06*2))*1.1)),3)","v":19.010999999999999},"กก.@",{"$f":"ราคาต่อหน่วย!$L$417","v":20.77},"=",394.86,"บาท","[4]","เผื่อ 10 %"]
[null,null,null,"เหล็กกลม P.C.Wire Ø 5 mm.",null,{"$f":"5*2*E860*0.154","v":15.4},"กก.@",{"$f":"ราคาต่อหน่วย!$L$435","v":40.08},"=",{"$f":"ROUND(F866*H866,2)","v":617.23},"บาท","[5]"]
[null,null," - ค่าแรงผูกเหล็ก",null,null,{"$f":"SUM(F865)","v":19.010999999999999},"กก.@",{"$f":"ราคาต่อหน่วย!$K$437","v":4.0999999999999996},"=",77.95,"บาท","[6]","(จากบัญชีค่าแรงงานฯ)"]
[null,null," - ลวดผูกเหล็ก",null,null,{"$f":"ROUND(F867*0.025,2)","v":0.48},"กก.@",{"$f":"ราคาวัสดุ!$L$46","v":57.95},"=",27.82,"บาท","[7]"]
[null,null," - ค่าแรงลวดอัดแรง",null,null,{"$f":"SUM(F866)","v":15.4},"กก.@",{"$f":"ราคาต่อหน่วย!$K$439","v":15},"=",{"$f":"ROUND(F869*H869,2)","v":231},"บาท","[8]"]
[null,null," - ไม้แบบ (1)",null,null,{"$f":"FLOOR(3.04*E860,0.05)","v":30.400000000000002},"ตร.ม.@",{"$f":"ราคาต่อหน่วย!$J$455","v":370},"=",11248,"บาท","[9]"]
[null,null," - รวมค่าใช้จ่าย",null,null,null,null,null,"=",{"$f":"ROUNDDOWN(SUM(J862:J870),0)","v":16760},{"$f":"\"บาท/\"&E860&\" ม.\"","v":"บาท/10 ม."},"[10] = [1]+….+[9]"]
[null,null,"…ค่างานต้นทุน",null,null,null,null,null,"=",{"$f":"ROUNDDOWN(J871/E860,-1)","v":1670},"บาท/ม."]
[null,null,"    ฝารางระบายน้ำ"]
[null,null," - คอนกรีต ค 2",null,null,{"$f":"(0.1*0.46-(0.12*0.03/2))*E840","v":0.59670000000000001},"ลบ.ม.@",{"$f":"ราคาต่อหน่วย!$I$401","v":2096},"=",{"$f":"ROUND(F874*H874,2)","v":1250.68},"บาท","[13]"]
[null,null," - ไม้แบบ (1)",null,null,{"$f":"FLOOR((0.1*2+0.46)*E860,0.05)","v":6.6000000000000005},"ตร.ม.@",{"$f":"ราคาต่อหน่วย!$J$455","v":370},"=",{"$f":"ROUND(F875*H875,2)","v":2442},"บาท","[14]"]
[null,null," - เหล็ก","เหล็กกลม Ø 9 mm.",null,{"$f":"ROUND(((61.65*(9/10)^2/100*(0.24*4*2*E860/0.25)*1.1)),3)","v":42.186},"กก.@",{"$f":"ราคาต่อหน่วย!$L$418","v":18.59},"=",784.24,"บาท","[15]","เผื่อ 10 %"]
[null,null,null,"เหล็กกลม Ø 12 mm.",null,{"$f":"ROUND(((61.65*(12/10)^2/100*(0.45*2*3*E860/5)*1.1)),3)","v":5.2729999999999997},"กก.@",{"$f":"ราคาต่อหน่วย!$L$421","v":17.14},"=",{"$f":"ROUND(F877*H877,2)","v":90.38},"บาท","[16]","เผื่อ 10 %"]
[null,null," - ค่าแรงผูกเหล็ก",null,null,{"$f":"SUM(F876:F877)","v":47.459000000000003},"กก.@",{"$f":"ราคาต่อหน่วย!$K$437","v":4.0999999999999996},"=",194.58,"บาท","[17]","(จากบัญชีค่าแรงงานฯ)"]
[null,null," - ลวดผูกเหล็ก",null,null,{"$f":"ROUND(F878*0.025,2)","v":1.19},"กก.@",{"$f":"ราคาวัสดุ!$L$46","v":57.95},"=",68.959999999999994,"บาท","[18]"]
[null,null," - รวมค่าใช้จ่าย",null,null,null,null,null,"=",{"$f":"ROUNDDOWN(SUM(J874:J879),0)","v":4830},{"$f":"\"บาท/\"&E860&\" ม.\"","v":"บาท/10 ม."},"[19]"]
[null,null," - รวมฝารางระบายน้ำ/เมตร ",null,null,null,null,null,"=",{"$f":"ROUNDDOWN(J880/E860,0)","v":483},"บาท","[20]"]
[null,null," - รวมค่าใช้จ่ายรางระบายน้ำ + ฝา",null,null,null,null,null,"=",{"$f":"J872+J881","v":2153},"บาท","[21] = [12]+[20]"]
[null,null,"…ค่างานต้นทุน",null,null,null,null,null,"=",{"$f":"ROUNDDOWN(J882,-1)","v":2150},"บาท/ม."]
[null,"5.1.4","(1) บ่อพัก คสล.  พร้อม   ฝาตะแกรงเหล็ก",null,"ขนาด  1.10 x 1.10 ม.",null,"สูงเฉลี่ย",{"$f":"ROUND((0.25+0.15+0.3+W814+V814+J810),2)","v":1.6},{"$f":"\"ม. สำหรับรางระบายน้ำชนิด \"&F810&\" เข้า - ออก \"&U885&\" ด้าน\"","v":"ม. สำหรับรางระบายน้ำชนิด ข-30 เข้า - ออก 2 ด้าน"},null,null,null,"(รน-301/56)",null,null,null,null,{"$f":"\"รางระบายน้ำชนิด\"","v":"รางระบายน้ำชนิด"},null,null,null,null,"พื้นที่หัก","หักเหล็กตั้ง","หักเหล็กนอน"]
[null,null,"  บ่อพัก คสล.",null,null,null,null,null,{"$f":"IF(U886=0,\"\",\"     สำหรับ ท่อกลม คสล. Ø 0.60 ม. เข้า - ออก \"&U886&\" ด้าน\")","v":""},null,null,null,null,null,null,null,null,"ท่อระบายน้ำ คสล. Ø",{"$f":"F810","v":"ข-30"}," เข้า - ออก ",2,"ด้าน",{"$f":"U814*J810","v":0.21},{"$f":"IF(RIGHT(S885,2)=\"30\",1*J810,IF(RIGHT(S885,2)=\"50\",2*J810,0))*2","v":1.4},{"$f":"IF(LEFT(S885,1)=\"ก\",1*U814,IF(LEFT(S885,1)=\"ข\",2*U814,IF(LEFT(S885,1)=\"ค\",3*U814,0))*2)","v":1.2}]
[null,null," - ขุดดิน",null,null,{"$f":"ROUND((1.1+0.4)*(1.1+0.4)*(H884+0.25),2)","v":4.16},"ลบ.ม.@",{"$f":"ราคาต่อหน่วย!$J$78*1.25+ราคาต่อหน่วย!$J$81","v":33.887500000000003},"=",{"$f":"ROUND(F886*H886,2)","v":140.97},"บาท","[1]",null,null,null,null,null,null,0.6," เข้า - ออก ",null,"ด้าน",{"$f":"PI()/4*0.75*0.75","v":0.44178646691106466},{"$f":"(0.45*2+0.72*2)*2","v":4.68},{"$f":"(0.51+0.73+0.71+0.37)*2","v":4.6399999999999997}]
[null,null," - ทรายหยาบ",null,null,{"$f":"ROUND(0.15*(1.1+0.4)*(1.1+0.4),2)","v":0.34},"ลบ.ม.@",{"$f":"ราคาต่อหน่วย!$L$376","v":629},"=",213.86,"บาท","[2]"]
[null,null," - คอนกรีตหยาบ",null,null,{"$f":"ROUND(0.1*(1+0.4)*(1.1+0.4),2)","v":0.21},"ลบ.ม.@",{"$f":"ราคาต่อหน่วย!$G$401","v":1867},"=",392.07,"บาท","[3]"]
[null,null," - คอนกรีต ค 2",null,null,{"$f":"ROUND((0.2*1.1*1.1)+((1.1-0.15)*H884*0.15*4)+(0.1*0.1*(1.1-0.15)*4)-W885*0.15*U885-W886*0.15*U886,2)","v":1.1299999999999999},"ลบ.ม.@",{"$f":"ราคาต่อหน่วย!$I$401","v":2096},"=",2368.48,"บาท","[4]"]
[null,null," - เหล็ก","เหล็กกลม Ø 9 mm.",null,{"$f":"ROUND(((61.65*(9/10)^2/100*((H884-0.15-0.025*2+0.05*2)*6*2+(H884-0.15-0.1-0.025*2+0.05*2)*6*2+((H884-0.025*2)*2+(1.1-0.025*2)+0.05*2)*6+(H884-0.1-0.025-0.05+0.05+0.15)*6*2+(1.1-0.025*2+0.05*2)*6*3+((1.1-0.03*2)*4+0.05*2)*(ROUNDDOWN((1.1-0.15-0.025*2)/0.2,0)+1)+((0.8+0.03*2)*4+0.05*2)*(ROUNDDOWN((1.1-0.1-0.15-0.025*2)/0.2,0)+1)-(X885*U885+Y885*U885+X886*U886+Y886*U886)))*1.1),3)","v":73.771000000000001},"กก.@",{"$f":"ราคาต่อหน่วย!$L$417","v":20.77},"=",1532.22,"บาท","[5]","เผื่อ 10 %"]
[null,null," - ค่าแรงผูกเหล็ก",null,null,{"$f":"SUM(F890)","v":73.771000000000001},"กก.@",{"$f":"ราคาต่อหน่วย!$K$437","v":4.0999999999999996},"=",302.45999999999998,"บาท","[6]","(จากบัญชีค่าแรงงานฯ)"]
[null,null," - ลวดผูกเหล็ก",null,null,{"$f":"ROUND(F891*0.025,2)","v":1.84},"กก.@",{"$f":"ราคาวัสดุ!$L$46","v":57.95},"=",106.63,"บาท","[7]"]
[null,null,null,"เหล็กฉาก  50x50x6 mm.  ",null,3.5,"ม.@",{"$f":"ROUND(ราคาวัสดุ!L59/6,2)","v":81},"=",283.5,"บาท","[8]"]
[null,null," - ไม้แบบ (1)",null,null,{"$f":"FLOOR(10.62,0.05)","v":10.600000000000001},"ตร.ม.@",{"$f":"ราคาต่อหน่วย!$J$455","v":370},"=",3922,"บาท","[9]"]
[null,null,null,null,null,null,"ราคาต่อบ่อ",null,"=",{"$f":"ROUNDDOWN(SUM(J886:J894),0)","v":9262},"บาท","[10] = [1]+….+[9]"]
[null,null,"   ฝาตะแกรงเหล็ก"]
[null,null," - เหล็ก 0.10x0.010 ม.",null,null,{"$f":"0.79*7","v":5.53},"ม.@",{"$f":"ROUND(ราคาวัสดุ!L60/6,2)","v":184.14},"=",{"$f":"ROUND(F897*H897,2)","v":1018.29},"บาท","[11]"]
[null,null," - เหล็ก 0.050x0.005 ม.",null,null,{"$f":"0.8*22","v":17.600000000000001},"ม.@",{"$f":"ROUND(ราคาวัสดุ!L62/6,2)","v":45.2},"=",{"$f":"ROUND(F898*H898,2)","v":795.52},"บาท","[12]"]
[null,null," - รวมฝาตะแกรงเหล็ก",null,null,null,null,null,"=",{"$f":"SUM(J897:J898)","v":1813.81},"บาท","[13] = [11]+[12]"]
[null,null," - รวมค่าใช้จ่าย",null,null,null,null,null,"=",{"$f":"(J895+J899)","v":11075.81},"บาท","[14] = [10]+[13]"]
[null,null,"…ค่างานต้นทุน",null,null,null,null,null,"=",{"$f":"ROUNDDOWN(J900,-1)","v":11070},"บาท/บ่อ",null,{"$f":"IF(N898=\"\",\"\",\"(\"&N898&\")\")","v":""},{"$f":"IF(Q889=\"\",\"\",\"(\"&Q889&\")\")","v":""}]
[null,"5.1.4","(2) บ่อพัก คสล.  พร้อม   ฝาบ่อพัก คสล.",null,"ขนาด  0.90 x 1.10 ม.",null,"สูงเฉลี่ย",1,"ม. สำหรับ ท่อกลม คสล. Ø 0.40 ม. เข้า - ออก ทั้ง 2 ด้าน",null,null,null,"(บร-402/56)"]
[null,null,"  บ่อพัก คสล."]
[null,null," - ขุดดิน",null,null,{"$f":"ROUND((0.9+0.4)*(1.1+0.4)*1.1,2)","v":2.15},"ลบ.ม.@",{"$f":"[10]ราคาต่อหน่วย!$J$78*1.25+[10]ราคาต่อหน่วย!$J$81","v":34.15},"=",{"$f":"ROUND(F904*H904,2)","v":73.42},"บาท","[1]"]
[null,null," - ทรายหยาบ",null,null,{"$f":"ROUND(0.05*(0.9)*(1.1)*1,2)","v":0.05},"ลบ.ม.@",{"$f":"ราคาต่อหน่วย!$L$376","v":629},"=",31.45,"บาท","[2]"]
[null,null," - คอนกรีตหยาบ",null,null,{"$f":"ROUND(0.05*(0.9)*(1.1)*1,2)","v":0.05},"ลบ.ม.@",{"$f":"ราคาต่อหน่วย!$G$401","v":1867},"=",93.35,"บาท","[3]"]
[null,null," - คอนกรีต ค 2",null,null,{"$f":"ROUND((0.15*0.9*1)+(0.15*H902*0.85*4)+(0.08*0.15*0.85*4)-PI()/4*0.6*0.6*0.15*2,2)","v":0.6},"ลบ.ม.@",{"$f":"ราคาต่อหน่วย!$I$401","v":2096},"=",1257.5999999999999,"บาท","[4]"]
[null,null," - เหล็ก","เหล็กกลม Ø 9 mm.",null,{"$f":"ROUND(((61.65*(9/10)^2/100*((2.9*(ROUNDDOWN(1/0.2,0)+1)+(2.5*(ROUNDDOWN(1/0.2,0)+1))+(1.6*(ROUNDDOWN(0.9/0.2,0)+1))+(1.2*(ROUNDDOWN(0.9/0.2,0)+1))+(3.4*2*(ROUNDDOWN(H902/0.2,0)+1))-(PI()/4*0.6*0.6*2*(ROUNDDOWN(H902/0.2,0)+1)*4))*1.1))),3)","v":40.444000000000003},"กก.@",{"$f":"ราคาต่อหน่วย!$L$418","v":18.59},"=",751.85,"บาท","[5]","เผื่อ 10 %"]
[null,null," - ค่าแรงผูกเหล็ก",null,null,{"$f":"SUM(F908)","v":40.444000000000003},"กก.@",{"$f":"ราคาต่อหน่วย!$K$437","v":4.0999999999999996},"=",165.82,"บาท","[6]","(จากบัญชีค่าแรงงานฯ)"]
[null,null," - ลวดผูกเหล็ก",null,null,{"$f":"ROUND(F909*0.025,2)","v":1.01},"กก.@",{"$f":"ราคาวัสดุ!$L$46","v":57.95},"=",58.53,"บาท","[7]"]
[null,null,null,"เหล็กฉาก  50x50x6 mm.  ",null,{"$f":"ROUND((0.95*2+0.7*2),2)","v":3.3},"ม.@",{"$f":"ROUND(ราคาวัสดุ!L59/6,2)","v":81},"=",267.3,"บาท","[8]"]
[null,null," - ไม้แบบ (1)",null,null,{"$f":"FLOOR((1.15*3.9+0.9*2.9),0.05)","v":7.0500000000000007},"ตร.ม.@",{"$f":"ราคาต่อหน่วย!$J$455","v":370},"=",2608.5,"บาท","[9]"]
[null,null,null,null,null,null,"ราคาต่อบ่อ",null,"=",{"$f":"ROUNDDOWN(SUM(J904:J912),0)","v":5307},"บาท","[10] = [1]+….+[9]"]
[null,null,"   ฝาบ่อพัก คสล."]
[null,null," - คอนกรีต ค 2",null,null,{"$f":"ROUND((0.48*0.7*0.15*2)-(0.003*2),2)","v":0.09},"ลบ.ม.@",{"$f":"ราคาต่อหน่วย!$I$401","v":2096},"=",{"$f":"ROUND(F915*H915,2)","v":188.64},"บาท","[11]"]
[null,null," - เหล็ก","เหล็กกลม Ø 9 mm.",null,{"$f":"ROUND((8.68),3)","v":8.68},"กก.@",{"$f":"ราคาต่อหน่วย!$L$418","v":18.59},"=",161.36000000000001,"บาท","[12]","เผื่อ 10 %"]
[null,null," - ค่าแรงผูกเหล็ก",null,null,{"$f":"SUM(F916:F916)","v":8.68},"กก.@",{"$f":"ราคาต่อหน่วย!$K$437","v":4.0999999999999996},"=",35.590000000000003,"บาท","[13]"]
[null,null," - ลวดผูกเหล็ก",null,null,{"$f":"ROUND(F917*0.025,2)","v":0.22},"กก.@",{"$f":"ราคาวัสดุ!$L$46","v":57.95},"=",12.75,"บาท","[14]","(จากบัญชีค่าแรงงานฯ)"]
[null,null,null,"เหล็กฉาก  50x50x6 mm.  ",null,{"$f":"ROUND((0.48*2+0.7*2),2)","v":2.36},"ม.@",{"$f":"ROUND(ราคาวัสดุ!L59/6,2)","v":81},"=",191.16,"บาท","[15]"]
[null,null," - ไม้แบบ (1)",null,null,{"$f":"FLOOR(0.15*(0.48*2+0.7*2),0.05)","v":0.35000000000000003},"ตร.ม.@",{"$f":"ราคาต่อหน่วย!$J$455","v":370},"=",129.5,"บาท","[16]"]
[null,null,null,null,null,null,"ราคาต่อบ่อ",null,"=",{"$f":"ROUNDDOWN(SUM(J915:J920),0)","v":719},"บาท","[17] = [11]+….+[16]"]
[null,null," - รวมค่าใช้จ่าย",null,null,null,null,null,"=",{"$f":"(J913+J921)","v":6026},"บาท","[18] = [10]+[17]"]
[null,null,"…ค่างานต้นทุน",null,null,null,null,null,"=",{"$f":"ROUNDDOWN(J922,-1)","v":6020},"บาท/บ่อ",null,{"$f":"IF(N921=\"\",\"\",\"(\"&N921&\")\")","v":""},{"$f":"IF(Q912=\"\",\"\",\"(\"&Q912&\")\")","v":""}]
[null,"5.1.4","(2) บ่อพัก คสล.  พร้อม   ฝาบ่อพัก คสล.",null,"ขนาด  1.20 x 1.40 ม.",null,"สูงเฉลี่ย",1.95,"ม. สำหรับ ท่อกลม คสล. Ø 0.80 ม. เข้า - ออก ทั้ง 2 ด้าน",null,null,null,"(กำหนดเอง)"]
[null,null,"    บ่อพัก คสล"]
[null,null," - ขุดดิน",null,null,{"$f":"ROUNDDOWN((1.2*1.6)*(H924+0.15),3)","v":4.032},"ลบ.ม.@",{"$f":"ราคาต่อหน่วย!$J$78*1.25+ราคาต่อหน่วย!$J$81","v":33.887500000000003},"=",{"$f":"ROUND(F926*H926,2)","v":136.63},"บาท","[1]"]
[null,null," - ทรายหยาบ",null,null,{"$f":"ROUNDDOWN(1.2*1.4*0.1,3)","v":0.16800000000000001},"ลบ.ม.@",{"$f":"ราคาต่อหน่วย!$L$376","v":629},"=",105.67,"บาท","[2]"]
[null,null," - คอนกรีตหยาบ",null,null,{"$f":"ROUNDDOWN(1.2*1.4*0.05,3)","v":8.4000000000000005E-2},"ลบ.ม.@",{"$f":"ราคาต่อหน่วย!$G$401","v":1867},"=",156.83000000000001,"บาท","[3]"]
[null,null," - คอนกรีต ค 2",null,null,{"$f":"ROUNDDOWN((1.2*1.4*0.2)+(H924-0.2)*(1.4*2+0.95*2)*0.125-0.25*0.05*(1.25*2+0.95*2),3)","v":1.3089999999999999},"ลบ.ม.@",{"$f":"ราคาต่อหน่วย!$I$401","v":2096},"=",2743.66,"บาท","[4]"]
[null,null," - เหล็ก","เหล็กกลม Ø 9 mm.",null,{"$f":"ROUND((ROUNDDOWN(61.65*(9/10)^2/100,3)*1.1*((H924-0.25-0.2+0.11)*2+1.2)*6+((H924-0.05+0.11)*2+1.35)*7+(0.99*2+0.2*2*2+0.04*2*2)*2+((H924-0.25-0.99-0.2+0.11)*2+1)*7+(0.99*2*2+0.1*2*2+0.01*2*2)*2+((H924-0.99-0.05+0.11)*2+1.15)*8),3)","v":108.027},"กก.@",{"$f":"ราคาต่อหน่วย!$L$417","v":20.77},"=",2243.7199999999998,"บาท","[5]","เผื่อ 10 %"]
[null,null," - ค่าแรงผูกเหล็ก",null,null,{"$f":"SUM(F930)","v":108.027},"กก.@",{"$f":"ราคาต่อหน่วย!$K$437","v":4.0999999999999996},"=",442.91,"บาท","[6]","(จากบัญชีค่าแรงงานฯ)"]
[null,null," - ลวดผูกเหล็ก",null,null,{"$f":"ROUND(F931*0.025,2)","v":2.7},"กก.@",{"$f":"ราคาวัสดุ!$L$46","v":57.95},"=",156.47,"บาท","[7]"]
[null,null,null,"เหล็กฉาก  50x50x4 mm.  ",null,{"$f":"ROUND((1.25*2+1.05*2),2)","v":4.5999999999999996},"ม.@",{"$f":"ROUND(ราคาวัสดุ!AA81/6,2)","v":3.07},"=",14.12,"บาท","[8]"]
[null,null," - ไม้แบบ (1)",null,null,{"$f":"ROUNDDOWN(H924*1.2*2+H924*1.4*2+(H924-0.25-0.2)*1.15*2+(H924-0.25*0.2)*0.95*2+PI()*0.99*0.125*2-PI()/4*0.99*0.99*2*2,3)","v":14.898},"ตร.ม.@",{"$f":"ราคาต่อหน่วย!$J$455","v":370},"=",5512.26,"บาท","[9]"]
[null,null,null,null,null,null,"ราคาต่อบ่อ",null,"=",{"$f":"ROUNDDOWN(SUM(J926:J934),0)","v":11512},"บาท","[10] = [1]+….+[9]"]
[null,null,"   ฝาบ่อพัก คสล."]
[null,null," - คอนกรีต ค 2",null,null,{"$f":"ROUND((0.25*1.24*0.52-0.84*0.05*0.52-2*PI()/4*0.075*0.075*0.2)*2,3)","v":0.27500000000000002},"ลบ.ม.@",{"$f":"ราคาต่อหน่วย!$I$401","v":2096},"=",{"$f":"ROUND(F937*H937,2)","v":576.4},"บาท","[11]"]
[null,null," - เหล็ก","เหล็กกลม Ø 9 mm.",null,{"$f":"ROUND((ROUND(61.65*(6/10)^2/100,3)*1.1*(8+8)*0.42*2+4*(0.15*2+1.14+0.15*2+0.47*2)*2),3)","v":24.722000000000001},"กก.@",{"$f":"ราคาต่อหน่วย!$L$417","v":20.77},"=",513.48,"บาท","[12]","เผื่อ 10 %"]
[null,null," - ค่าแรงผูกเหล็ก",null,null,{"$f":"SUM(F938:F938)","v":24.722000000000001},"กก.@",{"$f":"ราคาต่อหน่วย!$K$437","v":4.0999999999999996},"=",101.36,"บาท","[13]"]
[null,null," - ลวดผูกเหล็ก",null,null,{"$f":"ROUND(F939*0.025,2)","v":0.62},"กก.@",{"$f":"ราคาวัสดุ!$L$46","v":57.95},"=",35.93,"บาท","[14]","(จากบัญชีค่าแรงงานฯ)"]
[null,null,null,"เหล็กฉาก  50x50x4 mm.  ",null,{"$f":"ROUND((0.52*2+1.24*2),2)","v":3.52},"ม.@",{"$f":"ROUND(ราคาวัสดุ!AA81/6,2)","v":3.07},"=",10.81,"บาท","[15]"]
[null,null," - ไม้แบบ (1)",null,null,{"$f":"ROUND(((0.25*1.24-1/2*0.84*0.05)*2+0.25*0.52*2)*2,3)","v":1.6759999999999999},"ตร.ม.@",{"$f":"ราคาต่อหน่วย!$J$455","v":370},"=",{"$f":"ROUND(F942*H942,2)","v":620.12},"บาท","[16]"]
[null,null," - ท่อ PVC Ø 3\"",null,null,{"$f":"0.2*2*2","v":0.8},"ม.@",{"$f":"95/4","v":23.75},"=",{"$f":"ROUND(F943*H943,2)","v":19},"บาท","[17]"]
[null,null,null,null,null,null,"ราคาฝาต่อบ่อ",null,"=",{"$f":"ROUNDDOWN(SUM(J937:J942),0)","v":1858},"บาท","[18] = [11]+….+[17]"]
[null,null," - รวมค่าใช้จ่าย",null,null,null,null,null,"=",{"$f":"(J935+J944)","v":13370},"บาท","[19] = [10]+[18]"]
[null,null,"…ค่างานต้นทุน",null,null,null,null,null,"=",{"$f":"ROUNDDOWN(J945,-1)","v":13370},"บาท/บ่อ",null,{"$f":"IF(N944=\"\",\"\",\"(\"&N944&\")\")","v":""},{"$f":"IF(Q934=\"\",\"\",\"(\"&Q934&\")\")","v":""}]
[]
[null,"5.1.5","โครงสร้างระบายน้ำ  อื่น ๆ  ( ระบุชนิด )"]
[]
[null,5.2,"งานปลูกหญ้า"]
[null,"5.2.1","งานปลูกหญ้า แบบปักแถว"]
[null,null," - ค่าหญ้า",null,null,null,null,null,"=",5,"บาท/ตร.ม.","[1]"]
[null,null," - ค่าขุด - ขน Top Soil พร้อมปรับเกลี่ย",null,null,null,null,null,"=",10,"บาท/ตร.ม.","[2]"]
[null,null," - ค่าแรงปลูก  +  ค่าขนส่ง (ค่าแรง)",null,null,null,null,null,"=",7,"บาท/ตร.ม.","[3]"]
[null,null,"รวมค่าใช้จ่าย",null,null,null,null,null,"=",{"$f":"SUM(J952:J954)","v":22},"บาท/ตร.ม.","[4] = [1]+[2]+[3]"]
[null,null,"…ค่างานต้นทุน",null,null,null,null,null,"=",{"$f":"ROUNDDOWN(J955,0)","v":22},"บาท/ตร.ม."]
[null,"5.2.2","งานปลูกหญ้า แบบปูแผ่น"]
[null,null," - ค่าหญ้า",null,null,null,null,null,"=",20,"บาท/ตร.ม.","[1]"]
[null,null," - ค่าขุด - ขน Top Soil พร้อมปรับเกลี่ย",null,null,null,null,null,"=",15,"บาท/ตร.ม.","[2]"]
[null,null," - ค่าแรงปลูก  +  ค่าขนส่ง (ค่าแรง)",null,null,null,null,null,"=",10,"บาท/ตร.ม.","[3]"]
[null,null,"รวมค่าใช้จ่าย",null,null,null,null,null,"=",{"$f":"SUM(J958:J960)","v":45},"บาท/ตร.ม.","[4] = [1]+[2]+[3]"]
[null,null,"…ค่างานต้นทุน",null,null,null,null,null,"=",{"$f":"ROUNDDOWN(J961,0)","v":45},"บาท/ตร.ม."]
[null,5.3,"งานเครื่องหมายจราจร"]
[null,"5.3.1","งานป้ายจราจร  ใช้แผ่นสะท้อนแสงตาม มาตรฐาน........................."]
[null,null,"(ใช้ราคาตามราคามาตรฐานกรมฯ)"]
[null,"5.3.2","งานหลักนำโค้ง หลักกิโลเมตร หลักเขตทาง"]
[null,"5.3.2","(1) หลักนำโค้ง "]
[null,null,"(ใช้ราคาตามราคามาตรฐานกรมฯ)"]
[null,"5.3.2","(2) หลักกิโลเมตร"]
[null,null,"(ใช้ราคาตามราคามาตรฐานกรมฯ)"]
[null,"5.3.2","(3) หลักเขตทาง"]
[null,null,"(ใช้ราคาตามราคามาตรฐานกรมฯ)"]
[null,"5.3.3","งานเครื่องหมายจราจรบนผิวทาง"]
[null,"5.3.3","(1) สีเหลือง"]
[null,null,"(ใช้ราคาตามราคามาตรฐานกรมฯ)"]
[null,"5.3.3","(2) สีขาว"]
[null,null,"(ใช้ราคาตามราคามาตรฐานกรมฯ)"]
[null,"5.3.3","(3) ทางม้าลายคนเดินข้าม"]
[null,null,"(ใช้ราคาตามราคามาตรฐานกรมฯ)"]
[null,"5.3.4","หมุดสะท้อนแสง "]
[null,"5.3.4","(1) ชนิดทิศทางเดียว"]
[null,null,"(ใช้ราคาตามราคามาตรฐานกรมฯ)"]
[null,"5.3.4","(2) ชนิดสองทิศทาง"]
[null,null,"(ใช้ราคาตามราคามาตรฐานกรมฯ)"]
[null,5.4,"Rumble  Strip"]
[null,null,"(ใช้ราคาตามราคามาตรฐานกรมฯ)"]
[null,5.5,"Timber  Barricade"]
[null,null,"(ใช้ราคาตามราคามาตรฐานกรมฯ)"]
[null,5.6,"Guard rail"]
[null,"5.6.1","(1) ความยาวแห่งละไม่น้อยกว่า  64  เมตร"]
[null,null,"(ใช้ราคาตามราคามาตรฐานกรมฯ)"]
[null,"5.6.1","(2) ความยาวแห่งละน้อยกว่า    64  เมตร"]
[null,null,"(ใช้ราคาตามราคามาตรฐานกรมฯ)"]
[null,5.7,"งานป้องกันการกัดเซาะ"]
[null,"5.7.1","กล่องตาข่าย Gabion "]
[null,null,"พิจารณจากพื้นที่",null,null,1,"ลบ.ม.","(ขนาด 1.00x1.00x1.00 ม.)"]
[null,null,"ขุดดิน",null,null,1,"ลบ.ม.@",{"$f":"J84","v":44.6},"=",{"$f":"H997*F997","v":44.6},"บาท","[1]"]
[null,null,"กล่องลวดตาข่าย",null,null,1,"กล่อง @",{"$f":"ราคาวัสดุ!L105","v":1275},"=",{"$f":"H998*F998","v":1275},"บาท","[2]"]
[null,null,"หินใหญ่ STONE RIPRAP",null,null,1,"ลบ.ม.@",{"$f":"เปรียบเทียบราคา!P30","v":310.67},"=",{"$f":"H999*F999","v":310.67},"บาท","[3]"]
[null,null,"ค่าดำเนินการ",null,null,1,"ลบ.ม.@",200,"=",{"$f":"H1000*F1000","v":200},"บาท","[4]"]
[null,null,"รวมค่าใช้จ่าย",null,null,null,null,null,"=",{"$f":"SUM(J997:J1000)","v":1830.27},"บาท","[5] = [1] + …. + [4]"]
[null,null,"…ค่างานต้นทุน",null,null,null,null,null,"=",{"$f":"ROUNDDOWN(J1001/F996,-1)","v":1830},"บาท"]
[null,"5.7.2","กล่องตาข่าย Mattres "]
[null,null,"พิจารณจากพื้นที่",null,null,9,"กล่อง","(ขนาด 2.00x3.00x0.30 ม.) x 9 กล่อง"]
[null,null,"ปรับดิน",null,null,{"$f":"6*F1004","v":54},"ตร.ม. @",{"$f":"J75","v":13.66},"=",{"$f":"H1005*F1005","v":737.64},"บาท","[1]"]
[null,null,"กล่องลวดตาข่าย ",null,null,null,null,null,"=",{"$f":"O1007*ราคาวัสดุ!L105/6*0.95","v":27616.499999999996},"บาท","[2]"]
[null,null,"หินใหญ่ STONE RIPRAP",null,null,{"$f":"3*2*0.3*F1004","v":16.2},"ลบ.ม.@",{"$f":"H999","v":310.67},"=",{"$f":"H1007*F1007","v":5032.8540000000003},"บาท","[3]",null,null,{"$f":"(0.3*2*4+3*2*2+0.3*3*2)*9-0.3*2*2*3-0.3*3*3*2","v":136.79999999999998}]
[null,null,"แผ่นใยสงเคราะห์ Geotextile",null,null,{"$f":"F1005","v":54},"ตร.ม. @",{"$f":"ราคาวัสดุ!L107","v":85},"=",{"$f":"H1008*F1008","v":4590},"บาท","[4]"]
[null,null,"ค่าดำเนินการ",null,null,{"$f":"F1008","v":54},"ตร.ม. @",50,"=",{"$f":"H1009*F1009","v":2700},"บาท","[5]"]
[null,null,"รวมค่าใช้จ่าย",null,null,null,null,null,"=",{"$f":"SUM(J1005:J1009)","v":40676.993999999999},"บาท","[6] = [1] + …. + [5]"]
[null,null,"…ค่างานต้นทุน",null,null,null,null,null,"=",{"$f":"ROUNDDOWN(J1010/F1004,-1)","v":4510},"บาท"]
[null,"5.7.3","หินเรียง (Mortar Rip Rap Contruction)",null,"(ไม่รวมหินทิ้ง)",null,null,null,null,null,null,null,null,null,null,null,null,null,null,"(รวมหินทิ้ง)"]
[null,null,"พิจารณจากพื้นที่",null,null,20,"ตร.ม.","(ขนาด 10.00x10.00x0.20 ม.)",null,null,null,null,null,null,null,null,null,null,null,"(ไม่รวมหินทิ้ง)"]
[null,null,"ปรับดิน",null,null,20,"ตร.ม. @",{"$f":"H1005","v":13.66},"=",{"$f":"H1014*F1014","v":273.2},"บาท","[1]"]
[null,null,"แผ่นใยสงเคราะห์ Geotextile",null,null,{"$f":"F1014","v":20},"ตร.ม. @",{"$f":"H1008","v":85},"=",{"$f":"H1015*F1015","v":1700},"บาท","[2]"]
[null,null,"ปูนทราย 1:1",null,null,{"$f":"F1015*0.05","v":1},"ลบ.ม.@",{"$f":"L375*0.5+L376*0.5","v":1469.5},"=",{"$f":"H1016*F1016","v":1469.5},"บาท","[3]"]
[null,null,"หิน STONE RIPRAP",null,null,4,"ลบ.ม.@",{"$f":"H1007","v":310.67},"=",{"$f":"H1017*F1017","v":1242.68},"บาท","[4]"]
[null,null,"หิน STONE RIPRAP(ที่อยู่ต่ำกว่าดินเดิม)",null,null,{"$f":"IF(E1012=T1012,(10*0.2*10+1*0.4*10+0.4*0.2/2*10),0)","v":0},"ลบ.ม.@",{"$f":"IF(F1018=0,0,H1017)","v":0},"=",{"$f":"H1018*F1018","v":0},"บาท","[5]"]
[null,null,"ค่าดำเนินการ",null,null,20,"ตร.ม. @",50,"=",{"$f":"H1019*F1019","v":1000},"บาท","[6]"]
[null,null,"รวมค่าใช้จ่าย",null,null,null,null,null,"=",{"$f":"SUM(J1014:J1019)","v":5685.38},"บาท","[7] = [1] + …. + [6]"]
[null,null,"…ค่างานต้นทุน",null,null,null,null,null,"=",{"$f":"ROUNDDOWN(J1020/F1013,-1)","v":280},"บาท"]
[null,null,"พิจารณา คานรัด",null,null,5,"ม.","(ขนาด 0.20x0.40x5.00 ม.)",null,null,null,null,null,null,null,null,null,null,null,null,"คานบน"]
[null,null,"ขุดดิน",null,null,{"$f":"0.4*0.2*F1022","v":0.40000000000000008},"ลบ.ม.@",{"$f":"H997","v":44.6},"=",{"$f":"H1023*F1023","v":17.840000000000003},"บาท","[1]",null,null,null,null,null,null,null,"คอนกรีต(ลบ.ม.)",{"$f":"(0.2*0.4*F1022)","v":0.40000000000000008}]
[null,null,"ไม้แบบ (2)",null,null,{"$f":"U1025","v":2.08},"ตร.ม. @",{"$f":"H1034","v":330},"=",{"$f":"H1024*F1024","v":686.4},"บาท","[2]",null,null,null,null,null,null,null,"เหล็ก 9 มม.(ม.)",{"$f":"F1022*4+(ROUNDDOWN(F1022/0.2,0)+1)*(0.14*2+0.34*2+0.06*2)","v":48.08},"นน.",{"$f":"U1024*0.499","v":23.99192}]
[null,null,"คอนกรีต ค3",null,null,{"$f":"U1023","v":0.40000000000000008},"ลบ.ม. @",{"$f":"H1033","v":2135},"=",{"$f":"F1025*H1025","v":854.00000000000011},"บาท","[3]",null,null,null,null,null,null,null,"ไม้แบบ(ตร.ม.)",{"$f":"(0.2*(0.2+F1022)*2)","v":2.08}]
[null,null,"เหล็กเสริม    -  RB9",null,null,{"$f":"ROUND(W1024*1.1,2)","v":26.39},"กก. @",{"$f":"L418","v":18.59},"=",490.59010000000001,"บาท","[4]","เผื่อ 10 %"]
[null,null,"ค่าแรงงานเหล็ก",null,null,{"$f":"F1026","v":26.39},"กก. @",{"$f":"ราคาต่อหน่วย!$K$437","v":4.0999999999999996},"=",108.199,"บาท","[5]","(จากบัญชีค่าแรงงานฯ)"]
[null,null,"รวมค่าใช้จ่าย",null,null,null,null,null,"=",{"$f":"SUM(J1023:J1027)","v":2157.0291000000002},"บาท","[5] = [1] + ….. + [4]"]
[null,null,"…ค่างานต้นทุน",null,null,null,null,null,"=",{"$f":"ROUNDDOWN(J1028/F1022,-1)","v":430},"บาท/ม."]
[null,"5.7.1","งาน Concrete Slope Protection",null,"(สพ-907/56)",null,null,null,null,null,null,null,null,null,null,null,null,null,null,null,"คานบน","คานล่าง","คานข้าง","พื้น","รวม","(พท.ที่เป็นคานทั้งหมด"]
[null,null,"พิจารณจากพื้นที่",null,null,{"$f":"20*7.5","v":150},"ตร.ม.",null,null,null,null,null,null,null,null,null,null,null,null,"คอนกรีต(ลบ.ม.)",{"$f":"(0.3+0.25)*0.15*20","v":1.6500000000000001},{"$f":"(0.6+0.45)*0.15*20","v":3.15},{"$f":"0.2*0.6*7.5*2","v":1.7999999999999998},{"$f":"(150-16.5)*0.1","v":13.350000000000001},{"$f":"SUM(U1031:X1031)","v":19.950000000000003},null,{"$f":"1.35*10+0.4*7.5","v":16.5},")"]
[null,null,"ขุดปรับดิน",null,null,{"$f":"F1031","v":150},"ตร.ม. @",20,"=",{"$f":"F1032*H1032","v":3000},"บาท","[1]",null,null,null,null,null,null,null,"เหล็ก 9 มม.(ม.)",{"$f":"20*3+0.2*ROUND(20/0.25,0)","v":76},{"$f":"20*4+1.7*ROUND(20/0.25,0)","v":216},{"$f":"(5*3+0.85*ROUND(7.5/0.25,0))*2","v":81},{"$f":"1/0.25*2*(150-16.5)","v":1068},{"$f":"SUM(U1032:X1032)","v":1441},{"$f":"Y1032*0.499","v":719.05899999999997}]
[null,null,"คอนกรีต ค3",null,null,{"$f":"ROUND(Y1031,2)","v":19.95},"ลบ.ม. @",{"$f":"J401","v":2135},"=",{"$f":"F1033*H1033","v":42593.25},"บาท","[2]",null,null,null,null,null,null,null,"ไม้แบบ(ตร.ม.)",{"$f":"0.3*20","v":6},{"$f":"(0.6+0.6)*20","v":24},{"$f":"(0.6+0.5)*7.5*2","v":16.5},null,{"$f":"SUM(U1033:X1033)","v":46.5},null,"กก."]
[null,null,"ไม้แบบ (2)",null,null,{"$f":"ROUND(Y1033,2)","v":46.5},"ตร.ม. @",{"$f":"J456","v":330},"=",15345,"บาท","[3]"]
[null,null,"เหล็กเสริม    -  RB9",null,null,{"$f":"ROUND(Z1032*1.1,2)","v":790.96},"กก. @",{"$f":"L418","v":18.59},"=",14703.946400000001,"บาท","[4]","เผื่อ 10 %"]
[null,null,"ค่าแรงงานเหล็ก",null,null,{"$f":"F1035","v":790.96},"กก. @",{"$f":"ราคาต่อหน่วย!$K$437","v":4.0999999999999996},"=",3242.9359999999997,"บาท","[5]","(จากบัญชีค่าแรงงานฯ)"]
[null,null,"ลวดผูกเหล็ก",null,null,{"$f":"F1036*25/1000","v":19.774000000000001},"กก. @",{"$f":"ราคาวัสดุ!$L$46","v":57.95},"=",1145.9033000000002,"บาท","[6]"]
[null,null,"กรวดหยาบ ",null,null,{"$f":"ROUND(0.3*0.6*(150-16.5)/(2*3)/2*1.25,2)","v":2.5},"ลบ.ม. @",{"$f":"เปรียบเทียบราคา!P29","v":380.67},"=",951.67500000000007,"บาท","[7]"]
[null,null,"ค่าตัด Slot",null,null,{"$f":"ROUND((150-16.5)/(2*3),0)","v":22},"จุด @",30,"=",660,"บาท","[8]"]
[null,null,"MASTIC JOINT  SEALER ขนาด 1 x 1 ซม.",null,null,{"$f":"20+20+7.5*2","v":55},"ม. @",{"$f":"H502","v":37.018000000000001},"=",2035.99,"บาท","[9]"]
[null,null,"รวมค่าใช้จ่าย",null,null,null,null,null,"=",{"$f":"SUM(J1032:J1040)","v":83678.700700000016},"บาท","[10] = [1] + ….. + [9]"]
[null,null,"…ค่างานต้นทุน",null,null,null,null,null,"=",{"$f":"ROUNDDOWN(J1041/F1031,-1)","v":550},"บาท/ตร.ม."]
[null,5.8,"Approach Slab","ขนาด 10.00 x 10.00 ม.",null,null,"(สพ-901/56)"]
[null,null,"พิจารณจากพื้นที่",null,{"$f":"T1048*U1048","v":100},null,"ตร.ม.",null,null,null,null,null,null,null,null,null,null,null,null,"คอนกรีต(ลบ.ม.)",{"$f":"(0.3+0.25)*0.15*20","v":1.6500000000000001},{"$f":"(0.6+0.45)*0.15*20","v":3.15},{"$f":"0.2*0.6*7.5*2","v":1.7999999999999998},{"$f":"(150-16.5)*0.1","v":13.350000000000001},{"$f":"SUM(U1044:X1044)","v":19.950000000000003}]
[null,null,"คอนกรีต ค3",null,null,{"$f":"IF(S1049=0,0,+T1048*U1048*V1048+0.25*0.1*T1048)","v":25.25},"ลบ.ม. @",{"$f":"J401","v":2135},"=",{"$f":"ROUND(F1045*H1045,2)","v":53908.75},"บาท","[1]"]
[null,null,"ทรายถมคอสะพาน",null,null,{"$f":"IF(S1049=0,0,T1048*1*1/2)*0","v":0},"ลบ.ม. @",{"$f":"ราคาต่อหน่วย!$L$376","v":629},"=",0,"บาท","[2]",null,null,null,null,null,null,null,"กว้าง","ยาว","หนา","ตามขวางล่าง",null,null,"ตามขวางบน",null,null,"ตามยาวล่าง",null,null,"ตามยาวบน",null,null,"Dowel"]
[null,null,"เหล็กเสริม    - DB 12",{"$f":"X1050","v":999.90000000000009},"ม. =",{"$f":"IF(S1049=0,0,(D1047*0.222*1.1))","v":244.17558000000005},"กก. @",{"$f":"L421","v":17.14},"=",4185.17,"บาท","[3]","เผื่อ 10 %",null,null,null,null,null,null,null,null,null,"dai","N","L","dai","N","L","dai","N","L","dai","N","L","dai","N","L"]
[null,null,"                     - DB 16",{"$f":"X1051","v":410.5},"ม. =",{"$f":"IF(S1049=0,0,(D1048*1.56*1.1))","v":704.41800000000001},"กก. @",{"$f":"L422","v":19.989999999999998},"=",14081.32,"บาท","[4]","เผื่อ 10 %",null,null,null,null,null,null,10,10,0.25,12,{"$f":"ROUNDDOWN((U1048-0.05*2)/0.15,0)+1","v":67},9.9,12,{"$f":"ROUNDDOWN((U1048-0.05*2)/0.3,0)+1","v":34},9.9,20,{"$f":"ROUNDDOWN((T1048-0.05*2)/0.15,0)+1","v":67},9.9,16,{"$f":"ROUNDDOWN((T1048-0.05*2)/0.3,0)+1","v":34},{"$f":"9.9+0.25+0.25+0.3","v":10.700000000000001},16,{"$f":"ROUNDDOWN((U1048-0.05*2)/0.3,0)+1","v":34},0.5]
[null,null,"                     - DB 20",{"$f":"X1052","v":663.30000000000007},"ม. =",{"$f":"IF(S1049=0,0,(D1049*2.46*1.1))","v":1794.8898000000002},"กก. @",{"$f":"L423","v":19.97},"=",35843.949999999997,"บาท","[5]","เผื่อ 10 %",null,null,null,null,null,{"$f":"IF(T1045=AA1051,1,IF(T1045=AA1052,2,IF(T1045=AA1053,3,IF(T1045=AA1054,4,IF(T1045=#REF!,5,IF(T1045=#REF!,6,0))))))","v":1},null,null,null,16,3,9.9]
[null,null,"ค่าแรงผูกเหล็ก",null,null,{"$f":"SUM(F1047:F1049)","v":2743.4833800000001},"กก. @",{"$f":"ราคาต่อหน่วย!$K$437","v":4.0999999999999996},"=",{"$f":"ROUND(F1050*H1050,2)","v":11248.28},"บาท","[6]","(จากบัญชีค่าแรงงานฯ)",null,null,null,null,null,null,null,null,"เหล็ก","DB12",{"$f":"X1048*Y1048+AA1048*AB1048","v":999.90000000000009}]
[null,null,"ลวดผูกเหล็ก",null,null,{"$f":"IF(S1049=0,0,+F1050*0.025)","v":68.587084500000003},"กก. @",{"$f":"ราคาวัสดุ!$L$46","v":57.95},"=",3974.62,"บาท","[7]",null,null,null,null,null,null,null,null,null,null,"DB16",{"$f":"AG1048*AH1048+X1049*Y1049+AJ1048*AK1048","v":410.5}]
[null,null,"ไม้แบบ (2)",null,null,{"$f":"IF(S1049=0,0,(U1048*2)*V1048+(T1048*V1048))","v":7.5},"ตร.ม. @",{"$f":"ราคาต่อหน่วย!$J$456","v":330},"=",2475,"บาท","[8]",null,null,null,null,null,null,null,null,null,null,"DB20",{"$f":"AD1048*AE1048","v":663.30000000000007}]
[null,null," - Neopren Bearing Pad","     - กว้าง 150 มม. หนา 10 มม.",null,{"$f":"IF(S1049=0,0,10)","v":10},"ม. @",200,"=",2000,"บาท","[9]"]
[null,null,"กระดาษชานอ้อย",{"$f":"IF(S1049=0,0,+T1048*V1048/2.88)","v":0.86805555555555558},null,3.5,"ตร.ม. @",{"$f":"400/2.88","v":138.88888888888889},"=",486.11,"บาท","[10]"]
[null,null,"วัสดุยารอยต่อ Neopren Compression Seal",null,null,10,"ม. @",50,"=",500,"บาท","[11]"]
[null,null,"วัสดุยารอยต่อคอนกรีต มอก.479",null,null,{"$f":"U1048*0.01*0.25/4*1000","v":6.25},"ลิตร @",{"$f":"(L277/1000*0.025*0.025*1000)*U1048/F1056","v":36.389000000000003},"=",{"$f":"F1056*H1056","v":227.43125000000001},"บาท","[4]"]
[null,null,"เหล็กเสริมรอยต่อ RB 9 ",{"$f":"67*0.35","v":23.45},"ม. =",{"$f":"IF(S1049=0,0,(D1057*0.499*1.1))","v":12.871705},"กก. @",{"$f":"L418","v":18.59},"=",239.28,"บาท","[12]","เผื่อ 10 %"]
[null,null,"แผ่นเหล็กหนา 9 มม.",null,null,10,"ม. @",145,"=",1450,"บาท","[13]"]
[null,null," - รวมค่าใช้จ่าย",null,null,null,null,null,"=",{"$f":"SUM(J1045:J1058)","v":130619.91124999998},"บาท","[14] = [1]+….+[13]"]
[null,null,"…ค่างานต้นทุน",null,null,null,null,null,"=",{"$f":"ROUNDDOWN(J1059/E1044,-1)","v":1300},"บาท/ตร.ม."]
[null,5.9,"Concrete  Barrier",{"$f":"ปร.4!D184","v":"แบบไม่มีทางเท้า"},null,null,null,null,null,null,null,null,null,null,null,null,null,null,null,null,"คอนกรีต","ไม้แบบ","ไม้คิ้ว","DB12","RB25","เป้าสะท้อนแสง","สี"]
[null,null,"พิจารณจากพื้นที่",null,null,1,"แห่ง",null,null,null,null,null,null,null,null,null,null,null,null,"แบบมีทางเท้า",1.506,10.558,0.219,151.91999999999999,1.2,4,12.316000000000001]
[null,null,"คอนกรีต ค3",null,null,{"$f":"ROUND(U1064*1.05,2)","v":1.4},"ลบ.ม. @",{"$f":"J401","v":2135},"=",{"$f":"F1063*H1063","v":2989},"บาท","[1]",null,null,null,null,null,null,null,"แบบไม่มีทางเท้า",1.335,8.3699999999999992,0.21,128.76,1.2,4,10.904]
[null,null,"ไม้แบบ (2)",null,null,{"$f":"ROUND(V1064,2)","v":8.3699999999999992},"ตร.ม. @",{"$f":"J456","v":330},"=",2762.1,"บาท","[2]",null,null,null,null,null,null,null,"ใช้",{"$f":"IF($D$1061=$T$1062,U1062,U1063)","v":1.335},{"$f":"IF($D$1061=$T$1062,V1062,V1063)","v":8.3699999999999992},0.21,128.76,1.2,{"$f":"IF($D$1061=$T$1062,Z1062,Z1063)","v":4},{"$f":"IF($D$1061=$T$1062,AA1062,AA1063)","v":10.904}]
[null,null,"ไม้คิ้ว",null,null,{"$f":"ROUND(W1064,2)","v":0.21},"ลบ.ฟ. @",{"$f":"ราคาวัสดุ!L68","v":530},"=",111.3,"บาท","[3]"]
[null,null,"เหล็กเสริม    -  DB12",null,null,{"$f":"ROUND(X1064*0.888*1.1,2)","v":125.77},"กก. @",{"$f":"L421","v":17.14},"=",2155.6977999999999,"บาท","[4]","เผื่อ 10 %"]
[null,null,"                     -  RB25","(Dowel)",null,{"$f":"ROUND(Y1064*3.85,2)","v":4.62},"กก. @",{"$f":"L420","v":21.96},"=",101.4552,"บาท","[5]"]
[null,null,"ค่าแรงงานเหล็ก",null,null,{"$f":"F1066+F1067","v":130.38999999999999},"กก. @",{"$f":"ราคาต่อหน่วย!$K$437","v":4.0999999999999996},"=",534.59899999999993,"บาท","[6]","(จากบัญชีค่าแรงงานฯ)"]
[null,null,"ลวดผูกเหล็ก",null,null,{"$f":"F1068*25/1000","v":3.2597499999999995},"กก. @",{"$f":"ราคาวัสดุ!$L$46","v":57.95},"=",188.90251249999997,"บาท","[7]"]
[null,null,"เป้าสะท้อนแสง",null,null,{"$f":"Z1064","v":4},"อัน @",150,"=",600,"บาท","[8]"]
[null,null,"ทาสีขาว-ดำ",null,null,{"$f":"AA1064","v":10.904},"ตร.ม. @",{"$f":"ราคาวัสดุ!AA80+30","v":48.69},"=",{"$f":"F1071*H1071","v":530.91575999999998},"บาท","[9]"]
[null,null,"รวมค่าใช้จ่าย",null,null,null,null,null,"=",{"$f":"SUM(J1063:J1071)","v":9973.9702725000006},"บาท","[10] = [1] + ….. + [9]"]
[null,null,"…ค่างานต้นทุน",null,null,null,null,null,"=",{"$f":"ROUNDDOWN(J1072/F1062,-1)","v":9970},"บาท/ตร.ม."]
[6,"งานไฟฟ้าแสงสว่าง"]
[null,6.1,"งานเสาไฟฟ้าแสงสว่างและอุปกรณ์ประกอบ"]
[null,"6.1.1","เสาไฟแสงสว่างสูง   9.00   เมตร   กิ่งกิ่งเดี่ยว  และอุปกรณ์ครบชุด"]
[null,null," - เสาไฟแสงสว่างสูง   9.00   เมตร   กิ่งเดี่ยว",null,null,1,"ชุด  @",{"$f":"ราคาวัสดุ!L87","v":5400},"=",{"$f":"F1077*H1077","v":5400},"บาท","[1]"]
[null,null," - ค่าทาสีและติดตั้งแผ่นสะท้อนแสง",null,null,1,"ชุด  @",{"$f":"ราคาวัสดุ!L100","v":250},"=",250,"บาท","[2]"]
[null,null," - Ground Rod",null,null,1,"ชุด  @",{"$f":"ราคาวัสดุ!L95","v":300},"=",300,"บาท","[3]"]
[null,null," - ค่าแรงประกอบติดตั้ง",null,null,1,"ชุด  @",{"$f":"ราคาวัสดุ!L99","v":500},"=",500,"บาท","[4]"]
[null,null,"…ค่างานต้นทุน",null,null,null,null,null,"=",{"$f":"SUM(J1077:J1080)/F1077","v":6450},"บาท/ชุด","[5] = [1]+[2]+[3]+[4]"]
[null,"6.1.2","โคมไฟถนนขนาดกำลัง 250 W.HPS พร้อมอุปกรณ์"]
[null,null," - ดวงโคม 1 โคม 250 W .HPS",null,null,1,"ชุด  @",{"$f":"ราคาวัสดุ!L92","v":5000},"=",{"$f":"F1083*H1083","v":5000},"บาท","[1]"]
[null,null," - 'ค่าแรงงาน+ค่าดำเนินการ ติดตั้ง",null,null,1,"ชุด  @",100,"=",100,"บาท","[2]"]
[null,null,"…ค่างานต้นทุน",null,null,null,null,null,"=",{"$f":"SUM(J1083:J1084)/F1083","v":5100},"บาท/ชุด","[3] = [1]+[2]"]
[null,"6.1.3","งานฐานรากของเสาไฟฟ้าแสงสว่าง และอุปกรณ์ประกอบ"]
[null,null,"พิจารณา",null,null,1,"ฐาน"]
[null,null,"- งานดินขุด ถมกลับ",null,null,2.2000000000000002,"ลบ.ม.  @",{"$f":"ราคาวัสดุ!L109","v":99},"=",{"$f":"F1088*H1088","v":217.8},"บาท","[1]"]
[null,null,"- คอนกรีตหยาบ (รวมค่าแรง)",null,null,6.4000000000000001E-2,"ลบ.ม.  @",{"$f":"$G$401","v":1867},"=",119.488,"บาท","[2]"]
[null,null,"- คอนกรีต 1:2:4 (รวมค่าแรง)",null,null,0.48,"ลบ.ม.  @",{"$f":"I401","v":2096},"=",1006.0799999999999,"บาท","[3]"]
[null,null,"- ไม้แบบ (1)",null,null,2.88,"ตร.ม.  @",{"$f":"$J455","v":370},"=",1065.5999999999999,"บาท","[4]"]
[null,null,"- เหล็กเสริม DB12",null,null,{"$f":"17.35*1.1","v":19.085000000000004},"กก.  @",{"$f":"$L$421","v":17.14},"=",327.1169000000001,"บาท","[5]","เผื่อ 10 %"]
[null,null,"- ค่าแรงผูกเหล็ก",null,null,{"$f":"F1092","v":19.085000000000004},"กก.  @",{"$f":"H437/1000","v":4.0999999999999996},"=",78.248500000000007,"บาท","[6]"]
[null,null,"- ลวดผูกเหล็ก",null,null,{"$f":"F1093*25/1000","v":0.47712500000000013},"กก.  @",{"$f":"ราคาวัสดุ!L46","v":57.95},"=",27.649393750000009,"บาท","[7]"]
[null,null,"- J-BOLT( M24 mm.) AND NUT HOT DIP GALVANIZED ยาว 0.57  ม.",null,null,4,"ตัว.  @",{"$f":"ราคาวัสดุ!L90","v":100},"=",400,"บาท","[8]"]
[null,null,"- BASE PLATE ขนาด 0.35x0.35 ม.หนา 25 มม.",null,null,1,"แผ่น  @",{"$f":"ราคาวัสดุ!L89","v":500},"=",500,"บาท","[9]"]
[null,null,"…ค่างานต้นทุน",null,null,null,null,null,"=",{"$f":"ROUNDDOWN(SUM(J1088:J1096),-1)","v":3740},"บาท/ฐาน","[10] = [1]+….+[9]"]
[null,"6.1.4","ชุดควบคุมไฟถนนพร้อมอุปกรณ์ประกอบ"]
[null,null," - เซฟตี้สวิทซ์ 60A 600 V รวมฟิวส์ 60 A (กันน้ำ)",null,null,null,null,null,"=",{"$f":"ราคาวัสดุ!L97","v":6500},"บาท","[1]"]
[null,null," - รีเลย์พร้อมโฟโตเซล 60A 220V",null,null,null,null,null,"=",{"$f":"ราคาวัสดุ!L96","v":4200},"บาท","[2]"]
[null,null," - ค่าติดตั้ง",null,null,null,null,null,"=",100,"บาท","[3]"]
[null,null,"…ค่างานต้นทุน",null,null,null,null,null,"=",{"$f":"SUM(J1099:J1101)","v":10800},"บาท/ชุด","[4] = [1]+[2]+[3]"]
[null,"6.1.5","กล่องดึงสาย บ่อพักสาย และอุปกรณ์ประกอบ"]
[null,null,"พิจารณา",null,null,{"$f":"BackUp!G388","v":0},"จุด"]
[null,null," - ค่าวัสดุ",null,null,null,null,null,"=",{"$f":"F1104*1500","v":0},"บาท","[1]"]
[null,null," - ค่าติดตั้ง",null,null,null,null,null,"=",{"$f":"IF(J1105=0,0,F1104*200)","v":0},"บาท","[2]"]
[null,null,"…ค่างานต้นทุน",null,null,null,null,null,"=",{"$f":"SUM(J1105:J1106)","v":0},"บาท/ชุด","[3] = [1]+[2]"]
[null,"6.1.6","สายไฟฟ้า"]
[null,"6.1.6","(1) สายไฟชนิด NYY ขนาด    3x10   ตร.มม."]
[null,null,"พิจารณา",null,null,{"$f":"BackUp!G394","v":0},"ชุด"]
[null,null," - ค่าวัสดุ",null,null,{"$f":"ROUNDDOWN((F1110-1)*BackUp!J394*(1+5%),0)","v":0},"ม.  @",{"$f":"ราคาวัสดุ!L93","v":65},"=",{"$f":"F1111*H1111","v":0},"บาท","[1]"]
[null,null," - ค่าติดตั้ง",null,null,null,null,null,"=",{"$f":"F1112*H1112","v":0},"บาท","[2]"]
[null,null,"…ค่างานต้นทุน",null,null,null,null,null,"=",{"$f":"ROUNDDOWN(SUM(J1111:J1112)/F1110,0)","v":{"$error":"#DIV/0!"}},"บาท/ชุด","[3] = [1]+[2]"]
[null,"6.1.6","(2)สายไฟชนิด THW ขนาด    2x2.5    ตร.มม."]
[null,null,"พิจารณา",null,null,{"$f":"F1110","v":0},"ชุด"]
[null,null," - ค่าวัสดุ",null,null,{"$f":"ROUNDDOWN(F1115*12,0)","v":0},"ม.  @",{"$f":"ราคาวัสดุ!L94","v":21},"=",{"$f":"F1116*H1116","v":0},"บาท","[1]"]
[null,null," - ค่าติดตั้ง",null,null,{"$f":"F1116","v":0},"ม.  @",5,"=",0,"บาท","[2]"]
[null,null,"…ค่างานต้นทุน",null,null,null,null,null,"=",{"$f":"ROUNDDOWN(SUM(J1116:J1117)/F1115,0)","v":{"$error":"#DIV/0!"}},"บาท/ชุด","[3] = [1]+[2]"]
[null,"6.1.7","ท่อร้อยสายไฟฟ้า"]
[null,"6.1.7","(1) ท่อ HDPE ขนาดเส้นผ่านศูนย์กลาง    Ø 1 1/2\"  และอุปกรณ์ประกอบ"]
[null,null,"พิจารณา",null,null,{"$f":"F1115","v":0},"ชุด"]
[null,null," - ค่าวัสดุ",null,null,{"$f":"ROUNDDOWN((F1121-1)*BackUp!J394,0)","v":0},"ม.  @",{"$f":"ราคาวัสดุ!L101","v":90},"=",{"$f":"F1122*H1122","v":0},"บาท","[1]"]
[null,null," - ค่าติดตั้ง",null,null,{"$f":"F1122","v":0},"ม.  @",5,"=",0,"บาท","[2]"]
[null,null,"…ค่างานต้นทุน",null,null,null,null,null,"=",{"$f":"ROUNDDOWN(SUM(J1122:J1123)/F1121,0)","v":{"$error":"#DIV/0!"}},"บาท/ชุด","[3] = [1]+[2]"]
[null,"6.1.7","(2) ท่อเหล็กชุบสังกะสี  Ø 1 1/2\" พร้อมค่าดันท่อลอด"]
[null,null,"พิจารณา",null,null,10,"ม."]
[null,null," - ค่าวัสดุ",null,null,{"$f":"F1126","v":10},"ม.  @",300,"=",{"$f":"F1127*H1127","v":3000},"บาท","[1]"]
[null,null," - ค่าติดตั้ง",null,null,{"$f":"F1127","v":10},"ม.  @",200,"=",2000,"บาท","[2]"]
[null,null,"…ค่างานต้นทุน",null,null,null,null,null,"=",{"$f":"SUM(J1127:J1128)","v":5000},"บาท","[3] = [1]+[2]"]
[null,null,"…รวมค่างานต้นทุนไฟฟ้าแสงสว่างและอุปกรณ์ประกอบ",null,null,null,null,null,"=",{"$f":"J1081+J1085+J1097+J1102+J1107+J1113+J1118+J1124+J1129","v":{"$error":"#DIV/0!"}},"บาท/ชุด"]
[null,6.2,"สัญญาณไฟกระพริบพลังงานแสงอาทิตย์ Ø  300  มม."]
[null,null," - ค่าวัสดุ",null,null,null,null,null,"=",12300,"บาท","[1]"]
[null,null," - ค่าติดตั้ง",null,null,null,null,null,"=",0,"บาท","[2]"]
[null,null,"…ค่างานต้นทุน",null,null,null,null,null,"=",{"$f":"SUM(J1132:J1133)","v":12300},"บาท/ม.","[3] = [1]+[2]"]
[null,"7 งานจัดการจราจรระหว่างก่อสร้าง"]
[null,7.1,{"$f":"\" - ราคาป้าย\"&ปร.4!G243","v":" - ราคาป้าย"},{"$f":"ปร.4!H243","v":0},null,null,null,null,"=",{"$f":"VLOOKUP(D1136,P1137:Q1146,2)","v":{"$error":"#N/A"}},"บาท","[1]"]
[null,null," - ระยะเวลาก่อสร้าง",{"$f":"วันก่อสร้าง!U25","v":60},"วัน   =",{"$f":"D1137/30","v":2},"เดือน",null,null,null,null,"[2]",null,null,null,"รูปแบบที่ 1",{"$f":"IF(ปร.4!$G$243=ราคาป้าย!$F$71,ราคาป้าย!F73,ราคาป้าย!H73)","v":1}]
[null,null,"คิดให้ 50 %  =",{"$f":"F1137*0.5","v":1},"เดือน","say",{"$f":"FLOOR(D1138,0.5)","v":1},"เดือน","=",{"$f":"J1136*G1138","v":{"$error":"#N/A"}},"บาท","[3] = [1]x[2]",null,null,null,"รูปแบบที่ 2",{"$f":"IF(ปร.4!$G$243=ราคาป้าย!$F$71,ราคาป้าย!F74,ราคาป้าย!H74)","v":2}]
[null,null,"…ค่างานต้นทุน",null,null,null,null,null,"=",{"$f":"J1138","v":{"$error":"#N/A"}},"บาท/เดือน",null,null,null,null,"รูปแบบที่ 3",{"$f":"IF(ปร.4!$G$243=ราคาป้าย!$F$71,ราคาป้าย!F75,ราคาป้าย!H75)","v":3}]
[null,7.2,{"$f":"\" - ราคาป้าย\"&ปร.4!G244","v":" - ราคาป้าย"},{"$f":"ปร.4!H244","v":0},null,null,null,null,"=",{"$f":"VLOOKUP(D1136,P1137:Q1146,2)","v":{"$error":"#N/A"}},"บาท","[1]",null,null,null,"รูปแบบที่ 4",{"$f":"IF(ปร.4!$G$243=ราคาป้าย!$F$71,ราคาป้าย!F76,ราคาป้าย!H76)","v":4}]
[null,null," - ระยะเวลาก่อสร้าง",{"$f":"D1137","v":60},"วัน   =",{"$f":"D1141/30","v":2},"เดือน",null,null,null,null,"[2]",null,null,null,"รูปแบบที่ 5",{"$f":"IF(ปร.4!$G$243=ราคาป้าย!$F$71,ราคาป้าย!F77,ราคาป้าย!H77)","v":5}]
[null,null,"คิดให้ 50 %  =",{"$f":"F1141*0.5","v":1},"เดือน","say",{"$f":"FLOOR(D1142,0.5)","v":1},"เดือน","=",{"$f":"J1140*G1142","v":{"$error":"#N/A"}},"บาท","[3] = [1]x[2]",null,null,null,"รูปแบบที่ 6",{"$f":"IF(ปร.4!$G$243=ราคาป้าย!$F$71,ราคาป้าย!F78,ราคาป้าย!H78)","v":6}]
[null,null,"…ค่างานต้นทุน",null,null,null,null,null,"=",{"$f":"J1142","v":{"$error":"#N/A"}},"บาท/เดือน",null,null,null,null,"รูปแบบที่ 7",{"$f":"IF(ปร.4!$G$243=ราคาป้าย!$F$71,ราคาป้าย!F79,ราคาป้าย!H79)","v":7}]
[null,null,null,null,null,null,null,null,null,null,null,null,null,null,null,"รูปแบบที่ 8",{"$f":"IF(ปร.4!$G$243=ราคาป้าย!$F$71,ราคาป้าย!F80,ราคาป้าย!H80)","v":8}]
[null,null,null,null,null,null,null,null,null,null,null,null,null,null,null,"รูปแบบที่ 9",{"$f":"IF(ปร.4!$G$243=ราคาป้าย!$F$71,ราคาป้าย!F81,ราคาป้าย!H81)","v":9}]
[null,null,null,null,null,null,null,null,null,null,null,null,null,null,null,"รูปแบบเฉพาะ",{"$f":"IF(ปร.4!$G$243=ราคาป้าย!$F$71,ราคาป้าย!F82,ราคาป้าย!H82)","v":10}]

{"sheet":"Sheet3","index":13,"n_rows":0,"n_cols":0,"rows_kept":0,"cut":false,"hidden":false,"merged":[]}

{"sheet":"ต้นทุนกำแพงกันดิน","index":14,"n_rows":38,"n_cols":17,"rows_kept":38,"cut":false,"hidden":false,"merged":[[0,0,0,12],[4,2,4,3]]}
["ราคาต้นทุนต่อหน่วยของงานกำแพงกันดิน"]
[]
["สถานที่ก่อสร้าง",null,{"$f":"+อื่นๆ!C2","v":"ซอยจันทร์สุวรรณ"}]
[null,null,{"$f":"+อื่นๆ!C3","v":"บ้านกุดแห่ หมู่ 1 ตำบลกุดแห่ อำเภอนากลาง  จังหวัดหนองบัวลำภู"}]
["วันที่ประมาณราคา",null,{"$f":"+อื่นๆ!D4","v":"2020-02-11"}]
[]
["ลำดับ","รายการลักษณะงาน / วิธีคำนวณ",null,null,null,null,"ปริมาณ","หน่วย","ค่าวัสดุ",null,"ค่าแรงงาน",null,"ราคารวม"]
[null,null,null,null,null,null,null,null,"หน่วยละ","จำนวนเงิน","หน่วยละ","จำนวนเงิน","(บาท)"]
[null,"งานกำแพงกันดิน Abutment Portecment"]
[]
[]
[null,"ความสูงกำแพงกันดิน",null,null,null,null,4,"ม.","(H)"]
[null,"ความยาวกำแพงกันดิน",null,null,null,null,{"$f":"+G12*1.3","v":5.2},"ม.","(1.3H)"]
[null,"ความกว้างกำแพงกันดิน (ต่อช่อง)",null,null,null,null,1.8,"ม.","(ไม่เกิน 2.00  ม.)"]
[null,"ความกว้างกำแพงกันดินรวม",null,null,null,null,9,"ม."]
[]
["1)","งานคอนกรีต  ;  ค2",null,29.85,"% เผื่อ",0.05,{"$f":"D17*(1+(F17))","v":31.342500000000001},"ลบ.ม.",{"$f":"IF(G17=0,0,ราคาต่อหน่วย!I401)","v":2096},{"$f":"I17*G17","v":65693.88},0,{"$f":"K17*G17","v":0},{"$f":"J17+L17","v":65693.88}]
["2)","งานไม้แบบ (2)"]
[null," - ค่าไม้แบบงานสะพาน,ท่อเหลี่ยม",null,null,null,null,104,"ตร.ม.",{"$f":"+IF(G19=0,0,ราคาต่อหน่วย!J456)","v":330},{"$f":"I19*G19","v":34320},0,{"$f":"K19*G19","v":0},{"$f":"J19+L19","v":34320}]
[null," - ไม้คิ้ว 1''x1''",null,null,null,null,null,"ลบ.ฟ.",0,{"$f":"I20*G20","v":0},0,{"$f":"K20*G20","v":0},{"$f":"J20+L20","v":0}]
["3)","งานเหล็ก   ;   (SR 24  ,  SD 40)",null,null,null,"% เผื่อ",null,null,null,null,null,null,0]
[null,"RB 6 ;",null,0,null,0.1,{"$f":"+D22*(1+F22)","v":0},"กก.",{"$f":"IF(G22=0,0,ราคาต่อหน่วย!L417)","v":0},{"$f":"I22*G22","v":0},{"$f":"IF(G22=0,0,ราคาต่อหน่วย!$K$437)","v":0},{"$f":"K22*G22","v":0},0]
[null,"RB 9 ;",null,0,null,0.1,{"$f":"+D23*(1+F23)","v":0},"กก.",{"$f":"IF(G23=0,0,ราคาต่อหน่วย!L418)","v":0},0,{"$f":"IF(G23=0,0,ราคาต่อหน่วย!$K$437)","v":0},0,0]
[null,"DB 12 ;",null,{"$f":"+ROUNDDOWN(N24*P24,2)","v":2768.78},null,0.1,3045.6580000000004,"กก.",{"$f":"IF(G24=0,0,ราคาต่อหน่วย!L425)","v":17.579999999999998},53542.66764,{"$f":"IF(G24=0,0,ราคาต่อหน่วย!$K$437)","v":4.0999999999999996},12487.1978,66029.865439999994,{"$f":"1030+1296+45+36+288+375+48","v":3118},"ม.",0.88800000000000001,"กก./ม."]
[null,"DB 16 ;",null,0,null,0.1,0,"กก.",{"$f":"IF(G25=0,0,ราคาต่อหน่วย!L426)","v":0},0,{"$f":"IF(G25=0,0,ราคาต่อหน่วย!$K$437)","v":0},0,0,null,"ม.",null,"กก./ม."]
[null,"DB 20 ;",null,0,null,0.1,0,"กก.",{"$f":"IF(G26=0,0,ราคาต่อหน่วย!L427)","v":0},0,{"$f":"IF(G26=0,0,ราคาต่อหน่วย!$K$437)","v":0},0,{"$f":"J26+L26","v":0},null,"ม.",null,"กก./ม."]
[null,"DB 25 ;",null,{"$f":"+ROUNDDOWN(N27*P27,2)","v":581.79999999999995},null,0.1,639.98,"กก.",{"$f":"IF(G27=0,0,ราคาต่อหน่วย!L428)","v":16.84},10777.263199999999,{"$f":"IF(G27=0,0,ราคาต่อหน่วย!$K$437)","v":4.0999999999999996},2623.9179999999997,{"$f":"J27+L27","v":13401.181199999999},{"$f":"88+63","v":151},"ม.",3.8530000000000002,"กก./ม."]
[null," -เหล็ก Dowel"]
[null," RB 25 ;",null,0,null,0.1,{"$f":"+D29*E29*(1+F29)","v":0},"กก.",{"$f":"IF(G29=0,0,ราคาต่อหน่วย!L420)","v":0},{"$f":"I29*G29","v":0},{"$f":"IF(G29=0,0,ราคาต่อหน่วย!$K$437)","v":0},{"$f":"K29*G29","v":0},{"$f":"J29+L29","v":0}]
[null,"DB 25 ;",null,0,null,0.1,{"$f":"+D30*E30*(1+F30)","v":0},"กก.",{"$f":"IF(G30=0,0,ราคาต่อหน่วย!L428)","v":0},{"$f":"I30*G30","v":0},{"$f":"IF(G30=0,0,ราคาต่อหน่วย!$K$437)","v":0},{"$f":"K30*G30","v":0},{"$f":"J30+L30","v":0}]
[null," -  ลวดผูกเหล็ก ",null,null,null,null,{"$f":"SUM(G22:G29)*0.03","v":110.56914},"กก.",{"$f":"IF(G31=0,0,ราคาวัสดุ!L46)","v":57.95},{"$f":"I31*G31","v":6407.4816630000005},0,{"$f":"K31*G31","v":0},{"$f":"J31+L31","v":6407.4816630000005}]
["4)","วัสดุอื่น ๆ  (ระบุ)…….",null,null,null,"% เผื่อ"]
[null," -  งานขุดดิน",null,null,null,null,187,"ลบ.ม.",{"$f":"IF(G33=0,0,0)","v":0},{"$f":"I33*G33","v":0},{"$f":"IF(G33=0,0,ราคาต่อหน่วย!J84)","v":44.6},{"$f":"K33*G33","v":8340.2000000000007},{"$f":"J33+L33","v":8340.2000000000007}]
[null," -  งานถมดิน (บดอัดแน่น)",null,null,null,null,187,"ลบ.ม.",{"$f":"IF(G34=0,0,ราคาต่อหน่วย!J126)","v":116.2},{"$f":"I34*G34","v":21729.4},{"$f":"IF(G34=0,0,0)","v":0},{"$f":"K34*G34","v":0},{"$f":"J34+L34","v":21729.4}]
[]
[]
[null,null,"รวมราคาต้นทุน",null,null,null,null,null,null,null,null,null,{"$f":"SUM(M17:M36)","v":215922.00830300001}]
[null,null,"พิจารณาใช้",null,null,null,null,null,null,null,null,null,{"$f":"ROUNDDOWN(M37,0)","v":215922}]

{"sheet":"อื่นๆ","index":15,"n_rows":127,"n_cols":13,"rows_kept":127,"cut":false,"hidden":false,"merged":[[0,0,0,12],[3,3,3,6]]}
["ราคาต้นทุนต่อหน่วยของงานทั่วไป  "]
["สถานที่ก่อสร้าง",null,{"$f":"+ข้อมูลโครงการ!G7","v":"ซอยจันทร์สุวรรณ"}]
[null,null,{"$f":"+ข้อมูลโครงการ!G8","v":"บ้านกุดแห่ หมู่ 1 ตำบลกุดแห่ อำเภอนากลาง  จังหวัดหนองบัวลำภู"}]
["วันที่ประมาณราคา",null,null,{"$f":"+ข้อมูลโครงการ!G3","v":"2020-02-11"}]
[]
["ลำดับ","รายการลักษณะงาน / วิธีคำนวณ",null,null,null,null,"ปริมาณ","หน่วย","ค่าวัสดุ",null,"ค่าแรงงาน",null,"ราคารวม"]
[null,null,null,null,null,null,null,null,"หน่วยละ","จำนวนเงิน","หน่วยละ","จำนวนเงิน","(บาท)"]
[null,"งานทาสีหัวและท้ายสะพาน",null,null,null,null,1,"แห่ง"]
[]
[null,"- ค่าสีขาวทา 3 ชั้น  ",null,null,null,null,0.10199999999999999,"ตร.ม.",50,{"$f":"I10*G10","v":5.0999999999999996},30,{"$f":"K10*G10","v":3.0599999999999996},{"$f":"L10+J10","v":8.16}]
[null,"- ค่าสีดำทา 3 ชั้น  ",null,null,null,null,0.14199999999999999,"ตร.ม.",50,{"$f":"I11*G11","v":7.1},30,{"$f":"K11*G11","v":4.26},{"$f":"L11+J11","v":11.36}]
[null,"- ค่าสติ๊กเกอร์สะท้อนแสงสีขาว",null,null,null,null,3.3000000000000002E-2,"ตร.ม.",1500,{"$f":"I12*G12","v":49.5},0,{"$f":"K12*G12","v":0},{"$f":"L12+J12","v":49.5}]
[]
[null,null,null,null,null,"รวม",null,null,null,null,null,null,{"$f":"SUM(M10:M13)","v":69.02}]
[null,null,"พิจารณาใช้",null,null,null,null,null,null,null,null,null,{"$f":"ROUNDDOWN(SUM(M10:M13),0)","v":69}]
[]
[]
["ลำดับ","รายการลักษณะงาน / วิธีคำนวณ",null,null,null,null,"ปริมาณ","หน่วย","ค่าวัสดุ",null,"ค่าแรงงาน",null,"ราคารวม"]
[null,null,null,null,null,null,null,null,"หน่วยละ","จำนวนเงิน","หน่วยละ","จำนวนเงิน","(บาท)"]
[null,"งานป้ายชื่อสะพานหินแกรนิต"]
[]
[null,"- แผ่นหินแกรนิต",null,null,null,null,1,"แผ่น",1000,{"$f":"I22*G22","v":1000},500,{"$f":"K22*G22","v":500},{"$f":"L22+J22","v":1500}]
[null,"- ค่าจัดทำตัวอักษร",null,null,null,null,1,"LS",2000,{"$f":"I23*G23","v":2000},0,null,{"$f":"L23+J23","v":2000}]
[]
[]
[null,null,"พิจารณาใช้ค่า งานป้ายชื่อสะพานหินแกรนิต",null,null,null,null,null,null,null,null,null,{"$f":"SUM(M22:M25)","v":3500}]
[]
[]
[]
[]
[]
[]
[]
[]
["ลำดับ","รายการลักษณะงาน / วิธีคำนวณ",null,null,null,null,"ปริมาณ","หน่วย","ค่าวัสดุ",null,"ค่าแรงงาน",null,"ราคารวม"]
[null,null,null,null,null,null,null,null,"หน่วยละ","จำนวนเงิน","หน่วยละ","จำนวนเงิน","(บาท)"]
[null,"งานแผ่นป้ายข้อมูลแผ่นหินแกรนิต"]
[]
[]
[null,"- แผ่นหินแกรนิต ",null,null,null,null,1,"แผ่น",400,{"$f":"I40*G40","v":400},0,{"$f":"K40*G40","v":0},{"$f":"L40+J40","v":400}]
[null,"- ค่าจัดทำตัวอักษร",null,null,null,null,1,"LS",2000,{"$f":"I41*G41","v":2000},0,0,{"$f":"L41+J41","v":2000}]
[null,"- ค่าติดตั้ง",null,null,null,null,1,"แผ่น",0,0,100,{"$f":"K42*G42","v":100},{"$f":"L42+J42","v":100}]
[]
[null,null,"พิจารณาใช้ค่า งานป้ายข้อมูลแผ่นหินแกรนิต",null,null,null,null,null,null,null,null,null,{"$f":"SUM(M40:M43)","v":2500}]
[]
[]
["ลำดับ","รายการลักษณะงาน / วิธีคำนวณ",null,null,null,null,"ปริมาณ","หน่วย","ค่าวัสดุ",null,"ค่าแรงงาน",null,"ราคารวม"]
[null,null,null,null,null,null,null,null,"หน่วยละ","จำนวนเงิน","หน่วยละ","จำนวนเงิน","(บาท)"]
[null,"งานวาง Plank girder ความยาว 5.00 - 12.00 เมตร"]
[1,"รถเครน",null,null,null,null,2,"คัน",0,0,8000,{"$f":"G50*K50","v":16000},{"$f":"J50+L50","v":16000}]
[2,"รถขนคาน(รวมค่าขนย้ายคาน)",null,null,null,null,1,"คัน",0,0,7000,{"$f":"G51*K51","v":7000},{"$f":"J51+L51","v":7000}]
[3,"คนงานติดตั้ง",null,null,null,null,4,"คน",0,0,300,1200,1200]
[]
[]
[]
[]
[]
[]
[null,"สรุปใช้ราคา ;",null,"รวม",null,null,10,"คาน",null,null,null,null,{"$f":"SUM(M50:M55)","v":24200}]
[null,null,null,null,null,null,1,"คาน",null,null,null,null,{"$f":"M59/G59","v":2420}]
[]
[]
[]
["ลำดับ","รายการลักษณะงาน / วิธีคำนวณ",null,null,null,null,"ปริมาณ","หน่วย","ค่าวัสดุ",null,"ค่าแรงงาน",null,"ราคารวม"]
[null,null,null,null,null,null,null,null,"หน่วยละ","จำนวนเงิน","หน่วยละ","จำนวนเงิน","(บาท)"]
[null,"งานวาง Box girder ความยาว 13.00 - 20.00 เมตร"]
[1,"รถเครน",null,null,null,null,2,"คัน",0,0,15000,{"$f":"G67*K67","v":30000},{"$f":"J67+L67","v":30000}]
[2,"รถขนคาน(รวมค่าขนย้ายคาน)",null,null,null,null,2,"คัน",0,0,7000,{"$f":"G68*K68","v":14000},{"$f":"J68+L68","v":14000}]
[3,"ค่าขนย้าย (Stock คานหน้างาน)",null,null,null,null,1,"LS.",0,0,11000,11000,11000]
[4,"คนงานติดตั้ง",null,null,null,null,4,"คน",0,0,300,1200,1200]
[]
[]
[]
[null,"สรุปใช้ราคา ;",null,"รวม",null,null,10,"คาน",null,null,null,null,{"$f":"SUM(M67:M71)","v":56200}]
[null,null,null,null,null,null,1,"คาน",null,null,null,null,{"$f":"M74/G74","v":5620}]
[]
[]
["ลำดับ","รายการ",null,null,null,null,"จำนวน","หน่วย","ค่าวัสดุสิ่งของ",null,"ค่าแรงงาน",null,"รวมค่าวัสดุ"]
[null,null,null,null,null,null,null,null,"หน่วยละ","จำนวนเงิน","หน่วยละ","จำนวนเงิน","และค่าแรง"]
[null,"งานปรับพื้นที่สำหรับตอกเสาเข็ม"]
[null,"    ความยาวของงานที่จะก่อสร้าง",null,null,null,null,20,"ม."]
[null,"    ความกว้าง",null,null,null,null,{"$f":"IF(L82>15,6,4)","v":4},"ม."," (เฉพาะทางเคลื่อนอุปกรณ์/ปั้นจั่น)"]
[null,"    ถมสูง เฉลี่ย",null,null,null,null,3,"ม."," (เฉพาะทางเคลื่อนอุปกรณ์(ปั้นจั่น))"]
[null,"   จำนวนตอม่อที่ปรับพื้นที่",null,null,null,null,3,"ตับ"," (สำหรับตอกเสาเข็ม)"]
[null,"   รวมปรับพื้นที่สำหรับตอกเสาเข็ม",null,null,null,null,{"$f":"+G81*G82*G84","v":240},"ตรม."]
[]
[1,"งานกรุยทางถางป่า ",null,null,null,null,{"$f":"G85","v":240},"ตรม.",2.9,{"$f":"I87*G87","v":696},{"$f":"J87*F87","v":0},{"$f":"K87*G87","v":0},{"$f":"J87+L87","v":696}]
[2,"งานดินตัด ขุดปรับ =",null,null,0.1,"ม.",{"$f":"G87*E88*0.3","v":7.1999999999999993},"ลบ.ม.",0,{"$f":"I88*G88","v":0},35.299999999999997,{"$f":"K88*G88","v":254.15999999999997},{"$f":"J88+L88","v":254.15999999999997}]
[3,"งานดินถม จากนอกโครงการ (แน่น)",null,null,null,null,{"$f":"((G85*G83)*0.7)-G90","v":377.99999999999994},"ลบ.ม.",81.900000000000006,{"$f":"I89*G89","v":30958.199999999997},{"$f":"J89*F89","v":0},{"$f":"K89*G89","v":0},{"$f":"J89+L89","v":30958.199999999997}]
[null,"งานดินถม จากงานดินตัด (แน่น)",null,null,null,null,125.99999999999999,"ลบ.ม.",33.700000000000003,{"$f":"I90*G90","v":4246.2},{"$f":"J90*F90","v":0},{"$f":"K90*G90","v":0},{"$f":"J90+L90","v":4246.2}]
[4,"งานท่อ 2-Ø 1.00 x 16 ม.",null,null,null,null,32,"ม.",1932.4859999999999,{"$f":"I91*G91","v":61839.551999999996},0,0,{"$f":"(J91+L91)*0.5","v":30919.775999999998}]
[null,"พิจารณาคิดงานท่อ คสล. ทั้งสิ้น (50%)"]
[null,null,"รวมคิดเป็นเงินค่าปรับพื้นที่ทั้งสิ้น",null,null,null,null,null,null,{"$f":"SUM(J87:J91)","v":97739.95199999999},null,{"$f":"SUM(L87:L91)","v":254.15999999999997},{"$f":"SUM(M87:M91)","v":67074.335999999996}]
[]
[]
["ลำดับ","รายการ",null,null,null,null,"จำนวน","หน่วย","ค่าวัสดุสิ่งของ",null,"ค่าแรงงาน",null,"รวมค่าวัสดุ"]
[null,null,null,null,null,null,null,null,"หน่วยละ","จำนวนเงิน","หน่วยละ","จำนวนเงิน","และค่าแรง"]
[null,"งานถนนทางเบี่ยง"]
[null,"    ความยาวถนนทางเบี่ยง",null,null,null,null,50,"ม."]
[null,"    ความกว้าง",null,null,null,null,6,"ม."]
[null,"    ถมสูง เฉลี่ย",null,null,null,null,4,"ม."]
[null,"    รวมปริมาณ",null,null,null,null,{"$f":"+G99*G100*G101","v":1200},"ลบ.ม."]
[]
[1,"งานกรุยทางถางป่า ",null,null,null,null,{"$f":"+G99*G100","v":300},"ตรม.",{"$f":"+ราคาต่อหน่วย!J68","v":3.54},{"$f":"I104*G104","v":1062},{"$f":"J104*F104","v":0},{"$f":"K104*G104","v":0},{"$f":"J104+L104","v":1062}]
[2,"งานดินตัด ขุดปรับ =",null,null,0.1,"ม.",{"$f":"G104*E105*0.3","v":9},"ลบ.ม.",0,{"$f":"I105*G105","v":0},{"$f":"+ราคาต่อหน่วย!J84","v":44.6},{"$f":"K105*G105","v":401.40000000000003},{"$f":"J105+L105","v":401.40000000000003}]
[3,"งานดินถม (แน่น)",null,null,null,null,{"$f":"G102*0.7","v":840},"ลบ.ม.",{"$f":"+ราคาต่อหน่วย!J126","v":116.2},{"$f":"I106*G106","v":97608},{"$f":"J106*F106","v":0},{"$f":"K106*G106","v":0},{"$f":"J106+L106","v":97608}]
[4,"งานท่อ 2-Ø 1.00 x 9 ม.",null,null,null,null,18,"ม.",{"$f":"+ราคาต่อหน่วย!J613","v":3100},{"$f":"I107*G107","v":55800},0,0,{"$f":"(J107+L107)*0.5","v":27900}]
[null,"พิจารณาคิดงานท่อ คสล. ทั้งสิ้น (50%)"]
[null,null,"รวมคิดเป็นเงินค่าปรับพื้นที่ทั้งสิ้น",null,null,null,null,null,null,{"$f":"SUM(J104:J107)","v":154470},null,{"$f":"SUM(L104:L107)","v":401.40000000000003},{"$f":"SUM(M104:M107)","v":126971.4}]
[]
["ลำดับ","รายการ",null,null,null,null,"จำนวน","หน่วย","ค่าวัสดุสิ่งของ",null,"ค่าแรงงาน",null,"รวมค่าวัสดุ"]
[null,null,null,null,null,null,null,null,"หน่วยละ","จำนวนเงิน","หน่วยละ","จำนวนเงิน","และค่าแรง"]
[null,"นั่งร้านตอกเสาเข็มพิจารณาต่อ พื้นที่ 10.00 x 10.00  =  100.00  ตร.ม."]
[null,"    ความยาวของงานที่จะก่อสร้าง",null,null,null,null,36,"ม."]
[null,"    ความกว้าง ",null,null,null,null,4,"ม.","(เฉพาะทางเคลื่อนอุปกรณ์/ปั้นจั่น)"]
[null,"    ความสูง เฉลี่ย ",null,null,null,null,3,"ม.","(เฉพาะทางเคลื่อนอุปกรณ์(ปั้นจั่น))"]
[null,"    จำนวนตอม่อที่สร้างนั่งร้าน",null,null,null,null,2,"ตับ","(สูง2.5-3.00 คิดนั่งร้าน 1 ชั้น)"]
[null,"    รวมพื้นที่นั่งร้านทั้งสิ้น",null,null,null,null,{"$f":"26*G115+(9*G117)*G115","v":176},"ตรม."]
[1,"ไม้เสาขนาด dia 6\"x3.00 ม",null,null,null,{"$f":"IF(G116<3,1,CEILING(G116/3,1))","v":1},{"$f":"141*F119","v":141},"ต้น",50,{"$f":"I119*G119","v":7050},0,{"$f":"K119*G119","v":0},{"$f":"J119+L119","v":7050}]
[2,"ไม้เนื้อแข็ง",null,null,null,null,154,"ลบ.ฟ.",423,{"$f":"I120*G120","v":65142},0,{"$f":"K120*G120","v":0},{"$f":"J120+L120","v":65142}]
[3,"น๊อต  ขนาด dia 3/4\" x 6\" - ตะปู",null,null,null,null,{"$f":"G120*0.25","v":38.5},"กก.",42,{"$f":"I121*G121","v":1617},0,{"$f":"K121*G121","v":0},{"$f":"J121+L121","v":1617}]
[4,"ค่าแรงประกอบ - รื้อถอน",null,null,null,null,100,"ตร.ม.",0,0,229.99999999999997,{"$f":"K122*G122","v":22999.999999999996},{"$f":"J122+L122","v":22999.999999999996}]
[null,null,"รวม",null,null,null,null,null,0,{"$f":"SUM(J119:J122)","v":73809},0,{"$f":"SUM(L119:L122)","v":22999.999999999996},{"$f":"SUM(M119:M122)","v":96809}]
[null,"ค่าวัสดุนั่งร้านตอกเข็ม / ตร.ม.",null,null,null,null,null,null,0,{"$f":"J123/100","v":738.09},0,{"$f":"L123/100","v":229.99999999999997},{"$f":"M123/100","v":968.09}]
[null,"ขอใช้ค่าวัสดุนั่งร้านตอกเข็ม / ตร.ม.",null,null,null,null,0.5,null,{"$f":"ROUND(J124*G125,0)","v":369},null,{"$f":"L124","v":229.99999999999997},null,{"$f":"M124*G125","v":484.04500000000002}]
[null,"ราคาค่าก่อสร้างนั่งร้านตอกเสาเข็ม",null,null,null,null,{"$f":"G118","v":176},"ตร.ม.",{"$f":"INT(I125)","v":369},{"$f":"G126*I126","v":64944},{"$f":"K125","v":229.99999999999997},{"$f":"G126*K126","v":40479.999999999993},{"$f":"J126+L126","v":105424}]
[null,null,null,"คิดเป็นเงินค่าก่อสร้างทั้งสิ้น",null,null,null,null,null,null,null,{"$f":"M126","v":105424}]

{"sheet":"ข้อมูลวัสดุ","index":16,"n_rows":106,"n_cols":13,"rows_kept":106,"cut":false,"hidden":false,"merged":[[27,0,30,0],[45,2,48,2],[27,2,30,2],[27,12,30,12],[27,1,30,1],[28,4,28,7],[45,0,48,0],[45,12,48,12],[45,1,48,1],[60,0,63,0],[60,1,63,1],[60,2,63,2],[60,12,63,12],[61,4,61,7],[0,0,0,12],[6,2,7,2],[6,1,7,1],[6,0,7,0],[6,4,6,7],[6,12,7,12]]}
["แบบฟอร์ม ข้อมูลราคาและวัสดุก่อสร้าง"]
[{"$f":"ราคาต่อหน่วย!A2","v":"(ใช้ราคาเฉลี่ยน้ำมัน ลิตรละ 29.50 บาท หาค่าขนส่ง,ค่าดำเนินการและค่าเสื่อมราคา)"}]
[{"$f":"\"สถานที่ก่อสร้าง  \"&ปร.5!C7&\"  \"&ปร.5!C8","v":"สถานที่ก่อสร้าง  ซอยจันทร์สุวรรณ  บ้านกุดแห่ หมู่ 1 ตำบลกุดแห่ อำเภอนากลาง  จังหวัดหนองบัวลำภู         จำนวน      1    แห่ง"}]
[{"$f":"\"ประมาณราคาวันที่   \"&TEXT(ปร.5!D9,\"d mmmm พ.ศ.  bbbb\")","v":"ประมาณราคาวันที่   11 กุมภาพันธ์ พ.ศ.  2563"}]
[]
[null,null,null,"ราคาวัสดุ"]
["ลำดับที่","ประเภท วัสดุ","หน่วย",null,"ระยะขนส่ง (กม.)",null,null,null,"ค่าขนส่ง","Factor","ค่าขนส่ง","รวม","ข้อมูลที่ตั้งแหล่งวัสดุ"]
[null,null,null,"ราคา","ทางราบ","ทางลูกเนิน","ทางภูเขา","รวม","ตามตาราง","ค่าขนส่ง","ปรับแก้"]
[null,null,null,"(บาท)","(กม.)","(กม.)","(กม.)","(กม.)","(บาท)","F= D/L","(บาท)","(บาท)"]
[1,"ดินถม","ลบ.ม.",{"$f":"ราคาวัสดุ!L4","v":84.11},{"$f":"ข้อมูลขนส่ง!C13","v":1},{"$f":"ข้อมูลขนส่ง!D13","v":0},{"$f":"ข้อมูลขนส่ง!E13","v":0},{"$f":"ข้อมูลขนส่ง!V13","v":1},{"$f":"K10/J10","v":11.19},{"$f":"ข้อมูลขนส่ง!U13/ข้อมูลขนส่ง!V13","v":1},{"$f":"ข้อมูลขนส่ง!Z13","v":11.19},{"$f":"K10+D10","v":95.3},{"$f":"ราคาวัสดุ!M4","v":"พื้นที่ใกล้เคียงสถานที่ก่อสร้าง"}]
[2,"ทรายถม ","ลบ.ม.",{"$f":"ราคาวัสดุ!L20","v":529.6},{"$f":"ข้อมูลขนส่ง!C21","v":30},{"$f":"ข้อมูลขนส่ง!D21","v":0},{"$f":"ข้อมูลขนส่ง!E21","v":0},{"$f":"ข้อมูลขนส่ง!V21","v":30},{"$f":"K11/J11","v":100.39},{"$f":"ข้อมูลขนส่ง!U21/ข้อมูลขนส่ง!V21","v":1},{"$f":"ข้อมูลขนส่ง!Z21","v":100.39},{"$f":"K11+D11","v":629.99},{"$f":"ราคาวัสดุ!M19","v":0}]
[3,"ลูกรัง","ลบ.ม.",{"$f":"ราคาวัสดุ!L5","v":140.19},{"$f":"ข้อมูลขนส่ง!C15","v":2},{"$f":"ข้อมูลขนส่ง!D15","v":0},{"$f":"ข้อมูลขนส่ง!E15","v":0},{"$f":"ข้อมูลขนส่ง!V15","v":2},13.55,{"$f":"ข้อมูลขนส่ง!U15/ข้อมูลขนส่ง!V15","v":1},{"$f":"ข้อมูลขนส่ง!Z15","v":13.55},{"$f":"K12+D12","v":153.74},{"$f":"ราคาวัสดุ!M5","v":"พื้นที่ใกล้เคียงสถานที่ก่อสร้าง"}]
[4,"วัสดุคัดเลือก","ลบ.ม.",{"$f":"(D12+D10)/2","v":112.15},{"$f":"E12","v":2},{"$f":"F12","v":0},{"$f":"G12","v":0},{"$f":"H12","v":2},13.55,{"$f":"J12","v":1},{"$f":"K12","v":13.55},{"$f":"K13+D13","v":125.7},{"$f":"M12","v":"พื้นที่ใกล้เคียงสถานที่ก่อสร้าง"}]
[5,"หินขนาดต่าง ๆ",null,null,null,null,null,null,null,null,null,{"$f":"K14+D14","v":0},{"$f":"เปรียบเทียบราคา!Q25","v":"โรงโม่       อ.นากลาง  จ.หนองบัวลำภู"}]
[null," - หินคลุก","ลบ.ม.",{"$f":"ราคาวัสดุ!L8","v":170},{"$f":"ข้อมูลขนส่ง!C19","v":62},{"$f":"ข้อมูลขนส่ง!D19","v":0},{"$f":"ข้อมูลขนส่ง!E19","v":0},{"$f":"ข้อมูลขนส่ง!V19","v":62},126.94,{"$f":"ข้อมูลขนส่ง!U19/ข้อมูลขนส่ง!V19","v":1},{"$f":"ข้อมูลขนส่ง!Z19","v":126.94},296.94]
[null," - หินฝุ่น","ลบ.ม.",{"$f":"ราคาวัสดุ!L9","v":280},{"$f":"E15","v":62},{"$f":"F15","v":0},0,62,126.94,1,{"$f":"K15","v":126.94},406.94]
[null," - หิน 3/8","ลบ.ม.",{"$f":"ราคาวัสดุ!L10","v":230},{"$f":"E16","v":62},0,0,62,126.94,1,{"$f":"K16","v":126.94},356.94]
[null," - หิน 1/2","ลบ.ม.",{"$f":"ราคาวัสดุ!L11","v":330},{"$f":"E17","v":62},0,0,62,126.94,1,{"$f":"K17","v":126.94},456.94]
[null," - หิน 3/4","ลบ.ม.",{"$f":"ราคาวัสดุ!L12","v":290},{"$f":"E18","v":62},0,0,62,126.94,1,{"$f":"K18","v":126.94},416.94]
[null," - หินใหญ่","ลบ.ม."]
[6,"เหล็กกลม SR 24 ( รวมค่าขนขึ้น-ลง )",null,null,null,null,null,null,null,null,null,null,{"$f":"ราคาวัสดุ!M30","v":0}]
[null," - 6 มม.","ตัน",{"$f":"ราคาวัสดุ!L30","v":20630.38},{"$f":"ข้อมูลขนส่ง!C29","v":46},{"$f":"ข้อมูลขนส่ง!D29","v":0},{"$f":"ข้อมูลขนส่ง!E29","v":0},{"$f":"ข้อมูลขนส่ง!V29","v":46},67.44,{"$f":"ข้อมูลขนส่ง!U29/ข้อมูลขนส่ง!V29","v":1},{"$f":"ข้อมูลขนส่ง!Z29","v":67.44},20697.82]
[null," - 9 มม. ","ตัน",{"$f":"ราคาวัสดุ!L31","v":18448.04},{"$f":"$E$22","v":46},{"$f":"$F$22","v":0},{"$f":"$G$22","v":0},{"$f":"$H$22","v":46},67.44,{"$f":"$J$22","v":1},{"$f":"$K$22","v":67.44},18515.48]
[null," - 12 มม.","ตัน",{"$f":"ราคาวัสดุ!L32","v":18750},{"$f":"$E$22","v":46},{"$f":"$F$22","v":0},{"$f":"$G$22","v":0},{"$f":"$H$22","v":46},67.44,{"$f":"$J$22","v":1},{"$f":"$K$22","v":67.44},18817.439999999999]
[null," - 15  มม.","ตัน",{"$f":"ราคาวัสดุ!L33","v":19921.259999999998},{"$f":"$E$22","v":46},{"$f":"$F$22","v":0},{"$f":"$G$22","v":0},{"$f":"$H$22","v":46},67.44,{"$f":"$J$22","v":1},{"$f":"$K$22","v":67.44},19988.699999999997]
[null," - 19 มม.","ตัน",{"$f":"ราคาวัสดุ!L34","v":19688.080000000002},{"$f":"$E$22","v":46},{"$f":"$F$22","v":0},{"$f":"$G$22","v":0},{"$f":"$H$22","v":46},67.44,{"$f":"$J$22","v":1},{"$f":"$K$22","v":67.44},19755.52]
[null," - 25 มม.","ตัน",{"$f":"ราคาวัสดุ!L35","v":21818.22},{"$f":"$E$22","v":46},{"$f":"$F$22","v":0},{"$f":"$G$22","v":0},{"$f":"$H$22","v":46},67.44,{"$f":"$J$22","v":1},{"$f":"$K$22","v":67.44},21885.66]
["ลำดับที่","ประเภท วัสดุ","หน่วย","ราคาวัสดุ",null,null,null,null,null,null,null,null,"ข้อมูลที่ตั้งแหล่งวัสดุ"]
[null,null,null,null,"ระยะขนส่ง (กม.)",null,null,null,"ค่าขนส่ง","Factor","ค่าขนส่ง","รวม"]
[null,null,null,"ราคา","ทางราบ","ทางลูกเนิน","ทางภูเขา","รวม","ตามตาราง","ค่าขนส่ง","ปรับแก้"]
[null,null,null,"(บาท)","(กม.)","(กม.)","(กม.)","(กม.)","(บาท)","F= D/L","(บาท)","(บาท)"]
[7,"เหล็กข้ออ้อย  SD 30  ( รวมค่าขนขึ้น-ลง )",null,null,null,null,null,null,null,null,null,null,{"$f":"M21","v":0}]
[null," - 12 มม.","ตัน",{"$f":"ราคาวัสดุ!L37","v":16995.240000000002},{"$f":"$E$22","v":46},{"$f":"$F$22","v":0},{"$f":"$G$22","v":0},{"$f":"$H$22","v":46},{"$f":"K33/J33","v":67.44},{"$f":"$J$22","v":1},{"$f":"$K$22","v":67.44},{"$f":"K33+D33","v":17062.68}]
[null," - 16 มม.","ตัน",{"$f":"ราคาวัสดุ!L38","v":19844.240000000002},46,0,0,46,67.44,1,{"$f":"$K$22","v":67.44},19911.68]
[null," - 20 มม.","ตัน",{"$f":"ราคาวัสดุ!L39","v":19829.59},46,0,0,46,67.44,1,{"$f":"$K$22","v":67.44},19897.03]
[null," - 25 มม.","ตัน",{"$f":"ราคาวัสดุ!L40","v":19953.27},46,0,0,46,67.44,1,{"$f":"$K$22","v":67.44},20020.71]
[8,"เหล็กข้ออ้อย  SD 40  ( รวมค่าขนขึ้น-ลง )",null,null,null,null,null,null,null,null,null,null,{"$f":"M21","v":0}]
[null," - 12 มม.","ตัน",{"$f":"ราคาวัสดุ!L42","v":17434.580000000002},46,0,0,46,67.44,1,{"$f":"$K$22","v":67.44},17502.02]
[null," - 16 มม.","ตัน",{"$f":"ราคาวัสดุ!L43","v":17000},46,0,0,46,67.44,1,{"$f":"$K$22","v":67.44},17067.439999999999]
[null," - 20 มม.","ตัน",{"$f":"ราคาวัสดุ!L44","v":17000},46,0,0,46,67.44,1,{"$f":"$K$22","v":67.44},17067.439999999999]
[null," - 25 มม.","ตัน",{"$f":"ราคาวัสดุ!L45","v":16700},46,0,0,46,67.44,1,{"$f":"$K$22","v":67.44},16767.439999999999]
[null,null,null,null,null,null,null,null,{"$error":"#DIV/0!"}]
[{"$f":"+A3","v":"สถานที่ก่อสร้าง  ซอยจันทร์สุวรรณ  บ้านกุดแห่ หมู่ 1 ตำบลกุดแห่ อำเภอนากลาง  จังหวัดหนองบัวลำภู         จำนวน      1    แห่ง"},null,null,null,null,null,null,null,{"$error":"#DIV/0!"}]
[{"$f":"+A4","v":"ประมาณราคาวันที่   11 กุมภาพันธ์ พ.ศ.  2563"},null,null,null,null,null,null,null,{"$error":"#DIV/0!"}]
[null,null,null,null,null,null,null,null,{"$error":"#DIV/0!"}]
["ลำดับที่","ประเภท วัสดุ","หน่วย","ราคาวัสดุ",null,null,null,null,{"$error":"#DIV/0!"},null,null,null,"ข้อมูลที่ตั้งแหล่งวัสดุ"]
[null,null,null,"ราคา","ระยะขนส่ง",null,null,null,{"$error":"#DIV/0!"},null,null,"รวม"]
[null,null,null,"วัสดุที่แหล่ง",null,null,null,null,{"$error":"#DIV/0!"}]
[null,null,null,"(บาท)","(กม.)",null,null,null,{"$error":"#DIV/0!"},null,null,"(บาท)"]
[9,"ลวดอัดแรง   ( รวมค่าขนขึ้น-ลง )"]
[null,"   - ชนิดตีเกลียว (PC STRAND) 7 เส้น \n      ศก. 3/8 นิ้ว และ 1/2 นิ้ว","ตัน"]
[10,"ลวดผูกเหล็ก","กก.",{"$f":"ราคาวัสดุ!L46","v":57.95},0,0,0,0,0,0,0,{"$f":"D52","v":57.95},{"$f":"M37","v":0}]
[11,"ท่อกลม คสล. ",null,null,null,null,null,null,null,null,null,null,{"$f":"ราคาวัสดุ!M73","v":0}]
[null," -  dia. 0.30 ม.","ท่อน"]
[null," -  dia. 0.40 ม.","ท่อน",{"$f":"ราคาวัสดุ!L73","v":385.61},{"$f":"ข้อมูลขนส่ง!C41","v":70},{"$f":"ข้อมูลขนส่ง!D41","v":0},{"$f":"ข้อมูลขนส่ง!E41","v":0},{"$f":"ข้อมูลขนส่ง!V41","v":70},165.64,{"$f":"ข้อมูลขนส่ง!U41/ข้อมูลขนส่ง!V41","v":1},{"$f":"ข้อมูลขนส่ง!Z41","v":165.64},{"$f":"K55+D55","v":551.25}]
[null," -  dia. 0.60 ม.","ท่อน",{"$f":"ราคาวัสดุ!L74","v":531.03},{"$f":"E55","v":70},{"$f":"F55","v":0},{"$f":"G55","v":0},{"$f":"H55","v":70},165.64,{"$f":"J55","v":1},{"$f":"K55","v":165.64},{"$f":"K56+D56","v":696.67}]
[null," -  dia. 0.80 ม.","ท่อน",{"$f":"ราคาวัสดุ!L75","v":889.02},{"$f":"E56","v":70},{"$f":"F56","v":0},0,70,165.64,1,{"$f":"K56","v":165.64},{"$f":"K57+D57","v":1054.6599999999999}]
[null," -  dia. 1.00 ม.","ท่อน",{"$f":"ราคาวัสดุ!L76","v":1278.74},{"$f":"E57","v":70},0,0,70,165.64,1,{"$f":"K57","v":165.64},{"$f":"K58+D58","v":1444.38}]
[null," -  dia. 1.20 ม.","ท่อน",{"$f":"ราคาวัสดุ!L77","v":1678.04},{"$f":"E58","v":70},0,0,70,165.64,1,{"$f":"K58","v":165.64},{"$f":"K59+D59","v":1843.6799999999998}]
[]
["ลำดับที่","ประเภท วัสดุ","หน่วย","ราคาวัสดุ",null,null,null,null,null,null,null,null,"ข้อมูลที่ตั้งแหล่งวัสดุ"]
[null,null,null,null,"ระยะขนส่ง (กม.)",null,null,null,"ค่าขนส่ง","Factor","ค่าขนส่ง","รวม"]
[null,null,null,"ราคา","ทางราบ","ทางลูกเนิน","ทางภูเขา","รวม","ตามตาราง","ค่าขนส่ง","ปรับแก้"]
[null,null,null,"(บาท)","(กม.)","(กม.)","(กม.)","(กม.)","(บาท)","F= D/L","(บาท)","(บาท)"]
[12,"ปูนซีเมนต์ปอร์ตแลนด์  ( รวมค่าขนขึ้นลง )",null,null,null,null,null,null,null,null,null,null,{"$f":"ราคาวัสดุ!แหล่งปูน","v":0}]
[null,"12.1 ปูนซีเมนต์ปอร์ตแลนด์ ","ตัน",{"$f":"ราคาวัสดุ!ราคาปูนtype1ที่แหล่ง","v":2242.9899999999998},{"$f":"ข้อมูลขนส่ง!C31","v":46},{"$f":"ข้อมูลขนส่ง!D31","v":0},{"$f":"ข้อมูลขนส่ง!E31","v":0},{"$f":"ข้อมูลขนส่ง!V31","v":46},{"$f":"K66/J66","v":67.44},{"$f":"ข้อมูลขนส่ง!U31/ข้อมูลขนส่ง!V31","v":1},{"$f":"ข้อมูลขนส่ง!Z31","v":67.44},{"$f":"K66+D66","v":2310.4299999999998}]
[null,"12.1 ปูนซีเมนต์ผสม","ตัน",{"$f":"ราคาวัสดุ!L17","v":2242.9899999999998},{"$f":"E66","v":46},0,0,46,67.44,1,{"$f":"K66","v":67.44},2310.4299999999998]
[13,"ทรายหยาบ","ลบ.ม.",{"$f":"ราคาวัสดุ!L19","v":529.6},{"$f":"ข้อมูลขนส่ง!C21","v":30},{"$f":"ข้อมูลขนส่ง!D21","v":0},{"$f":"ข้อมูลขนส่ง!E21","v":0},{"$f":"ข้อมูลขนส่ง!V21","v":30},100.39,{"$f":"ข้อมูลขนส่ง!U21/ข้อมูลขนส่ง!V21","v":1},{"$f":"ข้อมูลขนส่ง!Z21","v":100.39},629.99]
[14,"หินผสมคอนกรีต","ลบ.ม.",{"$f":"IF(ข้อมูลขนส่ง!F22=1,ราคาวัสดุ!L12,ราคาวัสดุ!L14)","v":290},{"$f":"ข้อมูลขนส่ง!C23","v":62},{"$f":"ข้อมูลขนส่ง!D23","v":0},{"$f":"ข้อมูลขนส่ง!E23","v":0},{"$f":"ข้อมูลขนส่ง!V23","v":62},205.65,{"$f":"ข้อมูลขนส่ง!U23/ข้อมูลขนส่ง!V23","v":1},{"$f":"ข้อมูลขนส่ง!Z23","v":205.65},495.65]
[15,"คอนกรีต",null,null,null,null,null,null,null,null,null,0]
[null," - ค1","ลบ.ม.",null,null,null,null,null,{"$f":"K71/J71","v":{"$error":"#DIV/0!"}},null,null,{"$f":"K71+D71","v":0}]
[null," - ค2","ลบ.ม.",null,null,null,null,null,{"$error":"#DIV/0!"},null,null,0]
[null," - ค3","ลบ.ม.",null,null,null,null,null,{"$error":"#DIV/0!"},null,null,0]
[null," - ค4","ลบ.ม.",null,null,null,null,null,{"$error":"#DIV/0!"},null,null,0]
[null," - คอนกรีตหยาบ","ลบ.ม.",null,null,null,null,null,{"$error":"#DIV/0!"},null,null,0]
[null," - ปูนทราย","ลบ.ม.",null,null,null,null,null,{"$error":"#DIV/0!"},null,null,0]
[null,null,null,null,null,null,null,null,{"$error":"#DIV/0!"},null,null,0]
[15,"ยางแอสฟัลต์"]
[null," - CSS-1h","ตัน",{"$f":"ราคาวัสดุ!L22","v":19057.939999999999},{"$f":"E82","v":631},0,0,631,920.47,1,920.47,{"$f":"K79+D79","v":19978.41},{"$f":"ราคาวัสดุ!M22","v":"บมจ. เอสโซ่ (ประเทศไทย) อ.ศรีราชา จ.ชลบุรี"}]
[null," - CSS-1","ตัน",{"$f":"ราคาวัสดุ!L23","v":19488.600000000002},{"$f":"E83","v":631},{"$f":"F83","v":0},{"$f":"G83","v":0},{"$f":"H83","v":631},{"$f":"K80/J80","v":920.47},{"$f":"J83","v":1},{"$f":"K83","v":920.47},{"$f":"K80+D80","v":20409.070000000003},{"$f":"ราคาวัสดุ!M23","v":"บมจ. เอสโซ่ (ประเทศไทย) อ.ศรีราชา จ.ชลบุรี"}]
[null," - CRS-2","ตัน",{"$f":"ราคาวัสดุ!L24","v":18841.939999999999},{"$f":"E80","v":631},{"$f":"F80","v":0},{"$f":"G80","v":0},{"$f":"H80","v":631},{"$f":"K81/J81","v":920.47},{"$f":"J80","v":1},{"$f":"K80","v":920.47},{"$f":"K81+D81","v":19762.41},{"$f":"ราคาวัสดุ!M24","v":"บมจ. เอสโซ่ (ประเทศไทย) อ.ศรีราชา จ.ชลบุรี"}]
[null," - AC 60/70","ตัน",{"$f":"ราคาวัสดุ!L25","v":14469.27},{"$f":"ข้อมูลขนส่ง!C25","v":631},{"$f":"ข้อมูลขนส่ง!D25","v":0},{"$f":"ข้อมูลขนส่ง!E25","v":0},{"$f":"ข้อมูลขนส่ง!V25","v":631},920.47,{"$f":"ข้อมูลขนส่ง!U25/ข้อมูลขนส่ง!V25","v":1},{"$f":"ข้อมูลขนส่ง!Z25","v":920.47},15389.74,{"$f":"ราคาวัสดุ!M27","v":"บมจ.ทิปโก้แอสฟัลท์ อ.สูงเนิน จ.นครราชสีมา"}]
[null," - MC-70","ตัน",{"$f":"ราคาวัสดุ!L26","v":35469.269999999997},{"$f":"E82","v":631},0,0,631,920.47,{"$f":"J82","v":1},{"$f":"K82","v":920.47},36389.74,{"$f":"ราคาวัสดุ!M26","v":"บมจ. เอสโซ่ (ประเทศไทย) อ.ศรีราชา จ.ชลบุรี"}]
[null," - CSS-1h (EMA)","ตัน",{"$f":"ราคาวัสดุ!L27","v":0},631,0,0,631,{"$f":"K84/J84","v":920.47},{"$f":"J83","v":1},{"$f":"K83","v":920.47},{"$f":"K84+D84","v":920.47},{"$f":"ราคาวัสดุ!M27","v":"บมจ.ทิปโก้แอสฟัลท์ อ.สูงเนิน จ.นครราชสีมา"}]
[]
[]
[]
[]
[null,"หมายเหตุ    "]
[null,"1. รายการที่ 1 - 5 และ 13 -14 ให้แสดงแผนที่สังเขปเส้นทางขนส่งจากแหล่งวัสดุถึงโครงการ     กรณีมีแหล่งวัสดุหลายแหล่งให้แสดงทั้งหมดพร้อมสืบราคาวัสดุที่แหล่ง "]
[null,"2. หากกระทรวงพาณิชย์ไม่ได้กำหนดราคาวัสดุรายการใดให้สืบราคาวัสดุและแสดงหลักฐานการสืบราคาอย่างน้อย  2 แหล่ง"]
[null,"3. ทางขนส่งจากแหล่งผลิตถึงจังหวัด และทางขนส่งจากจังหวัดถึงหน้างานให้พิจารณาตามลักษณะภูมิประเทศ โดยทางขนส่งจากแหล่งผลิตถึงจังหวัดให้ใช้ประกาศจาก"]
[null,"   กรมฯ โดย สสอ.  ขณะที่ยังไม่มีประกาศดังกล่าว ให้ สทช. เป็นผู้กำหนดให้ สนง.ทชจ. ในพื้นที่รับผิดชอบใช้งานก่อนในเบื้องต้น"]
[null,"                       -  ทางลูกเนิน    มีความลาดชัน  4-8 %            "]
[null,"                       -  ทางภูเขา      มีความลาดชันมากกว่า  8 %\n           "]
[null,"4. วัสดุเหล็กเส้น , ปูนซีเมนต์ , ยางแอสฟัลท์ ขนส่งโดยรถบรรทุก 10 ล้อ + ลากพ่วง"]
[null,"     (คู่มือแนวทาง วิธีปฏิบัติและรายละเอียดประกอบการคำนวณราคากลางงานก่อสร้าง , น-91 , สำนักมาตรฐานการจัดซื้อจัดจ้าง-"]
[null,"      ภาครัฐ  กรมบัญชีกลาง  กระทรวงการคลัง , 2555)"]
[null,"5. วัสดุผสมคอนกรีต การเผื่อความเสียหายของปริมาณให้คิดในราคาต่อหน่วยดังนี้"]
[null,"                - ปริมาณปูนซีเมนต์คิดเผื่อร้อยละ 5"]
[null,"                - ปริมาณทรายหยาบคิดเผื่อร้อยละ 20"]
[null,"                - ปริมาณหินคิดเผื่อร้อยละ 15"]
[null,"6. งานเหล็กเสริมคอนกรีตให้คิดปริมาณหน่วยเป็นกิโลกรัมหรือตัน โดยให้รวมถึงการเผื่อระยะทาบ ระยะงอ และเศษเสียหายโดยพิจารณาดังนี้"]
[null,"     6.1 ระยะทาบเหล็กและระยะงอเหล็ก ให้คิดปริมาณจริงตามแบบ กรณีในแบบไม่ระบุให้คิดตามมาตรฐานของวิศวกรรมสถานแห่งประเทศไทย (ว.ส.ท.)"]
[null,"     6.2 การเผื่อเศษเสียหายให้เพิ่มปริมาณเผื่อได้ 10%"]
[null,"7. กรณีขนส่งวัสดุบนทางภูเขา  และมีความลาดชันมากกว่า  15%  สามารถพิจารณาขนส่งโดยรถบรรทุก  6  ล้อได้"]

{"sheet":"วันก่อสร้าง","index":17,"n_rows":25,"n_cols":29,"rows_kept":25,"cut":false,"hidden":false,"merged":[]}
[null,null,null,null,null,null,null,"แผนการปฏิบัติงาน"]
[null,"โครงการ",{"$f":"ข้อมูลโครงการ!G7&\"  \"&ข้อมูลโครงการ!G8","v":"ซอยจันทร์สุวรรณ  บ้านกุดแห่ หมู่ 1 ตำบลกุดแห่ อำเภอนากลาง  จังหวัดหนองบัวลำภู"}]
[null,"ระยะทางก่อสร้าง",{"$f":"ข้อมูลโครงการ!G12*0","v":0},"กม."]
[null,"กรณีพื้นที่","ปกติ"]
[]
["ลำดับ","ประเภทงาน","ปริมาณ","อัตราวัน","หน่วย","ใช้",null,null,null,null,"แผนการปฏิบัติงาน",null,null,null,null,null,"ถึงวันที่",null,"คิดเป็น","ปรับเป็น","วันเริ่มต้น","ปรับแก้วันเริ่มต้น",{"$f":"IF(C4=W8,5,0)","v":0}]
[1,"เตรียมงานโครงการ",{"$f":"+C3","v":0},15,"โครงการ",{"$f":"T7","v":15},null,null,null,null,null,null,null,null,null,null,{"$f":"IF(T7+U7=0,\"\",T7+U7)","v":15},1,{"$f":"IF(D7=0,\"\",15)","v":15},{"$f":"IF(S7=\"\",0,ROUNDUP(S7,0))","v":15},0,null,"ปกติ",null,null,null,null,null,{"$f":"IF(U7=MAX($U$7:$U$24),T7,0)","v":0}]
[2,"งานกรุยทาง/ปรับเกลี่ย",{"$f":"+C3","v":0},{"$f":"5+$W$6","v":5},"กม.",0,null,null,null,null,null,null,null,null,null,null,{"$f":"IF(T8+U8=0,\"\",T8+U8)","v":""},{"$f":"IF(S8=0,0,MAX($R$6:R7)+1)","v":0},{"$f":"IF(D8=0,\"\",D8*$C$3)","v":0},{"$f":"IF(S8=\"\",0,ROUNDUP(S8,0))","v":0},{"$f":"IF(T8=0,0,IF(OR(V8=0,V8=\"\"),MAX($U$7:U7)+VLOOKUP(MAX($R$7:R7),$R$7:T7,3),V8))","v":0},null,"ฝนตกชุก",null,null,null,null,null,{"$f":"IF(U8=MAX($U$7:$U$24),T8,0)","v":0}]
[3,"งานท่อ",6,{"$f":"5+$W$6","v":5},"แถว",30,null,null,null,null,null,null,null,null,null,null,45,{"$f":"IF(S9=0,0,MAX($R$6:R8)+1)","v":2},{"$f":"IF(D9=0,\"\",D9*$C$9)","v":30},30,{"$f":"IF(T9=0,0,IF(OR(V9=0,V9=\"\"),MAX($U$7:U8)+VLOOKUP(MAX($R$7:R8),$R$7:T8,3),V9))","v":15},null,null,null,null,null,null,null,{"$f":"IF(U9=MAX($U$7:$U$24),T9,0)","v":0}]
[4,"งานดินตัด ดินถม (ลบ.ม./กม.)",{"$f":"+ปร.4!M32+ปร.4!M33+ปร.4!M25","v":0},{"$f":"IF(C10<=2000,10+W6,ROUND(C10/2000,2)*10+$W$6)","v":10},"กม./2,000 ลบ.ม.",0,null,null,null,null,null,null,null,null,null,null,"",{"$f":"IF(S10=0,0,MAX($R$6:R9)+1)","v":0},{"$f":"IF(D10=0,\"\",D10*$C$3)","v":0},0,{"$f":"IF(T10=0,0,IF(OR(V10=0,V10=\"\"),MAX($U$7:U9)+VLOOKUP(MAX($R$7:R9),$R$7:T9,3),V10))","v":0},null,null,null,null,null,null,null,{"$f":"IF(U10=MAX($U$7:$U$24),T10,0)","v":0}]
[5,"งานลูกรัง",{"$f":"+C3","v":0},{"$f":"10+$W$6","v":10},"กม.",0,null,null,null,null,null,null,null,null,null,null,{"$f":"IF(T11+U11=0,\"\",T11+U11)","v":""},{"$f":"IF(S11=0,0,MAX($R$6:R10)+1)","v":0},{"$f":"IF(D11=0,\"\",D11*$C$3)","v":0},0,{"$f":"IF(T11=0,0,IF(OR(V11=0,V11=\"\"),MAX($U$7:U10)+VLOOKUP(MAX($R$7:R10),$R$7:T10,3),V11))","v":0},null,null,null,null,null,null,null,{"$f":"IF(U11=MAX($U$7:$U$24),T11,0)","v":0}]
[6,"งานรางระบายน้ำ+บ่อพัก",0,{"$f":"IF(C4=\"ปกติ\",1/10,1/(10+$W$6))","v":0.1},"ม.",0,null,null,null,null,null,null,null,null,null,null,"",{"$f":"IF(S12=0,0,MAX($R$6:R11)+1)","v":0},{"$f":"IF(D12=0,\"\",BackUp!L361*D12)","v":0},0,{"$f":"IF(T12=0,0,IF(OR(V12=0,V12=\"\"),MAX($U$7:U11)+VLOOKUP(MAX($R$7:R11),$R$7:T11,3),V12))","v":0},null,null,null,null,null,null,null,{"$f":"IF(U12=MAX($U$7:$U$24),T12,0)","v":0}]
[7,"งานหินคลุก",{"$f":"+C3","v":0},{"$f":"10+$W$6","v":10},"กม.",0,null,null,null,null,null,null,null,null,null,null,"",{"$f":"IF(S13=0,0,MAX($R$6:R12)+1)","v":0},{"$f":"IF(D13=0,\"\",D13*$C$13)","v":0},0,{"$f":"IF(T13=0,0,IF(OR(V13=0,V13=\"\"),MAX($U$7:U12)+VLOOKUP(MAX($R$7:R12),$R$7:T12,3),V13))","v":0},null,null,null,null,null,null,null,0]
[8,"งานกำแพงปากท่อ",3,{"$f":"5+$W$6","v":5},"จุด",15,null,null,null,null,null,null,null,null,null,null,60,{"$f":"IF(S14=0,0,MAX($R$6:R13)+1)","v":3},{"$f":"IF(D14=0,\"\",D14*$C$14)","v":15},15,{"$f":"IF(T14=0,0,IF(OR(V14=0,V14=\"\"),MAX($U$7:U13)+VLOOKUP(MAX($R$7:R13),$R$7:T13,3),V14))","v":45},45,null,null,null,null,null,null,{"$f":"IF(U14=MAX($U$7:$U$24),T14,0)","v":15}]
[9,"งาน Prime Coat",{"$f":"+C3","v":0},{"$f":"5+$W$6","v":5},"กม.",0,null,null,null,null,null,null,null,null,null,null,{"$f":"IF(T15+U15=0,\"\",T15+U15)","v":""},{"$f":"IF(S15=0,0,MAX($R$6:R14)+1)","v":0},{"$f":"IF(D15=0,\"\",D15*$C$13)","v":0},0,{"$f":"IF(T15=0,0,IF(OR(V15=0,V15=\"\"),MAX($U$7:U14)+VLOOKUP(MAX($R$7:R14),$R$7:T14,3),V15))","v":0},null,null,null,null,null,null,null,0]
[10,"งานผิว PARA AC",{"$f":"+C3","v":0},{"$f":"5+$W$6","v":5},"กม.",0,null,null,null,null,null,null,null,null,null,null,"",{"$f":"IF(S16=0,0,MAX($R$6:R15)+1)","v":0},{"$f":"IF(D16=0,\"\",D16*$C$3)","v":0},0,{"$f":"IF(T16=0,0,IF(OR(V16=0,V16=\"\"),MAX($U$7:U15)+VLOOKUP(MAX($R$7:R15),$R$7:T15,3),V16))","v":0},null,null,null,null,null,null,null,0]
[11,"งานเครื่องหมายจราจร",{"$f":"+C3","v":0},{"$f":"5+$W$6","v":5},"กม.",0,null,null,null,null,null,null,null,null,null,null,"",{"$f":"IF(S17=0,0,MAX($R$6:R16)+1)","v":0},0,0,{"$f":"IF(T17=0,0,IF(OR(V17=0,V17=\"\"),MAX($U$7:U16)+VLOOKUP(MAX($R$7:R16),$R$7:T16,3),V17))","v":0},null,null,null,null,null,null,null,0]
[null,null,null,null,null,null,null,null,null,null,null,null,null,null,null,null,"",{"$f":"IF(S18=0,0,MAX($R$6:R17)+1)","v":4},"",null,{"$f":"IF(T18=0,0,IF(OR(V18=0,V18=\"\"),MAX($U$7:U17)+VLOOKUP(MAX($R$7:R17),$R$7:T17,3),V18))","v":0},null,null,null,null,null,null,null,0]
[null,null,null,null,null,null,null,null,null,null,null,null,null,null,null,null,"",{"$f":"IF(S19=0,0,MAX($R$6:R18)+1)","v":5},"",null,{"$f":"IF(T19=0,0,IF(OR(V19=0,V19=\"\"),MAX($U$7:U18)+VLOOKUP(MAX($R$7:R18),$R$7:T18,3),V19))","v":0},null,null,null,null,null,null,null,0]
[null,null,null,null,null,null,null,null,null,null,null,null,null,null,null,null,"",{"$f":"IF(S20=0,0,MAX($R$6:R19)+1)","v":6},"",null,{"$f":"IF(T20=0,0,IF(OR(V20=0,V20=\"\"),MAX($U$7:U19)+VLOOKUP(MAX($R$7:R19),$R$7:T19,3),V20))","v":0},null,null,null,null,null,null,null,0]
[null,null,null,null,null,null,null,null,null,null,null,null,null,null,null,null,"",{"$f":"IF(S21=0,0,MAX($R$6:R20)+1)","v":7},"",null,{"$f":"IF(T21=0,0,IF(OR(V21=0,V21=\"\"),MAX($U$7:U20)+VLOOKUP(MAX($R$7:R20),$R$7:T20,3),V21))","v":0},null,null,null,null,null,null,null,0]
[null,null,null,null,null,null,null,null,null,null,null,null,null,null,null,null,"",{"$f":"IF(S22=0,0,MAX($R$6:R21)+1)","v":8},"",null,{"$f":"IF(T22=0,0,IF(OR(V22=0,V22=\"\"),MAX($U$7:U21)+VLOOKUP(MAX($R$7:R21),$R$7:T21,3),V22))","v":0},null,null,null,null,null,null,null,0]
[null,null,null,null,null,null,null,null,null,null,null,null,null,null,null,null,"",{"$f":"IF(S23=0,0,MAX($R$6:R22)+1)","v":9},"",null,{"$f":"IF(T23=0,0,IF(OR(V23=0,V23=\"\"),MAX($U$7:U22)+VLOOKUP(MAX($R$7:R22),$R$7:T22,3),V23))","v":0},null,null,null,null,null,null,null,0]
[null,null,null,null,null,null,null,null,null,null,null,null,null,null,null,null,"",{"$f":"IF(S24=0,0,MAX($R$6:R23)+1)","v":10},"",null,{"$f":"IF(T24=0,0,IF(OR(V24=0,V24=\"\"),MAX($U$7:U23)+VLOOKUP(MAX($R$7:R23),$R$7:T23,3),V24))","v":0},null,null,null,null,null,null,null,0]
[null,null,null,"รวม",null,{"$f":"U25","v":60},null,null,null,null,null,null,null,null,null,null,null,null,null,{"$f":"SUM(T7:T17)","v":60},{"$f":"MAX(Q7:Q24)","v":60}]

{"sheet":"Box","index":18,"n_rows":236,"n_cols":40,"rows_kept":236,"cut":false,"hidden":false,"merged":[]}
[null,"     โปรดเลือกและกำหนดความยาว Box Cultvert"]
[null," BOX CULTVERT "]
[]
[]
[null,"ความยาว Box",null,0,"เมตร"]
[null,"จำนวนช่อง",null,null,null,"กำแพงปากท่อ",null,2,"ด้าน"]
[null," BOX CULTVERT "]
[null,{"$f":"IF((D70+1)=1,\"Single Box ขนาด \",\" Multiple Box ขนาด \")","v":"Single Box ขนาด "},null,{"$f":"D70+1&\" - \"&VLOOKUP(B70,ข้อมูล_Box!A4:B19,2)&\" ความยาว \"&TEXT(D5,\"0.00\")&\" เมตร\"","v":"1 - 2.40 เมตร x 2.10 เมตร ความยาว 0.00 เมตร"}]
[null,"กำแพงปากท่อ",null,{"$f":"H6","v":2},"ด้าน",null,"Skew",{"$f":"IF(B71=2,\"15 \",IF(B71=3,\"30 \",IF(B71=4,\"45 \",\"0 \")))","v":"0 "},"องศา"]
[null,"แบบมาตรฐานเลขที่ ",null,"ทช-ท-3004 , ทช-ท-3005 , ทช-ท-3010 และ ทช-ท-3011"]
[]
[null,null,null,null,null,"ค่างานต้นทุนท่อลอดเหลี่ยม"]
[null,{"$f":"ข้อมูลโครงการ!G7","v":"ซอยจันทร์สุวรรณ"}]
[null,{"$f":"\"  ขนาด  \"&D8&\" Skew  \"&H9&\" องศา\"","v":"  ขนาด  1 - 2.40 เมตร x 2.10 เมตร ความยาว 0.00 เมตร Skew  0  องศา"}]
[null,null,null,null,null,null,null,null,null,"กม.ที่ 5+872",null,"จำนวนแถว","ขนาด"]
["ลำดับที่","รายการ",null,null,null,"หน่วย","ปริมาณ","ค่างานต้นทุน(บาท)",null,"หมายเหตุ",null,3,1,"ม."]
[null,null,null,null,null,null,null,"ราคา/หน่วย","จำนวนเงิน",null,null,"ความสูงทางเบี่ยง",3,"ม."]
[1,"งานท่อลอดเหลี่ยม คสล.",null,null,null,null,null,null,null,null,null,"ความกว้างทางเบี่ยง",6,"ม."]
[{"$f":"IF(I19=0,0,MAX($A$18:A18)+0.1)","v":0},"งานดินขุด",null,null,null,"ลบ.ม.",{"$f":"IF(ยาว12=0,0,ROUNDDOWN(สูง12*กว้าง12*ยาว12*(D70+1),0))","v":0},{"$f":"IF(G19=0,0,ราคาวัสดุ!L109)","v":0},{"$f":"ROUND(G19*H19,0)","v":0}]
[{"$f":"IF(I20=0,0,MAX($A$18:A19)+0.1)","v":0},"งานคอนกรีตหยาบ",null,null,null,"ลบ.ม.",{"$f":"IF(ยาว12=0,0,ROUNDDOWN(D94+D108,0))","v":0},{"$f":"IF(G20=0,0,ราคาต่อหน่วย!G401)","v":0},{"$f":"ROUND(G20*H20,0)","v":0}]
[{"$f":"IF(I21=0,0,MAX($A$18:A20)+0.1)","v":0},"งานคอนกรีตโครงสร้าง",null,null,null,"ลบ.ม.",{"$f":"IF(ยาว12=0,0,ROUNDDOWN(D93+D107,0))","v":0},{"$f":"IF(G21=0,0,ราคาต่อหน่วย!I401)","v":0},{"$f":"ROUND(G21*H21,0)","v":0}]
[{"$f":"IF(I22=0,0,MAX($A$18:A21)+0.1)","v":0},"งานไม้แบบ ( 3 )",null,null,null,"ตร.ม.",{"$f":"IF(ยาว12=0,0,ROUNDDOWN(D95+D109,0))","v":0},{"$f":"IF(G22=0,0,ราคาต่อหน่วย!J457+ราคาต่อหน่วย!J454)","v":0},{"$f":"ROUND(G22*H22,0)","v":0}]
[{"$f":"IF(I23=0,0,MAX($A$18:A22)+0.1)","v":0},"งานไม้ค้ำยัน",null,null,null,"ต้น",{"$f":"IF(ยาว12=0,0,ROUND(G22*0.3,0))","v":0},{"$f":"IF(G23=0,0,ราคาวัสดุ!L67)","v":0},{"$f":"ROUND(G23*H23,0)","v":0}]
[{"$f":"IF(SUM(I25:I31)=0,0,MAX($A$18:A23)+0.1)","v":0},"งานเหล็กเสริม",null,"ความยาว (ม.)","% เผื่อ"]
[null," - RB ขนาด  6 มม.",null,{"$f":"IF(ยาว12=0,0,E110+E111)","v":0},0.1,"กก.",{"$f":"IF(ยาว12=0,0,ROUND(D25*0.222*(1+E25),2))","v":0},{"$f":"IF(G25=0,0,ROUND(ราคาต่อหน่วย!K417/1000,2))","v":0},{"$f":"ROUND(G25*H25,0)","v":0}]
[null," - RB ขนาด  9 มม. ",null,{"$f":"IF(ยาว12=0,0,F110+F111)","v":0},0.1,"กก.",{"$f":"IF(ยาว12=0,0,ROUND(D26*0.499*(1+E26),2))","v":0},{"$f":"IF(G26=0,0,ROUND(ราคาต่อหน่วย!K418/1000,2))","v":0},0]
[null," - RB ขนาด  25 มม. (Dowel)",null,{"$f":"IF(ยาว12=0,0,D106)","v":0},0.1,"กก.",{"$f":"IF(ยาว12=0,0,ROUND(D27*3.85*(1+E27),2))","v":0},{"$f":"IF(G27=0,0,ROUND(ราคาต่อหน่วย!K419/1000,2))","v":0},0]
[null," - DB ขนาด 12 มม.",null,{"$f":"IF(ยาว12=0,0,G110+G111)","v":0},0.1,"กก.",{"$f":"IF(ยาว12=0,0,ROUND(D28*0.888*(1+E28),2))","v":0},{"$f":"IF(G28=0,0,ROUND(ราคาต่อหน่วย!K421/1000,2))","v":0},0]
[null," - DB ขนาด 16 มม.",null,{"$f":"IF(ยาว12=0,0,H110+H111)","v":0},0.1,"กก.",{"$f":"IF(ยาว12=0,0,ROUND(D29*1.58*(1+E29),2))","v":0},{"$f":"IF(G29=0,0,ROUND(ราคาต่อหน่วย!K422/1000,2))","v":0},0]
[null," - DB ขนาด 20 มม.",null,{"$f":"IF(ยาว12=0,0,I110+I111)","v":0},0.1,"กก.",{"$f":"IF(ยาว12=0,0,ROUND(D30*2.47*(1+E30),2))","v":0},{"$f":"IF(G30=0,0,ROUND(ราคาต่อหน่วย!K423/1000,2))","v":0},0]
[null," - DB ขนาด 25 มม.",null,{"$f":"IF(ยาว12=0,0,J110+J111)","v":0},0.1,"กก.",{"$f":"IF(ยาว12=0,0,ROUND(D31*3.85*(1+E31),2))","v":0},{"$f":"IF(G31=0,0,ROUND(ราคาต่อหน่วย!K424/1000,2))","v":0},0]
[null," - ค่าแรงงานผูกเหล็ก",null,null,null,"กก.",{"$f":"IF(ยาว12=0,0,SUM(G25:G31))","v":0},{"$f":"IF(G32=0,0,ROUND(ราคาวัสดุ!L55/1000,2))","v":0},0]
[{"$f":"IF(I33=0,0,MAX($A$18:A32)+0.1)","v":0},"ลวดผูกเหล็ก",null,null,null,"กก.",{"$f":"IF(ยาว12=0,0,ROUND(SUM(G25:G26,G28:G31)*25/1000,2))","v":0},{"$f":"IF(G33=0,0,ราคาวัสดุ!L46)","v":0},0]
[]
[]
[]
[null,"รวมค่างานต้นทุนท่อลอดเหลี่ยม",null,null,null,null,null,null,{"$f":"SUM(I18:I35)","v":0}]
[]
[]
[]
[]
[]
[]
[]
[]
[]
[]
[]
[]
[]
[]
[]
[]
[]
[]
[]
[]
[null,"Box Culvert "]
[null,"ความกว้าง",null,"ความสูง","พื้นหนา","ผนังหนา","Bar Mark a",null,null,"Bar Mark a1",null,null,"Bar Mark b",null,null,null,null,"Bar Mark b1",null,null,null,null,"Bar Mark b2",null,null,"Bar Mark v",null,null,"Bar Mark v1",null,null,"Bar Mark h",null,null,"Bar Mark h1",null,null,"Bar Mark h2"]
[null,"S (ม.)",null,"D (ม.)","T (ม.)","W (ม.)","dia.\n(มม.)","@ \n(ม.)","L\n(ม.)","dia.\n(มม.)","@ \n(ม.)","L\n(ม.)","dia.\n(มม.)","@ \n(ม.)","F\n(ม.)","G\n(ม.)","L\n(ม.)","dia.\n(มม.)","@ \n(ม.)","F\n(ม.)","G1\n(ม.)","L\n(ม.)","dia.\n(มม.)","@ \n(ม.)","L\n(ม.)","dia.\n(มม.)","@ \n(ม.)","L\n(ม.)","dia.\n(มม.)","@ \n(ม.)","L\n(ม.)","dia.\n(มม.)","@ \n(ม.)","No","dia.\n(มม.)","@ \n(ม.)","No","dia.\n(มม.)","@ \n(ม.)","No"]
[null,{"$f":"IF($D$69=1,VLOOKUP($B$70,ข้อมูล_Box!$A$4:$AK$28,Box!B62,FALSE),VLOOKUP($B$70,ข้อมูล_Box!$A$34:$AK$58,Box!B62,FALSE))","v":2.4},null,{"$f":"IF($D$69=1,VLOOKUP($B$70,ข้อมูล_Box!$A$4:$AK$28,Box!D62,FALSE),VLOOKUP($B$70,ข้อมูล_Box!$A$34:$AK$58,Box!D62,FALSE))","v":2.1},{"$f":"IF($D$69=1,VLOOKUP($B$70,ข้อมูล_Box!$A$4:$AK$28,Box!E62,FALSE),VLOOKUP($B$70,ข้อมูล_Box!$A$34:$AK$58,Box!E62,FALSE))","v":0.24},{"$f":"IF($D$69=1,VLOOKUP($B$70,ข้อมูล_Box!$A$4:$AK$28,Box!F62,FALSE),VLOOKUP($B$70,ข้อมูล_Box!$A$34:$AK$58,Box!F62,FALSE))","v":0.25},{"$f":"IF($D$69=1,VLOOKUP($B$70,ข้อมูล_Box!$A$4:$AK$28,Box!G62,FALSE),VLOOKUP($B$70,ข้อมูล_Box!$A$34:$AK$58,Box!G62,FALSE))","v":16},{"$f":"IF($D$69=1,VLOOKUP($B$70,ข้อมูล_Box!$A$4:$AK$28,Box!H62,FALSE),VLOOKUP($B$70,ข้อมูล_Box!$A$34:$AK$58,Box!H62,FALSE))","v":0.14000000000000001},{"$f":"IF($D$69=1,VLOOKUP($B$70,ข้อมูล_Box!$A$4:$AK$28,Box!I62,FALSE),VLOOKUP($B$70,ข้อมูล_Box!$A$34:$AK$58,Box!I62,FALSE))","v":3},{"$f":"IF($D$69=1,VLOOKUP($B$70,ข้อมูล_Box!$A$4:$AK$28,Box!J62,FALSE),VLOOKUP($B$70,ข้อมูล_Box!$A$34:$AK$58,Box!J62,FALSE))","v":12},{"$f":"IF($D$69=1,VLOOKUP($B$70,ข้อมูล_Box!$A$4:$AK$28,Box!K62,FALSE),VLOOKUP($B$70,ข้อมูล_Box!$A$34:$AK$58,Box!K62,FALSE))","v":1.2},{"$f":"IF($D$69=1,VLOOKUP($B$70,ข้อมูล_Box!$A$4:$AK$28,Box!L62,FALSE),VLOOKUP($B$70,ข้อมูล_Box!$A$34:$AK$58,Box!L62,FALSE))","v":1.48},{"$f":"IF($D$69=1,VLOOKUP($B$70,ข้อมูล_Box!$A$4:$AK$28,Box!M62,FALSE),VLOOKUP($B$70,ข้อมูล_Box!$A$34:$AK$58,Box!M62,FALSE))","v":12},{"$f":"IF($D$69=1,VLOOKUP($B$70,ข้อมูล_Box!$A$4:$AK$28,Box!N62,FALSE),VLOOKUP($B$70,ข้อมูล_Box!$A$34:$AK$58,Box!N62,FALSE))","v":0.12},{"$f":"IF($D$69=1,VLOOKUP($B$70,ข้อมูล_Box!$A$4:$AK$28,Box!O62,FALSE),VLOOKUP($B$70,ข้อมูล_Box!$A$34:$AK$58,Box!O62,FALSE))","v":1.1599999999999999},{"$f":"IF($D$69=1,VLOOKUP($B$70,ข้อมูล_Box!$A$4:$AK$28,Box!P62,FALSE),VLOOKUP($B$70,ข้อมูล_Box!$A$34:$AK$58,Box!P62,FALSE))","v":1.56},{"$f":"IF($D$69=1,VLOOKUP($B$70,ข้อมูล_Box!$A$4:$AK$28,Box!Q62,FALSE),VLOOKUP($B$70,ข้อมูล_Box!$A$34:$AK$58,Box!Q62,FALSE))","v":2.7199999999999998},{"$f":"IF($D$69=1,VLOOKUP($B$70,ข้อมูล_Box!$A$4:$AK$28,Box!R62,FALSE),VLOOKUP($B$70,ข้อมูล_Box!$A$34:$AK$58,Box!R62,FALSE))","v":12},{"$f":"IF($D$69=1,VLOOKUP($B$70,ข้อมูล_Box!$A$4:$AK$28,Box!S62,FALSE),VLOOKUP($B$70,ข้อมูล_Box!$A$34:$AK$58,Box!S62,FALSE))","v":0.12},{"$f":"IF($D$69=1,VLOOKUP($B$70,ข้อมูล_Box!$A$4:$AK$28,Box!T62,FALSE),VLOOKUP($B$70,ข้อมูล_Box!$A$34:$AK$58,Box!T62,FALSE))","v":1.1599999999999999},{"$f":"IF($D$69=1,VLOOKUP($B$70,ข้อมูล_Box!$A$4:$AK$28,Box!U62,FALSE),VLOOKUP($B$70,ข้อมูล_Box!$A$34:$AK$58,Box!U62,FALSE))","v":1.56},{"$f":"IF($D$69=1,VLOOKUP($B$70,ข้อมูล_Box!$A$4:$AK$28,Box!V62,FALSE),VLOOKUP($B$70,ข้อมูล_Box!$A$34:$AK$58,Box!V62,FALSE))","v":2.7199999999999998},{"$f":"IF($D$69=1,VLOOKUP($B$70,ข้อมูล_Box!$A$4:$AK$28,Box!W62,FALSE),VLOOKUP($B$70,ข้อมูล_Box!$A$34:$AK$58,Box!W62,FALSE))","v":0},{"$f":"IF($D$69=1,VLOOKUP($B$70,ข้อมูล_Box!$A$4:$AK$28,Box!X62,FALSE),VLOOKUP($B$70,ข้อมูล_Box!$A$34:$AK$58,Box!X62,FALSE))","v":0},{"$f":"IF($D$69=1,VLOOKUP($B$70,ข้อมูล_Box!$A$4:$AK$28,Box!Y62,FALSE),VLOOKUP($B$70,ข้อมูล_Box!$A$34:$AK$58,Box!Y62,FALSE))","v":0},{"$f":"IF($D$69=1,VLOOKUP($B$70,ข้อมูล_Box!$A$4:$AK$28,Box!Z62,FALSE),VLOOKUP($B$70,ข้อมูล_Box!$A$34:$AK$58,Box!Z62,FALSE))","v":0},{"$f":"IF($D$69=1,VLOOKUP($B$70,ข้อมูล_Box!$A$4:$AK$28,Box!AA62,FALSE),VLOOKUP($B$70,ข้อมูล_Box!$A$34:$AK$58,Box!AA62,FALSE))","v":0},{"$f":"IF($D$69=1,VLOOKUP($B$70,ข้อมูล_Box!$A$4:$AK$28,Box!AB62,FALSE),VLOOKUP($B$70,ข้อมูล_Box!$A$34:$AK$58,Box!AB62,FALSE))","v":0},{"$f":"IF($D$69=1,VLOOKUP($B$70,ข้อมูล_Box!$A$4:$AK$28,Box!AC62,FALSE),VLOOKUP($B$70,ข้อมูล_Box!$A$34:$AK$58,Box!AC62,FALSE))","v":12},{"$f":"IF($D$69=1,VLOOKUP($B$70,ข้อมูล_Box!$A$4:$AK$28,Box!AD62,FALSE),VLOOKUP($B$70,ข้อมูล_Box!$A$34:$AK$58,Box!AD62,FALSE))","v":0.22500000000000001},{"$f":"IF($D$69=1,VLOOKUP($B$70,ข้อมูล_Box!$A$4:$AK$28,Box!AE62,FALSE),VLOOKUP($B$70,ข้อมูล_Box!$A$34:$AK$58,Box!AE62,FALSE))","v":2.85},{"$f":"IF($D$69=1,VLOOKUP($B$70,ข้อมูล_Box!$A$4:$AK$28,Box!AF62,FALSE),VLOOKUP($B$70,ข้อมูล_Box!$A$34:$AK$58,Box!AF62,FALSE))","v":12},{"$f":"IF($D$69=1,VLOOKUP($B$70,ข้อมูล_Box!$A$4:$AK$28,Box!AG62,FALSE),VLOOKUP($B$70,ข้อมูล_Box!$A$34:$AK$58,Box!AG62,FALSE))","v":0.23},{"$f":"IF($D$69=1,VLOOKUP($B$70,ข้อมูล_Box!$A$4:$AK$28,Box!AH62,FALSE),VLOOKUP($B$70,ข้อมูล_Box!$A$34:$AK$58,Box!AH62,FALSE))","v":18},{"$f":"IF($D$69=1,VLOOKUP($B$70,ข้อมูล_Box!$A$4:$AK$28,Box!AI62,FALSE),VLOOKUP($B$70,ข้อมูล_Box!$A$34:$AK$58,Box!AI62,FALSE))","v":12},{"$f":"IF($D$69=1,VLOOKUP($B$70,ข้อมูล_Box!$A$4:$AK$28,Box!AJ62,FALSE),VLOOKUP($B$70,ข้อมูล_Box!$A$34:$AK$58,Box!AJ62,FALSE))","v":0.45},{"$f":"IF($D$69=1,VLOOKUP($B$70,ข้อมูล_Box!$A$4:$AL$28,Box!AL62,FALSE),VLOOKUP($B$70,ข้อมูล_Box!$A$34:$AL$58,Box!AL62,FALSE))","v":8},{"$f":"AI61","v":12},{"$f":"AJ61","v":0.45},{"$f":"IF($D$69=1,VLOOKUP($B$70,ข้อมูล_Box!$A$4:$AK$28,Box!AK62,FALSE),VLOOKUP($B$70,ข้อมูล_Box!$A$34:$AK$58,Box!AK62,FALSE))-AK61","v":26}]
[null,3,null,4,5,6,7,8,9,10,11,12,13,14,15,16,17,18,19,20,21,22,23,24,25,26,27,28,29,30,31,32,33,34,35,36,37,38]
[null,"หูช้าง Box Culvert"]
[null,"ขนาดท่อลอด",null,null,"L","h1","t1","S1","SKEW 15ฐ",null,null,"SKEW 30ฐ",null,null,"SKEW 45ฐ",null,null,"V1",null,"V2",null,"V3",null,"H1",null,"H2",null,"b1"]
[null,"S (ม.)",null,"D (ม.)",null,null,null,null,"L1","S1","S2","L1","S1","S2","L1","S1","S2","ฦ","@","ฦ","@","ฦ","@","ฦ","@","ฦ","@","ฦ","No"]
[null,{"$f":"VLOOKUP($B$70,ข้อมูล_Box!$B$63:$AC$87,Box!B67,FALSE)","v":2.4},null,{"$f":"VLOOKUP($B$70,ข้อมูล_Box!$B$63:$AC$87,Box!D67,FALSE)","v":2.1},{"$f":"VLOOKUP($B$70,ข้อมูล_Box!$B$63:$AC$87,Box!E67,FALSE)","v":3.2},{"$f":"VLOOKUP($B$70,ข้อมูล_Box!$B$63:$AC$87,Box!F67,FALSE)","v":0.85},{"$f":"VLOOKUP($B$70,ข้อมูล_Box!$B$63:$AC$87,Box!G67,FALSE)","v":0.25},{"$f":"VLOOKUP($B$70,ข้อมูล_Box!$B$63:$AC$87,Box!H67,FALSE)","v":2.06},{"$f":"VLOOKUP($B$70,ข้อมูล_Box!$B$63:$AC$87,Box!I67,FALSE)","v":3.31},{"$f":"VLOOKUP($B$70,ข้อมูล_Box!$B$63:$AC$87,Box!J67,FALSE)","v":2.1},{"$f":"VLOOKUP($B$70,ข้อมูล_Box!$B$63:$AC$87,Box!K67,FALSE)","v":2.23},{"$f":"VLOOKUP($B$70,ข้อมูล_Box!$B$63:$AC$87,Box!L67,FALSE)","v":3.7},{"$f":"VLOOKUP($B$70,ข้อมูล_Box!$B$63:$AC$87,Box!M67,FALSE)","v":2.38},{"$f":"VLOOKUP($B$70,ข้อมูล_Box!$B$63:$AC$87,Box!N67,FALSE)","v":2.74},{"$f":"VLOOKUP($B$70,ข้อมูล_Box!$B$63:$AC$87,Box!O67,FALSE)","v":4.53},{"$f":"VLOOKUP($B$70,ข้อมูล_Box!$B$63:$AC$87,Box!P67,FALSE)","v":3.05},{"$f":"VLOOKUP($B$70,ข้อมูล_Box!$B$63:$AC$87,Box!Q67,FALSE)","v":4.04},{"$f":"VLOOKUP($B$70,ข้อมูล_Box!$B$63:$AC$87,Box!R67,FALSE)","v":9},{"$f":"VLOOKUP($B$70,ข้อมูล_Box!$B$63:$AC$87,Box!S67,FALSE)","v":0.3},{"$f":"VLOOKUP($B$70,ข้อมูล_Box!$B$63:$AC$87,Box!T67,FALSE)","v":12},{"$f":"VLOOKUP($B$70,ข้อมูล_Box!$B$63:$AC$87,Box!U67,FALSE)","v":0.16},{"$f":"VLOOKUP($B$70,ข้อมูล_Box!$B$63:$AC$87,Box!V67,FALSE)","v":12},{"$f":"VLOOKUP($B$70,ข้อมูล_Box!$B$63:$AC$87,Box!W67,FALSE)","v":0.16},{"$f":"VLOOKUP($B$70,ข้อมูล_Box!$B$63:$AC$87,Box!X67,FALSE)","v":12},{"$f":"VLOOKUP($B$70,ข้อมูล_Box!$B$63:$AC$87,Box!Y67,FALSE)","v":0.3},{"$f":"VLOOKUP($B$70,ข้อมูล_Box!$B$63:$AC$87,Box!Z67,FALSE)","v":12},{"$f":"VLOOKUP($B$70,ข้อมูล_Box!$B$63:$AC$87,Box!AA67,FALSE)","v":0.16},{"$f":"VLOOKUP($B$70,ข้อมูล_Box!$B$63:$AC$87,Box!AB67,FALSE)","v":12},{"$f":"VLOOKUP($B$70,ข้อมูล_Box!$B$63:$AC$87,Box!AC67,FALSE)","v":4}]
[null,2,null,3,4,5,6,7,8,9,10,11,12,13,14,15,16,17,18,19,20,21,22,23,24,25,26,27,28]
[]
[null,null,null,1,"1 ช่อง"]
[null,14,null,{"$f":"D69-1","v":0},"2 ช่อง",{"$f":"+D70+1","v":1},{"$f":"F70-1","v":0}]
[null,1,null,null,"3 ช่อง",null,null,"กว้าง",{"$f":"(กว้าง12+2*ผนัง12)+(กว้าง12+ผนัง12)*AW","v":2.9}]
[null,null,null,null,"4 ช่อง",{"$f":"((พื้น12*2)+0.025)*((I71/COS($H$9*PI()/180)))+ผนัง12*(2+AW)*สูง12","v":2.5145},{"$f":"((พื้น12+0.025)*(I71/COS($H$9*PI()/180))+(ผนัง12*(2+AW))*สูง12)*2","v":3.637}]
[null,null,null,null,"5 ช่อง","กลาง","2 ริม"]
[]
[]
[null,"สรุปปริมาณงาน"]
[null,"รายการ","ขนาด","จำนวน",6,9,12,16,20,25,"หน่วย"]
[null,"เหล็กตัว BOX"]
[null,"Bar Mark a ",{"$f":"CM_A","v":16},{"$f":"ROUND(VM_A,2)","v":6.4},{"$f":"IF(C79=$E$77,D79,0)","v":0},{"$f":"IF(C79=$F$77,D79,0)","v":0},{"$f":"IF(C79=$G$77,D79,0)","v":0},{"$f":"IF(C79=$H$77,D79,0)","v":6.4},{"$f":"IF(C79=$I$77,D79,0)","v":0},{"$f":"IF(C79=$J$77,D79,0)","v":0},"ม."]
[null,"Bar Mark a1",{"$f":"CM_A1","v":12},{"$f":"ROUND(VM_A1,2)","v":1.48},0,0,1.48,0,0,0,"ม."]
[null,"Bar Mark b",{"$f":"CM_B","v":12},{"$f":"ROUND(VM_B,2)","v":5.44},0,0,5.44,0,0,0,"ม."]
[null,"Bar Mark b1",{"$f":"CM_B1","v":12},{"$f":"ROUND(VM_B1,2)","v":5.44},0,0,5.44,0,0,0,"ม."]
[null,"Bar Mark b2",{"$f":"CM_B2","v":0},{"$f":"ROUND(VM_B2,2)","v":0},0,0,0,0,0,0,"ม."]
[null,"Bar Mark v1",{"$f":"CM_V1","v":12},{"$f":"VM_V1","v":5.7},0,0,5.7,0,0,0,"ม."]
[null,"Bar Mark h",{"$f":"CM_H","v":12},{"$f":"ROUND(VM_H,2)","v":-1.8},0,0,-1.8,0,0,0,"ม."]
[null,"Bar Mark h1",{"$f":"CM_H1","v":12},{"$f":"ROUND(VM_H1,2)","v":-0.8},0,0,-0.8,0,0,0,"ม."]
[null,"Bar Mark h2",{"$f":"G147","v":12},{"$f":"ROUND(K147,2)","v":-2.6},0,0,-2.6,0,0,0,"ม."]
[null,"เหล็กตามยาวมุม BOX",{"$f":"G150","v":12},{"$f":"K150","v":-1.6},0,0,-1.6,0,0,0,"ม."]
[null,"TOP BEAM",{"$f":"G153","v":9},{"$f":"K153","v":24},0,24,0,0,0,0,"ม."]
[null,"ปลอก",{"$f":"G154","v":9},{"$f":"K154","v":33.92},0,33.92,0,0,0,0,"ม."]
[null,"BOTTOM BEAM",{"$f":"G157","v":9},{"$f":"NM_2","v":24},0,24,0,0,0,0,"ม."]
[null,"ปลอก",{"$f":"G158","v":9},{"$f":"PM_2","v":64.319999999999993},0,64.319999999999993,0,0,0,0,"ม."]
[null,"คอนกรีต  -  คอนกรีตโครงสร้าง",null,{"$f":"H168","v":0.87},null,null,null,null,null,null,"ลบ.ม."]
[null,"                  -  คอนกรีตหยาบ",null,{"$f":"H169","v":0},null,null,null,null,null,null,"ลบ.ม."]
[null,"ไม้แบบ",null,{"$f":"H177","v":14.479000000000001},null,null,null,null,null,null,"ตร.ม."]
[null,"เหล็กกำแพงปากท่อ BOX",null,"จำนวน",{"$f":"H6","v":2},"ด้าน"]
[null,"Bar Mark V1",{"$f":"ขนาดวี11","v":9},{"$f":"ROUND(จำนวนวี11+K187+K190+K191,2)*$E$96","v":130.13999999999999},{"$f":"IF(C97=$E$77,D97,0)","v":0},{"$f":"IF(C97=$F$77,D97,0)","v":130.13999999999999},{"$f":"IF(C97=$G$77,D97,0)","v":0},{"$f":"IF(C97=$H$77,D97,0)","v":0},{"$f":"IF(C97=$I$77,D97,0)","v":0},{"$f":"IF(C97=$J$77,D97,0)","v":0},"ม."]
[null,"Bar Mark V2",{"$f":"ขนาดวี22","v":12},{"$f":"ROUND(จำนวนวี22,2)*$E$96","v":186.24},0,0,186.24,0,0,0,"ม."]
[null,"Bar Mark V3",{"$f":"ขนาดวี33","v":12},{"$f":"ROUND(จำนวนวี33,2)*$E$96","v":220.32},0,0,220.32,0,0,0,"ม."]
[null,"Bar Mark H1",{"$f":"ขนาดเฮช11","v":12},{"$f":"ROUND(จำนวนเฮช11+K201+K202,2)*$E$96","v":206.54},0,0,206.54,0,0,0,"ม."]
[null,"Bar Mark H2",{"$f":"ขนาดเฮช22","v":12},{"$f":"ROUND(จำนวนเฮช22,2)*$E$96","v":178.98},0,0,178.98,0,0,0,"ม."]
[null,"Bar Mark b1",{"$f":"G208","v":12},{"$f":"K208*$E$96","v":33.76},0,0,33.76,0,0,0,"ม."]
[null,"เสริม",{"$f":"G209","v":12},{"$f":"K209*$E$96","v":16.88},0,0,16.88,0,0,0,"ม."]
[null,"ปลอก",{"$f":"G210","v":6},{"$f":"K210*$E$96","v":64.319999999999993},64.319999999999993,0,0,0,0,0,"ม."]
[null,"เหล็กหลังกำแพง",{"$f":"G213","v":12},{"$f":"K213*$E$96","v":29.824000000000002},0,0,29.824000000000002,0,0,0,"ม."]
[null,"RB Dowel",{"$f":"G216","v":25},{"$f":"K216*$E$96","v":28.8},null,null,null,null,null,null,"ม."]
[null,"คอนกรีต  -  คอนกรีตโครงสร้าง",null,{"$f":"H228*$E$96","v":13.497000000000002},null,null,null,null,null,null,"ลบ.ม."]
[null,"                  -  คอนกรีตหยาบ",null,{"$f":"H229*$E$96","v":1.1279999999999999},null,null,null,null,null,null,"ลบ.ม."]
[null,"ไม้แบบ",null,{"$f":"H236*$E$96","v":61.957999999999998},null,null,null,null,null,null,"ตร.ม."]
[null,"รวมเหล็กเสริม ตัว BOX",null,null,{"$f":"ROUND(SUM(E78:E92),2)","v":0},146.24,11.26,6.4,0,0]
[null,"รวมเหล็กเสริม กำแพงปากท่อ BOX",null,null,{"$f":"ROUND(SUM(E97:E106),2)","v":64.319999999999993},{"$f":"ROUND(SUM(F97:F106),2)","v":130.13999999999999},872.54,0,0,0]
[null,null,null,null,6,9,12,16,20,25]
[]
[]
[]
[null,"ปริมาณงาน ",null,null,{"$f":"+D8&\" จำนวน \"&F70&\" ช่อง  ทำมุม \"&H9&\" องศา กับแนวทาง\"","v":"1 - 2.40 เมตร x 2.10 เมตร ความยาว 0.00 เมตร จำนวน 1 ช่อง  ทำมุม 0  องศา กับแนวทาง"}]
[null,"ตัว BOX",null,"จำนวน",{"$f":"F70","v":1},"ช่อง","Skew",{"$f":"$H$9","v":"0 "},"องศา"]
[null,null,null,"กว้าง",{"$f":"B61","v":2.4},"เมตร","พื้นหนา",{"$f":"E61","v":0.24},"เมตร"]
[null,null,null,"สูง",{"$f":"D61","v":2.1},"เมตร","ผนังหนา",{"$f":"F61","v":0.25},"เมตร"]
[null,null,null,"ความกว้างรวม",{"$f":"ROUNDDOWN((E118*AC+H119*2+H119*AW)*1/COS($H$9*PI()/180),3)","v":2.9},"เมตร","ความยาวรวม",{"$f":"D5","v":0},"เมตร"]
[null,"เหล็กเสริม"]
[null,null,"Bar Mark a","(บน+ล่าง)",null,null,"เหล็ก DB (มม.)","@","L (ม.)","จำนวน","ความยาว (ม.)"]
[null,null,null,null,null,null,{"$f":"G61","v":16},{"$f":"H61","v":0.14000000000000001},{"$f":"ROUND((I61+E118*AW+W*AW+0.1*2)*1/COS($H$9*PI()/180),3)","v":3.2},{"$f":"(ROUNDDOWN((D5-0.05*2)/H123,0)+1)*2","v":2},{"$f":"IF(G123=0,0,I123*J123)","v":6.4}]
[]
[null,null,"Bar Mark a1","(ล่าง)",null,null,"เหล็ก DB (มม.)","@","L (ม.)","จำนวน","ความยาว (ม.)"]
[null,null,null,null,null,null,{"$f":"J61","v":12},{"$f":"K61","v":1.2},{"$f":"ROUND(L61,3)","v":1.48},{"$f":"(ROUNDDOWN((D5-0.05*2)/H126,0)+1)*AC","v":1},{"$f":"IF(G126=0,0,I126*J126)","v":1.48}]
[]
[null,null,"Bar Mark b","(มุมบน 2 ข้าง)",null,null,"เหล็ก DB (มม.)","@","L (ม.)","จำนวน","ความยาว (ม.)"]
[null,null,null,null,null,null,{"$f":"M61","v":12},{"$f":"N61","v":0.12},{"$f":"ROUND(Q61,3)","v":2.72},{"$f":"(ROUNDDOWN((D5-0.05*2)/H129,0)+1)*2","v":2},{"$f":"IF(G129=0,0,I129*J129)","v":5.44}]
[]
[null,null,"Bar Mark b1","(มุมล่าง 2 ข้าง)",null,null,"เหล็ก DB (มม.)","@","L (ม.)","จำนวน","ความยาว (ม.)"]
[null,null,null,null,null,null,{"$f":"R61","v":12},{"$f":"S61","v":0.12},{"$f":"ROUND(V61,3)","v":2.72},{"$f":"(ROUNDDOWN((D5-0.05*2)/S61,0)+1)*2","v":2},{"$f":"IF(G132=0,0,I132*J132)","v":5.44}]
[]
[null,null,"Bar Mark b2","(เสริมตรงผนังกลาง บน+ล่าง)",null,null,"เหล็ก DB (มม.)","@","L (ม.)","จำนวน","ความยาว (ม.)"]
[null,null,null,null,null,null,{"$f":"W61","v":0},{"$f":"X61","v":0},{"$f":"ROUND(Y61,3)","v":0},{"$f":"IF(I135=0,0,(ROUNDDOWN((D5-0.05*2)/H135,0)+1)*AW)*2","v":0},{"$f":"IF(G135=0,0,I135*J135)","v":0}]
[]
[null,null,"Bar Mark v1","(ผนังด้านใน 2 ด้าน)",null,null,"เหล็ก DB (มม.)","@","L (ม.)","จำนวน","ความยาว (ม.)"]
[null,null,null,null,null,null,{"$f":"AC61","v":12},{"$f":"AD61","v":0.22500000000000001},{"$f":"AE61","v":2.85},{"$f":"(ROUNDDOWN((D5-0.05*2)/H138,0)+1)*(2+AW*2)","v":2},{"$f":"IF(G138=0,0,I138*J138)","v":5.7}]
[]
[null,null,"Bar Mark h","(เหล็กตามยาวด้านบน)",null,null,"เหล็ก DB (มม.)","@","L (ม.)","จำนวน","ความยาว (ม.)"]
[null,null,null,null,null,null,{"$f":"AF61","v":12},{"$f":"AG61","v":0.23},{"$f":"(D5-0.05*2)","v":-0.1},{"$f":"AH61","v":18},{"$f":"IF(G141=0,0,I141*J141)","v":-1.8}]
[]
[null,null,"Bar Mark h1","(เหล็กตามยาวพื้น)",null,null,"เหล็ก DB (มม.)","@","L (ม.)","จำนวน","ความยาว (ม.)"]
[null,null,null,null,null,null,{"$f":"AI61","v":12},{"$f":"AJ61","v":0.45},{"$f":"(D5-0.05*2)","v":-0.1},{"$f":"AK61","v":8},{"$f":"J144*I144","v":-0.8}]
[]
[null,null,"Bar Mark  h2","(เหล็กตามยาวกำแพง)",null,null,"เหล็ก DB (มม.)","@","L (ม.)","จำนวน","ความยาว (ม.)"]
[null,null,null,null,null,null,{"$f":"CM_H1","v":12},{"$f":"H144","v":0.45},{"$f":"I144","v":-0.1},{"$f":"AN61","v":26},{"$f":"J147*I147","v":-2.6}]
[]
[null,null,"เหล็กตามยาวมุม BOX",null,null,null,"เหล็ก DB (มม.)","@","L (ม.)","จำนวน","ความยาว (ม.)"]
[null,null,null,null,null,null,12,null,{"$f":"(D5-0.05*2)","v":-0.1},{"$f":"(4+AW*2)*4","v":16},{"$f":"J150*I150","v":-1.6}]
[]
[null,null,"TOP BEAM",null,null,null,"เหล็ก RB (มม.)","@","L (ม.)","จำนวน","ความยาว (ม.)"]
[null,null,null,null,null,"นอน",9,null,{"$f":"ROUND((I61+E118*AW+W*AW)*1/COS($H$9*PI()/180),3)","v":3},{"$f":"4*$H$6","v":8},{"$f":"J153*I153","v":24}]
[null,null,null,null,null,"ปลอก",9,0.2,{"$f":"(0.2-0.03*2)*2+(พื้น12+0.15-0.03*2)*2+0.06*2","v":1.06},{"$f":"IF(I154=0,0,(ROUNDDOWN((I153)/H154,0)+1))*$H$6","v":32},{"$f":"J154*I154","v":33.92}]
[]
[null,null,"BOTTOM BEAM",null,null,null,"เหล็ก RB (มม.)","@","L (ม.)","จำนวน","ความยาว (ม.)"]
[null,null,null,null,null,"นอน",9,null,{"$f":"ROUND((I61+E118*AW+W*AW)*1/COS($H$9*PI()/180),3)","v":3},{"$f":"4*$H$6","v":8},{"$f":"J157*I157","v":24}]
[null,null,null,null,null,"ปลอก",9,0.2,{"$f":"(0.2-0.03*2)*2+(พื้น12+0.025+0.6-0.03*2)*2+0.06*2","v":2.0099999999999998},{"$f":"IF(I158=0,0,(ROUNDDOWN((I157)/H158,0)+1))*$H$6","v":32},64.319999999999993]
[]
[null,"คอนกรีต"]
[null,null,null,"พื้นด้านล่าง  ","กว้าง +Skew",{"$f":"E120","v":2.9},"ม.  ยาว",{"$f":"H120","v":0},"ม. หนา",{"$f":"H118+0.025","v":0.26500000000000001},"ม.",null,null,null,null,null,null,"ความกว้างที่นำมาคิด",{"$f":"ROUNDDOWN((E118*AC+H119*2+H119*AW),3)","v":2.9},"ม."]
[null,null,null,null,null,"ปริมาตร","=",{"$f":"S161*H161*J161+(0.15+0.6)/2*0.1*H163*2*AC","v":0},"ลบ.ม."]
[null,null,null,"พื้นด้านบน  ","กว้าง +Skew",{"$f":"F161","v":2.9},"ม.  ยาว",{"$f":"H161","v":0},"ม. หนา",{"$f":"H118","v":0.24},"ม."]
[null,null,null,null,null,null,"=",{"$f":"S161*H163*J163+(0.1*0.6/2)*H163*2*AC","v":0},"ลบ.ม."]
[null,null,null,"ผนัง",null,null,"=",{"$f":"(E119*H120*H119)*2+(E119*H120*H119)*AW","v":0},"ลบ.ม."]
[null,null,null,"Top Beam",null,null,"=",{"$f":"0.2*0.15*S161*$H$6","v":0.17399999999999999},"ลบ.ม."]
[null,null,null,"Bottom Beam",null,null,"=",{"$f":"0.2*0.6*S161*$H$6","v":0.69599999999999995},"ลบ.ม."]
[null,null,null,null,"รวมคอนกรีต ตัว Box",null,"=",{"$f":"ROUND(SUM(H164:H167)+H162,3)","v":0.87},"ลบ.ม."]
[null,null,null,null,"คอนกรีตหยาบ",null,"=",{"$f":"ROUND((F161*H161*0.05),3)","v":0},"ลบ.ม."]
[]
[null,"ไม้แบบ"]
[null,null,null,"พื้นด้านล่าง  ",null,null,"=",{"$f":"(F161*H6+H161*2)*J161+(0.15+0.6)/2*0.1*2*H6*AC","v":1.6869999999999998},"ตร.ม."]
[null,null,null,"พื้นด้านบน  ",null,null,"=",{"$f":"(F163*H6+H163*2)*J163+((E118-1.2)*H163)*AC+(SQRT(0.6^2+0.1^2)*H163*2*AC)","v":1.3919999999999999},"ตร.ม.   (เฉพาะพื้น",{"$f":"((E118-1.2)*H163)*AC+(SQRT(0.6^2+0.1^2)*H163*2*AC)","v":0},")"]
[null,null,null,"ผนัง",null,null,"=",{"$f":"(E119*H120*2)*2+(E119*H120*2)*AW-(0.1*4*H120)*AC+(E119*H119*2*H6)+(E119*H119*AW*H6)","v":2.1},"ตร.ม."]
[null,null,null,"Top Beam",null,null,"=",{"$f":"ROUND((F163+0.2)*0.15*2*$H$6,3)","v":1.86},"ตร.ม."]
[null,null,null,"Bottom Beam",null,null,"=",{"$f":"ROUND((F163+0.2)*0.6*2*$H$6,3)","v":7.44},"ตร.ม."]
[null,null,null,null,"รวมไม้แบบตัวกำแพง",null,"=",{"$f":"SUM(H172:H176)","v":14.479000000000001},"ตร.ม."]
[]
[]
[null,"กำแพงปาก BOX",null,"จำนวน",1,"ด้าน","Skew",{"$f":"$H$9","v":"0 "},"องศา",null,null,null,null,null,null,null,null,"Skew",{"$f":"H180*1","v":0},"(S + Skew) / 2","L1*sin ","เหลือ"]
[null,null,null,"ความกว้าง 1",{"$f":"(E118*AC+H119*AW)*1/COS($H$9*PI()/180)","v":2.4},"ม.","S1",{"$f":"IF(S180=0,H66,IF(S180=15,J66,IF(S180=30,M66,IF(S180=45,P66,\"NO\"))))","v":2.06},"ม.                 S2",{"$f":"IF(S180=0,H66,IF(S180=15,K66,IF(S180=30,N66,IF(S180=45,Q66,\"NO\"))))","v":2.06},"ม.",null,null,null,null,null,null,"ความยาวกำแพงด้าน S1",{"$f":"ROUND(SQRT($E$183^2+V181^2),3)","v":3.3140000000000001},{"$f":"ROUND(E118*1/COS($H$9*PI()/180)/2,3)","v":1.2},{"$f":"ROUND(SIN(S180*PI()/180)*S183,3)","v":0},{"$f":"IF((T181+U181)>=H181,(T181+U181-H181),(H181-(T181+U181)))","v":0.8600000000000001}]
[null,null,null,"ความกว้าง 2",{"$f":"H181+J181+E181-E118","v":4.1199999999999992},"ม.","พื้นหนา",{"$f":"พื้น12+0.025","v":0.26500000000000001},"ม.   ความสูง",{"$f":"D61+E61+0.025+0.15","v":2.5149999999999997},"ม.",null,null,null,null,null,null,"ความยาวกำแพงด้าน S2",{"$f":"ROUND(SQRT($E$183^2+V182^2),3)","v":3.3559999999999999},{"$f":"ROUND(E119*1/COS($H$9*PI()/180)/2,3)","v":1.05},{"$f":"ROUND(SIN(S180*PI()/180)*S183,3)","v":0},{"$f":"IF((U182)>=T182,(U182-T182)+J181,J181-(T182-U182))","v":1.01}]
[null,null,null,"ความยาว",{"$f":"E66","v":3.2},"ม.","ผนังหนา",{"$f":"G66","v":0.25},"ม.                  h1",{"$f":"F66","v":0.85},"ม.",null,null,null,null,null,null,"L1",{"$f":"IF(S180=0,E66,IF(S180=15,I66,IF(S180=30,L66,IF(S180=45,O66,\"NO\"))))","v":3.2}]
[null,"เหล็กเสริม"]
[null,null,"Bar Mark V1","ด้าน S1",null,null,"เหล็ก  (มม.)","@","L (ม.)","จำนวน","ความยาว (ม.)",null,null,null,null,null,null,"จำนวน",null,"เส้นยาว","เส้นสั้น","เฉลี่ย"]
[null,null,null,null,null,null,{"$f":"R66","v":9},{"$f":"S66","v":0.3},{"$f":"ROUND(S181-0.05*2,3)","v":3.214},{"$f":"R186*2","v":4},{"$f":"J186*I186","v":12.856},null,null,null,null,null,null,{"$f":"(ROUNDDOWN(J183/H186,0))","v":2},{"$f":"R186*H186","v":0.6},{"$f":"S187-H186","v":1.6149999999999995},{"$f":"T186-(R187-1)*H186","v":0.11499999999999955}]
[null,null,null,null,null,"ช่วง Varies",{"$f":"ขนาดวี11","v":9},{"$f":"H186","v":0.3},{"$f":"V187","v":1.6220000000000001},{"$f":"R187*2","v":12},19.464000000000002,null,null,null,null,null,null,{"$f":"(ROUNDDOWN(S187/H187,0))","v":6},{"$f":"J182-S186","v":1.9149999999999996},{"$f":"ROUND($S$181*T186/($J$182-$J$183),3)-0.05*2","v":3.1139999999999999},{"$f":"ROUND($S$181*U186/($J$182-$J$183),3)-0.05*2","v":0.129},{"$f":"ROUND((T187+U187)/2,3)","v":1.6220000000000001}]
[]
[null,null,null,"ด้าน S2",null,null,"เหล็ก  (มม.)","@","L (ม.)","จำนวน","ความยาว (ม.)",null,null,null,null,null,null,"จำนวน",null,"เส้นยาว","เส้นสั้น","เฉลี่ย"]
[null,null,null,null,null,null,{"$f":"ขนาดวี11","v":9},{"$f":"H186","v":0.3},{"$f":"ROUND(S182-0.05*2,3)","v":3.2559999999999998},{"$f":"R190*2","v":4},{"$f":"J190*I190","v":13.023999999999999},null,null,null,null,null,null,{"$f":"R186","v":2},{"$f":"S186","v":0.6},{"$f":"T186","v":1.6149999999999995},{"$f":"U186","v":0.11499999999999955}]
[null,null,null,null,null,"ช่วง Varies",{"$f":"ขนาดวี11","v":9},{"$f":"H190","v":0.3},{"$f":"V191","v":1.6439999999999999},{"$f":"R191*2","v":12},19.727999999999998,null,null,null,null,null,null,{"$f":"R187","v":6},{"$f":"S187","v":1.9149999999999996},{"$f":"ROUND(S182*T190/(J182-J183),3)-0.05*2","v":3.1549999999999998},{"$f":"ROUND(S182*U190/(J182-J183),3)-0.05*2","v":0.13200000000000001},{"$f":"ROUND((T191+U191)/2,3)","v":1.6439999999999999}]
[]
[null,null,"Bar Mark V2",null,null,null,"เหล็ก  (มม.)","@","L (ม.)","จำนวน","ความยาว (ม.)",null,null,null,null,null,null,"จำนวน",null,"เส้นยาว","เส้นสั้น","เฉลี่ย"]
[null,null,null,null,null,"ช่วง Varies",{"$f":"T66","v":12},{"$f":"U66","v":0.16},{"$f":"V194","v":2.3279999999999998},{"$f":"R194*2","v":40},{"$f":"J194*I194","v":93.11999999999999},null,null,null,null,null,null,{"$f":"(ROUNDDOWN((S183-0.05*2)/H194,0))+1","v":20},null,{"$f":"(J182-0.05)+(H182-0.05)+$E$118/5","v":3.1599999999999997},{"$f":"(J183-0.05)+(H182-0.05)+$E$118/5","v":1.4949999999999999},{"$f":"ROUND((T194+U194)/2,3)","v":2.3279999999999998}]
[]
[null,null,"Bar Mark V3",null,null,null,"เหล็ก  (มม.)","@","L (ม.)","จำนวน","ความยาว (ม.)",null,null,null,null,null,null,"จำนวน",null,"ติด BOX","ปาก BOX","เฉลี่ย"]
[null,null,null,null,null,"ช่วง Varies",{"$f":"V66","v":12},{"$f":"W66","v":0.16},{"$f":"V197","v":5.508},{"$f":"R197","v":20},{"$f":"J197*I197","v":110.16},null,null,null,null,null,null,{"$f":"(ROUNDDOWN((S183-0.05*2)/H197,0))+1","v":20},null,{"$f":"(J182-0.05)+(H182-0.05)+E181+H183*2-0.05*2","v":5.48},{"$f":"(J183-0.05)+(H182-0.05)+E182+H183*2-0.05*2","v":5.5349999999999993},{"$f":"ROUND((T197+U197)/2,3)","v":5.508}]
[]
[null,null,"Bar Mark H1",null,null,null,"เหล็ก  (มม.)","@","L (ม.)","จำนวน","ความยาว (ม.)",null,null,null,null,null,null,"จำนวน",null,"เส้นยาว","เส้นสั้น","เฉลี่ย",null,null,null,"เส้นยาว","เส้นสั้น","เฉลี่ย"]
[null,null,null,null,null,null,{"$f":"X66","v":12},{"$f":"Y66","v":0.3},{"$f":"((S183+H182+0.56-0.05*2)+(S183+H182+0.56-0.05*2-H182-0.05))/2","v":3.7675000000000001},{"$f":"(ROUNDDOWN((E181+H183*2-0.05*2)/H200,0)+1)*2","v":20},{"$f":"J200*I200","v":75.349999999999994},null,null,null,null,null,null,{"$f":"(J200/2-1)/2","v":4.5},{"$f":"ROUND(R200*H200,3)","v":1.35},{"$f":"S201-$H$201+($E$181/2+$H$183-S200)","v":0.90999999999999992},{"$f":"T200-(R201-1)*$H$200","v":0.30999999999999994},null,null,{"$f":"R200","v":4.5},{"$f":"S200","v":1.35},{"$f":"Y201-$H$201+($E$181/2+$H$183-Y200)","v":0.90999999999999992},{"$f":"Z200-(X201-1)*$H$200","v":0.30999999999999994}]
[null,null,null,null,"ด้าน S1","ช่วง Varies",{"$f":"ขนาดเฮช11","v":12},{"$f":"H200","v":0.3},{"$f":"((V201+H182+0.56)+(V201+H182+0.56-H182-0.05))/2","v":2.3265000000000002},{"$f":"R201*2","v":6},{"$f":"J201*I201","v":13.959000000000001},null,null,null,null,null,"ด้าน S1",{"$f":"(ROUNDDOWN(S201/H201,0))","v":3},{"$f":"H181-T181+H183","v":1.1100000000000001},{"$f":"ROUND($S$183*T200/S201,3)-0.05*2","v":2.5230000000000001},{"$f":"ROUND($S$183*U200/S201,3)-0.05*2","v":0.79400000000000004},{"$f":"ROUND((T201+U201)/2,3)","v":1.659},"ด้าน S2",{"$f":"(ROUNDDOWN(Y201/H202,0))","v":3},{"$f":"J181-T181+H183","v":1.1100000000000001},{"$f":"ROUND($S$183*Z200/Y201,3)-0.05*2","v":2.5230000000000001},{"$f":"ROUND($S$183*AA200/Y201,3)-0.05*2","v":0.79400000000000004},{"$f":"ROUND((Z201+AA201)/2,3)","v":1.659}]
[null,null,null,null,"ด้าน S2","ช่วง Varies",{"$f":"ขนาดเฮช11","v":12},{"$f":"H200","v":0.3},{"$f":"((AB201+H182+0.56)+(AB201+H182+0.56-H182-0.05))/2","v":2.3265000000000002},{"$f":"X201*2","v":6},{"$f":"J202*I202","v":13.959000000000001}]
[]
[null,null,"Bar Mark H2",null,null,null,"เหล็ก  (มม.)","@","L (ม.)","จำนวน","ความยาว (ม.)",null,null,null,null,null,null,"จำนวน",null,"ติด BOX","ปาก BOX","เฉลี่ย"]
[null,null,null,null,null,"ช่วง Varies",{"$f":"Z66","v":12},{"$f":"AA66","v":0.16},{"$f":"V205","v":4.71},{"$f":"R205","v":19},{"$f":"J205*I205","v":89.49},null,null,null,null,null,null,{"$f":"(ROUNDDOWN((S183-0.2-0.05)/H205,0))+1","v":19},null,{"$f":"E181+H183*2+E119/4*2-0.05*2","v":3.85},{"$f":"E182+H183*2+E119/4*2-0.05*2","v":5.5699999999999994},{"$f":"ROUND((T205+U205)/2,3)","v":4.71}]
[]
[null,null,"Bar Mark b1",null,null,null,"เหล็ก  (มม.)","@","L (ม.)","จำนวน","ความยาว (ม.)"]
[null,null,null,null,null,"นอน",{"$f":"AB66","v":12},null,{"$f":"E182+0.1*2-0.05*2","v":4.22},{"$f":"AC66","v":4},{"$f":"J208*I208","v":16.88}]
[null,null,null,null,null,"เสริม",12,null,{"$f":"I208","v":4.22},2,{"$f":"J209*I209","v":8.44}]
[null,null,null,null,null,"ปลอก",6,0.3,{"$f":"(0.2-0.03*2)*2+(พื้น12+0.025+0.6-0.03*2)*2+0.06*2","v":2.0099999999999998},{"$f":"IF(I210=0,0,(ROUNDDOWN((E182+H183*2-0.05*2)/H210,0)+1))","v":16},{"$f":"J210*I210","v":32.159999999999997}]
[]
[null,null,"เหล็กหลังกำแพง",null,null,null,"เหล็ก  (มม.)","@","L (ม.)","จำนวน","ความยาว (ม.)",null,null,null,null,null,null,null,"ความสูงช่วง Varies","ความยาว 1","ความยาว 2","เฉลี่ย"]
[null,null,null,null,null,null,12,null,{"$f":"ROUND(SQRT(S213^2+V213^2),3)","v":3.7280000000000002},{"$f":"2*2","v":4},{"$f":"J213*I213","v":14.912000000000001},null,null,null,null,null,null,null,{"$f":"J182-J183","v":1.6649999999999996},{"$f":"S181","v":3.3140000000000001},{"$f":"S182","v":3.3559999999999999},{"$f":"ROUND((T213+U213)/2,3)","v":3.335}]
[]
[null,null,"เหล็ก Dowel ",null,null,null,"เหล็ก RB (มม.)","@","L (ม.)","จำนวน","ความยาว (ม.)",null,null,null,null,null,null,null,"ความสูง+พื้นบน+พื้นล่าง "]
[null,null,null,null,null,null,25,0.3,0.8,{"$f":"IF(I216=0,0,(ROUNDDOWN((S216)/H216,0)+1))*2","v":18},{"$f":"J216*I216","v":14.4},null,null,null,null,null,null,null,{"$f":"E119+H118+H119","v":2.59}]
[]
[null,"คอนกรีต",null,"พื้นกำแพง","ความกว้าง",null,null,null,"ความยาว",{"$f":"ROUND(S183*COS($H$9*PI()/180),3)","v":3.2},"ม."]
[null,null,null,null,"ด้าน ติด BOX + ผนัง",null,{"$f":"ROUND(E181+H183*2,3)","v":2.9},"ม.","ความหนาพื้น",{"$f":"H182","v":0.26500000000000001},"ม."]
[null,null,null,null,"ด้าน ปาก BOX + ผนัง",null,{"$f":"ROUND(E182+H183*2,3)","v":4.62},"ม."]
[null,null,null,null,null,"ปริมตร","=",{"$f":"ROUND((G219+G220)/2*J218*J219,3)+(0.45*0.1/2*(G223+G224))+(0.15*0.1+0)/2*(G223+G224)","v":3.3881000000000006},"ลบ.ม."]
[null,null,null,"ผนังกำแพง","ความยาว",null,null,null,"ความสูง ",{"$f":"J182","v":2.5149999999999997},"ม."]
[null,null,null,null,"ด้าน S1",null,{"$f":"S181","v":3.3140000000000001},"ม.","h1",{"$f":"J183","v":0.85},"ม."]
[null,null,null,null,"ด้าน S2",null,{"$f":"S182","v":3.3559999999999999},"ม.","ความหนาผนัง",{"$f":"H183","v":0.25},"ม."]
[null,null,null,null,null,"ปริมตร ด้าน S1","=",{"$f":"ROUND((J222+J223)/2*G223*J224,3)","v":1.3939999999999999},"ลบ.ม."]
[null,null,null,null,null,"ปริมตร ด้าน S2","=",{"$f":"ROUND((J222+J223)/2*G224*J224,3)","v":1.4119999999999999},"ลบ.ม."]
[null,null,null,"Bottom Beam",null,null,"=",{"$f":"0.2*0.6*G220","v":0.5544},"ลบ.ม."]
[null,null,null,null,"รวมคอนกรีต ตัวกำแพง",null,"=",{"$f":"SUM(H221:H227)","v":6.7485000000000008},"ลบ.ม."]
[null,null,null,null,"คอนกรีตหยาบ",null,"=",{"$f":"ROUND((G219+G220)/2*(J218-0.2)*0.05,3)","v":0.56399999999999995},"ลบ.ม."]
[]
[null,"ไม้แบบ"]
[null,null,null,"พื้นกำแพง",null,null,"=",{"$f":"ROUND((G220+G223+G224)*J219,3)","v":2.992},"ตร.ม."]
[null,null,null,"ผนังกำแพง","ด้าน S1",null,"=",{"$f":"ROUND((J222+J223)/2*G223*2+(J223*J224)-(G223*0.1),3)","v":11.032999999999999},"ตร.ม."]
[null,null,null,null,"ด้าน S2",null,"=",{"$f":"ROUND((J222+J223)/2*G224*2+(J223*J224)-(G224*0.1),3)","v":11.17},"ตร.ม."]
[null,null,null,"Bottom Beam",null,null,"=",{"$f":"ROUND((G220*0.6*2+0.2*0.6*2),3)","v":5.7839999999999998},"ตร.ม."]
[null,null,null,null,"รวมไม้แบบตัวกำแพง",null,"=",{"$f":"SUM(H232:H235)","v":30.978999999999999},"ตร.ม."]

{"sheet":"สรุป-BackUp","index":19,"n_rows":48,"n_cols":9,"rows_kept":48,"cut":false,"hidden":true,"merged":[[53,7,53,8],[41,0,41,3],[42,0,42,3],[39,0,39,3],[40,0,40,3],[43,0,43,3],[44,0,44,3]]}
["แบบถอดปริมาณงาน"]
["โครงการก่อสร้าง",{"$f":"ปร.5!C7&\"  \"","v":"ซอยจันทร์สุวรรณ  "}]
[null,{"$f":"ปร.5!C8","v":"บ้านกุดแห่ หมู่ 1 ตำบลกุดแห่ อำเภอนากลาง  จังหวัดหนองบัวลำภู         จำนวน      1    แห่ง"}]
[null,{"$f":"\"ช่วง   \"&BackUp!G3","v":"ช่วง   กม.0+000 - กม.0+590 , กม.1+698 - กม.2+098 , กม.2+128 - กม.2+178  "}]
[null,{"$f":"\"        \"&BackUp!G4","v":"        "}]
["งานปรับเกลี่ยแต่ง บดอัดคันทางเดิมและโครงสร้างทาง",null,null,null,null,"งานรางระบายน้ำ คสล.และบ่อพัก"]
["งาน",null,"ปริมาณ",null,null,"ชนิด",null,"จำนวน"]
["กรุยทางถางป่า ",null,{"$f":"IF(BackUp!S71=0,\"-\",BackUp!S71)","v":"-"},"ตร.ม.",null,"แบบ Rip Rap",null,{"$f":"IF(BackUp!E361=0,\"-\",BackUp!E361)","v":"-"},"ม."]
["ปรับเกลี่ยแต่ง บดอัดคันทางเดิม",null,{"$f":"IF(BackUp!S101=0,\"-\",BackUp!S101)","v":"-"},"ตร.ม.",null,"แบบตัวยู พร้อมฝา",null,{"$f":"IF(BackUp!G361=0,\"-\",BackUp!G361)","v":"-"},"ม."]
["ดินตัด",null,{"$f":"IF(BackUp!D106=0,\"-\",BackUp!D106)","v":532.5},"ลบ.ม.",null,"แบบรางตื้น",null,{"$f":"IF(BackUp!I361=0,\"-\",BackUp!I361)","v":"-"},"ม."]
["ดินถมจากดินตัด",null,{"$f":"IF(BackUp!G106=0,\"-\",BackUp!G106)","v":185},"ลบ.ม.",null,"บ่อพัก คสล. พร้อมฝาตะแกรงเหล็ก",null,{"$f":"IF(BackUp!N361=0,\"-\",BackUp!N361)","v":141.4},"บ่อ"]
["ดินถมจากขนส่ง",null,{"$f":"IF(BackUp!J106=0,\"-\",BackUp!J106)","v":"-"},"ลบ.ม.",null,"บ่อพัก คสล.  พร้อม   ฝาบ่อพัก คสล.",null,{"$f":"IF(BackUp!P361=0,\"-\",BackUp!P361)","v":"-"},"บ่อ"]
["วัสดุคัดเลือก",null,{"$f":"IF(BackUp!I253=0,\"-\",BackUp!I253)","v":"-"},"ลบ.ม.",null,"งานป้องกันการกัดเซาะ"]
["ลูกรัง",null,{"$f":"IF(BackUp!I252=0,\"-\",BackUp!I252)","v":1245.3},"ลบ.ม.",null,"ชนิด",null,"จำนวน"]
["หินคลุก",null,{"$f":"IF(BackUp!I251=0,\"-\",BackUp!I251)","v":"-"},"ลบ.ม.",null,"กล่องตาข่าย Gabion",null,{"$f":"IF(BackUp!G377=0,\"-\",BackUp!G377)","v":"-"},"ลบ.ม."]
["หินคลุกปรับระดับ",null,{"$f":"IF(BackUp!I257=0,\"-\",BackUp!I257)","v":"-"},"ลบ.ม.",null,"กล่องตาข่าย Mattres",null,{"$f":"IF(BackUp!I377=0,\"-\",BackUp!I377)","v":"-"},"ลบ.ม."]
["งานผิวทาง+ทางเชื่อม ทางแยก+Widening และไหล่ทาง",null,null,null,null,"เรียงหิน",null,{"$f":"IF(BackUp!L377=0,\"-\",BackUp!L377)","v":"-"},"ตร.ม."]
["ประเภท",null,"ผิวจราจร(ตร.ม.)","ไหล่ทาง(ตร.ม.)",null,"Concrete Slope Protection",null,{"$f":"IF(BackUp!N377=0,\"-\",BackUp!N377)","v":"-"},"ตร.ม."]
["Pavement In-Place Recycling",null,{"$f":"IF(BackUp!BM239=0,\"-\",BackUp!BM239)","v":"-"},{"$f":"IF(BackUp!BO239=0,\"-\",BackUp!BO239)","v":"-"},null,"งานเครื่องหมายจราจร"]
["Prime Coat",null,{"$f":"IF(BackUp!BM238+BackUp!BM239=0,\"-\",BackUp!BM238+BackUp!BM239)","v":"-"},{"$f":"IF(BackUp!BO238+BackUp!BO239=0,\"-\",BackUp!BO238+BackUp!BO239)","v":"-"},null,"แบบ","จำนวน","แบบ","จำนวน"]
["Tack Coat",null,{"$f":"IF(BackUp!BM240=0,\"-\",BackUp!BM240)","v":"-"},{"$f":"IF(BackUp!BO240=0,\"-\",BackUp!BO240)","v":"-"},null,"บ1",{"$f":"IF(BackUp!H437=0,\"-\",BackUp!H437)","v":"-"},"น1",{"$f":"IF(BackUp!H461=0,\"-\",BackUp!H461)","v":"-"}]
["ผิวลาดยาง",null,{"$f":"IF(BackUp!#REF!=0,\"-\",BackUp!#REF!)","v":{"$error":"#REF!"}},{"$f":"IF(BackUp!#REF!=0,\"-\",BackUp!#REF!)","v":{"$error":"#REF!"}},null,"บ2",{"$f":"IF(BackUp!H438=0,\"-\",BackUp!H438)","v":"-"},"น1/1",{"$f":"IF(BackUp!H462=0,\"-\",BackUp!H462)","v":"-"}]
["ผิวคอนกรีต",null,{"$f":"IF(BackUp!#REF!=0,\"-\",BackUp!#REF!)","v":{"$error":"#REF!"}},{"$f":"IF(BackUp!#REF!=0,\"-\",BackUp!#REF!)","v":{"$error":"#REF!"}},null,"บ3-บ55",{"$f":"IF(BackUp!H439=0,\"-\",BackUp!H439)","v":"-"},"1-น2",{"$f":"IF(BackUp!H463=0,\"-\",BackUp!H463)","v":"-"}]
["งานท่อระบายน้ำ",null,null,null,null,"ต1-ต27,ต31-ต60,ต75",{"$f":"IF(BackUp!H440=0,\"-\",BackUp!H440)","v":10},"2-น2",{"$f":"IF(BackUp!H464=0,\"-\",BackUp!H464)","v":"-"}]
["ขนาด",null,"จำนวน",null,null,"ต28-ต30,ต62",{"$f":"IF(BackUp!H441=0,\"-\",BackUp!H441)","v":"-"},"3-น2",{"$f":"IF(BackUp!H465=0,\"-\",BackUp!H465)","v":"-"}]
["ท่อ Ø 0.40",null,{"$f":"IF(BackUp!G261=0,\"-\",BackUp!G261)","v":1272.5999999999999},"ม.",null,"ต61",{"$f":"IF(BackUp!H442=0,\"-\",BackUp!H442)","v":"-"},"1-น3",{"$f":"IF(BackUp!R437=0,\"-\",BackUp!R437)","v":"-"}]
["ท่อ Ø 0.60",null,{"$f":"IF(BackUp!I261=0,\"-\",BackUp!I261)","v":"-"},"ม.",null,"ต63+ต66(1แผ่น)",{"$f":"IF(BackUp!H443=0,\"-\",BackUp!H443)","v":"-"},"2-น3",{"$f":"IF(BackUp!R438=0,\"-\",BackUp!R438)","v":"-"}]
["ท่อ Ø 0.80",null,{"$f":"IF(BackUp!L261=0,\"-\",BackUp!L261)","v":"-"},"ม.",null,"ต63+ต66(2แผ่น)",{"$f":"IF(BackUp!H444=0,\"-\",BackUp!H444)","v":"-"},"3-น3",{"$f":"IF(BackUp!R439=0,\"-\",BackUp!R439)","v":"-"}]
["ท่อ Ø 1.00",null,{"$f":"IF(BackUp!N261=0,\"-\",BackUp!N261)","v":"-"},"ม.",null,"ต64,ต67",{"$f":"IF(BackUp!H445=0,\"-\",BackUp!H445)","v":"-"}," น4",{"$f":"IF(BackUp!R441=0,\"-\",BackUp!R441)","v":"-"}]
["ท่อ Ø 1.20",null,{"$f":"IF(BackUp!P261=0,\"-\",BackUp!P261)","v":"-"},"ม.",null,"ต65,ต68,ต70",{"$f":"IF(BackUp!H446=0,\"-\",BackUp!H446)","v":"-"}," น5",{"$f":"IF(BackUp!R443=0,\"-\",BackUp!R443)","v":"-"}]
["งานกำแพงปากท่อ",null,null,null,null," ต69",{"$f":"IF(BackUp!H447=0,\"-\",BackUp!H447)","v":"-"}," น6",{"$f":"IF(BackUp!R444=0,\"-\",BackUp!R444)","v":"-"}]
["ขนาด",null,"จำนวน",null,null,"ต71-ต73",{"$f":"IF(BackUp!H449=0,\"-\",BackUp!H449)","v":"-"},"น7-น20",{"$f":"IF(BackUp!R445=0,\"-\",BackUp!R445)","v":"-"}]
["1- Ø 0.80",null,{"$f":"IF(BackUp!L262=0,\"-\",BackUp!L262)","v":"-"},"ด้าน",null,"ต74",{"$f":"IF(BackUp!H450=0,\"-\",BackUp!H450)","v":"-"},"น1+น7 - น20",{"$f":"IF(BackUp!R446=0,\"-\",BackUp!R446)","v":"-"}]
["2- Ø 0.80",null,{"$f":"IF(BackUp!L263=0,\"-\",BackUp!L263)","v":"-"},"ด้าน",null,"ต76",{"$f":"IF(BackUp!H451=0,\"-\",BackUp!H451)","v":"-"},"น1+น1/1+น7 - น20 + น20",{"$f":"IF(BackUp!R447=0,\"-\",BackUp!R447)","v":"-"}]
["1- Ø 1.00",null,{"$f":"IF(BackUp!N262=0,\"-\",BackUp!N262)","v":"-"},"ด้าน",null,"ต77",{"$f":"IF(BackUp!H452=0,\"-\",BackUp!H452)","v":"-"},"น1+น7 - น20 + น1+น7 - น20",{"$f":"IF(BackUp!R448=0,\"-\",BackUp!R448)","v":"-"}]
["2- Ø 1.00",null,{"$f":"IF(BackUp!N263=0,\"-\",BackUp!N263)","v":"-"},"ด้าน",null,"ต78",{"$f":"IF(BackUp!H453=0,\"-\",BackUp!H453)","v":"-"},"น1+น1/1+น7 - น20 + น20",{"$f":"IF(BackUp!R449=0,\"-\",BackUp!R449)","v":"-"}]
["1- Ø 1.20",null,{"$f":"IF(BackUp!P262=0,\"-\",BackUp!P262)","v":"-"},"ด้าน",null,"บ3-บ55+ต1-ต27, ต31-ต60",{"$f":"IF(BackUp!H454=0,\"-\",BackUp!H454)","v":"-"}," ป้ายกำหนดน้ำหนัก",{"$f":"IF(BackUp!R451=0,\"-\",BackUp!R451)","v":"-"}]
["2- Ø 1.21",null,{"$f":"IF(BackUp!P263=0,\"-\",BackUp!P263)","v":"-"},"ด้าน",null,"ต1-ต27+ต73,ต31-ต60+ต73",{"$f":"IF(BackUp!H455=0,\"-\",BackUp!H455)","v":"-"},"หลักนำโค้ง / หลักตำแหน่งท่อ",{"$f":"IF(BackUp!R452=0,\"-\",BackUp!R452)","v":"-"}]
["งานท่อลอดเหลี่ยมและสะพาน คสล.",null,null,null,null,"ต1-ต27+ต74,ต31-ต60+ต74",{"$f":"IF(BackUp!H456=0,\"-\",BackUp!H456)","v":"-"},"หลักกิโลเมตร",{"$f":"IF(BackUp!R453=0,\"-\",BackUp!R453)","v":"-"}]
[{"$f":"IF(BackUp!E120=\"\",\"-\",\"กม.\"&BackUp!E120&\" \"&BackUp!H120)","v":"-"},null,null,null,null,"ต1-ต27+ต75,ต31-ต60+ต75",{"$f":"IF(BackUp!H457=0,\"-\",BackUp!H457)","v":"-"},"ชนิดทิศทางเดียว",{"$f":"IF(BackUp!R454=0,\"-\",BackUp!R454)","v":"-"}]
[{"$f":"IF(BackUp!E121=\"\",\"-\",\"กม.\"&BackUp!E121&\" \"&BackUp!H121)","v":"-"},null,null,null,null,"ต1-ต27+ต76,ต31-ต60+ต76",{"$f":"IF(BackUp!H458=0,\"-\",BackUp!H458)","v":"-"},"ชนิดสองทิศทาง",{"$f":"IF(BackUp!R455=0,\"-\",BackUp!R455)","v":"-"}]
[{"$f":"IF(BackUp!E122=\"\",\"-\",\"กม.\"&BackUp!E122&\" \"&BackUp!H122)","v":"-"},null,null,null,null,"ต1-ต27+ต78,ต31-ต60+ต78",{"$f":"IF(BackUp!H460=0,\"-\",BackUp!H460)","v":"-"},"สัญญาณไฟกระพริบ",{"$f":"IF(BackUp!R456=0,\"-\",BackUp!R456)","v":"-"}]
[{"$f":"IF(BackUp!E123=\"\",\"-\",\"กม.\"&BackUp!E123&\" \"&BackUp!H123)","v":"-"},null,null,null,null,"RUMBLE STRIP",{"$f":"IF(BackUp!R459=0,\"-\",BackUp!R459)","v":7},"สัญญาณไฟกระพริบ + บ1",{"$f":"IF(BackUp!R457=0,\"-\",BackUp!R457)","v":"-"}]
[{"$f":"IF(BackUp!#REF!=\"\",\"-\",\"กม.\"&BackUp!#REF!&\" \"&BackUp!#REF!)","v":{"$error":"#REF!"}},null,null,null,null,"TIMBER BARRICADE",{"$f":"IF(BackUp!R454=0,\"-\",BackUp!R454)","v":"-"},"GUARD RAIL (ทางตรง)",{"$f":"IF(BackUp!R452=0,\"-\",BackUp!R452)","v":"-"}]
[{"$f":"IF(BackUp!#REF!=\"\",\"-\",\"กม.\"&BackUp!#REF!&\" \"&BackUp!#REF!)","v":{"$error":"#REF!"}},null,null,null,null,"ทางม้าลาย",{"$f":"IF(BackUp!R460=0,\"-\",BackUp!R460)","v":"-"},"GUARD RAIL (ทางโค้ง)",{"$f":"IF(BackUp!R453=0,\"-\",BackUp!R453)","v":"-"}]
["งานไฟฟ้าแสงสว่าง",null,null,null,null,"งานตีเส้นจราจร"]
["จำนวน",null,{"$f":"IF(BackUp!G394=0,\"-\",BackUp!G394)","v":"-"},"ต้น",null,"สีเหลือง",null,{"$f":"IF(BackUp!O434=0,\"-\",BackUp!O434)","v":81.25},"ตร.ม."]
[null,null,null,null,null,"สีขาว",null,{"$f":"IF(BackUp!M434=0,\"-\",BackUp!M434)","v":200},"ตร.ม."]

{"sheet":"งวดงาน","index":20,"n_rows":34,"n_cols":24,"rows_kept":34,"cut":false,"hidden":true,"merged":[[31,3,31,4],[30,3,30,4],[32,3,32,4],[33,3,33,4],[4,9,5,9],[4,4,5,4],[4,5,5,5],[4,6,5,6],[4,7,5,7],[4,8,5,8],[3,1,3,2],[28,1,28,2],[4,0,5,0],[4,1,5,2],[4,3,5,3],[4,10,5,10],[4,11,4,12],[7,12,10,12],[4,15,5,15],[4,16,5,16],[7,23,10,23],[4,19,5,19],[4,13,5,13],[4,17,5,17],[4,18,5,18],[4,20,5,20],[4,21,5,21],[4,22,4,23]]}
["ใบสรุปการแบ่งงวดงาน"]
["โครงการ :","งานก่อสร้างถนนลาดยางผิวจราจรแบบ Asphalt Concrete"]
["สายทาง :","สายแยก ทางหลวงหมายเลข 222 - บ้านผาสวรรค์  ตำบลนาแสง  อำเภอเซกา  จังหวัดบึงกาฬ"]
["ระยะทาง :","1.813  กิโลเมตร",null,null,null,null,3,3,null,null,null,null,null,null,null,null,null,null,3]
["งวดงานที่","รายละเอียดงาน",null,"ค่าก่อสร้าง\n(ตามราคากลาง)","ระยะทาง","Factor ","ค่างาน","% \nค่างาน","% \nรวมเศษ","% \nปรับแก้","% \nเหลือเศษ","ใช้",null,"วันที่\nแล้วเสร็จ",null,"ค่าก่อสร้าง\n(ตามประเมิณ)","ระยะทาง","Factor ","ค่างาน","รวมเศษ","ปรับแก้","เหลือเศษ","ใช้"]
[null,null,null,null,null,null,null,null,null,null,null,"ตามประเภท","รวมในงวด",null,null,null,null,null,null,null,null,null,"ตามประเภท","รวม"]
[null,null,"งานท่อลอดเหลี่ยม ค.ส.ล.",0,null,0,{"$f":"ROUND(D7*F7,$G$4)","v":0},{"$f":"ROUND((G7/$G$29)*100,$H$4)","v":0},null,{"$f":"ROUNDDOWN(H7,2)","v":0},{"$f":"H7-J7","v":0},{"$f":"J7","v":0},null,null,null,0,{"$f":"E7","v":0},{"$f":"F7","v":0},{"$f":"ROUND(P7*R7,$G$4)","v":0},null,{"$f":"ROUNDDOWN(S7,-1)","v":0},{"$f":"S7-U7","v":0},{"$f":"U7","v":0}]
[1,"-","งานกรุยทางถางป่า",{"$f":"ปร.4!R22","v":0},null,1,{"$f":"ROUND(D8*F8,$G$4)","v":0},{"$f":"ROUND((G8/$G$29)*100,$H$4)","v":0},null,{"$f":"ROUNDDOWN(H8,2)","v":0},{"$f":"H8-J8","v":0},{"$f":"J8","v":0},{"$f":"SUM(L8:L11)","v":0.28999999999999998},null,null,12714.59,0,1,{"$f":"ROUND(P8*R8,$G$4)","v":12714.59},null,{"$f":"ROUNDDOWN(S8,-1)","v":12710},{"$f":"S8-U8","v":4.5900000000001455},{"$f":"U8","v":12710},{"$f":"SUM(W8:W11)","v":460450}]
[null,"-","งานปรับเกลี่ยแต่งและบดอัดคันทางเดิม",{"$f":"ปร.4!R23","v":0},null,1,{"$f":"ROUND(D9*F9,$G$4)","v":0},0,null,{"$f":"ROUNDDOWN(H9,2)","v":0},{"$f":"H9-J9","v":0},{"$f":"J9","v":0},null,null,null,91405.34,0,1,{"$f":"ROUND(P9*R9,$G$4)","v":91405.34},null,{"$f":"ROUNDDOWN(S9,-1)","v":91400},{"$f":"S9-U9","v":5.3399999999965075},{"$f":"U9","v":91400}]
[null,"-","งานดินตัด งานดินถม",{"$f":"SUM(ปร.4!R25:R29,ปร.4!R32:R34)","v":14834.31},null,1,{"$f":"ROUND(D10*F10,$G$4)","v":14834.31},0.29699999999999999,null,{"$f":"ROUNDDOWN(H10,2)","v":0.28999999999999998},{"$f":"H10-J10","v":7.0000000000000062E-3},0.28999999999999998,null,null,null,356343.67,0,1,{"$f":"ROUND(P10*R10,$G$4)","v":356343.67},null,356340,3.6699999999837019,356340]
[null,null,"งานท่อลอดกลม ค.ส.ล.",{"$f":"SUM(ปร.4!R82:R86)","v":328972.61},null,0,{"$f":"ROUND(D11*F11,$G$4)","v":0},0,null,0,0,0,null,null,null,0,0,0,0,null,0,0,0]
[2,null,"งานชั้นรองพื้นทาง",{"$f":"SUM(ปร.4!R38:R40)","v":0},null,1,0,0,null,0,0,0,{"$f":"L12","v":0},null,null,603783.07999999996,0,1,603783.07999999996,null,603780,3.0799999999580905,603780,{"$f":"W12","v":603780}]
[3,null,"งานชั้นพื้นทาง",{"$f":"SUM(ปร.4!R42:R43)","v":0},null,0.5,0,0,null,0,0,0,{"$f":"L13","v":0},null,null,4258268.96,0,0.5,2129134.48,null,2129130,4.4799999999813735,2129130,{"$f":"W13","v":2129130}]
[4,null,"งานชั้นพื้นทาง",{"$f":"D13","v":0},null,0.5,0,0,null,0,0,0,0,null,null,0,0,0.5,0,null,0,0,0,0]
[4,null,"งานไพร์มโค้ท",679055.92,null,1,679055.92,13.602,null,13.6,2.0000000000006679E-3,13.6,13.6,null,null,679055.92,0,1,679055.92,null,679050,5.9200000000419095,679050,679050]
[5,null,"งานผิวทางและผิวไหล่ทาง AC",3992031.9,null,1,3992031.9,79.962999999999994,null,79.959999999999994,3.0000000000001137E-3,79.959999999999994,79.959999999999994,null,null,3992031.9,0,1,3992031.9,null,3992030,1.8999999999068677,3992030,3992030]
[6,null,"งานไพร์มโค้ท",0,null,0,0,0,null,0,0,0,0,null,null,0,0,0,0,null,0,0,0,0]
[null,6.2,"งานผิวทางและผิวไหล่ทาง AC",0,null,0,0,0,null,0,0,0,0,null,null,0,0,0,0,null,0,0,0,0]
[6,null,"งานที่เหลือ",null,null,null,0,0,null,0,0,0,0,null,null,null,0,0,0,null,0,0,0,0]
[null,"-","งานกรุยทางถางป่า",0,null,0,0,0,null,0,0,0,0,null,null,0,0,0,0,null,0,0,0,0]
[null,"-","งานปรับเกลี่ยแต่งและบดอัดคันทางเดิม",0,null,0,0,0,null,0,0,0,0,null,null,0,0,0,0,null,0,0,0,0]
[null,"-","งานดินตัด งานดินถม",0,null,0,0,0,null,0,0,0,0,null,null,0,0,0,0,null,0,0,0,0]
[null,"-","งานชั้นรองพื้นทาง",0,null,0,0,0,null,0,0,0,0,null,null,0,0,0,0,null,0,0,0,0]
[null,"-","งานชั้นพื้นทาง",0,null,0,0,0,null,0,0,0,0,null,null,0,0,0,0,null,0,0,0,0]
[null,"-","งานไพร์มโค้ท",0,null,0,0,0,null,0,0,0,0,null,null,0,0,0,0,null,0,0,0,0]
[null,"-","งานผิวทางและผิวไหล่ทาง AC",0,null,0,0,0,null,0,0,0,0,null,null,0,0,0,0,null,0,0,0,0]
[null,6.1,"งานกำแพงปากท่อลอดกลม ค.ส.ล.",61779.1,null,1,61779.1,1.2370000000000001,null,1.23,7.0000000000001172E-3,1.23,1.23,null,null,61779.1,0,1,61779.1,null,61770,9.0999999999985448,61770,61770]
[null,6.2,"งานเครื่องหมายจราจร",244617.44,null,1,244617.44,{"$f":"ROUND((G28/$G$29)*100,$H$4)","v":4.9000000000000004},{"$f":"H28+SUM(K8:K27)","v":4.9190000000000014},{"$f":"I28","v":4.9190000000000014},null,4.9190000000000014,4.9190000000000014,null,null,244617.44,0,1,244617.44,{"$f":"S28+SUM(V7:V28)","v":244655.51999999987},{"$f":"T28","v":244655.51999999987},null,244655.51999999987,244655.51999999987]
[null,"รวม",null,null,null,null,{"$f":"SUM(G7:G28)","v":4992318.67},{"$f":"SUM(H8:H28)","v":99.998999999999995},null,{"$f":"SUM(J8:J28)","v":99.998999999999995},null,{"$f":"SUM(L8:L28)","v":99.998999999999995},{"$f":"SUM(M8:M28)","v":99.998999999999995},null,null,{"$f":"SUM(P8:P28)","v":10299999.999999998},null,null,{"$f":"SUM(S8:S28)","v":8170865.5200000005},null,{"$f":"SUM(U8:U28)","v":8170865.5199999996},null,{"$f":"SUM(W8:W28)","v":8170865.5199999996},{"$f":"SUM(X8:X28)","v":8170865.5199999996}]
[null,null,null,null,null,null,null,null,null,null,null,null,{"$f":"IF(AND(L29=100,M29=100),\"OK\",\"NOOK\")","v":"NOOK"}]
[null,null,"ราคากลาง","ราคาประเมิณ",null,null,null,null,null,null,null,null,null,null,null,"ราคาที่เสนอ"]
[null,null,{"$f":"ปร.5!G20","v":803825.58},10300000]
[]
[null,null,"Factor",{"$f":"D32/C32","v":12.813725086977202}]

{"sheet":"ค่าเสื่อมราคา","index":21,"n_rows":90,"n_cols":92,"rows_kept":90,"cut":false,"hidden":false,"merged":[[40,15,40,16]]}
[null,"ราคาน้ำม้นโซล่า ณ วันประมาณราคา",{"$f":"ราคาน้ำมันเฉลี่ย","v":26.5},"บาท/ลิตร",null,null,"25 มิย. 34"]
[null,null,{"$f":"ROUNDDOWN(C1,0)","v":26},{"$f":"C2+0.5","v":26.5}]
[]
[null,"ตารางสรุปค่าดำเนินการและค่าเสื่อมราคา",null,null,"      (ราคาเครื่องจักร มิย. 33)"]
[null,"ราคาน้ำมันโซล่า ที่อำเภอเมืองเฉลี่ย ลิตร ละ",null,{"$f":"+D2","v":26.5},"บาท",null,null,null,null,null,null,null,null,null,null,null,null,null,null,null,null,null,null,null,null,null,null,null,null,null,null,null,{"$f":"+AJ8-0.5","v":29}]
[null,"_","_","_","_","_","_"]
[null,"ตารางสรุปค่าดำเนินการและค่าเสื่อมราคา",null,null,null,null,null,null,null,null,null,null,null,null,null,null,null,null,null,null,null,null,null,null,null,null,null,null,null,"ตารางสรุปค่าดำเนินการและค่าเสื่อมราคา"]
[null,{"$f":"\"(ราคาน้ำมันโซล่า ที่ อ.เมือง \"&AG5&\".00 - \"&AG5+0.99&\" บาท/ลิตร เฉลี่ย \"&AJ8&\"0 บาท/ลิตร)\"","v":"(ราคาน้ำมันโซล่า ที่ อ.เมือง 29.00 - 29.99 บาท/ลิตร เฉลี่ย 29.50 บาท/ลิตร)"},null,null,null,null,null,null,null,null,null,null,null,null,null,null,null,null,null,null,null,null,null,null,null,null,null,null,null,{"$f":"\"(ราคาน้ำมันโซล่า ที่ อ.เมือง 15.50 - 39.50 บาท/ลิตร )\"","v":"(ราคาน้ำมันโซล่า ที่ อ.เมือง 15.50 - 39.50 บาท/ลิตร )"},null,null,null,null,"เปลี่ยนเป็น",29.5]
[null,null,null,"   ค่า","ค่าเสื่อมราคา (บาท)",null," รวมค่างาน (บาท)",null,null,null,null,null,null,null,null,null,null,null,null,null,null,null,null,null,null,null,null,null,null,null,null,null,"รวมค่างาน (บาท)",null,"รวมค่างาน (บาท)",null,"รวมค่างาน (บาท)",null,"รวมค่างาน (บาท)",null,"รวมค่างาน (บาท)",null,"รวมค่างาน (บาท)",null,"รวมค่างาน (บาท)",null,"รวมค่างาน (บาท)",null,"รวมค่างาน (บาท)",null,"รวมค่างาน (บาท)",null,"รวมค่างาน (บาท)",null,"รวมค่างาน (บาท)",null,"รวมค่างาน (บาท)",null,"รวมค่างาน (บาท)",null,"รวมค่างาน (บาท)",null,"รวมค่างาน (บาท)",null,"รวมค่างาน (บาท)",null,"รวมค่างาน (บาท)",null,"รวมค่างาน (บาท)",null,"รวมค่างาน (บาท)",null,"รวมค่างาน (บาท)",null,"รวมค่างาน (บาท)",null,"รวมค่างาน (บาท)",null,"รวมค่างาน (บาท)",null,"รวมค่างาน (บาท)",null,"รวมค่างาน (บาท)",null,"รวมค่างาน (บาท)",null,"รวมค่างาน (บาท)",null,"รวมค่างาน (บาท)",null,"รวมค่างาน (บาท)"]
[null,"     ลักษณะงาน","  หน่วย","ดำเนินการ",null,null,null,null,null,null,null,null,null,null,null,null,null,null,null,null,null,null,null,null,null,null,null,null,null,null,"     ลักษณะงาน","  หน่วย","ปกติ","ฝนชุก","ปกติ","ฝนชุก","ปกติ","ฝนชุก","ปกติ","ฝนชุก","ปกติ","ฝนชุก","ปกติ","ฝนชุก","ปกติ","ฝนชุก","ปกติ","ฝนชุก","ปกติ","ฝนชุก","ปกติ","ฝนชุก","ปกติ","ฝนชุก","ปกติ","ฝนชุก","ปกติ","ฝนชุก","ปกติ","ฝนชุก","ปกติ","ฝนชุก","ปกติ","ฝนชุก","ปกติ","ฝนชุก","ปกติ","ฝนชุก","ปกติ","ฝนชุก","ปกติ","ฝนชุก","ปกติ","ฝนชุก","ปกติ","ฝนชุก","ปกติ","ฝนชุก","ปกติ","ฝนชุก","ปกติ","ฝนชุก","ปกติ","ฝนชุก","ปกติ","ฝนชุก","ปกติ","ฝนชุก","ปกติ","ฝนชุก","ปกติ","ฝนชุก"]
[null,null,null,"บาท/หน่วย","  ปกติ","  ฝนชุก","  ปกติ","  ฝนชุก",{"$f":"ข้อมูลขนส่ง!N6","v":"ปกติ"},null,null,null,null,null,null,null,null,null,null,null,null,null,null,null,null,null,null,null,null,null,null,null,25.5,null,{"$f":"AG11+1","v":26.5},null,{"$f":"AI11+1","v":27.5},null,{"$f":"AK11+1","v":28.5},null,{"$f":"AM11+1","v":29.5},null,{"$f":"AO11+1","v":30.5},null,{"$f":"AQ11+1","v":31.5},null,{"$f":"AS11+1","v":32.5},null,{"$f":"AU11+1","v":33.5},null,{"$f":"AW11+1","v":34.5},null,{"$f":"AY11+1","v":35.5},null,{"$f":"BA11+1","v":36.5},null,{"$f":"BC11+1","v":37.5},null,{"$f":"BE11+1","v":38.5},null,{"$f":"BG11+1","v":39.5},null,{"$f":"BI11+1","v":40.5},null,{"$f":"BK11+1","v":41.5},null,{"$f":"BM11+1","v":42.5},null,{"$f":"BO11+1","v":43.5},null,{"$f":"BQ11+1","v":44.5},null,{"$f":"BS11+1","v":45.5},null,{"$f":"BU11+1","v":46.5},null,{"$f":"BW11+1","v":47.5},null,{"$f":"BY11+1","v":48.5},null,{"$f":"CA11+1","v":49.5},null,{"$f":"CC11+1","v":50.5},null,{"$f":"CE11+1","v":51.5},null,{"$f":"CG11+1","v":52.5},null,{"$f":"CI11+1","v":53.5},null,{"$f":"CK11+1","v":54.5}]
[null,null,null,"จากตาราง",null,null,{"$f":"HLOOKUP($D$5,$AG$11:$BV$90,2,FALSE)","v":3},{"$f":"G12+1","v":4},null,1,null,null,null,null,null,null,null,null,null,null,null,null,null,null,null,null,null,null,null,null,null,null,1,2,3,4,5,6,7,8,9,10,11,12,13,14,15,16,17,18,19,20,21,22,23,24,25,26,27,28,29,30,31,32,33,34,35,36,37,38,39,40,41,42,43,44,45,46,47,48,49,50,51,52,53,54,55,56,57,58,59,60]
[null,null,null,null,null,null,null,null,null,2]
[1,"งานถางป่าขุดตอ",null,null,null,null,null,null,null,3,null,null,null,null,null,null,null,null,null,null,null,null,null,null,null,null,null,null,null,1,"งานถางป่าขุดตอ"]
[null,"  ขนาดเบา","  ตรม.",{"$f":"HLOOKUP($D$5,$AG$11:$BV$90,J15)+K15","v":0},0.15590000000000001,{"$f":"E15*1.25","v":0.19487500000000002},{"$f":"HLOOKUP($G$12,$AG$12:$CN$90,J15,FALSE)","v":1.68},{"$f":"HLOOKUP($H$12,$AG$12:$CN$90,J15,FALSE)","v":1.74},{"$f":"ROUND(IF($I$11=\"ปกติ\",G15,H15),2)","v":1.68},4,null,null,null,null,null,null,null,null,null,null,null,null,null,null,null,null,null,null,null,null,"  ขนาดเบา","  ตรม.",1.67,1.73,1.68,1.74,1.69,1.75,1.43,1.47,1.72,1.78,1.45,1.49,1.46,1.5,1.48,1.52,1.49,1.53,1.5,1.54,1.52,1.55,1.53,1.57,1.54,1.58,1.55,1.59,1.57,1.6,1.58,1.62,1.59,1.63,1.6,1.64,1.62,1.66,1.63,1.67,1.64,1.68,1.65,1.69,1.67,1.71,1.68,1.72,1.69,1.73,1.71,1.74,1.72,1.76,1.73,1.77,1.74,1.78,1.76,1.8]
[null,"  ขนาดกลาง","  ตรม.",{"$f":"HLOOKUP($D$5,$AG$11:$BV$90,J16)+K16","v":1.68},0.46,{"$f":"E16*1.25","v":0.57500000000000007},{"$f":"HLOOKUP($G$12,$AG$12:$CN$90,J16,FALSE)","v":3.54},{"$f":"HLOOKUP($H$12,$AG$12:$CN$90,J16,FALSE)","v":3.68},{"$f":"ROUND(IF($I$11=\"ปกติ\",G16,H16),2)","v":3.54},5,null,null,null,null,null,null,null,null,null,null,null,null,null,null,null,null,null,null,null,null,"  ขนาดกลาง","  ตรม.",3.5,3.64,3.54,3.68,3.57,3.71,3.24,3.36,3.63,3.77,3.31,3.42,3.34,3.46,3.37,3.49,3.4,3.52,3.44,3.55,3.47,3.58,3.5,3.62,3.53,3.65,3.57,3.68,3.6,3.71,3.63,3.75,3.66,3.78,3.69,3.81,3.73,3.84,3.76,3.87,3.79,3.91,3.82,3.94,3.86,3.97,3.89,4,3.92,4.04,3.95,4.07,3.99,4.0999999999999996,4.0199999999999996,4.13,4.05,4.17,4.08,4.2]
[null,"  ขนาดหนัก","  ตรม.",{"$f":"HLOOKUP($D$5,$AG$11:$BV$90,J17)+K17","v":3.54},0.65700000000000003,{"$f":"E17*1.25","v":0.82125000000000004},{"$f":"HLOOKUP($G$12,$AG$12:$CN$90,J17,FALSE)","v":5.3},5.5,{"$f":"ROUND(IF($I$11=\"ปกติ\",G17,H17),2)","v":5.3},6,null,null,null,null,null,null,null,null,null,null,null,null,null,null,null,null,null,null,null,null,"  ขนาดหนัก","  ตรม.",5.25,5.45,5.3,5.5,5.36,5.56,4.8899999999999997,5.0599999999999996,5.46,5.66,5,5.16,5.05,5.21,5.0999999999999996,5.26,5.15,5.32,5.2,5.37,5.26,5.42,5.31,5.47,5.36,5.53,5.41,5.58,5.46,5.63,5.52,5.68,5.57,5.73,5.62,5.79,5.67,5.84,5.73,5.89,5.78,5.94,5.83,6,5.88,6.05,5.93,6.1,5.99,6.15,6.04,6.2,6.09,6.26,6.14,6.31,6.2,6.36,6.25,6.41]
[2,"งานดินคันทาง",null,null,null,null,null,null,null,7,null,null,null,null,null,null,null,null,null,null,null,null,null,null,null,null,null,null,null,2,"งานดินคันทาง"]
[null,"  ขุด-ขน","ลบม. หลวม",{"$f":"HLOOKUP($D$5,$AG$11:$BV$90,J19)+K19","v":0},3.47,{"$f":"E19*1.25","v":4.3375000000000004},20.9,21.78,{"$f":"ROUND(IF($I$11=\"ปกติ\",G19,H19),2)","v":20.9},8,null,null,null,null,null,null,null,null,null,null,null,null,null,null,null,null,null,null,null,null,"  ขุด-ขน","ลบม. หลวม",20.69,21.57,20.9,21.78,21.12,22,21.24,22.1,21.55,22.43,21.67,22.54,21.88,22.75,22.1,22.97,22.31,23.18,22.53,23.4,22.74,23.61,22.96,23.83,23.18,24.04,23.39,24.26,23.61,24.47,23.82,24.69,24.04,24.91,24.25,25.12,24.47,25.34,24.68,25.55,24.9,25.77,25.11,25.98,25.33,26.2,25.55,26.41,25.76,26.63,25.98,26.84,26.19,27.06,26.41,27.28,26.62,27.49,26.84,27.71]
[null,"  บดทับ","ลบม. แน่น",{"$f":"HLOOKUP($D$5,$AG$11:$BV$90,J20)+K20","v":20.9},7.9189999999999996,{"$f":"E20*1.25","v":9.8987499999999997},44.13,46.83,44.13,9,null,null,null,null,null,null,null,null,null,null,null,null,null,null,null,null,null,null,null,null,"  บดทับ","ลบม. แน่น",43.68,46.38,44.13,46.83,44.58,47.28,38.11,40.090000000000003,45.49,48.19,39.01,40.99,39.46,41.44,39.909999999999997,41.89,40.36,42.34,40.81,42.79,41.26,43.24,41.72,43.69,42.17,44.15,42.62,44.6,43.07,45.05,43.52,45.5,43.97,45.95,44.42,46.4,44.87,46.85,45.32,47.3,45.77,47.75,46.22,48.2,46.67,48.65,47.12,49.1,47.58,49.56,48.03,50.01,48.48,50.46,48.93,50.91,49.38,51.36,49.83,51.81]
[3,"งานตัด-ขึ้นรูปคันทาง",null,null,null,null,null,null,null,10,null,null,null,null,null,null,null,null,null,null,null,null,null,null,null,null,null,null,null,3,"งานตัด-ขึ้นรูปคันทาง"]
[null,"  ดิน-ขุดตัด","ลบม. ปกติ",{"$f":"HLOOKUP($D$5,$AG$11:$BV$90,J22)+K22","v":0},2.93,{"$f":"E22*1.25","v":3.6625000000000001},20.71,21.48,20.71,11,null,null,null,null,null,null,null,null,null,null,null,null,null,null,null,null,null,null,null,null,"  ดิน-ขุดตัด","ลบม. ปกติ",20.53,21.3,20.71,21.48,20.9,21.67,20.399999999999999,21.14,21.28,22.05,20.78,21.51,20.97,21.7,21.15,21.89,21.34,22.07,21.53,22.26,21.72,22.45,21.9,22.64,22.09,22.83,22.28,23.01,22.47,23.2,22.66,23.39,22.84,23.58,23.03,23.76,23.22,23.95,23.41,24.14,23.6,24.33,23.78,24.52,23.97,24.7,24.16,24.89,24.35,25.08,24.53,25.27,24.72,25.46,24.91,25.64,25.1,25.83,25.29,26.02]
[null,"    -ตัก","ลบม. หลวม",20.71,1.7,2.125,7.96,8.39,7.96,12,null,null,null,null,null,null,null,null,null,null,null,null,null,null,null,null,null,null,null,null,"    -ตัก","ลบม. หลวม",7.88,8.31,7.96,8.39,8.0399999999999991,8.4700000000000006,8.1199999999999992,8.5500000000000007,8.1999999999999993,8.6300000000000008,8.2799999999999994,8.7100000000000009,8.3699999999999992,8.7899999999999991,8.4499999999999993,8.8699999999999992,8.5299999999999994,8.9499999999999993,8.61,9.0299999999999994,8.69,9.1199999999999992,8.77,9.1999999999999993,8.85,9.2799999999999994,8.93,9.36,9.01,9.44,9.1,9.52,9.18,9.6,9.26,9.68,9.34,9.76,9.42,9.85,9.5,9.93,9.58,10.01,9.66,10.09,9.75,10.17,9.83,10.25,9.91,10.33,9.99,10.41,10.07,10.5,10.15,10.58,10.23,10.66]
[null,"  หินผุ-ขุดตัด","ลบม. ปกติ",7.96,3.3370000000000002,4.1712500000000006,31.13,31.97,31.13,13,null,null,null,null,null,null,null,null,null,null,null,null,null,null,null,null,null,null,null,null,"  หินผุ-ขุดตัด","ลบม. ปกติ",30.74,31.58,31.13,31.97,31.52,32.36,31.51,32.35,32.29,33.130000000000003,32.28,33.119999999999997,32.67,33.51,33.06,33.89,33.44,34.28,33.83,34.659999999999997,34.22,35.049999999999997,34.6,35.44,34.99,35.82,35.369999999999997,36.21,35.76,36.6,36.15,36.979999999999997,36.53,37.369999999999997,36.92,37.76,37.31,38.14,37.69,38.53,38.08,38.909999999999997,38.47,39.299999999999997,38.85,39.69,39.24,40.07,39.630000000000003,40.46,40.01,40.85,40.4,41.23,40.78,41.62,41.17,42.01,41.56,42.39]
[null,"     -ดันและตัก","ลบม. หลวม",31.13,5.0369999999999999,6.2962499999999997,38.57,39.869999999999997,38.57,14,null,null,null,null,null,null,null,null,null,null,null,null,null,null,null,null,null,null,null,null,"     -ดันและตัก","ลบม. หลวม",38.119999999999997,39.42,38.57,39.869999999999997,39.020000000000003,40.32,37.950000000000003,39.21,39.909999999999997,41.21,38.85,40.11,39.299999999999997,40.56,39.75,41,40.19,41.45,40.64,41.9,41.09,42.35,41.54,42.8,41.99,43.25,42.44,43.7,42.88,44.14,43.33,44.59,43.78,45.04,44.23,45.49,44.68,45.94,45.13,46.39,45.58,46.83,46.02,47.28,46.47,47.73,46.92,48.18,47.37,48.63,47.82,49.08,48.27,49.53,48.71,49.97,49.16,50.42,49.61,50.87]
[null,"  หินแข็ง-เจาะระเบิด","ลบม. ปกติ",38.57,4.657,5.82125,65.84,67.010000000000005,65.84,15,null,null,null,null,null,null,null,null,null,null,null,null,null,null,null,null,null,null,null,null,"  หินแข็ง-เจาะระเบิด","ลบม. ปกติ",65.400000000000006,66.569999999999993,65.84,67.010000000000005,66.27,67.44,54.14,55.31,67.13,68.3,55.01,56.17,55.44,56.61,55.88,57.04,56.31,57.47,56.74,57.91,57.17,58.34,57.61,58.77,58.04,59.2,58.47,59.64,58.9,60.07,59.34,60.5,59.77,60.93,60.2,61.37,60.63,61.8,61.07,62.23,61.5,62.66,61.93,63.1,62.36,63.53,62.8,63.96,63.23,64.39,63.66,64.83,64.09,65.260000000000005,64.53,65.69,64.959999999999994,66.12,65.39,66.56]
[null,"       -ดันและตัก","ลบม. หลวม",65.84,19,23.75,72.900000000000006,77.650000000000006,72.900000000000006,16,null,null,null,null,null,null,null,null,null,null,null,null,null,null,null,null,null,null,null,null,"       -ดันและตัก","ลบม. หลวม",71.95,76.7,72.900000000000006,77.650000000000006,73.849999999999994,78.599999999999994,74.53,79.28,75.739999999999995,80.489999999999995,76.42,81.17,77.37,82.12,78.319999999999993,83.07,79.27,84.02,80.209999999999994,84.96,81.16,85.91,82.11,86.86,83.06,87.81,84,88.75,84.95,89.7,85.9,90.65,86.85,91.6,87.79,92.54,88.74,93.49,89.69,94.44,90.64,95.39,91.58,96.33,92.53,97.28,93.48,98.23,94.43,99.18,95.37,100.12,96.32,101.07,97.27,102.02,98.22,102.97,99.16,103.91]
[4,"งานวัสดุคัดเลือก ลูกรังรองพื้นทาง",null,null,null,null,null,null,null,17,null,null,null,null,null,null,null,null,null,null,null,null,null,null,null,null,null,null,null,4,"งานวัสดุคัดเลือก ลูกรังรองพื้นทาง"]
[null,"  ขุด-ขน","ลบม. หลวม",{"$f":"HLOOKUP($D$5,$AG$11:$BV$90,J29)+K29","v":0},6.3609999999999998,{"$f":"E29*1.25","v":7.9512499999999999},30.86,32.49,30.86,18,null,null,null,null,null,null,null,null,null,null,null,null,null,null,null,null,null,null,null,null,"  ขุด-ขน","ลบม. หลวม",30.56,32.19,30.86,32.49,31.16,32.79,31.05,32.64,31.77,33.4,31.66,33.25,31.96,33.549999999999997,32.270000000000003,33.86,32.57,34.159999999999997,32.869999999999997,34.46,33.18,34.770000000000003,33.479999999999997,35.07,33.78,35.369999999999997,34.090000000000003,35.68,34.39,35.979999999999997,34.69,36.29,35,36.590000000000003,35.299999999999997,36.89,35.61,37.200000000000003,35.909999999999997,37.5,36.21,37.799999999999997,36.520000000000003,38.11,36.82,38.409999999999997,37.119999999999997,38.72,37.43,39.020000000000003,37.729999999999997,39.32,38.04,39.630000000000003,38.340000000000003,39.93,38.64,40.229999999999997,38.950000000000003,40.54]
[null,"  ผสม (ผสมกับวัสดุอื่นๆ)","ลบม. แน่น",{"$f":"HLOOKUP($D$5,$AG$11:$BV$90,J30)+K30","v":30.86},1.014,{"$f":"E30*1.25","v":1.2675000000000001},9.42,9.7899999999999991,9.42,19,null,null,null,null,null,null,null,null,null,null,null,null,null,null,null,null,null,null,null,null,"  ผสม (ผสมกับวัสดุอื่นๆ)","ลบม. แน่น",9.34,9.7100000000000009,9.42,9.7899999999999991,9.51,9.8800000000000008,7.75,8.01,9.67,10.039999999999999,7.92,8.17,8,8.25,8.08,8.34,8.17,8.42,8.25,8.5,8.33,8.59,8.42,8.67,8.5,8.75,8.58,8.83,8.66,8.92,8.75,9,8.83,9.08,8.91,9.16,8.99,9.25,9.08,9.33,9.16,9.41,9.24,9.5,9.33,9.58,9.41,9.66,9.49,9.74,9.57,9.83,9.66,9.91,9.74,9.99,9.82,10.08,9.91,10.16]
[null,"  บดทับ","ลบม. แน่น",{"$f":"HLOOKUP($D$5,$AG$11:$BV$90,J31)+K31","v":9.42},9.5,{"$f":"E31*1.25","v":11.875},52.96,56.2,52.96,20,null,null,null,null,null,null,null,null,null,null,null,null,null,null,null,null,null,null,null,null,"  บดทับ","ลบม. แน่น",52.42,55.66,52.96,56.2,53.5,56.74,45.73,48.11,54.58,57.82,46.81,49.19,47.35,49.73,47.89,50.27,48.44,50.81,48.98,51.35,49.52,51.89,50.06,52.43,50.6,52.97,51.14,53.52,51.68,54.06,52.22,54.6,52.76,55.14,53.3,55.68,53.84,56.22,54.39,56.76,54.93,5730,55.47,57.84,56.01,58.38,56.55,58.93,57.09,59.47,57.63,60.01,58.17,60.55,58.71,61.09,59.25,61.63,59.8,62.17]
[5,"งานไหล่ทางลูกรัง ผสม-บดทับ",null,null,null,null,null,null,null,21,null,null,null,null,null,null,null,null,null,null,null,null,null,null,null,null,null,null,null,5,"งานไหล่ทางลูกรัง ผสม-บดทับ"]
[null,"  ผสม (ผสมกับวัสดุอื่นๆ)","ลบม. แน่น",{"$f":"HLOOKUP($D$5,$AG$11:$BV$90,J33)+K33","v":0},1.905,{"$f":"E33*1.25","v":2.3812500000000001},17.739999999999998,18.43,17.739999999999998,22,null,null,null,null,null,null,null,null,null,null,null,null,null,null,null,null,null,null,null,null,"  ผสม (ผสมกับวัสดุอื่นๆ)","ลบม. แน่น",17.579999999999998,18.27,17.739999999999998,18.43,17.89,18.579999999999998,14.59,15.06,18.21,18.899999999999999,14.9,15.38,15.06,15.53,15.21,15.69,15.37,15.84,15.52,16,15.68,16.16,15.83,16.309999999999999,15.99,16.47,16.149999999999999,16.62,16.3,16.78,16.46,16.93,16.61,17.09,16.77,17.25,16.93,17.399999999999999,17.079999999999998,17.559999999999999,17.239999999999998,17.71,17.39,17.87,17.55,18.02,17.7,18.18,17.86,18.34,18.02,18.489999999999998,18.170000000000002,18.649999999999999,18.329999999999998,18.8,18.48,18.96,18.64,19.12]
[null,"  บดทับ","ลบม. แน่น",{"$f":"HLOOKUP($D$5,$AG$11:$BV$90,J34)+K34","v":17.739999999999998},15.327,{"$f":"E34*1.25","v":19.158750000000001},68.64,73.87,68.64,23,null,null,null,null,null,null,null,null,null,null,null,null,null,null,null,null,null,null,null,null,"  บดทับ","ลบม. แน่น",68.02,73.25,68.64,73.87,69.260000000000005,74.489999999999995,58.72,62.55,70.510000000000005,75.739999999999995,59.97,63.8,60.59,64.42,61.22,65.05,61.84,65.67,62.46,66.290000000000006,63.09,66.92,63.71,67.540000000000006,64.33,68.16,64.959999999999994,68.790000000000006,65.58,69.41,66.2,70.03,66.819999999999993,70.66,67.45,71.28,68.069999999999993,71.900000000000006,68.69,72.53,69.319999999999993,73.150000000000006,69.94,73.77,70.56,74.400000000000006,71.19,75.02,71.81,75.64,72.430000000000007,76.27,73.06,76.89,73.680000000000007,77.510000000000005,74.3,78.14,74.930000000000007,78.760000000000005]
[6,"งานพื้นทาง(หินคลุก)",null,null,null,null,null,null,null,24,null,null,null,null,null,null,null,null,null,null,null,null,null,null,null,null,null,null,null,6,"งานพื้นทาง(หินคลุก)"]
[null,"  ผสม (Blend)","ลบม. แน่น",{"$f":"HLOOKUP($D$5,$AG$11:$BV$90,J36)+K36","v":0},2.91,{"$f":"E36*1.25","v":3.6375000000000002},24.14,25.19,24.14,25,null,null,null,null,null,null,null,null,null,null,null,null,null,null,null,null,null,null,null,null,"  ผสม (Blend)","ลบม. แน่น",24,25.05,24.14,25.19,24.28,25.33,20.74,21.46,24.57,25.62,21.02,21.75,21.17,21.89,21.31,22.04,21.45,22.18,21.59,22.32,21.74,22.46,21.88,22.61,22.02,22.75,22.16,22.89,22.31,23.04,22.45,23.18,22.59,23.32,22.74,23.46,22.88,23.61,23.02,23.75,23.16,23.89,23.31,24.03,23.45,24.18,23.59,24.32,23.74,24.46,23.88,24.61,24.02,24.75,24.16,24.89,24.31,25.03,24.45,25.18]
[null,"  บดทับ","ลบม. แน่น",{"$f":"HLOOKUP($D$5,$AG$11:$BV$90,J37)+K37","v":24.14},19.100000000000001,{"$f":"E37*1.25","v":23.875},84.22,90.65,84.22,26,null,null,null,null,null,null,null,null,null,null,null,null,null,null,null,null,null,null,null,null,"  บดทับ","ลบม. แน่น",83.44,89.87,84.22,90.65,84.99,91.42,72.459999999999994,77.239999999999995,86.55,92.98,74.02,78.790000000000006,74.790000000000006,79.569999999999993,75.569999999999993,80.34,76.349999999999994,81.12,77.12,81.900000000000006,77.900000000000006,82.68,78.680000000000007,83.45,79.459999999999994,84.23,80.23,85.01,81.010000000000005,85.78,81.790000000000006,86.56,82.56,87.34,83.34,88.12,84.12,88.89,84.9,89.67,85.67,90.45,86.45,91.23,87.23,92,88.01,92.78,88.78,93.56,89.56,94.33,90.34,95.11,91.11,95.89,91.89,96.67,92.67,97.44]
[7,"งานตัดแต่งขั้นบันได","ลบม. แน่น",{"$f":"HLOOKUP($D$5,$AG$11:$BV$90,J38)+K38","v":84.22},1.3,{"$f":"E38*1.25","v":1.625},7.78,8.1999999999999993,7.78,27,null,null,null,null,null,null,null,null,null,null,null,null,null,null,null,null,null,null,null,7,"งานตัดแต่งขั้นบันได","ลบม. แน่น",7.7,8.1199999999999992,7.78,8.1999999999999993,7.86,8.2799999999999994,7.02,7.35,8.01,8.43,7.17,7.5,7.25,7.58,7.33,7.65,7.4,7.73,7.48,7.81,7.56,7.88,7.63,7.96,7.71,8.0399999999999991,7.79,8.11,7.86,8.19,7.94,8.27,8.02,8.34,8.09,8.42,8.17,8.5,8.25,8.57,8.32,8.65,8.4,8.73,8.48,8.8000000000000007,8.5500000000000007,8.8800000000000008,8.6300000000000008,8.9600000000000009,8.7100000000000009,9.0299999999999994,8.7799999999999994,9.11,8.86,9.19,8.94,9.26,9.01,9.34]
[8,"งานชุดรื้อคันทางเดิมแล้วบดทับ",null,null,null,null,null,null,null,28,null,null,null,null,null,null,null,null,null,null,null,null,null,null,null,null,null,null,null,8,"งานชุดรื้อคันทางเดิมแล้วบดทับ"]
[null," ลูกรัง 10 ซม.","  ตรม.",{"$f":"HLOOKUP($D$5,$AG$11:$BV$90,J40)+K40","v":0},1.51,{"$f":"E40*1.25","v":1.8875},10.53,11.06,10.53,29,null,null,null,null,null,null,null,null,null,null,null,null,null,null,null,null,null,null,null,null," ลูกรัง 10 ซม.","  ตรม.",10.34,10.96,10.53,11.06,10.63,11.16,8.8800000000000008,9.26,10.84,11.37,9.08,9.4600000000000009,9.18,9.56,9.2799999999999994,9.66,9.3800000000000008,9.76,9.48,9.86,9.58,9.9600000000000009,9.68,10.06,9.7799999999999994,10.16,9.8800000000000008,10.26,9.98,10.36,10.08,10.46,10.18,10.56,10.28,10.66,10.38,10.76,10.48,10.86,10.58,10.96,10.68,11.06,10.78,11.16,10.88,11.26,10.98,11.36,11.08,11.46,11.18,11.56,11.28,11.66,11.38,11.76,11.48,11.86]
[null," หินคลุก 10 ซม.","  ตรม.",{"$f":"HLOOKUP($D$5,$AG$11:$BV$90,J41)+K41","v":10.53},2.4748999999999999,{"$f":"E41*1.25","v":3.0936249999999998},13.66,14.51,{"$f":"ROUND(IF($I$11=\"ปกติ\",G41,H41),2)","v":13.66},30,null,null,null,null,null,{"$f":"8.98+11.68","v":20.66},null,null,{"$f":"+P41/2","v":10.33},null,null,null,null,null,null,null,null,null,null,null," หินคลุก 10 ซม.","  ตรม.",13.53,14.38,13.66,14.51,13.78,14.63,11.55,12.17,14.03,14.88,11.8,12.42,11.92,12.54,12.05,12.67,12.17,12.79,12.3,12.91,12.42,13.04,12.54,13.16,12.67,13.28,12.79,13.41,12.91,13.53,13.04,13.66,13.16,13.78,13.29,13.9,13.41,14.03,13.53,14.15,13.66,14.27,13.78,14.4,13.9,14.52,14.03,14.65,14.15,14.77,14.28,14.89,14.4,15.02,14.52,15.14,14.65,15.26,14.77,15.39]
[null," ผิวAC 5 ซม.(ขนทิ้ง)","  ตรม.",{"$f":"HLOOKUP($D$5,$AG$11:$BV$90,J42)+K42","v":13.66},1.2450000000000001,{"$f":"E42*1.25","v":1.5562500000000001},10.97,11.41,10.97,31,null,null,null,null,null,null,null,null,null,null,null,null,null,null,null,null,null,null,null,null," ผิวAC 5 ซม.(ขนทิ้ง)","  ตรม.",10.87,11.31,10.97,11.41,11.07,11.51,9.1199999999999992,9.43,11.26,11.7,9.31,9.6199999999999992,9.41,9.7200000000000006,9.51,9.82,9.61,9.92,9.6999999999999993,10.02,9.8000000000000007,10.11,9.9,10.210000000000001,10,10.31,10.1,10.41,10.19,10.5,10.29,10.6,10.39,10.7,10.49,10.8,10.58,10.9,10.68,10.99,10.78,11.09,10.88,11.19,10.98,11.29,11.07,11.38,11.17,11.48,11.27,11.58,11.37,11.68,11.46,11.78,11.56,11.87,11.66,11.97]
[9,"งานราดยางไพรม์โค้ด","  ตรม.",{"$f":"HLOOKUP($D$5,$AG$11:$BV$90,J43)+K43","v":10.97},0.53700000000000003,{"$f":"E43*1.25","v":0.67125000000000001},6.76,6.92,6.76,32,null,null,null,null,null,null,null,null,null,null,null,null,null,null,null,null,null,null,null,9,"งานราดยางไพรม์โค้ด","  ตรม.",6.63,6.79,6.76,6.92,6.89,7.05,6.86,7,7.15,7.31,7.12,7.25,7.25,7.38,7.38,7.51,7.51,7.64,7.64,7.77,7.76,7.9,7.89,8.0299999999999994,8.02,8.16,8.15,8.2899999999999991,8.2799999999999994,8.41,8.41,8.5399999999999991,8.5399999999999991,8.67,8.67,8.8000000000000007,8.7899999999999991,8.93,8.92,9.06,9.0500000000000007,9.19,9.18,9.32,9.31,9.4499999999999993,9.44,9.57,9.57,9.6999999999999993,9.6999999999999993,9.83,9.83,9.9600000000000009,9.9499999999999993,10.09,10.08,10.220000000000001,10.210000000000001,10.35]
[10,"งานราดยางแทคโค้ด","  ตรม.",{"$f":"HLOOKUP($D$5,$AG$11:$BV$90,J44)+K44","v":6.76},0.77,{"$f":"E44*1.25","v":0.96250000000000002},6.57,6.79,6.57,33,null,null,null,null,null,null,null,null,null,null,null,null,null,null,null,null,null,null,null,10,"งานราดยางแทคโค้ด","  ตรม.",6.45,6.67,6.57,6.79,6.69,6.91,6.61,6.8,6.93,7.15,6.85,7.04,6.97,7.16,7.09,7.28,7.21,7.4,7.33,7.52,7.45,7.64,7.57,7.76,7.68,7.88,7.8,8,7.92,8.1199999999999992,8.0399999999999991,8.24,8.16,8.35,8.2799999999999994,8.4700000000000006,8.4,8.59,8.52,8.7100000000000009,8.64,8.83,8.76,8.9499999999999993,8.8800000000000008,9.07,9,9.19,9.1199999999999992,9.31,9.24,9.43,9.36,9.5500000000000007,9.48,9.67,9.59,9.7899999999999991,9.7100000000000009,9.91]
[11,"งานผิวทางแบบบาง",null,null,null,null,null,null,null,34,null,null,null,null,null,null,null,null,null,null,null,null,null,null,null,null,null,null,null,11,"งานผิวทางแบบบาง"]
[null," ชั้นเดียว (1/2\")","  ตรม.",{"$f":"HLOOKUP($D$5,$AG$11:$BV$90,J46)+K46","v":0},1.9350000000000001,{"$f":"E46*1.25","v":2.4187500000000002},15.59,16.14,15.59,35,null,null,null,null,null,null,null,null,null,null,null,null,null,null,null,null,null,null,null,null," ชั้นเดียว (1/2\")","  ตรม.",15.33,15.88,15.59,16.14,15.85,16.399999999999999,15.23,15.72,16.37,16.920000000000002,15.75,16.239999999999998,16.010000000000002,16.5,16.27,16.760000000000002,16.53,17.02,16.79,17.28,17.05,17.54,17.309999999999999,17.8,17.57,18.059999999999999,17.829999999999998,18.32,18.09,18.579999999999998,18.350000000000001,18.84,18.61,19.100000000000001,18.87,19.36,19.13,19.62,19.39,19.88,19.649999999999999,20.14,19.91,20.399999999999999,20.170000000000002,20.66,20.43,20.92,20.69,21.18,20.95,21.44,21.21,21.7,21.47,21.96,21.73,22.22,21.99,22.48]
[null," ชั้นเดียว (3/4\")","  ตรม.",{"$f":"HLOOKUP($D$5,$AG$11:$BV$90,J47)+K47","v":15.59},2.681,{"$f":"E47*1.25","v":3.3512500000000003},21.54,22.3,21.54,36,null,null,null,null,null,null,null,null,null,null,null,null,null,null,null,null,null,null,null,null," ชั้นเดียว (3/4\")","  ตรม.",21.18,21.94,21.54,22.3,21.9,22.66,21.05,21.72,22.62,23.38,21.77,22.44,22.13,22.8,22.49,23.16,22.85,23.52,23.21,23.88,23.57,24.24,23.93,24.6,24.28,24.95,24.64,25.31,25,25.67,25.36,26.03,25.72,26.39,26.08,26.75,26.44,27.11,26.8,27.47,27.16,27.83,27.52,28.19,27.88,28.55,28.24,28.91,28.6,29.27,28.96,29.63,29.31,29.98,29.67,30.34,30.03,30.7,30.39,31.06]
[null," สองชั้น (3/4\"+3/8\")","  ตรม.",{"$f":"HLOOKUP($D$5,$AG$11:$BV$90,J48)+K48","v":21.54},3.9849999999999999,{"$f":"E48*1.25","v":4.9812500000000002},32.03,33.17,32.03,37,null,null,null,null,null,null,null,null,null,null,null,null,null,null,null,null,null,null,null,null," สองชั้น (3/4\"+3/8\")","  ตรม.",31.49,32.630000000000003,32.03,33.17,32.56,33.700000000000003,31.3,32.299999999999997,33.630000000000003,34.770000000000003,32.369999999999997,33.36,32.9,33.9,33.44,34.43,33.97,34.97,34.5,35.5,35.04,36.04,35.57,36.57,36.11,37.1,36.64,37.64,37.18,38.17,37.71,38.71,38.24,39.24,38.78,39.770000000000003,39.31,40.31,39.85,40.840000000000003,40.380000000000003,41.38,40.909999999999997,41.91,41.45,42.45,41.98,42.98,42.52,43.51,43.05,44.05,43.59,44.58,44.12,45.12,44.65,45.65,45.19,46.19]
[null," สองชั้น (1\"+1/2\")","  ตรม.",{"$f":"HLOOKUP($D$5,$AG$11:$BV$90,J49)+K49","v":32.03},5.8390000000000004,{"$f":"E49*1.25","v":7.2987500000000001},46.9,48.56,46.9,38,null,null,null,null,null,null,null,null,null,null,null,null,null,null,null,null,null,null,null,null," สองชั้น (1\"+1/2\")","  ตรม.",46.12,47.78,46.9,48.56,47.68,49.34,45.84,47.3,49.25,50.91,47.41,48.86,48.19,49.65,48.97,50.43,49.75,51.21,50.54,51.99,51.32,52.78,52.1,53.56,52.88,54.34,53.66,55.12,54.45,55.91,55.23,56.69,56.01,57.47,56.79,58.25,57.58,59.04,58.36,59.82,59.14,60.6,59.92,61.38,60.71,62.17,61.49,62.95,62.27,63.73,63.05,64.510000000000005,63.84,65.3,64.62,66.08,65.400000000000006,66.86,66.180000000000007,67.64]
[12,"งานเคลือบหิน ขจัดฝุ่น (Pre-coat)",null,null,null,null,null,null,null,39,null,null,null,null,null,null,null,null,null,null,null,null,null,null,null,null,null,null,null,12,"งานเคลือบหิน ขจัดฝุ่น (Pre-coat)"]
[null," ชั้นเดียว (1/2\")","ลบม. หลวม",{"$f":"HLOOKUP($D$5,$AG$11:$BV$90,J51)+K51","v":0},0.49,{"$f":"E51*1.25","v":0.61250000000000004},2.23,2.35,2.23,40,null,null,null,null,null,null,null,null,null,null,null,null,null,null,null,null,null,null,null,null," ชั้นเดียว (1/2\")","ลบม. หลวม",2.21,2.33,2.23,2.35,2.2400000000000002,2.36,2.2599999999999998,2.38,2.2799999999999998,2.4,2.2999999999999998,2.42,2.3199999999999998,2.44,2.33,2.46,2.35,2.4700000000000002,2.37,2.4900000000000002,2.39,2.5099999999999998,2.41,2.5299999999999998,2.42,2.5499999999999998,2.44,2.56,2.46,2.58,2.48,2.6,2.5,2.62,2.5099999999999998,2.64,2.5299999999999998,2.65,2.5499999999999998,2.67,2.57,2.69,2.59,2.71,2.6,2.73,2.62,2.74,2.64,2.76,2.66,2.78,2.68,2.8,2.69,2.82,2.71,2.83,2.73,2.85]
[null," ชั้นเดียว (3/4\")","ลบม. หลวม",{"$f":"HLOOKUP($D$5,$AG$11:$BV$90,J52)+K52","v":2.23},0.67700000000000005,{"$f":"E52*1.25","v":0.84625000000000006},3.08,3.25,3.08,41,null,null,null,null,null,null,null,null,null,null,null,null,null,null,null,null,null,null,null,null," ชั้นเดียว (3/4\")","ลบม. หลวม",3.05,3.22,3.08,3.25,3.1,3.27,3.12,3.29,3.15,3.32,3.17,3.34,3.2,3.37,3.22,3.39,3.25,3.4220000000000002,3.27,4.4400000000000004,3.3,3.47,3.32,3.49,3.35,3.52,3.37,3.54,3.4,3.57,3.42,3.59,3.45,3.62,3.47,3.64,3.5,3.67,3.52,3.69,3.55,3.72,3.57,3.74,3.6,3.77,3.62,3.79,3.65,3.82,3.67,3.84,3.7,3.87,3.72,3.89,3.75,3.92,3.77,3.94]
[null," สองชั้น (3/4\"+3/8\")","ลบม. หลวม",{"$f":"HLOOKUP($D$5,$AG$11:$BV$90,J53)+K53","v":3.08},1.0009999999999999,{"$f":"E53*1.25","v":1.2512499999999998},4.57,4.82,4.57,42,null,null,null,null,null,null,null,null,null,null,null,null,null,null,null,null,null,null,null,null," สองชั้น (3/4\"+3/8\")","ลบม. หลวม",4.53,4.78,4.57,4.82,4.5999999999999996,4.8499999999999996,4.6500000000000004,4.9000000000000004,4.68,4.93,4.72,4.97,4.76,5.01,4.79,5.04,4.83,5.08,4.87,5.12,4.9000000000000004,5.16,4.9400000000000004,5.19,4.9800000000000004,5.23,5.0199999999999996,5.27,5.05,5.3,5.09,5.34,5.13,5.38,5.16,5.42,5.2,5.45,5.24,5.49,5.28,5.53,5.31,5.56,5.33,5.6,5.39,5.64,5.42,5.67,5.46,5.71,5.5,5.75,5.53,5.79,5.27,5.82,5.61,5.86]
[null," สองชั้น (1\"+1/2\")","ลบม. หลวม",{"$f":"HLOOKUP($D$5,$AG$11:$BV$90,J54)+K54","v":4.57},1.47,{"$f":"E54*1.25","v":1.8374999999999999},6.69,7.06,6.69,43,null,null,null,null,null,null,null,null,null,null,null,null,null,null,null,null,null,null,null,null," สองชั้น (1\"+1/2\")","ลบม. หลวม",6.64,7.01,6.69,7.06,6.75,7.12,6.8,7.17,6.86,7.23,6.91,7.28,6.97,7.33,7.02,7.39,7.07,7.44,7.13,7.5,7.18,7.55,7.24,7.61,7.29,7.66,7.35,7.71,7.4,7.77,7.45,7.83,7.51,7.88,7.56,7.93,7.62,7.99,7.67,8.0399999999999991,7.73,8.09,7.78,8.15,7.83,8.1999999999999993,7.89,8.26,7.94,8.31,8,8.3699999999999992,8.0500000000000007,8.42,8.11,8.4700000000000006,8.16,8.5299999999999994,8.2100000000000009,8.58]
[13,"งานผิวทางแอสฟัลติกคอนกรีต",null,null,null,null,null,null,null,44,null,null,null,null,null,null,null,null,null,null,null,null,null,null,null,null,null,null,null,13,"งานผิวทางแอสฟัลติกคอนกรีต"]
[null," ค่าผสมวัสดุแอสฟัลติกคอนกรีต","  ตัน",{"$f":"HLOOKUP($D$5,$AG$11:$BV$90,J56)+K56","v":0},16.774000000000001,{"$f":"E56*1.25","v":20.967500000000001},340.08,344.27,340.08,45,null,null,null,null,null,null,null,null,null,null,null,null,null,null,null,null,null,null,null,null," ค่าผสมวัสดุแอสฟัลติกคอนกรีต","  ตัน",329.29,333.48,340.08,344.27,350.86,355.05,361.22,365.41,372,372.43,376.62,386.98,393.57,397.76,404.35,408.55,415.14,419.33,425.92,430.11,436.7,440.9,447.49,451.68,458.27,462.46,469.06,473.25,479.84,484.03,490.62,494.82,501.41,505.6,512.19000000000005,516.38,522.97,527.16999999999996,533.76,537.95000000000005,544.54,548.73,555.32000000000005,559.52,566.11,570.29999999999995,576.89,581.08000000000004,587.66999999999996,591.87,598.46,602.65,609.24,613.42999999999995,620.02,624.22,630.80999999999995,635,641.59,645.78]
[null," ค่าขนส่งอุปกรณ์ 80 ตัน ระยะทางขนส่ง 100-300 กม.",null,null,null,null,null,null,null,46,null,null,null,null,null,null,null,null,null,null,null,null,null,null,null,null,null,null,null,null," ค่าขนส่งอุปกรณ์ 80 ตัน ระยะทางขนส่ง 100-300 กม."]
[null," ค่าติดตั้งเครื่องผสม","  ครั้ง",{"$f":"HLOOKUP($D$5,$AG$11:$BV$90,J58)+K58","v":0},null,null,0,null,null,47,null,null,null,null,null,null,null,null,null,null,null,null,null,null,null,null,null,null,null,null," ค่าติดตั้งเครื่องผสม","  ครั้ง",null,null,null,null,null,null,250000,null,250000,null,250000,null,250000,null,250000,null,250000,null,250000,null,250000,null,250000,null,250000,null,250000,null,250000,null,250000,null,250000,null,250000,null,250000,null,250000,null,250000,null,250000,null,250000,null,250000,null,250000]
[null," งานปูลาดและบดทับ ผิวACหนา5ซม.",null,null,null,null,null,null,null,48,null,null,null,null,null,null,null,null,null,null,null,null,null,null,null,null,null,null,null,null," งานปูลาดและบดทับ ผิวACหนา5ซม."]
[null,"  บนผิวไพรม์โค้ด","  ตรม.",{"$f":"HLOOKUP($D$5,$AG$11:$BV$90,J60)+K60","v":0},2.5569999999999999,{"$f":"E60*1.25","v":3.19625},14.36,15.07,14.36,49,null,null,null,null,null,null,null,null,null,null,null,null,null,null,null,null,null,null,null,null,"  บนผิวไพรม์โค้ด","  ตรม.",14.19,14.9,14.36,15.07,14.52,15.23,13.91,14.55,14.07,14.85,15.56,14.88,14.41,15.05,14.57,15.21,14.74,15.38,14.9,15.54,15.07,15.71,15.23,15.87,15.4,16.04,15.56,16.2,15.73,16.37,15.89,16.53,16.059999999999999,16.7,16.22,16.86,16.39,17.03,16.559999999999999,17.2,16.72,17.36,16.89,17.53,17.05,17.690000000000001,17.22,17.86,17.38,18.02,17.55,18.190000000000001,17.71,18.350000000000001,17.88,18.52,18.04,18.68,18.21,18.850000000000001]
[null,"  บนผิวแทคโค้ด","  ตรม.",{"$f":"HLOOKUP($D$5,$AG$11:$BV$90,J61)+K61","v":14.36},2.1,{"$f":"E61*1.25","v":2.625},11.3,11.87,11.3,50,null,null,null,null,null,null,null,null,null,null,null,null,null,null,null,null,null,null,null,null,"  บนผิวแทคโค้ด","  ตรม.",11.19,11.76,11.3,11.87,11.41,11.98,10.96,11.49,11.07,11.63,12.2,11.71,11.29,11.82,11.4,11.93,11.51,12.04,11.62,12.15,11.73,12.26,11.84,12.37,11.95,12.48,12.07,12.59,12.18,12.7,12.29,12.81,12.4,12.92,12.51,13.03,12.62,13.14,12.73,13.25,12.84,13.36,12.95,13.47,13.06,13.58,13.17,13.69,13.28,13.8,13.39,13.91,13.5,14.03,13.61,14.14,13.72,14.25,13.83,14.36]
[14,"งานผิวทางคอนกรีต",null,null,null,null,null,null,null,51,null,null,null,null,null,null,null,null,null,null,null,null,null,null,null,null,null,null,null,14,"งานผิวทางคอนกรีต"]
[null," ค่าติดตั้งเครื่องผสม","  ครั้ง",{"$f":"HLOOKUP($D$5,$AG$11:$BV$90,J63)+K63","v":0},null,null,0,null,null,52,null,null,null,null,null,null,null,null,null,null,null,null,null,null,null,null,null,null,null,null," ค่าติดตั้งเครื่องผสม","  ครั้ง",null,null,null,null,null,null,150000,null,150000,null,150000,null,150000,null,150000,null,150000,null,150000,null,150000,null,150000,null,150000,null,150000,null,150000,null,150000,null,150000,null,150000,null,150000,null,150000,null,150000,null,150000,null,150000,null,150000,null,150000]
[null," ค่าผสมคอนกรีต","  ลบม.",0,34.07,{"$f":"E64*1.25","v":42.587499999999999},181.47,190.26,181.47,53,null,null,null,null,null,null,null,null,null,null,null,null,null,null,null,null,null,null,null,null," ค่าผสมคอนกรีต","  ลบม.",178,186.79,181.47,190.26,184.93,193.72,186.13,194.65,189.59,191.86,200.65,201.58,196.52,205.04,199.99,208.51,203.45,211.97,206.92,215.44,210.38,218.9,213.85,222.37,217.31,225.83,220.78,229.29,224.24,232.76,227.71,236.22,231.17,239.69,234.64,243.15,238.1,246.62,241.57,250.08,245.03,253.55,248.49,257.01,251.96,260.48,255.42,263.94,258.89,267.41000000000003,262.35000000000002,270.87,265.82,274.33999999999997,269.27999999999997,277.8,272.75,281.27,276.20999999999998,284.73]
[null," ค่าขนส่งคอนกรีต","ลบม./กม.",181.47,1.5189999999999999,1.8987499999999999,13.52,13.96,13.52,54,null,null,null,null,null,null,null,null,null,null,null,null,null,null,null,null,null,null,null,null," ค่าขนส่งคอนกรีต","ลบม./กม.",13.25,13.69,13.52,13.96,13.8,14.24,13.42,13.8,13.69,14.35,14.79,14.35,14.24,14.62,14.52,14.9,14.8,15.18,15.07,15.45,15.35,15.73,15.62,16,15.9,16.28,16.18,16.559999999999999,16.45,16.829999999999998,16.73,17.11,17,17.38,17.28,17.66,17.559999999999999,17.940000000000001,17.829999999999998,18.21,18.11,18.489999999999998,18.38,18.760000000000002,18.66,19.04,18.940000000000001,19.32,19.21,19.59,19.489999999999998,19.87,19.760000000000002,20.14,20.04,20.420000000000002,20.32,20.7,20.59,20.97]
[null," ค่าแบบข้างคิดตามยาว 2 ข้าง","  เมตร",13.52,3.69,4.6124999999999998,20.6,21.94,20.6,55,null,null,null,null,null,null,null,null,null,null,null,null,null,null,null,null,null,null,null,null," ค่าแบบข้างคิดตามยาว 2 ข้าง","  เมตร",20.6,21.94,20.6,21.94,20.6,21.94,18.53,19.45,18.53,20.6,21.94,19.45,18.53,19.45,18.53,19.45,18.53,19.45,18.53,19.45,18.53,19.45,18.53,19.45,18.53,19.45,18.53,19.45,18.53,19.45,18.53,19.45,18.53,19.45,18.53,19.45,18.53,19.45,18.53,19.45,18.53,19.45,18.53,19.45,18.53,19.45,18.53,19.45,18.53,19.45,18.53,19.45,18.53,19.45,18.53,19.45,18.53,19.45,18.53,19.45]
[null," ค่าปูผิวคอนกรีต","  ตรม.",20.6,1.921,2.4012500000000001,11.93,12.41,11.93,56,null,null,null,null,null,null,null,null,null,null,null,null,null,null,null,null,null,null,null,null," ค่าปูผิวคอนกรีต","  ตรม.",11.88,12.36,11.93,12.41,11.98,12.46,12.03,12.51,12.08,12.07,12.55,12.6,12.17,12.65,12.22,12.7,12.27,12.75,12.31,12.8,12.36,12.84,12.41,12.89,12.46,12.94,12.51,12.99,12.55,13.03,12.6,13.08,12.65,13.13,12.7,13.18,12.75,13.23,12.79,13.27,12.84,13.32,12.89,13.37,12.94,13.42,12.98,13.47,13.03,13.51,13.08,13.56,13.13,13.61,13.18,13.66,13.22,13.7,13.27,13.75]
[null," ค่าตัดรอยต่อคอนกรีต และหยอดยาง","  เมตร",{"$f":"HLOOKUP($D$5,$AG$11:$BV$90,J68)+K68","v":11.93},2.4540000000000002,3.0675000000000003,22.41,23.04,22.41,57,null,null,null,null,null,null,null,null,null,null,null,null,null,null,null,null,null,null,null,null," ค่าตัดรอยต่อคอนกรีต และหยอดยาง","  เมตร",22.16,22.79,22.41,23.04,22.65,23.28,22.79,23.4,23.03,23.14,23.77,23.89,23.52,24.13,23.76,24.37,24.01,24.62,24.25,24.86,24.49,25.11,24.74,25.35,24.98,25.6,25.23,25.84,25.47,26.08,25.72,26.33,25.96,26.57,26.2,26.82,26.45,27.06,26.69,27.31,26.94,27.55,27.18,27.79,27.42,28.04,27.67,28.28,27.91,28.53,28.16,28.77,28.4,29.01,28.65,29.26,28.89,29.5,29.13,20.43]
[null," ค่าหยอดยางรอยต่อคอนกรีต","  เมตร",22.41,2.3370000000000002,2.9212500000000001,13.65,14.25,13.65,58,null,null,null,null,null,null,null,null,null,null,null,null,null,null,null,null,null,null,null,null," ค่าหยอดยางรอยต่อคอนกรีต","  เมตร",13.43,14.03,13.65,14.25,13.87,14.47,14.02,14.61,14.25,14.32,14.92,15.05,14.69,15.28,14.92,15.5,15.14,15.73,15.37,15.95,15.59,16.170000000000002,15.81,16.399999999999999,16.04,16.62,16.260000000000002,16.850000000000001,16.489999999999998,17.07,16.71,17.3,16.940000000000001,17.52,17.16,17.739999999999998,17.38,17.97,17.61,18.190000000000001,17.829999999999998,18.420000000000002,18.059999999999999,18.64,18.28,18.86,18.5,19.09,18.73,19.309999999999999,18.95,19.54,19.18,19.760000000000002,19.399999999999999,19.98,19.62,20.21,19.850000000000001,20.43]
[null," ค่าบ่มผิวทางคอนกรีต","  ตรม.",13.65,0.71,0.88749999999999996,8.73,9,8.73,59,null,null,null,null,null,null,null,null,null,null,null,null,null,null,null,null,null,null,null,null," ค่าบ่มผิวทางคอนกรีต","  ตรม.",8.6,8.8699999999999992,8.73,9,8.8699999999999992,9.14,7.84,8.01,7.97,9.14,9.41,8.2799999999999994,8.24,8.42,8.3800000000000008,8.5500000000000007,8.51,8.69,8.65,8.82,8.7799999999999994,8.9600000000000009,8.92,9.09,9.0500000000000007,9.23,9.19,9.36,9.32,9.5,9.4600000000000009,9.6300000000000008,9.59,9.77,9.73,9.91,9.86,10.039999999999999,10,10.18,10.130000000000001,10.31,10.27,10.45,10.41,10.58,10.54,10.72,10.68,10.85,10.81,10.99,10.95,11.12,11.08,11.26,11.22,11.39,11.35,11.53]
[15,"งาน stabilized layer",null,null,null,null,null,null,null,60,null,null,null,null,null,null,null,null,null,null,null,null,null,null,null,null,null,null,null,15,"งาน stabilized layer"]
[null," ค่าผสมวัสดุ ลูกรัง","ลบม. แน่น",{"$f":"HLOOKUP($D$5,$AG$11:$BV$90,J72)+K72","v":0},11.03,{"$f":"E72*1.25","v":13.7875},42.15,44.91,42.15,61,null,null,null,null,null,null,null,null,null,null,null,null,null,null,null,null,null,null,null,null," ค่าผสมวัสดุ ลูกรัง","ลบม. แน่น",41.74,44.5,42.15,44.91,42.55,45.31,42.95,45.7,43.35,43.35,46.11,46.51,44.15,46.91,44.56,47.31,44.96,47.72,45.36,48.12,45.76,48.52,46.17,48.92,46.57,49.33,46.97,49.73,47.37,50.13,47.78,50.53,48.18,50.94,48.58,51.34,48.98,51.74,49.39,52.14,49.79,52.55,50.19,52.95,50.59,53.35,51,53.75,51.4,54.16,51.8,54.56,52.2,54.96,52.61,55.36,53.01,55.77,53.41,56.17]
[null," ค่าบ่มวัสดุ  ลูกรัง","ลบม. แน่น",{"$f":"HLOOKUP($D$5,$AG$11:$BV$90,J73)+K73","v":42.15},3.53,{"$f":"E73*1.25","v":4.4124999999999996},43.66,44.98,43.66,62,null,null,null,null,null,null,null,null,null,null,null,null,null,null,null,null,null,null,null,null," ค่าบ่มวัสดุ  ลูกรัง","ลบม. แน่น",42.98,44.3,43.66,44.98,44.33,45.65,39.18,40.06,39.85,45.69,47.01,41.41,41.21,42.09,41.88,42.76,42.56,43.44,43.24,44.12,43.91,44.79,44.59,45.47,45.26,46.15,45.94,46.82,46.62,47.5,47.29,48.17,47.97,48.85,48.64,49.53,49.32,50.2,50,50.88,50.67,51.56,51.35,52.23,52.03,52.91,52.7,53.58,53.38,54.26,54.05,54.94,54.73,55.61,55.41,56.29,56.08,56.96,56.76,57.64]
[null," ค่าผสมวัสดุ หิบคลุก","ลบม. แน่น",{"$f":"HLOOKUP($D$5,$AG$11:$BV$90,J74)+K74","v":43.66},11.025,{"$f":"E74*1.25","v":13.78125},45.26,48.02,45.26,63,null,null,null,null,null,null,null,null,null,null,null,null,null,null,null,null,null,null,null,null," ค่าผสมวัสดุ หิบคลุก","ลบม. แน่น",44.82,47.58,45.26,48.02,45.7,48.46,46.14,48.9,46.58,46.59,49.35,49.78,47.47,50.22,47.91,50.67,48.35,51.11,48.8,51.55,49.24,51.99,49.68,52.44,50.12,52.88,50.57,53.32,51.01,53.77,51.45,54.21,51.9,54.65,52.34,55.09,52.78,55.54,53.22,55.98,53.67,56.42,54.11,56.87,54.55,57.31,54.99,57.75,55.44,58.19,55.88,58.64,56.32,59.08,56.77,59.52,57.21,59.96,57.65,60.41]
[null," ค่าบ่มวัสดุ  หินคลุก","ลบม. แน่น",{"$f":"HLOOKUP($D$5,$AG$11:$BV$90,J75)+K75","v":45.26},3.53,{"$f":"E75*1.25","v":4.4124999999999996},43.66,44.98,43.66,64,null,null,null,null,null,null,null,null,null,null,null,null,null,null,null,null,null,null,null,null," ค่าบ่มวัสดุ  หินคลุก","ลบม. แน่น",42.98,44.3,43.66,44.98,44.33,45.65,39.18,40.06,39.85,45.69,47.01,41.41,41.21,42.09,41.88,42.76,42.56,43.44,43.24,44.12,43.91,44.79,44.59,45.47,45.26,46.15,45.94,46.82,46.62,47.5,47.29,48.17,47.97,48.85,48.64,49.53,49.32,50.2,50,50.88,50.67,51.56,51.35,52.23,52.03,52.91,52.7,53.58,53.38,54.26,103.23,104.11,54.73,55.61,55.41,56.29,56.08,56.96,56.76,57.64]
[16,"งาน Pavement In Place Recycling",null,null,null,null,null,null,null,65,null,null,null,null,null,null,null,null,null,null,null,null,null,null,null,null,null,null,null,16,"งาน Pavement In Place Recycling"]
[null," ขุดลึกเฉลี่ย  15  ซม.","ตร.ม.",{"$f":"HLOOKUP($D$5,$AG$11:$BV$90,J77)+K77","v":0},10.727,{"$f":"E77*1.25","v":13.408750000000001},28.24,29.72,28.24,66,null,null,null,null,null,null,null,null,null,null,null,null,null,null,null,null,null,null,null,null," ขุดลึกเฉลี่ย  15  ซม.","ตร.ม.",28.1,29.58,28.24,29.72,28.38,29.86,34.71,37.39,34.85,28.67,30.15,37.67,35.130000000000003,37.81,35.28,37.96,35.42,38.1,35.56,38.24,35.700000000000003,38.380000000000003,35.840000000000003,38.520000000000003,35.99,38.67,36.130000000000003,38.81,36.270000000000003,38.950000000000003,36.409999999999997,39.090000000000003,36.549999999999997,39.229999999999997,36.69,39.380000000000003,36.840000000000003,39.520000000000003,36.979999999999997,39.659999999999997,37.119999999999997,39.799999999999997,37.26,39.94,37.4,40.090000000000003,37.549999999999997,40.229999999999997,37.69,40.369999999999997,64.650000000000006,67.33,37.97,40.65,38.11,40.799999999999997,38.26,40.94,38.4,41.08]
[null," ขุดลึกเฉลี่ย  20  ซม.","ตร.ม.",{"$f":"HLOOKUP($D$5,$AG$11:$BV$90,J78)+K78","v":28.24},13.404999999999999,{"$f":"E78*1.25","v":16.756249999999998},35.29,37.14,35.29,67,null,null,null,null,null,null,null,null,null,null,null,null,null,null,null,null,null,null,null,null," ขุดลึกเฉลี่ย  20  ซม.","ตร.ม.",35.11,36.96,35.29,37.14,35.47,37.32,43.38,46.74,43.56,35.82,37.67,47.09,43.92,47.27,44.09,47.45,44.27,47.62,44.45,47.8,44.63,47.98,44.8,48.16,44.98,48.33,45.16,48.51,45.34,48.69,45.51,48.87,45.69,49.04,45.87,49.22,46.05,49.4,46.22,49.58,46.4,49.75,46.58,49.93,46.76,50.11,46.93,50.29,47.11,50.46,80.81,84.16,47.47,50.82,47.64,50.99,47.82,51.17,48,51.35]
[null," ขุดลึกเฉลี่ย  25  ซม.","ตร.ม.",{"$f":"HLOOKUP($D$5,$AG$11:$BV$90,J79)+K79","v":35.29},17.879000000000001,{"$f":"E79*1.25","v":22.348750000000003},47.06,49.53,47.06,68,null,null,null,null,null,null,null,null,null,null,null,null,null,null,null,null,null,null,null,null," ขุดลึกเฉลี่ย  25  ซม.","ตร.ม.",46.82,49.29,47.06,49.53,47.3,49.77,57.85,62.31,58.08,47.77,50.24,62.79,58.56,63.02,58.79,63.26,59.03,63.5,59.27,63.73,59.5,63.97,59.74,64.209999999999994,59.98,64.44,60.21,64.680000000000007,60.45,64.92,60.69,65.150000000000006,60.92,65.39,61.16,65.63,61.39,65.86,61.63,66.099999999999994,61.87,66.34,62.1,66.569999999999993,62.34,66.81,62.58,67.05,62.81,67.28,107.75,112.22,63.29,67.760000000000005,63.52,67.989999999999995,63.76,68.23,57.65,60.41]
[null," ขุดลึกเฉลี่ย  30  ซม.","ตร.ม.",null,null,null,{"$f":"HLOOKUP($G$12,$AG$12:$CN$90,J80,FALSE)","v":56.47},{"$f":"HLOOKUP($H$12,$AG$12:$CN$90,J80,FALSE)","v":59.43},56.47,69,null,null,null,null,null,null,null,null,null,null,null,null,null,null,null,null,null,null,null,null," ขุดลึกเฉลี่ย  30  ซม.","ตร.ม.",56.19,59.15,56.47,59.43,56.75,59.71,69.41,74.78,69.7,57.32,60.28,75.349999999999994,70.27,75.63,70.55,75.91,70.83,76.2,71.12,76.48,71.400000000000006,76.77,71.69,77.05,71.97,77.33,72.25,77.62,72.540000000000006,77.900000000000006,72.819999999999993,78.180000000000007,73.11,78.47,73.39,78.75,73.67,79.040000000000006,73.959999999999994,79.319999999999993,74.239999999999995,79.599999999999994,74.53,79.89,74.81,80.17,75.09,80.459999999999994,75.38,80.739999999999995,129.31,134.66999999999999,75.95,81.31,76.23,81.59,76.510000000000005,81.88,76.8,82.16]
[17,"งาน  Slurry Seal","ตร.ม.",{"$f":"HLOOKUP($D$5,$AG$11:$BV$90,J81)+K81","v":56.47},1.9339999999999999,{"$f":"E81*1.25","v":2.4175},11.65,12.17,{"$f":"ROUND(IF($I$11=\"ปกติ\",G81,H81),2)","v":11.65},70,null,null,null,null,null,null,null,null,null,null,null,null,null,null,null,null,null,null,null,17,"งาน  Slurry Seal","ตร.ม.",11.48,12,11.65,12.17,11.83,12.35,11.59,12.07,11.76,12.17,12.69,12.41,12.1,12.59,12.28,12.76,12.45,12.93,12.62,13.1,12.79,13.28,12.97,13.45,13.14,13.62,13.31,13.79,13.48,13.97,13.66,14.14,13.83,14.31,14,14.48,14.17,14.66,14.35,14.83,14.52,15,14.69,15.17,14.86,15.35,15.04,15.52,15.21,15.69,28.490000000000002,28.97,15.55,16.04,15.73,16.21,15.9,16.38,16.07,16.559999999999999]
[18,"งาน  Fog Spray","ตร.ม.",{"$f":"HLOOKUP($D$5,$AG$11:$BV$90,J82)+K82","v":11.65},0.36399999999999999,{"$f":"E82*1.25","v":0.45499999999999996},2.57,2.67,2.57,71,null,null,null,null,null,null,null,null,null,null,null,null,null,null,null,null,null,null,null,18,"งาน  Fog Spray","ตร.ม.",2.5299999999999998,2.63,2.57,2.67,2.62,2.72,2.59,2.68,2.63,2.7,2.8,2.77,2.72,2.81,2.77,2.86,2.81,2.9,2.85,2.94,2.9,2.99,2.94,3.03,2.99,3.08,3.03,3.12,3.07,3.16,3.12,3.21,3.16,3.25,3.21,3.3,3.25,3.34,3.29,3.38,3.34,3.43,3.38,3.47,3.43,3.52,3.47,3.56,3.51,3.6,6.66,6.75,3.6,3.69,3.64,3.74,3.69,3.78,3.73,3.82]
[19,"งาน Hot Mixed Recycling",null,null,null,null,null,null,null,72,null,null,null,null,null,null,null,null,null,null,null,null,null,null,null,null,null,null,null,19,"งาน Hot Mixed Recycling"]
[null," ขุดลึก 3 ซม.","ตร.ม.",{"$f":"HLOOKUP($D$5,$AG$11:$BV$90,J84)+K84","v":0},5.5549999999999997,{"$f":"E84*1.25","v":6.9437499999999996},48.96,50.43,48.96,73,null,null,null,null,null,null,null,null,null,null,null,null,null,null,null,null,null,null,null,null," ขุดลึก 3 ซม.","ตร.ม.",48.63,50.1,48.96,50.43,49.28,50.75,45.89,47.28,46.22,49.93,51.4,47.93,46.86,48.25,47.19,48.58,47.51,48.9,47.83,49.22,48.16,49.55,48.48,49.87,48.8,50.19,49.13,50.52,49.45,50.84,49.77,51.16,50.1,51.49,50.42,51.81,50.74,52.13,51.07,52.46,51.39,52.78,51.71,53.1,52.04,53.43,52.36,53.75,52.68,54.07,99.81,101.2,53.33,54.72,53.65,55.04,53.98,55.37,54.3,55.69]
[null," ขุดลึก 4 ซม.","ตร.ม.",{"$f":"HLOOKUP($D$5,$AG$11:$BV$90,J85)+K85","v":48.96},7.0549999999999997,{"$f":"E85*1.25","v":8.8187499999999996},66.42,68.27,66.42,74,null,null,null,null,null,null,null,null,null,null,null,null,null,null,null,null,null,null,null,null," ขุดลึก 4 ซม.","ตร.ม.",66.040000000000006,67.89,66.42,68.27,66.8,68.650000000000006,61.76,63.53,62.14,67.569999999999993,69.42,64.290000000000006,62.91,64.67,63.29,65.05,63.67,65.44,64.05,65.819999999999993,64.44,66.2,64.819999999999993,66.58,65.2,66.959999999999994,65.58,67.349999999999994,65.959999999999994,67.73,66.349999999999994,68.11,66.73,68.489999999999995,67.11,68.87,67.489999999999995,69.260000000000005,67.88,69.64,68.260000000000005,70.02,68.64,70.400000000000006,69.02,70.790000000000006,69.400000000000006,71.17,69.790000000000006,71.55,132.52000000000001,134.28,70.55,72.31,70.930000000000007,72.7,71.31,73.08,71.7,73.459999999999994]
[null," ขุดลึก 5 ซม.","ตร.ม.",{"$f":"HLOOKUP($D$5,$AG$11:$BV$90,J86)+K86","v":66.42},7.75,{"$f":"E86*1.25","v":9.6875},79.599999999999994,81.63,79.599999999999994,75,null,null,null,null,null,null,null,null,null,null,null,null,null,null,null,null,null,null,null,null," ขุดลึก 5 ซม.","ตร.ม.",79.13,81.16,79.599999999999994,81.63,80.069999999999993,82.1,73.98,75.92,74.45,81,83.03,76.849999999999994,75.38,77.319999999999993,75.84,77.78,76.31,78.25,76.78,78.709999999999994,77.239999999999995,79.180000000000007,77.709999999999994,79.650000000000006,78.17,80.11,78.64,80.58,79.11,81.040000000000006,79.569999999999993,81.510000000000005,80.040000000000006,81.98,80.510000000000005,82.44,80.97,82.91,81.44,83.37,81.900000000000006,83.84,82.37,84.31,82.84,84.77,83.3,85.24,83.77,85.7,159.79,161.72,84.7,86.64,85.17,87.1,85.63,87.57,86.1,88.04]
[null," ขุดลึก 6 ซม.","ตร.ม.",{"$f":"HLOOKUP($D$5,$AG$11:$BV$90,J87)+K87","v":79.599999999999994},8.59,{"$f":"E87*1.25","v":10.737500000000001},95.66,97.91,95.66,76,null,null,null,null,null,null,null,null,null,null,null,null,null,null,null,null,null,null,null,null," ขุดลึก 6 ซม.","ตร.ม.",95.09,97.34,95.66,97.91,96.23,98.48,88.85,91,89.42,97.36,99.61,92.14,90.56,92.71,91.13,93.27,91.7,93.84,92.26,94.41,92.83,94.98,93.4,95.55,93.97,96.12,94.54,96.68,95.11,97.25,95.67,97.82,96.24,98.39,96.81,98.96,97.38,99.53,97.95,100.1,98.52,100.66,99.08,101.23,99.65,101.8,100.22,102.37,100.79,102.94,192.99,195.14,101.93,104.07,102.5,104.64,103.06,105.21,103.63,105.78]
[20,"งาน Milling",null,null,null,null,null,null,null,77,null,null,null,null,null,null,null,null,null,null,null,null,null,null,null,null,null,null,null,20,"งาน Milling"]
[null," ขุดลึก 5 ซม.","ตร.ม.",{"$f":"HLOOKUP($D$5,$AG$11:$BV$90,J89)+K89","v":0},1.7150000000000001,{"$f":"E89*1.25","v":2.1437500000000003},11.83,12.32,11.83,78,null,null,null,null,null,null,null,null,null,null,null,null,null,null,null,null,null,null,null,null," ขุดลึก 5 ซม.","ตร.ม.",11.64,12.13,11.83,12.32,12.03,12.52,11.37,11.8,11.56,12.42,12.91,12.19,11.95,12.38,12.15,12.57,12.34,12.77,12.53,12.96,12.73,13.16,12.92,13.35,13.12,13.54,13.31,13.74,13.5,13.93,13.7,14.13,13.89,14.32,14.08,14.51,14.28,14.71,14.47,14.9,14.67,15.1,14.86,15.29,15.05,15.48,15.25,15.68,15.44,15.87,29.17,29.6,15.83,16.260000000000002,16.02,16.45,16.22,16.649999999999999,16.41,16.84]
[null," ขุดลึก 10 ซม.","ตร.ม.",{"$f":"HLOOKUP($D$5,$AG$11:$BV$90,J90)+K90","v":11.83},2.004,{"$f":"E90*1.25","v":2.5049999999999999},13.81,14.39,13.81,79,null,null,null,null,null,null,null,null,null,null,null,null,null,null,null,null,null,null,null,null," ขุดลึก 10 ซม.","ตร.ม.",13.58,14.16,13.81,14.39,14.04,14.6,13.27,13.77,13.49,14.49,15.07,14.22,13.94,14.44,14.17,14.67,14.4,14.9,14.62,15.12,14.85,15.35,15.07,15.58,15.3,15.8,15.53,16.03,15.75,16.25,15.98,16.48,16.21,16.71,16.43,16.93,16.66,17.16,16.88,17.39,17.11,17.61,17.34,17.84,17.559999999999999,18.059999999999999,17.79,18.29,18.02,18.52,34.03,34.53,18.47,18.97,18.690000000000001,19.2,18.920000000000002,19.420000000000002,19.149999999999999,19.649999999999999]

{"sheet":"ข้อมูล_Box","index":22,"n_rows":87,"n_cols":38,"rows_kept":87,"cut":false,"hidden":true,"merged":[]}
[null,null,"Box Culvert ชนิด Single Box"]
[null,null,"ความกว้าง","ความสูง","พื้นหนา","ผนังหนา","Bar Mark a",null,null,"Bar Mark a1",null,null,"Bar Mark b",null,null,null,null,"Bar Mark b1",null,null,null,null,"Bar Mark b2",null,null,"Bar Mark v",null,null,"Bar Mark v1",null,null,"Bar Mark h",null,null,"Bar Mark h1+h2"]
[null,null,"S (ม.)","D (ม.)","T (ม.)","W (ม.)","dia.\n(มม.)","@ \n(ม.)","L\n(ม.)","dia.\n(มม.)","@ \n(ม.)","L\n(ม.)","dia.\n(มม.)","@ \n(ม.)","F\n(ม.)","G\n(ม.)","L\n(ม.)","dia.\n(มม.)","@ \n(ม.)","F\n(ม.)","G1\n(ม.)","L\n(ม.)","dia.\n(มม.)","@ \n(ม.)","L\n(ม.)","dia.\n(มม.)","@ \n(ม.)","L\n(ม.)","dia.\n(มม.)","@ \n(ม.)","L\n(ม.)","dia.\n(มม.)","@ \n(ม.)","No","dia.\n(มม.)","@ \n(ม.)","No","ที่พื้น(h1)"]
[1,{"$f":"+C4&\"0 เมตร x \"&D4&\"0 เมตร\"","v":"1.20 เมตร x 1.20 เมตร"},1.2,1.2,0.2,0.2,12,0.2,{"$f":"C4+2*F4+0.1*2-0.05*2","v":1.7},12,1.2,1.18,12,0.25,0.66,1.07,{"$f":"O4+P4","v":1.73},12,0.25,0.66,1.07,{"$f":"T4+U4","v":1.73},null,null,null,null,null,null,12,0.27500000000000002,1.85,12,0.25,{"$f":"(((ROUNDDOWN((C4-0.3)/AG4,0)+1)+(ROUNDDOWN((O4-F4-0.15+0.05)/AG4,0)+1)*2))","v":8},12,0.45,{"$f":"(ROUND((C4-0.45*2)/AJ4,0)+1)*2+(ROUNDDOWN((D4-0.2)/AJ4,0)+1)*2+(ROUND((P4-E4-0.1)/AJ4,0)+1)*2*2","v":22},{"$f":"(ROUND((C4-0.45*2)/AJ4,0)+1)*2","v":4}]
[2,"1.50 เมตร x 1.20 เมตร",1.5,1.2,0.2,0.2,12,0.15,{"$f":"C5+2*F5+0.1*2-0.05*2","v":2},12,1.2,1.26,12,0.2,0.77,1.07,1.84,12,0.2,0.77,1.07,1.84,null,null,null,null,null,null,12,0.27500000000000002,1.85,12,0.25,{"$f":"(((ROUNDDOWN((C5-0.3)/AG5,0)+1)+(ROUNDDOWN((O5-F5-0.15+0.05)/AG5,0)+1)*2))","v":9},12,0.45,{"$f":"(ROUND((C5-0.45*2)/AJ5,0)+1)*2+(ROUNDDOWN((D5-0.2)/AJ5,0)+1)*2+(ROUND((P5-E5-0.1)/AJ5,0)+1)*2*2","v":22},{"$f":"(ROUND((C5-0.45*2)/AJ5,0)+1)*2","v":4}]
[3,"1.50 เมตร x 1.50 เมตร",1.5,1.5,0.2,0.2,12,0.15,2,12,1.2,1.26,12,0.2,0.77,1.22,1.99,12,0.2,0.77,1.22,1.99,null,null,null,null,null,null,12,0.27500000000000002,2.15,12,0.25,9,12,0.45,22,4]
[4,"1.80 เมตร x 1.20 เมตร",1.8,1.2,0.24,0.25,12,0.14000000000000001,2.4,12,1.2,1.34,12,0.2,0.93,1.1100000000000001,2.04,12,0.2,0.93,1.1100000000000001,2.04,null,null,null,null,null,null,12,0.22500000000000001,1.95,12,0.25,13,12,0.45,24,6]
[5,"1.80 เมตร x 1.50 เมตร",1.8,1.5,0.24,0.25,12,0.14000000000000001,2.4,12,1.2,1.34,12,0.2,0.93,1.26,2.19,12,0.2,0.93,1.26,2.19,null,null,null,null,null,null,12,0.22500000000000001,2.25,12,0.25,13,12,0.45,24,6]
[6,"1.80 เมตร x 1.80 เมตร",1.8,1.8,0.24,0.25,12,0.14000000000000001,2.4,12,1.2,1.34,12,0.19,0.93,1.41,2.34,12,0.19,0.93,1.41,2.34,null,null,null,null,null,null,12,0.22500000000000001,2.5499999999999998,12,0.25,13,12,0.45,26,6]
[7,"2.10 เมตร x 1.20 เมตร",2.1,1.2,0.24,0.25,12,0.1,2.7,12,1.2,1.42,12,0.15,1.04,1.1100000000000001,2.1500000000000004,12,0.15,1.04,1.1100000000000001,2.1500000000000004,null,null,null,null,null,null,12,0.22500000000000001,1.95,12,0.25,14,12,0.45,26,8]
[8,"2.10 เมตร x 1.50 เมตร",2.1,1.5,0.24,0.25,12,0.1,2.7,12,1.2,1.42,12,0.15,1.04,1.26,2.2999999999999998,12,0.15,1.04,1.26,2.2999999999999998,null,null,null,null,null,null,12,0.22500000000000001,2.25,12,0.25,14,12,0.45,26,8]
[9,"2.10 เมตร x 1.80 เมตร",2.1,1.8,0.24,0.25,12,0.1,2.7,12,1.2,1.42,12,0.15,1.04,1.41,2.4500000000000002,12,0.15,1.04,1.41,2.4500000000000002,null,null,null,null,null,null,12,0.22500000000000001,2.5499999999999998,12,0.25,14,12,0.45,28,8]
[10,"2.10 เมตร x 2.10 เมตร",2.1,2.1,0.24,0.25,12,0.1,2.7,12,1.2,1.42,12,0.15,1.04,1.56,2.6,12,0.15,1.04,1.56,2.6,null,null,null,null,null,null,12,0.22500000000000001,2.85,12,0.25,14,12,0.45,34,8]
[11,"2.40 เมตร x 1.20 เมตร",2.4,1.2,0.24,0.25,16,0.15,3,12,1.2,1.48,12,0.11,1.1599999999999999,1.1100000000000001,2.27,12,0.11,1.1599999999999999,1.1100000000000001,2.27,null,null,null,null,null,null,12,0.22500000000000001,1.95,12,0.23,18,12,0.45,26,8]
[12,{"$f":"+C15&\"0 เมตร x \"&D15&\"0 เมตร\"","v":"2.40 เมตร x 1.50 เมตร"},2.4,1.5,0.24,0.25,16,0.15,3,12,1.2,1.48,12,0.11,1.1599999999999999,1.26,2.42,12,0.11,1.1599999999999999,1.26,2.42,null,null,null,null,null,null,12,0.22500000000000001,2.25,12,0.23,18,12,0.45,26,8]
[13,{"$f":"+C16&\"0 เมตร x \"&D16&\"0 เมตร\"","v":"2.40 เมตร x 1.80 เมตร"},2.4,1.8,0.24,0.25,16,0.15,3,12,1.2,1.48,12,0.12,1.1599999999999999,1.41,2.57,12,0.12,1.1599999999999999,1.41,2.57,null,null,null,null,null,null,12,0.22500000000000001,2.5499999999999998,12,0.23,18,12,0.45,28,8]
[14,{"$f":"+C17&\"0 เมตร x \"&D17&\"0 เมตร\"","v":"2.40 เมตร x 2.10 เมตร"},2.4,2.1,0.24,0.25,16,0.14000000000000001,3,12,1.2,1.48,12,0.12,1.1599999999999999,1.56,2.7199999999999998,12,0.12,1.1599999999999999,1.56,2.7199999999999998,null,null,null,null,null,null,12,0.22500000000000001,2.85,12,0.23,18,12,0.45,34,8]
[15,{"$f":"+C18&\"0 เมตร x \"&D18&\"0 เมตร\"","v":"2.40 เมตร x 2.40 เมตร"},2.4,2.4,0.24,0.25,16,0.14000000000000001,3,12,1.2,1.48,12,0.12,1.1599999999999999,1.71,2.87,12,0.12,1.1599999999999999,1.71,2.87,null,null,null,null,null,null,12,0.22500000000000001,3.15,12,0.23,18,12,0.45,34,8]
[16,{"$f":"+C19&\"0 เมตร x \"&D19&\"0 เมตร\"","v":"2.70 เมตร x 2.40 เมตร"},2.7,2.4,0.24,0.25,20,0.18,3.3000000000000003,12,1.2,1.71,16,0.17499999999999999,1.37,1.78,3.1500000000000004,16,0.17499999999999999,1.37,1.78,3.1500000000000004,null,null,null,null,null,null,12,0.22500000000000001,3.15,12,0.23,21,12,0.45,36,10]
[17,"2.70 เมตร x 2.70 เมตร",2.7,2.7,0.24,0.27500000000000002,20,0.18,3.35,12,1.2,1.71,16,0.16,1.37,1.93,3.3,16,0.16,1.37,1.93,3.3,null,null,null,null,null,null,12,0.2,3.45,12,0.23,21,12,0.45,42,10]
[18,{"$f":"+C21&\".00 เมตร x \"&D21&\"0 เมตร\"","v":"3.00 เมตร x 1.80 เมตร"},3,1.8,0.26500000000000001,0.27500000000000002,20,0.17499999999999999,3.65,12,1.2,1.78,16,0.16,1.51,1.51,3.02,16,0.16,1.51,1.51,3.02,null,null,null,null,null,null,12,0.2,2.6,12,0.22500000000000001,25,12,0.45,36,12]
[19,{"$f":"+C22&\".00 เมตร x \"&D22&\"0 เมตร\"","v":"3.00 เมตร x 2.70 เมตร"},3,2.7,0.26500000000000001,0.27500000000000002,20,0.16,3.65,12,1.2,1.78,16,0.16,1.51,1.96,3.4699999999999998,16,0.16,1.51,1.96,3.4699999999999998,null,null,null,null,null,null,12,0.2,3.5,12,0.23,22,12,0.45,44,12]
[20,{"$f":"+C23&\".00 เมตร x \"&D23&\".00 เมตร\"","v":"3.00 เมตร x 3.00 เมตร"},3,3,0.26500000000000001,0.3,20,0.17499999999999999,3.7,12,1.2,1.78,16,0.14499999999999999,1.51,2.12,3.63,16,0.14499999999999999,1.51,2.12,3.63,null,null,null,null,null,null,12,0.17499999999999999,3.8,12,0.215,25,12,0.45,46,12]
[21,{"$f":"+C24&\"0 เมตร x \"&D24&\".00 เมตร\"","v":"3.30 เมตร x 3.00 เมตร"},3.3,3,0.28000000000000003,0.3,20,0.15,3.9999999999999996,12,1.2,1.83,16,0.14000000000000001,1.66,2.12,3.7800000000000002,16,0.14000000000000001,1.66,2.12,3.7800000000000002,null,null,null,null,null,null,12,0.17499999999999999,3.85,12,0.215,26,12,0.45,46,12]
[22,"3.30 เมตร x 3.30 เมตร",3.3,3.3,0.28000000000000003,0.32500000000000001,20,0.15,4.05,12,1.2,1.83,16,0.125,1.66,2.27,3.9299999999999997,16,0.125,1.66,2.27,3.9299999999999997,null,null,null,null,null,null,12,0.17499999999999999,4.1500000000000004,12,0.22500000000000001,26,12,0.45,46,12]
[23,"3.60 เมตร x 3.30 เมตร",3.6,3.3,0.30499999999999999,0.32500000000000001,20,0.14000000000000001,4.3500000000000005,12,1.2,1.9,16,0.125,1.8,2.2999999999999998,4.0999999999999996,16,0.125,1.8,2.2999999999999998,4.0999999999999996,null,null,null,null,null,null,12,0.17499999999999999,4.2,12,0.22500000000000001,29,12,0.45,48,14]
[24,"3.60 เมตร x 3.60 เมตร",3.6,3.6,0.30499999999999999,0.35,20,0.15,4.4000000000000004,12,1.2,1.9,16,0.115,1.8,2.4500000000000002,4.25,16,0.115,1.8,2.4500000000000002,4.25,null,null,null,null,null,null,12,0.15,4.5,12,0.22500000000000001,29,12,0.45,54,14]
[25,{"$f":"+C28&\".00 เมตร x \"&D28&\"0 เมตร\"","v":"4.00 เมตร x 2.50 เมตร"},4,2.5,0.4,0.35,20,0.15,4.8000000000000007,12,1.2,2.38,16,0.17,1.8,1.99,3.79,16,0.17,1.8,1.99,3.79,null,null,null,null,null,null,12,0.15,5.05,12,0.22500000000000001,31,12,0.45,44,16]
[]
[]
[null,null,"Box Culvert ชนิด Multiple Box"]
[null,null,"ความกว้าง","ความสูง","พื้นหนา","ผนังหนา","Bar Mark a",null,null,"Bar Mark a1",null,null,"Bar Mark b",null,null,null,null,"Bar Mark b1",null,null,null,null,"Bar Mark b2",null,null,"Bar Mark v",null,null,"Bar Mark v1",null,null,"Bar Mark h",null,null,"Bar Mark h1+h2"]
[null,null,"S (ม.)","D (ม.)","T (ม.)","W (ม.)","dia.\n(มม.)","@ \n(ม.)","L\n(ม.)","dia.\n(มม.)","@ \n(ม.)","L\n(ม.)","dia.\n(มม.)","@ \n(ม.)","F\n(ม.)","G\n(ม.)","L\n(ม.)","dia.\n(มม.)","@ \n(ม.)","F\n(ม.)","G1\n(ม.)","L\n(ม.)","dia.\n(มม.)","@ \n(ม.)","L\n(ม.)","dia.\n(มม.)","@ \n(ม.)","L\n(ม.)","dia.\n(มม.)","@ \n(ม.)","L\n(ม.)","dia.\n(มม.)","@ \n(ม.)","No","dia.\n(มม.)","@ \n(ม.)","No","ที่พื้น(h1)"]
[1,{"$f":"+C34&\"0 เมตร x \"&D34&\"0 เมตร\"","v":"1.20 เมตร x 1.20 เมตร"},1.2,1.2,0.2,0.2,12,0.15,{"$f":"C34+2*F34+0.1*2-0.05*2","v":1.7},12,1.2,1.18,12,0.25,0.66,1.07,{"$f":"O34+P34","v":1.73},12,0.25,0.66,1.07,{"$f":"T34+U34","v":1.73},12,0.25,1.21,null,null,null,12,0.27500000000000002,1.85,12,0.25,{"$f":"((ROUNDDOWN((C34-0.3)/AG34,0)+1)+(ROUNDDOWN((O34-F34-0.15+0.05)/AG34,0)+1)+(ROUNDDOWN((Y34/2-F34/2-0.15)/AG34,0)+1))*Box!AC","v":8},12,0.45,{"$f":"(ROUND((C34-0.45*2)/AJ34,0)+1)*2*Box!AC+(ROUNDDOWN((D34-0.2)/AJ34,0)+1)*2*Box!AC+(ROUND((P34-E34-0.1)/AJ34,0)+1)*2*2","v":22},{"$f":"(ROUND((C34-0.45*2)/AJ34,0)+1)*2*Box!AC","v":4}]
[2,"1.50 เมตร x 1.20 เมตร",1.5,1.2,0.2,0.2,12,0.15,{"$f":"C35+2*F35+0.1*2-0.05*2","v":2},12,1.2,1.26,12,0.2,0.77,1.07,1.84,12,0.2,0.77,1.07,1.84,12,0.2,1.43,null,null,null,12,0.27500000000000002,1.85,12,0.25,{"$f":"((ROUNDDOWN((C35-0.3)/AG35,0)+1)+(ROUNDDOWN((O35-F35-0.15+0.05)/AG35,0)+1)+(ROUNDDOWN((Y35/2-F35/2-0.15)/AG35,0)+1))*Box!AC","v":9},12,0.45,{"$f":"(ROUND((C35-0.45*2)/AJ35,0)+1)*2*Box!AC+(ROUNDDOWN((D35-0.2)/AJ35,0)+1)*2*Box!AC+(ROUND((P35-E35-0.1)/AJ35,0)+1)*2*2","v":22},{"$f":"(ROUND((C35-0.45*2)/AJ35,0)+1)*2*Box!AC","v":4}]
[3,"1.50 เมตร x 1.50 เมตร",1.5,1.5,0.2,0.2,12,0.125,2,12,1.2,1.26,12,0.2,0.77,1.22,1.99,12,0.2,0.77,1.22,1.99,12,0.2,1.43,null,null,null,12,0.27500000000000002,2.15,12,0.25,{"$f":"((ROUNDDOWN((C36-0.3)/AG36,0)+1)+(ROUNDDOWN((O36-F36-0.15+0.05)/AG36,0)+1)+(ROUNDDOWN((Y36/2-F36/2-0.15)/AG36,0)+1))*Box!AC","v":9},12,0.45,{"$f":"(ROUND((C36-0.45*2)/AJ36,0)+1)*2*Box!AC+(ROUNDDOWN((D36-0.2)/AJ36,0)+1)*2*Box!AC+(ROUND((P36-E36-0.1)/AJ36,0)+1)*2*2","v":22},{"$f":"(ROUND((C36-0.45*2)/AJ36,0)+1)*2*Box!AC","v":4}]
[4,"1.80 เมตร x 1.20 เมตร",1.8,1.2,0.24,0.25,12,0.125,2.4,12,1.2,1.34,12,0.2,0.93,1.1100000000000001,2.04,12,0.2,0.93,1.1100000000000001,2.04,12,0.2,1.71,null,null,null,12,0.22500000000000001,1.95,12,0.25,{"$f":"((ROUNDDOWN((C37-0.3)/AG37,0)+1)+(ROUNDDOWN((O37-F37-0.15+0.05)/AG37,0)+1)+(ROUNDDOWN((Y37/2-F37/2-0.15)/AG37,0)+1))*Box!AC","v":13},12,0.45,{"$f":"(ROUND((C37-0.45*2)/AJ37,0)+1)*2*Box!AC+(ROUNDDOWN((D37-0.2)/AJ37,0)+1)*2*Box!AC+(ROUND((P37-E37-0.1)/AJ37,0)+1)*2*2","v":24},{"$f":"(ROUND((C37-0.45*2)/AJ37,0)+1)*2*Box!AC","v":6}]
[5,"1.80 เมตร x 1.50 เมตร",1.8,1.5,0.24,0.25,12,0.125,2.4,12,1.2,1.34,12,0.2,0.93,1.26,2.19,12,0.2,0.93,1.26,2.19,12,0.2,1.71,null,null,null,12,0.22500000000000001,2.25,12,0.25,{"$f":"((ROUNDDOWN((C38-0.3)/AG38,0)+1)+(ROUNDDOWN((O38-F38-0.15+0.05)/AG38,0)+1)+(ROUNDDOWN((Y38/2-F38/2-0.15)/AG38,0)+1))*Box!AC","v":13},12,0.45,{"$f":"(ROUND((C38-0.45*2)/AJ38,0)+1)*2*Box!AC+(ROUNDDOWN((D38-0.2)/AJ38,0)+1)*2*Box!AC+(ROUND((P38-E38-0.1)/AJ38,0)+1)*2*2","v":24},{"$f":"(ROUND((C38-0.45*2)/AJ38,0)+1)*2*Box!AC","v":6}]
[6,"1.80 เมตร x 1.80 เมตร",1.8,1.8,0.24,0.25,12,0.15,2.4,12,1.2,1.34,12,0.19,0.93,1.41,2.34,12,0.19,0.93,1.41,2.34,12,0.19,1.71,null,null,null,12,0.22500000000000001,2.5499999999999998,12,0.25,{"$f":"((ROUNDDOWN((C39-0.3)/AG39,0)+1)+(ROUNDDOWN((O39-F39-0.15+0.05)/AG39,0)+1)+(ROUNDDOWN((Y39/2-F39/2-0.15)/AG39,0)+1))*Box!AC","v":13},12,0.45,{"$f":"(ROUND((C39-0.45*2)/AJ39,0)+1)*2*Box!AC+(ROUNDDOWN((D39-0.2)/AJ39,0)+1)*2*Box!AC+(ROUND((P39-E39-0.1)/AJ39,0)+1)*2*2","v":26},{"$f":"(ROUND((C39-0.45*2)/AJ39,0)+1)*2*Box!AC","v":6}]
[7,"2.10 เมตร x 1.20 เมตร",2.1,1.2,0.24,0.25,16,0.17499999999999999,2.7,12,1.2,1.42,12,0.15,1.04,1.1100000000000001,2.1500000000000004,12,0.15,1.04,1.1100000000000001,2.1500000000000004,12,0.15,1.93,null,null,null,12,0.22500000000000001,1.95,12,0.25,{"$f":"((ROUNDDOWN((C40-0.3)/AG40,0)+1)+(ROUNDDOWN((O40-F40-0.15+0.05)/AG40,0)+1)+(ROUNDDOWN((Y40/2-F40/2-0.15)/AG40,0)+1))*Box!AC","v":14},12,0.45,{"$f":"(ROUND((C40-0.45*2)/AJ40,0)+1)*2*Box!AC+(ROUNDDOWN((D40-0.2)/AJ40,0)+1)*2*Box!AC+(ROUND((P40-E40-0.1)/AJ40,0)+1)*2*2","v":26},{"$f":"(ROUND((C40-0.45*2)/AJ40,0)+1)*2*Box!AC","v":8}]
[8,"2.10 เมตร x 1.50 เมตร",2.1,1.5,0.24,0.25,16,0.17499999999999999,2.7,12,1.2,1.42,12,0.15,1.04,1.26,2.2999999999999998,12,0.15,1.04,1.26,2.2999999999999998,12,0.15,1.93,null,null,null,12,0.22500000000000001,2.25,12,0.25,{"$f":"((ROUNDDOWN((C41-0.3)/AG41,0)+1)+(ROUNDDOWN((O41-F41-0.15+0.05)/AG41,0)+1)+(ROUNDDOWN((Y41/2-F41/2-0.15)/AG41,0)+1))*Box!AC","v":14},12,0.45,{"$f":"(ROUND((C41-0.45*2)/AJ41,0)+1)*2*Box!AC+(ROUNDDOWN((D41-0.2)/AJ41,0)+1)*2*Box!AC+(ROUND((P41-E41-0.1)/AJ41,0)+1)*2*2","v":26},{"$f":"(ROUND((C41-0.45*2)/AJ41,0)+1)*2*Box!AC","v":8}]
[9,"2.10 เมตร x 1.80 เมตร",2.1,1.8,0.24,0.25,16,0.14000000000000001,2.7,12,1.2,1.42,12,0.15,1.04,1.41,2.4500000000000002,12,0.15,1.04,1.41,2.4500000000000002,12,0.15,1.93,null,null,null,12,0.22500000000000001,2.5499999999999998,12,0.25,{"$f":"((ROUNDDOWN((C42-0.3)/AG42,0)+1)+(ROUNDDOWN((O42-F42-0.15+0.05)/AG42,0)+1)+(ROUNDDOWN((Y42/2-F42/2-0.15)/AG42,0)+1))*Box!AC","v":14},12,0.45,{"$f":"(ROUND((C42-0.45*2)/AJ42,0)+1)*2*Box!AC+(ROUNDDOWN((D42-0.2)/AJ42,0)+1)*2*Box!AC+(ROUND((P42-E42-0.1)/AJ42,0)+1)*2*2","v":28},{"$f":"(ROUND((C42-0.45*2)/AJ42,0)+1)*2*Box!AC","v":8}]
[10,"2.10 เมตร x 2.10 เมตร",2.1,2.1,0.24,0.25,16,0.14000000000000001,2.7,12,1.2,1.42,12,0.15,1.04,1.56,2.6,12,0.15,1.04,1.56,2.6,12,0.15,1.93,null,null,null,12,0.22500000000000001,2.85,12,0.25,{"$f":"((ROUNDDOWN((C43-0.3)/AG43,0)+1)+(ROUNDDOWN((O43-F43-0.15+0.05)/AG43,0)+1)+(ROUNDDOWN((Y43/2-F43/2-0.15)/AG43,0)+1))*Box!AC","v":14},12,0.45,{"$f":"(ROUND((C43-0.45*2)/AJ43,0)+1)*2*Box!AC+(ROUNDDOWN((D43-0.2)/AJ43,0)+1)*2*Box!AC+(ROUND((P43-E43-0.1)/AJ43,0)+1)*2*2","v":34},{"$f":"(ROUND((C43-0.45*2)/AJ43,0)+1)*2*Box!AC","v":8}]
[11,"2.40 เมตร x 1.20 เมตร",2.4,1.2,0.24,0.25,20,0.2,3,12,1.2,1.48,12,0.11,1.1599999999999999,1.1100000000000001,2.27,12,0.11,1.1599999999999999,1.1100000000000001,2.27,12,0.11,2.17,null,null,null,12,0.22500000000000001,1.95,12,0.23,{"$f":"((ROUNDDOWN((C44-0.3)/AG44,0)+1)+(ROUNDDOWN((O44-F44-0.15+0.05)/AG44,0)+1)+(ROUNDDOWN((Y44/2-F44/2-0.15)/AG44,0)+1))*Box!AC","v":18},12,0.45,{"$f":"(ROUND((C44-0.45*2)/AJ44,0)+1)*2*Box!AC+(ROUNDDOWN((D44-0.2)/AJ44,0)+1)*2*Box!AC+(ROUND((P44-E44-0.1)/AJ44,0)+1)*2*2","v":26},{"$f":"(ROUND((C44-0.45*2)/AJ44,0)+1)*2*Box!AC","v":8}]
[12,{"$f":"+C45&\"0 เมตร x \"&D45&\"0 เมตร\"","v":"2.40 เมตร x 1.50 เมตร"},2.4,1.5,0.24,0.25,20,0.2,3,12,1.2,1.48,12,0.11,1.1599999999999999,1.26,2.42,12,0.11,1.1599999999999999,1.26,2.42,12,0.11,2.17,null,null,null,12,0.22500000000000001,2.25,12,0.23,{"$f":"((ROUNDDOWN((C45-0.3)/AG45,0)+1)+(ROUNDDOWN((O45-F45-0.15+0.05)/AG45,0)+1)+(ROUNDDOWN((Y45/2-F45/2-0.15)/AG45,0)+1))*Box!AC","v":18},12,0.45,{"$f":"(ROUND((C45-0.45*2)/AJ45,0)+1)*2*Box!AC+(ROUNDDOWN((D45-0.2)/AJ45,0)+1)*2*Box!AC+(ROUND((P45-E45-0.1)/AJ45,0)+1)*2*2","v":26},{"$f":"(ROUND((C45-0.45*2)/AJ45,0)+1)*2*Box!AC","v":8}]
[13,"2.40 เมตร x 1.80 เมตร",2.4,1.8,0.24,0.25,20,0.2,3,12,1.2,1.48,12,0.12,1.1599999999999999,1.41,2.57,12,0.12,1.1599999999999999,1.41,2.57,12,0.12,2.17,null,null,null,12,0.22500000000000001,2.5499999999999998,12,0.23,{"$f":"((ROUNDDOWN((C46-0.3)/AG46,0)+1)+(ROUNDDOWN((O46-F46-0.15+0.05)/AG46,0)+1)+(ROUNDDOWN((Y46/2-F46/2-0.15)/AG46,0)+1))*Box!AC","v":18},12,0.45,{"$f":"(ROUND((C46-0.45*2)/AJ46,0)+1)*2*Box!AC+(ROUNDDOWN((D46-0.2)/AJ46,0)+1)*2*Box!AC+(ROUND((P46-E46-0.1)/AJ46,0)+1)*2*2","v":28},{"$f":"(ROUND((C46-0.45*2)/AJ46,0)+1)*2*Box!AC","v":8}]
[14,"2.40 เมตร x 2.10 เมตร",2.4,2.1,0.24,0.25,20,0.2,3,12,1.2,1.48,12,0.12,1.1599999999999999,1.56,2.7199999999999998,12,0.12,1.1599999999999999,1.56,2.7199999999999998,12,0.12,2.17,null,null,null,12,0.22500000000000001,2.85,12,0.23,{"$f":"((ROUNDDOWN((C47-0.3)/AG47,0)+1)+(ROUNDDOWN((O47-F47-0.15+0.05)/AG47,0)+1)+(ROUNDDOWN((Y47/2-F47/2-0.15)/AG47,0)+1))*Box!AC","v":18},12,0.45,{"$f":"(ROUND((C47-0.45*2)/AJ47,0)+1)*2*Box!AC+(ROUNDDOWN((D47-0.2)/AJ47,0)+1)*2*Box!AC+(ROUND((P47-E47-0.1)/AJ47,0)+1)*2*2","v":34},{"$f":"(ROUND((C47-0.45*2)/AJ47,0)+1)*2*Box!AC","v":8}]
[15,"2.40 เมตร x 2.40 เมตร",2.4,2.4,0.24,0.25,20,0.2,3,12,1.2,1.48,12,0.12,1.1599999999999999,1.71,2.87,12,0.12,1.1599999999999999,1.71,2.87,12,0.12,2.17,null,null,null,12,0.22500000000000001,3.15,12,0.23,{"$f":"((ROUNDDOWN((C48-0.3)/AG48,0)+1)+(ROUNDDOWN((O48-F48-0.15+0.05)/AG48,0)+1)+(ROUNDDOWN((Y48/2-F48/2-0.15)/AG48,0)+1))*Box!AC","v":18},12,0.45,{"$f":"(ROUND((C48-0.45*2)/AJ48,0)+1)*2*Box!AC+(ROUNDDOWN((D48-0.2)/AJ48,0)+1)*2*Box!AC+(ROUND((P48-E48-0.1)/AJ48,0)+1)*2*2","v":34},{"$f":"(ROUND((C48-0.45*2)/AJ48,0)+1)*2*Box!AC","v":8}]
[16,"2.70 เมตร x 2.40 เมตร",2.7,2.4,0.24,0.25,20,0.16500000000000001,3.3000000000000003,12,1.2,1.71,16,0.17499999999999999,1.37,1.78,3.1500000000000004,16,0.17499999999999999,1.37,1.78,3.1500000000000004,16,0.17499999999999999,2.57,null,null,null,12,0.22500000000000001,3.15,12,0.23,{"$f":"((ROUNDDOWN((C49-0.3)/AG49,0)+1)+(ROUNDDOWN((O49-F49-0.15+0.05)/AG49,0)+1)+(ROUNDDOWN((Y49/2-F49/2-0.15)/AG49,0)+1))*Box!AC","v":21},12,0.45,{"$f":"(ROUND((C49-0.45*2)/AJ49,0)+1)*2*Box!AC+(ROUNDDOWN((D49-0.2)/AJ49,0)+1)*2*Box!AC+(ROUND((P49-E49-0.1)/AJ49,0)+1)*2*2","v":36},{"$f":"(ROUND((C49-0.45*2)/AJ49,0)+1)*2*Box!AC","v":10}]
[17,"2.70 เมตร x 2.70 เมตร",2.7,2.7,0.24,0.27500000000000002,20,0.17499999999999999,3.35,12,1.2,1.71,16,0.16,1.37,1.93,3.3,16,0.16,1.37,1.93,3.3,16,0.16,2.57,null,null,null,12,0.2,3.45,12,0.23,{"$f":"((ROUNDDOWN((C50-0.3)/AG50,0)+1)+(ROUNDDOWN((O50-F50-0.15+0.05)/AG50,0)+1)+(ROUNDDOWN((Y50/2-F50/2-0.15)/AG50,0)+1))*Box!AC","v":21},12,0.45,{"$f":"(ROUND((C50-0.45*2)/AJ50,0)+1)*2*Box!AC+(ROUNDDOWN((D50-0.2)/AJ50,0)+1)*2*Box!AC+(ROUND((P50-E50-0.1)/AJ50,0)+1)*2*2","v":42},{"$f":"(ROUND((C50-0.45*2)/AJ50,0)+1)*2*Box!AC","v":10}]
[18,{"$f":"+C51&\".00 เมตร x \"&D51&\"0 เมตร\"","v":"3.00 เมตร x 1.80 เมตร"},3,1.8,0.26500000000000001,0.27500000000000002,20,0.125,3.65,12,1.2,1.78,16,0.16,1.51,1.51,3.02,16,0.16,1.51,1.51,3.02,16,0.16,2.81,null,null,null,12,0.2,2.6,12,0.22500000000000001,{"$f":"((ROUNDDOWN((C51-0.3)/AG51,0)+1)+(ROUNDDOWN((O51-F51-0.15+0.05)/AG51,0)+1)+(ROUNDDOWN((Y51/2-F51/2-0.15)/AG51,0)+1))*Box!AC","v":24},12,0.45,{"$f":"(ROUND((C51-0.45*2)/AJ51,0)+1)*2*Box!AC+(ROUNDDOWN((D51-0.2)/AJ51,0)+1)*2*Box!AC+(ROUND((P51-E51-0.1)/AJ51,0)+1)*2*2","v":36},{"$f":"(ROUND((C51-0.45*2)/AJ51,0)+1)*2*Box!AC","v":12}]
[19,{"$f":"+C52&\".00 เมตร x \"&D52&\"0 เมตร\"","v":"3.00 เมตร x 2.70 เมตร"},3,2.7,0.26500000000000001,0.27500000000000002,20,0.15,3.65,12,1.2,1.78,16,0.16,1.51,1.96,3.4699999999999998,16,0.16,1.51,1.96,3.4699999999999998,16,0.16,2.81,null,null,null,12,0.2,3.5,12,0.23,{"$f":"((ROUNDDOWN((C52-0.3)/AG52,0)+1)+(ROUNDDOWN((O52-F52-0.15+0.05)/AG52,0)+1)+(ROUNDDOWN((Y52/2-F52/2-0.15)/AG52,0)+1))*Box!AC","v":22},12,0.45,{"$f":"(ROUND((C52-0.45*2)/AJ52,0)+1)*2*Box!AC+(ROUNDDOWN((D52-0.2)/AJ52,0)+1)*2*Box!AC+(ROUND((P52-E52-0.1)/AJ52,0)+1)*2*2","v":44},{"$f":"(ROUND((C52-0.45*2)/AJ52,0)+1)*2*Box!AC","v":12}]
[20,{"$f":"+C53&\".00 เมตร x \"&D53&\".00 เมตร\"","v":"3.00 เมตร x 3.00 เมตร"},3,3,0.26500000000000001,0.3,20,0.15,3.7,12,1.2,1.78,16,0.14499999999999999,1.51,2.12,3.63,16,0.14499999999999999,1.51,2.12,3.63,16,0.14499999999999999,2.81,null,null,null,12,0.17499999999999999,3.8,12,0.215,{"$f":"((ROUNDDOWN((C53-0.3)/AG53,0)+1)+(ROUNDDOWN((O53-F53-0.15+0.05)/AG53,0)+1)+(ROUNDDOWN((Y53/2-F53/2-0.15)/AG53,0)+1))*Box!AC","v":25},12,0.45,{"$f":"(ROUND((C53-0.45*2)/AJ53,0)+1)*2*Box!AC+(ROUNDDOWN((D53-0.2)/AJ53,0)+1)*2*Box!AC+(ROUND((P53-E53-0.1)/AJ53,0)+1)*2*2","v":46},{"$f":"(ROUND((C53-0.45*2)/AJ53,0)+1)*2*Box!AC","v":12}]
[21,{"$f":"+C54&\"0 เมตร x \"&D54&\".00 เมตร\"","v":"3.30 เมตร x 3.00 เมตร"},3.3,3,0.28000000000000003,0.3,20,0.13500000000000001,3.9999999999999996,12,1.2,1.83,16,0.14000000000000001,1.66,2.12,3.7800000000000002,16,0.14000000000000001,1.66,2.12,3.7800000000000002,16,0.14000000000000001,2.97,null,null,null,12,0.17499999999999999,3.85,12,0.215,{"$f":"((ROUNDDOWN((C54-0.3)/AG54,0)+1)+(ROUNDDOWN((O54-F54-0.15+0.05)/AG54,0)+1)+(ROUNDDOWN((Y54/2-F54/2-0.15)/AG54,0)+1))*Box!AC","v":26},12,0.45,{"$f":"(ROUND((C54-0.45*2)/AJ54,0)+1)*2*Box!AC+(ROUNDDOWN((D54-0.2)/AJ54,0)+1)*2*Box!AC+(ROUND((P54-E54-0.1)/AJ54,0)+1)*2*2","v":46},{"$f":"(ROUND((C54-0.45*2)/AJ54,0)+1)*2*Box!AC","v":12}]
[22,{"$f":"+C55&\"0 เมตร x \"&D55&\"0 เมตร\"","v":"3.30 เมตร x 3.30 เมตร"},3.3,3.3,0.28000000000000003,0.32500000000000001,20,0.13500000000000001,4.05,12,1.2,1.83,16,0.125,1.66,2.27,3.9299999999999997,16,0.125,1.66,2.27,3.9299999999999997,16,0.125,3.09,null,null,null,12,0.17499999999999999,4.1500000000000004,12,0.22500000000000001,{"$f":"((ROUNDDOWN((C55-0.3)/AG55,0)+1)+(ROUNDDOWN((O55-F55-0.15+0.05)/AG55,0)+1)+(ROUNDDOWN((Y55/2-F55/2-0.15)/AG55,0)+1))*Box!AC","v":26},12,0.45,{"$f":"(ROUND((C55-0.45*2)/AJ55,0)+1)*2*Box!AC+(ROUNDDOWN((D55-0.2)/AJ55,0)+1)*2*Box!AC+(ROUND((P55-E55-0.1)/AJ55,0)+1)*2*2","v":46},{"$f":"(ROUND((C55-0.45*2)/AJ55,0)+1)*2*Box!AC","v":12}]
[23,{"$f":"+C56&\"0 เมตร x \"&D56&\"0 เมตร\"","v":"3.60 เมตร x 3.30 เมตร"},3.6,3.3,0.30499999999999999,0.32500000000000001,20,0.12,4.3500000000000005,12,1.2,1.9,16,0.125,1.8,2.2999999999999998,4.0999999999999996,16,0.125,1.8,2.2999999999999998,4.0999999999999996,16,0.125,3.23,null,null,null,12,0.17499999999999999,4.2,12,0.22500000000000001,{"$f":"((ROUNDDOWN((C56-0.3)/AG56,0)+1)+(ROUNDDOWN((O56-F56-0.15+0.05)/AG56,0)+1)+(ROUNDDOWN((Y56/2-F56/2-0.15)/AG56,0)+1))*Box!AC","v":28},12,0.45,{"$f":"(ROUND((C56-0.45*2)/AJ56,0)+1)*2*Box!AC+(ROUNDDOWN((D56-0.2)/AJ56,0)+1)*2*Box!AC+(ROUND((P56-E56-0.1)/AJ56,0)+1)*2*2","v":48},{"$f":"(ROUND((C56-0.45*2)/AJ56,0)+1)*2*Box!AC","v":14}]
[24,{"$f":"+C57&\"0 เมตร x \"&D57&\"0 เมตร\"","v":"3.60 เมตร x 3.60 เมตร"},3.6,3.6,0.30499999999999999,0.35,20,0.125,4.4000000000000004,12,1.2,1.9,16,0.115,1.8,2.4500000000000002,4.25,16,0.115,1.8,2.4500000000000002,4.25,16,0.115,3.35,null,null,null,12,0.15,4.5,12,0.22500000000000001,{"$f":"((ROUNDDOWN((C57-0.3)/AG57,0)+1)+(ROUNDDOWN((O57-F57-0.15+0.05)/AG57,0)+1)+(ROUNDDOWN((Y57/2-F57/2-0.15)/AG57,0)+1))*Box!AC","v":29},12,0.45,{"$f":"(ROUND((C57-0.45*2)/AJ57,0)+1)*2*Box!AC+(ROUNDDOWN((D57-0.2)/AJ57,0)+1)*2*Box!AC+(ROUND((P57-E57-0.1)/AJ57,0)+1)*2*2","v":54},{"$f":"(ROUND((C57-0.45*2)/AJ57,0)+1)*2*Box!AC","v":14}]
[25,{"$f":"+C58&\".00 เมตร x \"&D58&\"0 เมตร\"","v":"4.00 เมตร x 2.50 เมตร"},4,2.5,0.4,0.35,25,0.2,4.8000000000000007,12,1.2,2.38,16,0.17,1.8,1.99,3.79,16,0.17,1.8,1.99,3.79,16,0.17,3.27,null,null,null,12,0.15,5.05,12,0.22500000000000001,{"$f":"((ROUNDDOWN((C58-0.3)/AG58,0)+1)+(ROUNDDOWN((O58-F58-0.15+0.05)/AG58,0)+1)+(ROUNDDOWN((Y58/2-F58/2-0.15)/AG58,0)+1))*Box!AC","v":30},12,0.45,{"$f":"(ROUND((C58-0.45*2)/AJ58,0)+1)*2*Box!AC+(ROUNDDOWN((D58-0.2)/AJ58,0)+1)*2*Box!AC+(ROUND((P58-E58-0.1)/AJ58,0)+1)*2*2","v":44},{"$f":"(ROUND((C58-0.45*2)/AJ58,0)+1)*2*Box!AC","v":16}]
[null,null,null,null,null,null,null,null,null,null,null,null,null,null,null,null,{"$f":"+Q60/H68","v":1.7469512195121955}]
[null,null,"หูช้าง Box Culvert",null,null,null,null,null,null,null,null,null,null,null,null,null,{"$f":"(P68+Q68)/2","v":2.8650000000000002}]
[null,null,"ขนาดท่อลอด",null,"L","h1","t1","S1","SKEW 15ฐ",null,null,"SKEW 30ฐ",null,null,"SKEW 45ฐ",null,null,"V1",null,"V2",null,"V3",null,"H1",null,"H2",null,"b1"]
[null,null,"S (ม.)","D (ม.)",null,null,null,null,"L1","S1","S2","L1","S1","S2","L1","S1","S2","ฦ","@","ฦ","@","ฦ","@","ฦ","@","ฦ","@","ฦ","No"]
[null,1,1.2,1.2,1.85,0.65,0.2,1.1000000000000001,1.92,1.1200000000000001,1.19,2.14,1.27,1.47,2.62,1.63,2.2000000000000002,9,0.3,9,0.2,9,0.2,9,0.3,9,0.2,9,4]
[null,2,1.5,1.2,1.85,0.65,0.2,1.25,1.92,1.27,1.35,2.14,1.44,1.65,2.62,1.84,2.41,9,0.3,9,0.2,9,0.2,9,0.3,9,0.2,9,4]
[null,3,1.5,1.5,2.35,0.7,0.22500000000000001,1.38,2.4300000000000002,1.41,1.5,2.71,1.59,1.86,3.32,2.0499999999999998,2.78,9,0.3,9,0.15,9,0.15,9,0.3,9,0.15,9,4]
[null,4,1.8,1.2,1.85,0.65,0.2,1.4,1.92,1.43,1.5,2.14,1.61,1.82,2.62,2.0499999999999998,2.63,9,0.3,9,0.2,9,0.2,9,0.3,9,0.2,9,4]
[null,5,1.8,1.5,2.35,0.7,0.22500000000000001,1.53,2.4300000000000002,1.56,1.66,2.71,1.77,2.0299999999999998,3.32,2.27,2.99,9,0.3,9,0.15,9,0.15,9,0.3,9,0.15,9,4]
[null,6,1.8,1.8,2.75,0.8,0.22500000000000001,1.64,2.85,1.67,1.78,3.18,1.89,2.2000000000000002,3.89,2.44,3.29,9,0.3,12,0.2,12,0.2,12,0.3,12,0.2,12,4]
[null,7,2.1,1.2,1.85,0.65,0.2,1.55,1.92,1.58,1.66,2.14,1.78,1.99,2.62,2.27,2.84,9,0.3,9,0.2,9,0.2,9,0.3,9,0.2,9,4]
[null,8,2.1,1.5,2.35,0.7,0.22500000000000001,1.68,2.4300000000000002,1.72,1.81,2.71,1.94,2.21,3.32,2.48,3.21,9,0.3,9,0.15,9,0.15,9,0.3,9,0.15,9,4]
[null,9,2.1,1.8,2.75,0.8,0.22500000000000001,1.79,2.85,1.82,1.94,3.18,2.06,2.37,3.89,2.65,3.5,9,0.3,12,0.2,12,0.2,12,0.3,12,0.2,12,4]
[null,10,2.1,2.1,3.2,0.85,0.25,1.91,3.31,1.94,2.08,3.7,2.2000000000000002,2.56,4.53,2.84,3.83,9,0.3,12,0.16,12,0.16,12,0.3,12,0.16,12,4]
[null,11,2.4,1.2,1.85,0.65,0.2,1.7,1.92,1.74,1.81,2.14,1.96,2.17,2.62,2.48,3.05,9,0.3,9,0.2,9,0.2,9,0.3,9,0.2,9,4]
[null,12,2.4,1.5,2.35,0.7,0.22500000000000001,1.83,2.4300000000000002,1.87,1.97,2.71,2.11,2.38,3.32,2.69,3.42,9,0.3,9,0.15,9,0.15,9,0.3,9,0.15,9,4]
[null,13,2.4,1.8,2.75,0.8,0.22500000000000001,1.94,2.85,1.98,2.09,3.18,2.2400000000000002,2.5499999999999998,3.89,2.86,3.71,9,0.3,12,0.2,12,0.2,12,0.3,12,0.2,12,4]
[null,14,2.4,2.1,3.2,0.85,0.25,2.06,3.31,2.1,2.23,3.7,2.38,2.74,4.53,3.05,4.04,9,0.3,12,0.16,12,0.16,12,0.3,12,0.16,12,4]
[null,15,2.4,2.4,3.65,0.95,0.25,2.1800000000000002,3.78,2.2200000000000002,2.37,4.21,2.5099999999999998,2.93,5.16,3.24,4.37,9,0.3,12,0.12,12,0.12,12,0.3,12,0.12,12,4]
[null,16,2.7,2.4,3.65,0.95,0.25,2.33,3.78,2.38,2.5299999999999998,4.21,2.69,3.1,5.16,3.45,4.58,9,0.3,12,0.12,12,0.12,12,0.3,12,0.12,12,4]
[null,17,2.7,2.7,4.05,1,0.27500000000000002,2.44,4.1900000000000004,2.48,2.65,4.68,2.81,3.27,5.73,3.62,4.87,9,0.3,12,0.1,12,0.1,12,0.3,12,0.1,12,4]
[null,18,3,1.8,2.75,0.8,0.22500000000000001,2.2400000000000002,2.85,2.29,2.4,3.18,2.58,2.89,3.89,3.28,4.13,9,0.3,12,0.2,12,0.2,12,0.3,12,0.2,12,4]
[null,19,3,2.7,4.05,1,0.27500000000000002,2.59,4.1900000000000004,2.64,2.81,4.68,2.99,3.44,5.73,3.83,5.09,9,0.3,12,0.1,12,0.1,12,0.3,12,0.1,12,4]
[null,20,3,3,4.55,1.1499999999999999,0.3,2.72,4.71,2.77,2.96,5.25,3.14,3.66,6.43,4.04,5.45,12,0.3,16,0.12,16,0.12,12,0.3,16,0.12,16,4]
[null,21,3.3,3,4.55,1.1499999999999999,0.3,2.87,4.71,2.93,3.12,5.25,3.31,3.83,6.43,4.26,5.66,12,0.3,16,0.12,16,0.12,12,0.3,16,0.12,16,4]
[null,22,3.3,3.3,5.05,1.2,0.32500000000000001,3,5.23,3.06,3.27,5.83,3.47,4.04,7.14,4.47,6.03,12,0.3,16,0.1,16,0.1,12,0.3,16,0.1,16,4]
[null,23,3.6,3.3,5.05,1.2,0.32500000000000001,3.15,5.23,3.22,3.43,5.83,3.64,4.21,7.14,4.68,6.24,12,0.3,16,0.1,16,0.1,12,0.3,16,0.1,16,4]
[null,24,3.6,3.6,5.45,1.3,0.35,3.26,5.64,3.32,3.55,6.29,3.76,4.38,7.71,4.8499999999999996,6.54,12,0.3,20,0.12,20,0.12,12,0.3,20,0.12,20,4]
[null,25,4,2.5,3.75,1.18,0.3,3,3.88,3.08,3.23,4.33,3.47,3.89,5.3,4.41,5.57,12,0.2,12,0.1,12,0.1,12,0.2,12,0.1,12,4]

{"sheet":"แบ่งงวดงาน","index":23,"n_rows":150,"n_cols":47,"rows_kept":150,"cut":false,"hidden":true,"merged":[[145,6,145,7],[144,6,144,7],[149,5,149,9],[0,0,1,4],[5,15,6,15],[0,14,1,14],[140,6,140,7],[141,6,141,7],[14,0,14,10],[0,6,1,6],[0,9,1,9],[0,7,1,7],[0,5,1,5],[5,5,6,5],[0,13,1,13],[0,8,1,8]]}
["รายละเอียด",null,null,null,null,"จำนวนเงิน","ค่างาน","Factor","ค่างาน ที่คิด\nรวมเศษ(ถ้ามี)","จำนวนงวด","จำนวนงวด",null,null,"คงเหลือ","เศษ",null,null,null,null,null,"ประเภทงาน"]
[null,null,null,null,null,null,null,null,null,null,1,2,3,null,null,null,null,null,null,null,"งานที่ปรับราคาได้ประเภทงานดิน"]
[" - ปรับเกลี่ยแต่ง บดอัดคันทางเดิม ดินตัด ดินถม พร้อมบดอัดแน่น",null,null,null,null,{"$f":"SUMIF(ปร.4!$S$16:$S$199,P3,ปร.4!$R$16:$R$199)","v":0},{"$f":"ROUND(F3/F14*100,3)","v":0},0.9,{"$f":"ROUNDDOWN(G3*H3,2)","v":0},2,{"$f":"IF($J3<=1,$I3,ROUNDDOWN($I3/$J3,2))","v":0},{"$f":"IF(J3<=1,0,IF($J3=2,ROUND($I3/$J3,2),ROUND($I3/$J3,2)))","v":0},null,{"$f":"ROUNDDOWN(G3-SUM(K3:M3),2)","v":0},{"$f":"ROUND(G3-SUM(K3:N3),3)","v":0},1,null,null,null,null,"งานที่ปรับราคาได้ประเภทงานท่อระบายน้ำ คสล.และงานบ่อพัก"]
[" - วางท่อระบายน้ำ คสล. ชนิดกลม(ยกเว้นกำแพงปากท่อ คสล.)",null,null,null,null,{"$f":"SUMIF(ปร.4!$S$16:$S$199,P4,ปร.4!$R$16:$R$199)","v":0},{"$f":"ROUND(F4/F14*100,3)","v":0},1,{"$f":"ROUNDDOWN(G4*H4,2)","v":0},null,{"$f":"IF($J4<=1,$I4,ROUNDDOWN($I4/$J4,0))","v":0},null,null,{"$f":"ROUNDDOWN(G4-SUM(K4:M4),2)","v":0},{"$f":"ROUND(G4-SUM(K4:N4),3)","v":0},2,null,null,null,null,"งานที่ปรับราคาได้ประเภทงานทาง (งานผิวทาง Prime Coat)"]
[" - ชั้นรองพื้นทาง (ลูกรัง) พร้อมบดอัดแน่น",null,null,null,null,{"$f":"SUMIF(ปร.4!$S$16:$S$199,P5,ปร.4!$R$16:$R$199)","v":0},{"$f":"ROUND(F5/F14*100,3)","v":0},1,0,3,{"$f":"IF($J5<=1,$I5,ROUNDDOWN($I5/$J5,2))","v":0},{"$f":"IF(J5<=1,0,IF($J5=2,ROUNDDOWN($I5/$J5,2),ROUNDDOWN($I5/$J5,2)))","v":0},{"$f":"IF(J5<=2,0,IF($J5=3,ROUNDDOWN($I5/$J5,2)))","v":0},{"$f":"ROUNDDOWN(G5-SUM(K5:M5),2)","v":0},{"$f":"ROUND(G5-SUM(K5:N5),3)","v":0},3,null,null,null,null,"งานที่ปรับราคาได้ประเภทงานทาง (งานผิวทาง Surface Treatment & Slurry Seal)"]
[" - ชั้นพื้นทาง Stock Pile                       Factor    =",null,null,null,0,{"$f":"SUMIF(ปร.4!$S$16:$S$199,P6,ปร.4!$R$16:$R$199)","v":0},{"$f":"ROUND(F6/F14*100,3)*E6","v":0},1,0,3,0,0,{"$f":"IF(J6<=2,0,IF($J6=3,ROUNDDOWN($I6/$J6,2)))","v":0},0,0,4,null,null,null,null,"งานที่ปรับราคาได้ประเภทงานทาง (งานผิวทาง Asphaltic Concrete)"]
[" - ชั้นพื้นทาง   บดอัดแน่น                   Factor    =",null,null,null,{"$f":"1-E6","v":1},null,{"$f":"ROUND(F6/F14*100,3)*E7","v":0},1,0,3,0,0,{"$f":"IF(J7<=2,0,IF($J7=3,ROUNDDOWN($I7/$J7,2)))","v":0},0,0,null,null,null,null,null,"งานที่ปรับราคาได้ประเภทงานทาง (งานผิวถนน คสล.)"]
[" - ปรับปรุงโครงสร้างถนนเดิม",null,null,null,null,{"$f":"SUMIF(ปร.4!$S$16:$S$199,P8,ปร.4!$R$16:$R$199)","v":0},{"$f":"ROUND(F8/F14*100,3)","v":0},1,0,2,0,0,null,0,0,6,null,null,null,null,"ลำดับ",1,2,3,4,5,6,7,8,9,10,11,12,13,14,15,16,17,18,19,20,21,22]
[" - ลาดยาง Prime Coat",null,null,null,null,{"$f":"SUMIF(ปร.4!$S$16:$S$199,P9,ปร.4!$R$16:$R$199)","v":0},{"$f":"ROUND(F9/F14*100,3)","v":0},1,0,2,0,0,null,0,0,7,null,null,null,null,"%งวด",{"$f":"+K3","v":0},{"$f":"+L3","v":0},{"$f":"+K4","v":0},{"$f":"+K5","v":0},{"$f":"+L5","v":0},{"$f":"+M5","v":0},{"$f":"+K6","v":0},{"$f":"+L6","v":0},{"$f":"+M6","v":0},{"$f":"+K7","v":0},{"$f":"+L7","v":0},{"$f":"+M7","v":0},{"$f":"K8","v":0},{"$f":"L8","v":0},{"$f":"+K9","v":0},{"$f":"+L9","v":0},{"$f":"K10","v":0},{"$f":"L10","v":0},{"$f":"M10","v":0},{"$f":"K13","v":0},{"$f":"L13","v":0},{"$f":"ROUNDDOWN(N3,2)+ROUNDDOWN(N5,2)+ROUNDDOWN(N6,2)+ROUNDDOWN(N7,2)","v":0},{"$f":"ROUNDDOWN(K11,2)","v":0},{"$f":"ROUNDDOWN(N9,2)","v":0},{"$f":"ROUNDDOWN(N10,2)","v":0},{"$f":"K12+P14","v":100}]
[{"$f":"IF(C127=$U$6,\" - ลาดยาง Asphaltic Concrete \",\" - ลาดยาง Cape Seal \")","v":" - ลาดยาง Asphaltic Concrete "},null,null,null,null,{"$f":"SUMIF(ปร.4!$S$16:$S$199,P10,ปร.4!$R$16:$R$199)","v":0},{"$f":"ROUND(F10/F14*100,3)","v":0},0.9,0,3,0,0,{"$f":"IF(J10<=2,0,IF($J10=3,ROUNDDOWN($I10/$J10,2)))","v":0},0,0,8,null,null,null,null,"งวด",{"$f":"+V8","v":1},{"$f":"IF(W9=0,0,MAX($V$10:V10)+1)","v":0},{"$f":"IF(X9=0,0,MAX($V$10:W10)+1)","v":0},{"$f":"IF(Y9=0,0,MAX($V$10:X10)+1)","v":0},{"$f":"IF(Z9=0,0,MAX($V$10:Y10)+1)","v":0},{"$f":"IF(AA9=0,0,MAX($V$10:Z10)+1)","v":0},{"$f":"IF(AB9=0,0,MAX($V$10:AA10)+1)","v":0},{"$f":"IF(AC9=0,0,MAX($V$10:AB10)+1)","v":0},{"$f":"IF(AD9=0,0,MAX($V$10:AC10)+1)","v":0},{"$f":"IF(AE9=0,0,MAX($V$10:AD10)+1)","v":0},{"$f":"IF(AF9=0,0,MAX($V$10:AE10)+1)","v":0},{"$f":"IF(AG9=0,0,MAX($V$10:AF10)+1)","v":0},{"$f":"IF(AH9=0,0,MAX($V$10:AG10)+1)","v":0},{"$f":"IF(AI9=0,0,MAX($V$10:AH10)+1)","v":0},{"$f":"IF(AJ9=0,0,MAX($V$10:AI10)+1)","v":0},{"$f":"IF(AK9=0,0,MAX($V$10:AJ10)+1)","v":0},{"$f":"IF(AL9=0,0,MAX($V$10:AK10)+1)","v":0},{"$f":"IF(AM9=0,0,MAX($V$10:AL10)+1)","v":0},{"$f":"IF(AN9=0,0,MAX($V$10:AM10)+1)","v":0},{"$f":"IF(AO9=0,0,MAX($V$10:AN10)+1)","v":0},{"$f":"IF(AP9=0,0,MAX($V$10:AO10)+1)","v":0},{"$f":"IF(AQ9=0,0,MAX($V$10:AP10)+1)","v":0}]
[" - ก่อสร้างกำแพงปากท่อ คสล.",null,null,null,null,{"$f":"SUMIF(ปร.4!$S$16:$S$199,P11,ปร.4!$R$16:$R$199)","v":0},{"$f":"ROUND(F11/F14*100,3)","v":0},1,{"$f":"ROUNDDOWN(G11*H11+O4,2)","v":0},null,{"$f":"IF($J11<=1,$I11,ROUNDDOWN($I11*H11/$J11,1))","v":0},null,null,0,{"$f":"ROUND(I11-SUM(K11:N11),3)","v":0},9,null,null,null,null,"หัก 20 %",{"$f":"(V9)*0.2","v":0},0,0,0,0,0,0,0,0,0,0,0,0,0,0,0,0,0,null,0,0,{"$f":"(AN9)*0.2","v":0}]
[" - ติดตั้งเครื่องหมายจราจร ตีเส้นจราจร และอื่นๆ",null,null,null,null,{"$f":"SUMIF(ปร.4!$S$16:$S$199,P12,ปร.4!$R$16:$R$199)+ปร.4!R243","v":2500},{"$f":"ROUND(F12/F14*100,3)","v":100},1,{"$f":"ROUNDDOWN(G12*H12+O3+O8+O6+O7+O8+O9+O10+O11+O13,2)","v":100},1,{"$f":"IF($J12<=1,$I12,ROUND($I12/$J12,2))","v":100},null,null,{"$f":"ROUNDDOWN(I12-SUM(K12:M12),2)","v":0},{"$f":"ROUND(I12-SUM(K12:N12),3)","v":0},10,null,null,null,null,null,{"$f":"+V11","v":0},{"$f":"+V12+W11","v":0},0,0,0,0,0,0,0,0,0,0,{"$f":"+AG12+AH11","v":0},0,0,0,0,0,null,{"$f":"+AM12+AO11","v":0},0,{"$f":"+AP12+AQ11","v":0}]
[" - ท่อลอดเหลี่ยม/สะพาน",null,null,null,null,{"$f":"ปร.4!R241","v":0},{"$f":"ROUND(F13/F14*100,3)","v":0},1,0,3,{"$f":"IF($J13<=1,$I13,ROUNDDOWN($I13*H13/$J13,2))","v":0},{"$f":"IF(J13<=1,0,IF($J13=2,ROUNDDOWN($I13*H13/$J13,2),ROUNDDOWN($G13*1/$J13,2)))","v":0},{"$f":"IF(J13<=2,0,IF($J13=3,ROUNDDOWN($I13*H13/$J13,2),ROUNDDOWN($G13*1/$J13,2)))","v":0},null,{"$f":"ROUND(G13-SUM(K13:M13),3)","v":0}]
[null,null,null,null,null,{"$f":"SUM(F3:F13)","v":2500},{"$f":"SUM(G3:G13)","v":100},null,{"$f":"SUM(I3:I13)","v":100},{"$f":"\"รวม \"&MAX(V10:AQ10)&\" งวด\"","v":"รวม 1 งวด"},{"$f":"SUM(K3:K13)","v":100},{"$f":"SUM(L3:L13)","v":0},{"$f":"SUM(M3:M13)","v":0},{"$f":"SUM(N3:N13)","v":0},{"$f":"SUM(K14:N14)","v":100}]
["รายละเอียดงวดงานและการเบิกจ่าย"]
["ชื่องานจ้าง",null,{"$f":"\"โครงการก่อสร้าง\"&ข้อมูลโครงการ!G2","v":"โครงการก่อสร้างก่อสร้างขยายใหล่ทางคอนกรีตเสริมเหล็ก พร้อมระบบระบายน้ำ  2  ข้างทางตามแบบมาตฐานงานทางสำหรับ อปท"}]
[null,null,{"$f":"ปร.5!C7","v":"ซอยจันทร์สุวรรณ"}]
[null,null,{"$f":"ปร.5!C8","v":"บ้านกุดแห่ หมู่ 1 ตำบลกุดแห่ อำเภอนากลาง  จังหวัดหนองบัวลำภู         จำนวน      1    แห่ง"},null,null,null,null,null,null,null,null,null,null,"ระยะทาง",{"$f":"ปร.4!H6","v":0},"กิโลเมตร"]
["ระยะเวลาดำเนินการ",null,"กำหนดแล้วเสร็จภายใน",null,"100 วัน","นับถัดจากวันลงนามในสัญญาจ้าง"]
["การจ่ายเงินค่างาน",null,"ผู้ว่าจ้างตกลงจ่ายและผู้รับจ้างตกลงรับค่าจ้างเป็นงวดๆ ตามรายละเอียดดังนี้"]
[null,{"$f":"\"งวดที่ \"&$V$10","v":"งวดที่ 1"},"เป็นจำนวนเงินประมาณร้อยละ ",null,{"$f":"V9","v":0},"ของค่าจ้างทั้งหมด  จ่ายให้เมื่อผู้รับจ้างได้ปฏิบัติงาน",null,null,null,null,null,null,null,null,{"$f":"IF(E21=0,0,1)","v":0}]
[null,null,"งานที่ปรับราคาได้ประเภทงานดิน",null,null,{"$f":"IF(BackUp!S101>=0,\" -  กรุยทาง เกลี่ยปรับแต่งคันทางเดิม \",IF(BackUp!#REF!>=0,\" -  กรุยทาง รื้อหินคลุกเดิม(ขนกอง)\",\" -  กรุยทาง รื้อถนน  I-Sectoin(ขนทิ้ง) \"))","v":" -  กรุยทาง เกลี่ยปรับแต่งคันทางเดิม "},null,null,null,null,null,null,null,null,{"$f":"O21","v":0}]
[null,null,{"$f":"IF(J3=1,F22&\" ดินตัด ดินถม พร้อมบดอัดแน่น ทั้งหมดแล้วเสร็จ\",F22&\" ดินตัด ดินถม พร้อมบดอัดแน่น ได้ระยะทางไม่น้อยกว่า  \"&TEXT((ROUNDUP($O$18*H3/$J$3,2)),\"0.000\")&\"   กิโลเมตร แล้วเสร็จ\")","v":" -  กรุยทาง เกลี่ยปรับแต่งคันทางเดิม  ดินตัด ดินถม พร้อมบดอัดแน่น ได้ระยะทางไม่น้อยกว่า  0.000   กิโลเมตร แล้วเสร็จ"},null,null,null,null,null,null,null,null,null,null,null,{"$f":"O22","v":0}]
[null,{"$f":"IF($V$12<15,\"(ในกรณีที่จ่ายเงินล่วงหน้าไปแล้ว  ผู้ว่าจ้างจะหักเงินคืนเป็นจำนวนเงินประมาณร้อยละ  20  ของค่าจ้างในงวดงาน)\",\"(ในกรณีที่จ่ายเงินล่วงหน้าไปแล้ว  ผู้ว่าจ้างจะหักเงินส่วนที่เหลือทั้งหมดคืน)\")","v":"(ในกรณีที่จ่ายเงินล่วงหน้าไปแล้ว  ผู้ว่าจ้างจะหักเงินคืนเป็นจำนวนเงินประมาณร้อยละ  20  ของค่าจ้างในงวดงาน)"},null,null,null,null,null,null,null,null,null,null,null,null,0]
[null,null,null,null,null,null,null,null,null,null,null,null,null,null,0]
[null,{"$f":"\"งวดที่ \"&$W$10","v":"งวดที่ 0"},"เป็นจำนวนเงินประมาณร้อยละ ",null,{"$f":"W9","v":0},"ของค่าจ้างทั้งหมด  จ่ายให้เมื่อผู้รับจ้างได้ปฏิบัติงาน",null,null,null,null,null,null,null,null,{"$f":"IF(E26=0,0,1)","v":0}]
[null,null,"งานที่ปรับราคาได้ประเภทงานดิน",null,null,{"$f":"F22","v":" -  กรุยทาง เกลี่ยปรับแต่งคันทางเดิม "},null,null,null,null,null,null,null,null,0]
[null,null,{"$f":"IF(J3=1,F22&\" ดินตัด ดินถม พร้อมบดอัดแน่น ทั้งหมดแล้วเสร็จ\",F22&\" ดินตัด ดินถม พร้อมบดอัดแน่น ได้ระยะทางไม่น้อยกว่า  \"&TEXT((ROUNDUP($O$18*H3/$J$3,2)),\"0.000\")&\"   กิโลเมตร แล้วเสร็จ\")","v":" -  กรุยทาง เกลี่ยปรับแต่งคันทางเดิม  ดินตัด ดินถม พร้อมบดอัดแน่น ได้ระยะทางไม่น้อยกว่า  0.000   กิโลเมตร แล้วเสร็จ"},null,null,null,null,null,null,null,null,null,null,null,0]
[null,{"$f":"IF($W$12<15,\"(ในกรณีที่จ่ายเงินล่วงหน้าไปแล้ว  ผู้ว่าจ้างจะหักเงินคืนเป็นจำนวนเงินประมาณร้อยละ  20  ของค่าจ้างในงวดงาน)\",IF($V$12>15,\"\",\"(ในกรณีที่จ่ายเงินล่วงหน้าไปแล้ว  ผู้ว่าจ้างจะหักเงินส่วนที่เหลือทั้งหมดคืน)\"))","v":"(ในกรณีที่จ่ายเงินล่วงหน้าไปแล้ว  ผู้ว่าจ้างจะหักเงินคืนเป็นจำนวนเงินประมาณร้อยละ  20  ของค่าจ้างในงวดงาน)"},null,null,null,null,null,null,null,null,null,null,null,null,{"$f":"IF(OR($V$12>15,E26=0),0,O28)","v":0}]
[null,null,null,null,null,null,null,null,null,null,null,null,null,null,0]
[null,{"$f":"\"งวดที่ \"&$X$10","v":"งวดที่ 0"},"เป็นจำนวนเงินประมาณร้อยละ ",null,{"$f":"X9","v":0},"ของค่าจ้างทั้งหมด  จ่ายให้เมื่อผู้รับจ้างได้ปฏิบัติงาน",null,null,null,null,null,null,null,null,{"$f":"IF(E31=0,0,1)","v":0}]
[null,null,"งานที่ปรับราคาได้ประเภทงานท่อระบายน้ำ คสล.",null,null,null,null,null,null,null,null,null,null,null,0]
[null,null," - วางท่อระบายน้ำ คสล. ชนิดกลม ทั้งหมดแล้วเสร็จ (ยกเว้นกำแพงปากท่อ คสล.(ถ้ามี))",null,null,null,null,null,null,null,null,null,null,null,0]
[null,{"$f":"IF($X$12<15,\"(ในกรณีที่จ่ายเงินล่วงหน้าไปแล้ว  ผู้ว่าจ้างจะหักเงินคืนเป็นจำนวนเงินประมาณร้อยละ  20  ของค่าจ้างในงวดงาน)\",IF($W$12>15,\"\",\"(ในกรณีที่จ่ายเงินล่วงหน้าไปแล้ว  ผู้ว่าจ้างจะหักเงินส่วนที่เหลือทั้งหมดคืน)\"))","v":"(ในกรณีที่จ่ายเงินล่วงหน้าไปแล้ว  ผู้ว่าจ้างจะหักเงินคืนเป็นจำนวนเงินประมาณร้อยละ  20  ของค่าจ้างในงวดงาน)"},null,null,null,null,null,null,null,null,null,null,null,null,{"$f":"IF(OR($W$12>15,E31=0),0,O33)","v":0}]
[null,null,null,null,null,null,null,null,null,null,null,null,null,null,0]
[null,{"$f":"\"งวดที่ \"&$Y$10","v":"งวดที่ 0"},"เป็นจำนวนเงินประมาณร้อยละ ",null,{"$f":"Y9","v":0},"ของค่าจ้างทั้งหมด  จ่ายให้เมื่อผู้รับจ้างได้ปฏิบัติงาน",null,null,null,null,null,null,null,null,{"$f":"IF(E36=0,0,1)","v":0}]
[null,null,"งานที่ปรับราคาได้ประเภทงานดิน",null,null,null,null,null,null,null,null,null,null,null,0]
[null,null,{"$f":"IF(J5=1,\" - ชั้นรองพื้นทาง (ลูกรัง) พร้อมบดอัดแน่น ทั้งหมดแล้วเสร็จ\",\" - ชั้นรองพื้นทาง (ลูกรัง) พร้อมบดอัดแน่น  ได้ระยะทางไม่น้อยกว่า    \"&TEXT((ROUNDUP($O$18*H5/$J$5,2)),\"0.000\")&\"   กิโลเมตร แล้วเสร็จ\")","v":" - ชั้นรองพื้นทาง (ลูกรัง) พร้อมบดอัดแน่น  ได้ระยะทางไม่น้อยกว่า    0.000   กิโลเมตร แล้วเสร็จ"},null,null,null,null,null,null,null,null,null,null,null,0]
[null,{"$f":"IF($Y$12<15,\"(ในกรณีที่จ่ายเงินล่วงหน้าไปแล้ว  ผู้ว่าจ้างจะหักเงินคืนเป็นจำนวนเงินประมาณร้อยละ  20  ของค่าจ้างในงวดงาน)\",IF($X$12>15,\"\",\"(ในกรณีที่จ่ายเงินล่วงหน้าไปแล้ว  ผู้ว่าจ้างจะหักเงินส่วนที่เหลือทั้งหมดคืน)\"))","v":"(ในกรณีที่จ่ายเงินล่วงหน้าไปแล้ว  ผู้ว่าจ้างจะหักเงินคืนเป็นจำนวนเงินประมาณร้อยละ  20  ของค่าจ้างในงวดงาน)"},null,null,null,null,null,null,null,null,null,null,null,null,{"$f":"IF(OR($X$12>15,E36=0),0,O38)","v":0}]
[null,null,null,null,null,null,null,null,null,null,null,null,null,null,0]
[null,{"$f":"\"งวดที่ \"&$Z$10","v":"งวดที่ 0"},"เป็นจำนวนเงินประมาณร้อยละ ",null,{"$f":"Z9","v":0},"ของค่าจ้างทั้งหมด  จ่ายให้เมื่อผู้รับจ้างได้ปฏิบัติงาน",null,null,null,null,null,null,null,null,{"$f":"IF(E41=0,0,1)","v":0}]
[null,null,"งานที่ปรับราคาได้ประเภทงานดิน",null,null,null,null,null,null,null,null,null,null,null,0]
[null,null,{"$f":"IF(J5=1,\" - ชั้นรองพื้นทาง (ลูกรัง) พร้อมบดอัดแน่น ทั้งหมดแล้วเสร็จ\",\" - ชั้นรองพื้นทาง (ลูกรัง) พร้อมบดอัดแน่น  ได้ระยะทางไม่น้อยกว่า    \"&TEXT((ROUNDUP($O$18*H5/$J$5,2)),\"0.000\")&\"   กิโลเมตร แล้วเสร็จ\")","v":" - ชั้นรองพื้นทาง (ลูกรัง) พร้อมบดอัดแน่น  ได้ระยะทางไม่น้อยกว่า    0.000   กิโลเมตร แล้วเสร็จ"},null,null,null,null,null,null,null,null,null,null,null,0]
[null,{"$f":"IF($Z$12<15,\"(ในกรณีที่จ่ายเงินล่วงหน้าไปแล้ว  ผู้ว่าจ้างจะหักเงินคืนเป็นจำนวนเงินประมาณร้อยละ  20  ของค่าจ้างในงวดงาน)\",IF($Y$12>15,\"\",\"(ในกรณีที่จ่ายเงินล่วงหน้าไปแล้ว  ผู้ว่าจ้างจะหักเงินส่วนที่เหลือทั้งหมดคืน)\"))","v":"(ในกรณีที่จ่ายเงินล่วงหน้าไปแล้ว  ผู้ว่าจ้างจะหักเงินคืนเป็นจำนวนเงินประมาณร้อยละ  20  ของค่าจ้างในงวดงาน)"},null,null,null,null,null,null,null,null,null,null,null,null,{"$f":"IF(OR($Y$12>15,E41=0),0,O43)","v":0}]
[null,null,null,null,null,null,null,null,null,null,null,null,null,null,0]
[null,{"$f":"\"งวดที่ \"&$AA$10","v":"งวดที่ 0"},"เป็นจำนวนเงินประมาณร้อยละ ",null,{"$f":"AA9","v":0},"ของค่าจ้างทั้งหมด  จ่ายให้เมื่อผู้รับจ้างได้ปฏิบัติงาน",null,null,null,null,null,null,null,null,{"$f":"IF(E46=0,0,1)","v":0}]
[null,null,"งานที่ปรับราคาได้ประเภทงานดิน",null,null,null,null,null,null,null,null,null,null,null,0]
[null,null,{"$f":"IF(J5=1,\" - ชั้นรองพื้นทาง (ลูกรัง) พร้อมบดอัดแน่น ทั้งหมดแล้วเสร็จ\",\" - ชั้นรองพื้นทาง (ลูกรัง) พร้อมบดอัดแน่น  ได้ระยะทางไม่น้อยกว่า    \"&TEXT((ROUNDUP($O$18*H5/$J$5,2)),\"0.000\")&\"   กิโลเมตร แล้วเสร็จ\")","v":" - ชั้นรองพื้นทาง (ลูกรัง) พร้อมบดอัดแน่น  ได้ระยะทางไม่น้อยกว่า    0.000   กิโลเมตร แล้วเสร็จ"},null,null,null,null,null,null,null,null,null,null,null,0]
[null,{"$f":"IF($AA$12<15,\"(ในกรณีที่จ่ายเงินล่วงหน้าไปแล้ว  ผู้ว่าจ้างจะหักเงินคืนเป็นจำนวนเงินประมาณร้อยละ  20  ของค่าจ้างในงวดงาน)\",IF($Z$12>15,\"\",\"(ในกรณีที่จ่ายเงินล่วงหน้าไปแล้ว  ผู้ว่าจ้างจะหักเงินส่วนที่เหลือทั้งหมดคืน)\"))","v":"(ในกรณีที่จ่ายเงินล่วงหน้าไปแล้ว  ผู้ว่าจ้างจะหักเงินคืนเป็นจำนวนเงินประมาณร้อยละ  20  ของค่าจ้างในงวดงาน)"},null,null,null,null,null,null,null,null,null,null,null,null,{"$f":"IF(OR($Z$12>15,E46=0),0,O48)","v":0}]
[null,null,null,null,null,null,null,null,null,null,null,null,null,null,{"$f":"O48","v":0}]
[null,{"$f":"\"งวดที่ \"&$AB$10","v":"งวดที่ 0"},"เป็นจำนวนเงินประมาณร้อยละ ",null,{"$f":"AB9","v":0},"ของค่าจ้างทั้งหมด  จ่ายให้เมื่อผู้รับจ้างได้ปฏิบัติงาน",null,null,null,null,null,null,null,null,{"$f":"IF(E51=0,0,1)","v":0}]
[null,null,"งานที่ปรับราคาได้ประเภทงานดิน",null,null,null,null,null,null,null,null,null,null,null,0]
[null,null,{"$f":"IF(OR(BackUp!$B$251=BackUp!$BX$249,BackUp!$B$251=BackUp!$BX$250),\" - จัดหาวัสดุชั้นพื้นทาง(ลูกรัง) มากอง (Stock Pile) รวมไว้ ณ สถานที่ที่กำหนดให้ และหรือกองหรือเกลี่ย\",\" - จัดหาวัสดุชั้นพื้นทาง (หินคลุก) มากอง (Stock Pile) รวมไว้ ณ สถานที่ที่กำหนดให้ และหรือกองหรือเกลี่ย\")","v":" - จัดหาวัสดุชั้นพื้นทาง (หินคลุก) มากอง (Stock Pile) รวมไว้ ณ สถานที่ที่กำหนดให้ และหรือกองหรือเกลี่ย"},null,null,null,null,null,null,null,null,null,null,null,0]
[null,null,{"$f":"\"    บนชั้นรองพื้นทางที่ก่อสร้างแล้วเสร็จ  ได้ปริมาณไม่น้อยกว่า   \"","v":"    บนชั้นรองพื้นทางที่ก่อสร้างแล้วเสร็จ  ได้ปริมาณไม่น้อยกว่า   "},null,null,null,{"$f":"ROUND(SUM(ปร.4!M42:M56)/$J$6*IF(OR(BackUp!$B$251=BackUp!$BX$249,BackUp!$B$251=BackUp!$BX$250),1.5,1.6),-1)","v":0},"ลบ.ม.หลวม",null,null,null,null,null,null,0]
[null,{"$f":"IF($AB$12<15,\"(ในกรณีที่จ่ายเงินล่วงหน้าไปแล้ว  ผู้ว่าจ้างจะหักเงินคืนเป็นจำนวนเงินประมาณร้อยละ  20  ของค่าจ้างในงวดงาน)\",IF($AA$12>15,\"\",\"(ในกรณีที่จ่ายเงินล่วงหน้าไปแล้ว  ผู้ว่าจ้างจะหักเงินส่วนที่เหลือทั้งหมดคืน)\"))","v":"(ในกรณีที่จ่ายเงินล่วงหน้าไปแล้ว  ผู้ว่าจ้างจะหักเงินคืนเป็นจำนวนเงินประมาณร้อยละ  20  ของค่าจ้างในงวดงาน)"},null,null,null,null,null,null,null,null,null,null,null,null,{"$f":"IF(OR($AA$12>15,E51=0),0,O54)","v":0}]
[null,null,null,null,null,null,null,null,null,null,null,null,null,null,{"$f":"O54","v":0}]
[null,{"$f":"\"งวดที่ \"&$AC$10","v":"งวดที่ 0"},"เป็นจำนวนเงินประมาณร้อยละ ",null,{"$f":"AC9","v":0},"ของค่าจ้างทั้งหมด  จ่ายให้เมื่อผู้รับจ้างได้ปฏิบัติงาน",null,null,null,null,null,null,null,null,{"$f":"IF(E57=0,0,1)","v":0}]
[null,null,"งานที่ปรับราคาได้ประเภทงานดิน",null,null,null,null,null,null,null,null,null,null,null,0]
[null,null,{"$f":"IF(OR(BackUp!$B$251=BackUp!$BX$249,BackUp!$B$251=BackUp!$BX$250),\" - จัดหาวัสดุชั้นพื้นทาง(ลูกรัง) มากอง (Stock Pile) รวมไว้ ณ สถานที่ที่กำหนดให้ และหรือกองหรือเกลี่ย\",\" - จัดหาวัสดุชั้นพื้นทาง (หินคลุก) มากอง (Stock Pile) รวมไว้ ณ สถานที่ที่กำหนดให้ และหรือกองหรือเกลี่ย\")","v":" - จัดหาวัสดุชั้นพื้นทาง (หินคลุก) มากอง (Stock Pile) รวมไว้ ณ สถานที่ที่กำหนดให้ และหรือกองหรือเกลี่ย"},null,null,null,null,null,null,null,null,null,null,null,0]
[null,null,"    บนชั้นรองพื้นทางที่ก่อสร้างแล้วเสร็จ  ได้ปริมาณไม่น้อยกว่า ",null,null,null,{"$f":"ROUND(SUM(ปร.4!M42:M56)/$J$6*IF(OR(BackUp!$B$251=BackUp!$BX$249,BackUp!$B$251=BackUp!$BX$250),1.5,1.6),-1)","v":0},"ลบ.ม.หลวม",null,null,null,null,null,null,0]
[null,{"$f":"IF($AC$12<15,\"(ในกรณีที่จ่ายเงินล่วงหน้าไปแล้ว  ผู้ว่าจ้างจะหักเงินคืนเป็นจำนวนเงินประมาณร้อยละ  20  ของค่าจ้างในงวดงาน)\",IF($AB$12>15,\"\",\"(ในกรณีที่จ่ายเงินล่วงหน้าไปแล้ว  ผู้ว่าจ้างจะหักเงินส่วนที่เหลือทั้งหมดคืน)\"))","v":"(ในกรณีที่จ่ายเงินล่วงหน้าไปแล้ว  ผู้ว่าจ้างจะหักเงินคืนเป็นจำนวนเงินประมาณร้อยละ  20  ของค่าจ้างในงวดงาน)"},null,null,null,null,null,null,null,null,null,null,null,null,{"$f":"IF(OR($AB$12>15,E57=0),0,O60)","v":0}]
[null,null,null,null,null,null,null,null,null,null,null,null,null,null,{"$f":"O60","v":0}]
[null,{"$f":"\"งวดที่ \"&$AD$10","v":"งวดที่ 0"},"เป็นจำนวนเงินประมาณร้อยละ ",null,{"$f":"AD9","v":0},"ของค่าจ้างทั้งหมด  จ่ายให้เมื่อผู้รับจ้างได้ปฏิบัติงาน",null,null,null,null,null,null,null,null,{"$f":"IF(E63=0,0,1)","v":0}]
[null,null,"งานที่ปรับราคาได้ประเภทงานดิน",null,null,null,null,null,null,null,null,null,null,null,0]
[null,null,{"$f":"IF(OR(BackUp!$B$251=BackUp!$BX$253,BackUp!$B$251=BackUp!$BX$250),\" - จัดหาวัสดุชั้นพื้นทาง(ลูกรัง) มากอง (Stock Pile) รวมไว้ ณ สถานที่ที่กำหนดให้ และหรือกองหรือเกลี่ย\",\" - จัดหาวัสดุชั้นพื้นทาง (หินคลุก) มากอง (Stock Pile) รวมไว้ ณ สถานที่ที่กำหนดให้ และหรือกองหรือเกลี่ย\")","v":" - จัดหาวัสดุชั้นพื้นทาง (หินคลุก) มากอง (Stock Pile) รวมไว้ ณ สถานที่ที่กำหนดให้ และหรือกองหรือเกลี่ย"},null,null,null,null,null,null,null,null,null,null,null,0]
[null,null,"    บนชั้นรองพื้นทางที่ก่อสร้างแล้วเสร็จ  ได้ปริมาณไม่น้อยกว่า ",null,null,null,{"$f":"ROUND(SUM(ปร.4!M42:M56)/$J$6*IF(OR(BackUp!$B$251=BackUp!$BX$253,BackUp!$B$251=BackUp!$BX$250),1.5,1.6),-1)","v":0},"ลบ.ม.หลวม",null,null,null,null,null,null,0]
[null,{"$f":"IF($AD$12<15,\"(ในกรณีที่จ่ายเงินล่วงหน้าไปแล้ว  ผู้ว่าจ้างจะหักเงินคืนเป็นจำนวนเงินประมาณร้อยละ  20  ของค่าจ้างในงวดงาน)\",IF($AC$12>15,\"\",\"(ในกรณีที่จ่ายเงินล่วงหน้าไปแล้ว  ผู้ว่าจ้างจะหักเงินส่วนที่เหลือทั้งหมดคืน)\"))","v":"(ในกรณีที่จ่ายเงินล่วงหน้าไปแล้ว  ผู้ว่าจ้างจะหักเงินคืนเป็นจำนวนเงินประมาณร้อยละ  20  ของค่าจ้างในงวดงาน)"},null,null,null,null,null,null,null,null,null,null,null,null,{"$f":"IF(OR($AC$12>15,E63=0),0,O66)","v":0}]
[null,null,null,null,null,null,null,null,null,null,null,null,null,null,{"$f":"O66","v":0}]
[null,{"$f":"\"งวดที่ \"&$AE$10","v":"งวดที่ 0"},"เป็นจำนวนเงินประมาณร้อยละ ",null,{"$f":"AE9","v":0},"ของค่าจ้างทั้งหมด  จ่ายให้เมื่อผู้รับจ้างได้ปฏิบัติงาน",null,null,null,null,null,null,null,null,{"$f":"IF(E69=0,0,1)","v":0}]
[null,null,"งานที่ปรับราคาได้ประเภทงานดิน",null,null,null,null,null,null,null,null,null,null,null,0]
[null,null,{"$f":"IF(OR(BackUp!$B$251=BackUp!$BX$249,BackUp!$B$251=BackUp!$BX$250),(IF(J7=1,\" - ชั้นพื้นทาง ( Soil  Cement ) พร้อมบดอัดแน่น  ทั้งหมดแล้วเสร็จ\",\" - ชั้นพื้นทาง ( Soil  Cement ) พร้อมบดอัดแน่น   ได้ระยะทางไม่น้อยกว่า    \"&TEXT((ROUNDUP($O$18*H7/$J$7,2)),\"0.000\")&\"   กิโลเมตร แล้วเสร็จ\")),(IF(J7=1,\" - ชั้นพื้นทาง (หินคลุก) พร้อมบดอัดแน่น  ทั้งหมดแล้วเสร็จ\",\" - ชั้นพื้นทาง (หินคลุก) พร้อมบดอัดแน่น   ได้ระยะทางไม่น้อยกว่า    \"&TEXT((ROUNDUP($O$18*H7/$J$7,2)),\"0.000\")&\"   กิโลเมตร แล้วเสร็จ\")))","v":" - ชั้นพื้นทาง (หินคลุก) พร้อมบดอัดแน่น   ได้ระยะทางไม่น้อยกว่า    0.000   กิโลเมตร แล้วเสร็จ"},null,null,null,null,null,null,null,null,null,null,null,0]
[null,{"$f":"IF($AE$12<15,\"(ในกรณีที่จ่ายเงินล่วงหน้าไปแล้ว  ผู้ว่าจ้างจะหักเงินคืนเป็นจำนวนเงินประมาณร้อยละ  20  ของค่าจ้างในงวดงาน)\",IF($AD$12>15,\"\",\"(ในกรณีที่จ่ายเงินล่วงหน้าไปแล้ว  ผู้ว่าจ้างจะหักเงินส่วนที่เหลือทั้งหมดคืน)\"))","v":"(ในกรณีที่จ่ายเงินล่วงหน้าไปแล้ว  ผู้ว่าจ้างจะหักเงินคืนเป็นจำนวนเงินประมาณร้อยละ  20  ของค่าจ้างในงวดงาน)"},null,null,null,null,null,null,null,null,null,null,null,null,{"$f":"IF(OR($AD$12>15,E69=0),0,O71)","v":0}]
[null,null,null,null,null,null,null,null,null,null,null,null,null,null,{"$f":"O71","v":0}]
[null,{"$f":"\"งวดที่ \"&$AF$10","v":"งวดที่ 0"},"เป็นจำนวนเงินประมาณร้อยละ ",null,{"$f":"AF9","v":0},"ของค่าจ้างทั้งหมด  จ่ายให้เมื่อผู้รับจ้างได้ปฏิบัติงาน",null,null,null,null,null,null,null,null,{"$f":"IF(E74=0,0,1)","v":0}]
[null,null,"งานที่ปรับราคาได้ประเภทงานดิน",null,null,null,null,null,null,null,null,null,null,null,0]
[null,null,{"$f":"IF(OR(BackUp!$B$251=BackUp!$BX$253,BackUp!$B$251=BackUp!$BX$250),(IF(J7=1,\" - ชั้นพื้นทาง ( Soil  Cement ) พร้อมบดอัดแน่น  ทั้งหมดแล้วเสร็จ\",\" - ชั้นพื้นทาง ( Soil  Cement ) พร้อมบดอัดแน่น   ได้ระยะทางไม่น้อยกว่า    \"&TEXT((ROUNDUP($O$18*H7/$J$7,2)),\"0.000\")&\"   กิโลเมตร แล้วเสร็จ\")),(IF(J7=1,\" - ชั้นพื้นทาง (หินคลุก) พร้อมบดอัดแน่น  ทั้งหมดแล้วเสร็จ\",\" - ชั้นพื้นทาง (หินคลุก) พร้อมบดอัดแน่น   ได้ระยะทางไม่น้อยกว่า    \"&TEXT((ROUNDUP($O$18*H7/$J$7,2)),\"0.000\")&\"   กิโลเมตร แล้วเสร็จ\")))","v":" - ชั้นพื้นทาง (หินคลุก) พร้อมบดอัดแน่น   ได้ระยะทางไม่น้อยกว่า    0.000   กิโลเมตร แล้วเสร็จ"},null,null,null,null,null,null,null,null,null,null,null,0]
[null,{"$f":"IF($AF$12<15,\"(ในกรณีที่จ่ายเงินล่วงหน้าไปแล้ว  ผู้ว่าจ้างจะหักเงินคืนเป็นจำนวนเงินประมาณร้อยละ  20  ของค่าจ้างในงวดงาน)\",IF($AE$12>15,\"\",\"(ในกรณีที่จ่ายเงินล่วงหน้าไปแล้ว  ผู้ว่าจ้างจะหักเงินส่วนที่เหลือทั้งหมดคืน)\"))","v":"(ในกรณีที่จ่ายเงินล่วงหน้าไปแล้ว  ผู้ว่าจ้างจะหักเงินคืนเป็นจำนวนเงินประมาณร้อยละ  20  ของค่าจ้างในงวดงาน)"},null,null,null,null,null,null,null,null,null,null,null,null,{"$f":"IF(OR($AE$12>15,E74=0),0,O76)","v":0}]
[null,null,null,null,null,null,null,null,null,null,null,null,null,null,{"$f":"O76","v":0}]
[null,{"$f":"\"งวดที่ \"&$AG$10","v":"งวดที่ 0"},"เป็นจำนวนเงินประมาณร้อยละ ",null,{"$f":"AG9","v":0},"ของค่าจ้างทั้งหมด  จ่ายให้เมื่อผู้รับจ้างได้ปฏิบัติงาน",null,null,null,null,null,null,null,null,{"$f":"IF(E79=0,0,1)","v":0}]
[null,null,"งานที่ปรับราคาได้ประเภทงานดิน",null,null,null,null,null,null,null,null,null,null,null,0]
[null,null,{"$f":"IF(OR(BackUp!$B$251=BackUp!$BX$253,BackUp!$B$251=BackUp!$BX$250),(IF(J7=1,\" - ชั้นพื้นทาง ( Soil  Cement ) พร้อมบดอัดแน่น  ทั้งหมดแล้วเสร็จ\",\" - ชั้นพื้นทาง ( Soil  Cement ) พร้อมบดอัดแน่น   ได้ระยะทางไม่น้อยกว่า    \"&TEXT((ROUNDUP($O$18*H7/$J$7,2)),\"0.000\")&\"   กิโลเมตร แล้วเสร็จ\")),(IF(J7=1,\" - ชั้นพื้นทาง (หินคลุก) พร้อมบดอัดแน่น  ทั้งหมดแล้วเสร็จ\",\" - ชั้นพื้นทาง (หินคลุก) พร้อมบดอัดแน่น   ได้ระยะทางไม่น้อยกว่า    \"&TEXT((ROUNDUP($O$18*H7/$J$7,2)),\"0.000\")&\"   กิโลเมตร แล้วเสร็จ\")))","v":" - ชั้นพื้นทาง (หินคลุก) พร้อมบดอัดแน่น   ได้ระยะทางไม่น้อยกว่า    0.000   กิโลเมตร แล้วเสร็จ"},null,null,null,null,null,null,null,null,null,null,null,0]
[null,{"$f":"IF($AG$12<15,\"(ในกรณีที่จ่ายเงินล่วงหน้าไปแล้ว  ผู้ว่าจ้างจะหักเงินคืนเป็นจำนวนเงินประมาณร้อยละ  20  ของค่าจ้างในงวดงาน)\",IF($AF$12>15,\"\",\"(ในกรณีที่จ่ายเงินล่วงหน้าไปแล้ว  ผู้ว่าจ้างจะหักเงินส่วนที่เหลือทั้งหมดคืน)\"))","v":"(ในกรณีที่จ่ายเงินล่วงหน้าไปแล้ว  ผู้ว่าจ้างจะหักเงินคืนเป็นจำนวนเงินประมาณร้อยละ  20  ของค่าจ้างในงวดงาน)"},null,null,null,null,null,null,null,null,null,null,null,null,{"$f":"IF(OR($AF$12>15,E79=0),0,O81)","v":0}]
[null,null,null,null,null,null,null,null,null,null,null,null,null,null,{"$f":"O81","v":0}]
[null,{"$f":"\"งวดที่ \"&$AJ$10","v":"งวดที่ 0"},"เป็นจำนวนเงินประมาณร้อยละ ",null,{"$f":"AJ9","v":0},"ของค่าจ้างทั้งหมด  จ่ายให้เมื่อผู้รับจ้างได้ปฏิบัติงาน",null,null,null,null,null,null,null,null,{"$f":"IF(E84=0,0,1)","v":0}]
[null,null,"งานที่ปรับราคาได้ประเภทงานทาง (งานผิวทาง Prime Coat)",null,null,null,null,null,null,null,null,null,null,null,0]
[null,null,{"$f":"IF(J9<=1,\" - ลาดยาง Prime Coat  ทั้งหมดแล้วเสร็จ\",\" - ลาดยาง Prime Coat  ได้ระยะทางไม่น้อยกว่า    \"&TEXT((ROUNDUP($O$18*H9/$J$9,2)),\"0.000\")&\"   กิโลเมตร แล้วเสร็จ\")","v":" - ลาดยาง Prime Coat  ได้ระยะทางไม่น้อยกว่า    0.000   กิโลเมตร แล้วเสร็จ"},null,null,null,null,null,null,null,null,null,null,null,0]
[null,{"$f":"IF($AJ$12<15,\"(ในกรณีที่จ่ายเงินล่วงหน้าไปแล้ว  ผู้ว่าจ้างจะหักเงินคืนเป็นจำนวนเงินประมาณร้อยละ  20  ของค่าจ้างในงวดงาน)\",IF($AG$12>15,\"\",\"(ในกรณีที่จ่ายเงินล่วงหน้าไปแล้ว  ผู้ว่าจ้างจะหักเงินส่วนที่เหลือทั้งหมดคืน)\"))","v":"(ในกรณีที่จ่ายเงินล่วงหน้าไปแล้ว  ผู้ว่าจ้างจะหักเงินคืนเป็นจำนวนเงินประมาณร้อยละ  20  ของค่าจ้างในงวดงาน)"},null,null,null,null,null,null,null,null,null,null,null,null,{"$f":"IF(OR($AG$12>15,E84=0),0,O86)","v":0}]
[null,null,null,null,null,null,null,null,null,null,null,null,null,null,{"$f":"O86","v":0}]
[null,{"$f":"\"งวดที่ \"&$AK$10","v":"งวดที่ 0"},"เป็นจำนวนเงินประมาณร้อยละ ",null,{"$f":"AK9","v":0},"ของค่าจ้างทั้งหมด  จ่ายให้เมื่อผู้รับจ้างได้ปฏิบัติงาน",null,null,null,null,null,null,null,null,{"$f":"IF(E89=0,0,1)","v":0}]
[null,null,"งานที่ปรับราคาได้ประเภทงานทาง (งานผิวทาง Prime Coat)",null,null,null,null,null,null,null,null,null,null,null,{"$f":"O89","v":0}]
[null,null,{"$f":"IF(J9<=1,\" - ลาดยาง Prime Coat  ทั้งหมดแล้วเสร็จ\",\" - ลาดยาง Prime Coat  ได้ระยะทางไม่น้อยกว่า    \"&TEXT((ROUNDUP($O$18*H9/$J$9,2)),\"0.000\")&\"   กิโลเมตร แล้วเสร็จ\")","v":" - ลาดยาง Prime Coat  ได้ระยะทางไม่น้อยกว่า    0.000   กิโลเมตร แล้วเสร็จ"},null,null,null,null,null,null,null,null,null,null,null,0]
[null,{"$f":"IF($AK$12<15,\"(ในกรณีที่จ่ายเงินล่วงหน้าไปแล้ว  ผู้ว่าจ้างจะหักเงินคืนเป็นจำนวนเงินประมาณร้อยละ  20  ของค่าจ้างในงวดงาน)\",IF($AJ$12>15,\"\",\"(ในกรณีที่จ่ายเงินล่วงหน้าไปแล้ว  ผู้ว่าจ้างจะหักเงินส่วนที่เหลือทั้งหมดคืน)\"))","v":"(ในกรณีที่จ่ายเงินล่วงหน้าไปแล้ว  ผู้ว่าจ้างจะหักเงินคืนเป็นจำนวนเงินประมาณร้อยละ  20  ของค่าจ้างในงวดงาน)"},null,null,null,null,null,null,null,null,null,null,null,null,{"$f":"IF(OR($AJ$12>15,E89=0),0,O91)","v":0}]
[null,null,null,null,null,null,null,null,null,null,null,null,null,null,{"$f":"O91","v":0}]
[null,{"$f":"\"งวดที่ \"&$AL$10","v":"งวดที่ 0"},"เป็นจำนวนเงินประมาณร้อยละ ",null,{"$f":"AL9","v":0},"ของค่าจ้างทั้งหมด  จ่ายให้เมื่อผู้รับจ้างได้ปฏิบัติงาน",null,null,null,null,null,null,null,null,{"$f":"IF(E94=0,0,1)","v":0}]
[null,null,{"$f":"IF(ข้อมูลโครงการ!$G$10=ข้อมูลโครงการ!$X$11,แบ่งงวดงาน!$U$5,แบ่งงวดงาน!$U$6)","v":"งานที่ปรับราคาได้ประเภทงานทาง (งานผิวทาง Asphaltic Concrete)"},null,null,null,null,null,null,null,null,null,null,null,0]
[null,null,{"$f":"IF(J10<=1,(IF(C95=$U$6,\" - ปูผิว  Asphaltic Concrete ทั้งหมดแล้วเสร็จ\",\" - ลาดยาง Cape Seal ทั้งหมดแล้วเสร็จ\")),(IF(C95=$U$6,\" - ปูผิว  Asphaltic Concrete ได้ระยะทางไม่น้อยกว่า    \"&TEXT((ROUNDUP($O$18*H10/$J$10,2)),\"0.000\")&\"   กิโลเมตร แล้วเสร็จ\",\" - ลาดยาง Cape Seal ได้ระยะทางไม่น้อยกว่า    \"&TEXT((ROUNDUP($O$18*H10/$J$10,2)),\"0.000\")&\"   กิโลเมตร แล้วเสร็จ\")))","v":" - ปูผิว  Asphaltic Concrete ได้ระยะทางไม่น้อยกว่า    0.000   กิโลเมตร แล้วเสร็จ"},null,null,null,null,null,null,null,null,null,null,null,0]
[null,{"$f":"IF($AL$12<15,\"(ในกรณีที่จ่ายเงินล่วงหน้าไปแล้ว  ผู้ว่าจ้างจะหักเงินคืนเป็นจำนวนเงินประมาณร้อยละ  20  ของค่าจ้างในงวดงาน)\",IF($AK$12>15,\"\",\"(ในกรณีที่จ่ายเงินล่วงหน้าไปแล้ว  ผู้ว่าจ้างจะหักเงินส่วนที่เหลือทั้งหมดคืน)\"))","v":"(ในกรณีที่จ่ายเงินล่วงหน้าไปแล้ว  ผู้ว่าจ้างจะหักเงินคืนเป็นจำนวนเงินประมาณร้อยละ  20  ของค่าจ้างในงวดงาน)"},null,null,null,null,null,null,null,null,null,null,null,null,{"$f":"IF(OR($AK$12>15,E94=0),0,O96)","v":0}]
[null,null,null,null,null,null,null,null,null,null,null,null,null,null,{"$f":"O96","v":0}]
[null,{"$f":"\"งวดที่ \"&$AM$10","v":"งวดที่ 0"},"เป็นจำนวนเงินประมาณร้อยละ ",null,{"$f":"AM9","v":0},"ของค่าจ้างทั้งหมด  จ่ายให้เมื่อผู้รับจ้างได้ปฏิบัติงาน",null,null,null,null,null,null,null,null,{"$f":"IF(E99=0,0,1)","v":0}]
[null,null,{"$f":"IF(ข้อมูลโครงการ!$G$10=ข้อมูลโครงการ!$X$11,แบ่งงวดงาน!$U$5,แบ่งงวดงาน!$U$6)","v":"งานที่ปรับราคาได้ประเภทงานทาง (งานผิวทาง Asphaltic Concrete)"},null,null,null,null,null,null,null,null,null,null,null,0]
[null,null,{"$f":"IF(J10<=1,(IF(C95=$U$6,\" - ปูผิว  Asphaltic Concrete ทั้งหมดแล้วเสร็จ\",\" - ลาดยาง Cape Seal ทั้งหมดแล้วเสร็จ\")),(IF(C95=$U$6,\" - ปูผิว  Asphaltic Concrete ได้ระยะทางไม่น้อยกว่า    \"&TEXT((ROUNDUP($O$18*H10/$J$10,2)),\"0.000\")&\"   กิโลเมตร แล้วเสร็จ\",\" - ลาดยาง Cape Seal ได้ระยะทางไม่น้อยกว่า    \"&TEXT((ROUNDUP($O$18*H10/$J$10,2)),\"0.000\")&\"   กิโลเมตร แล้วเสร็จ\")))","v":" - ปูผิว  Asphaltic Concrete ได้ระยะทางไม่น้อยกว่า    0.000   กิโลเมตร แล้วเสร็จ"},null,null,null,null,null,null,null,null,null,null,null,0]
[null,{"$f":"IF($AM$12<15,\"(ในกรณีที่จ่ายเงินล่วงหน้าไปแล้ว  ผู้ว่าจ้างจะหักเงินคืนเป็นจำนวนเงินประมาณร้อยละ  20  ของค่าจ้างในงวดงาน)\",IF($AM$12>15,\"\",\"(ในกรณีที่จ่ายเงินล่วงหน้าไปแล้ว  ผู้ว่าจ้างจะหักเงินส่วนที่เหลือทั้งหมดคืน)\"))","v":"(ในกรณีที่จ่ายเงินล่วงหน้าไปแล้ว  ผู้ว่าจ้างจะหักเงินคืนเป็นจำนวนเงินประมาณร้อยละ  20  ของค่าจ้างในงวดงาน)"},null,null,null,null,null,null,null,null,null,null,null,null,{"$f":"IF(OR($AM$12>15,E99=0),0,O101)","v":0}]
[null,null,null,null,null,null,null,null,null,null,null,null,null,null,{"$f":"O101","v":0}]
[null,{"$f":"\"งวดที่ \"&$AN$10","v":"งวดที่ 0"},"เป็นจำนวนเงินประมาณร้อยละ ",null,{"$f":"AN9","v":0},"ของค่าจ้างทั้งหมด  จ่ายให้เมื่อผู้รับจ้างได้ปฏิบัติงาน",null,null,null,null,null,null,null,null,{"$f":"IF(E104=0,0,1)","v":0}]
[null,null,{"$f":"IF(ข้อมูลโครงการ!$G$10=ข้อมูลโครงการ!$X$11,แบ่งงวดงาน!$U$5,แบ่งงวดงาน!$U$6)","v":"งานที่ปรับราคาได้ประเภทงานทาง (งานผิวทาง Asphaltic Concrete)"},null,null,null,null,null,null,null,null,null,null,null,0]
[null,null,{"$f":"IF(J10<=1,(IF(C95=$U$6,\" - ปูผิว  Asphaltic Concrete ทั้งหมดแล้วเสร็จ\",\" - ลาดยาง Cape Seal ทั้งหมดแล้วเสร็จ\")),(IF(C95=$U$6,\" - ปูผิว  Asphaltic Concrete ได้ระยะทางไม่น้อยกว่า    \"&TEXT((ROUNDUP($O$18*H10/$J$10,2)),\"0.000\")&\"   กิโลเมตร แล้วเสร็จ\",\" - ลาดยาง Cape Seal ได้ระยะทางไม่น้อยกว่า    \"&TEXT((ROUNDUP($O$18*H10/$J$10,2)),\"0.000\")&\"   กิโลเมตร แล้วเสร็จ\")))","v":" - ปูผิว  Asphaltic Concrete ได้ระยะทางไม่น้อยกว่า    0.000   กิโลเมตร แล้วเสร็จ"},null,null,null,null,null,null,null,null,null,null,null,0]
[null,{"$f":"IF($AM$12<15,\"(ในกรณีที่จ่ายเงินล่วงหน้าไปแล้ว  ผู้ว่าจ้างจะหักเงินคืนเป็นจำนวนเงินประมาณร้อยละ  20  ของค่าจ้างในงวดงาน)\",IF($AL$12>15,\"\",\"(ในกรณีที่จ่ายเงินล่วงหน้าไปแล้ว  ผู้ว่าจ้างจะหักเงินส่วนที่เหลือทั้งหมดคืน)\"))","v":"(ในกรณีที่จ่ายเงินล่วงหน้าไปแล้ว  ผู้ว่าจ้างจะหักเงินคืนเป็นจำนวนเงินประมาณร้อยละ  20  ของค่าจ้างในงวดงาน)"},null,null,null,null,null,null,null,null,null,null,null,null,{"$f":"IF(OR($AL$12>15,E104=0),0,O106)","v":0}]
[null,null,null,null,null,null,null,null,null,null,null,null,null,null,{"$f":"O106","v":0}]
[null,{"$f":"\"งวดที่ \"&AO10","v":"งวดที่ 0"},"เป็นจำนวนเงินประมาณร้อยละ ",null,{"$f":"AO9","v":0},"ของค่าจ้างทั้งหมด  จ่ายให้เมื่อผู้รับจ้างได้ปฏิบัติงาน",null,null,null,null,null,null,null,null,{"$f":"IF(E109=0,0,1)","v":0}]
[null,null,"งานที่ปรับราคาได้ประเภทงานโครงสร้างคอนกรีตเสริมเหล็ก",null,null,null,null,null,null,null,null,null,null,null,0]
[null,null," - ก่อสร้างท่อลอดเหลี่ยม คสล. ขนาด 2-3.00x2.70x16.00 ม.",null,null,null,"ทั้งหมดแล้วเสร็จ",null,null,null,null,null,null,null,0]
[null,null,null,null,null,null,null,null,null,null,null,null,null,null,0]
[null,{"$f":"\"งวดที่ \"&AP10","v":"งวดที่ 0"},"เป็นจำนวนเงินประมาณร้อยละ ",null,{"$f":"AP9","v":0},"ของค่าจ้างทั้งหมด  จ่ายให้เมื่อผู้รับจ้างได้ปฏิบัติงาน",null,null,null,null,null,null,null,null,{"$f":"IF(E113=0,0,1)","v":0}]
[null,null,"งานที่ปรับราคาได้ประเภทงานโครงสร้างคอนกรีตเสริมเหล็ก",null,null,null,null,null,null,null,null,null,null,null,0]
[null,null," - ก่อสร้างท่อลอดเหลี่ยม คสล. ขนาด 1-2.40x2.10x12.00 ม.",null,null,null,"ทั้งหมดแล้วเสร็จ",null,null,null,null,null,null,null,0]
[null,null,null,null,null,null,null,null,null,null,null,null,null,null,0]
[null,{"$f":"\"งวดที่ \"&$AQ$10&\" ( สุดท้าย )\"","v":"งวดที่ 0 ( สุดท้าย )"},null,"เป็นจำนวนเงินประมาณร้อยละ ",null,{"$f":"E119+E122+E125+E128+E131","v":100},"ของค่าจ้างทั้งหมด",null,null,null,null,null,null,null,{"$f":"IF(F117=0,0,1)","v":1}]
[null,null,"งานที่ปรับราคาได้ประเภทงานดิน",null,null,null,null,null,null,null,null,null,null,null,{"$f":"IF(E119=0,0,1)","v":0}]
[null,null,"เป็นจำนวนเงินประมาณร้อยละ ",null,{"$f":"AQ9","v":0},"ของค่าจ้างทั้งหมด  จ่ายให้เมื่อผู้รับจ้างได้ปฏิบัติงาน",null,null,null,null,null,null,null,null,0]
[null,null,{"$f":"\" -  ดินตัด ดินถม ชั้นรองพื้นทาง ชั้นพื้นทาง พร้อมบดอัดแน่น ส่วนที่เหลือทั้งหมดแล้วเสร็จ\"","v":" -  ดินตัด ดินถม ชั้นรองพื้นทาง ชั้นพื้นทาง พร้อมบดอัดแน่น ส่วนที่เหลือทั้งหมดแล้วเสร็จ"},null,null,null,null,null,null,null,null,null,null,null,0]
[null,null,"งานที่ปรับราคาได้ประเภทงานท่อระบายน้ำ คสล.",null,null,null,null,null,null,null,null,null,null,null,{"$f":"IF(E122=0,0,1)","v":0}]
[null,null,"เป็นจำนวนเงินประมาณร้อยละ ",null,{"$f":"AR9","v":0},"ของค่าจ้างทั้งหมด  จ่ายให้เมื่อผู้รับจ้างได้ปฏิบัติงาน",null,null,null,null,null,null,null,null,0]
[null,null," - ก่อสร้างกำแพงปากท่อ คสล. ทั้งหมดแล้วเสร็จ",null,null,null,null,null,null,null,null,null,null,null,0]
[null,null,"งานที่ปรับราคาได้ประเภทงานทาง (งานผิวทาง Prime Coat)",null,null,null,null,null,null,null,null,null,null,null,{"$f":"IF(E125=0,0,1)","v":0}]
[null,null,"เป็นจำนวนเงินประมาณร้อยละ ",null,{"$f":"AS9","v":0},"ของค่าจ้างทั้งหมด  จ่ายให้เมื่อผู้รับจ้างได้ปฏิบัติงาน",null,null,null,null,null,null,null,null,0]
[null,null,{"$f":"\" - ลาดยาง Prime Coat  ส่วนที่เหลือทั้งหมดแล้วเสร็จ\"","v":" - ลาดยาง Prime Coat  ส่วนที่เหลือทั้งหมดแล้วเสร็จ"},null,null,null,null,null,null,null,null,null,null,null,0]
[null,null,{"$f":"IF(ข้อมูลโครงการ!$G$10=ข้อมูลโครงการ!$X$11,แบ่งงวดงาน!$U$5,แบ่งงวดงาน!$U$6)","v":"งานที่ปรับราคาได้ประเภทงานทาง (งานผิวทาง Asphaltic Concrete)"},null,null,null,null,null,null,null,null,null,null,null,{"$f":"IF(E128=0,0,1)","v":0}]
[null,null,"เป็นจำนวนเงินประมาณร้อยละ ",null,{"$f":"AT9","v":0},"ของค่าจ้างทั้งหมด  จ่ายให้เมื่อผู้รับจ้างได้ปฏิบัติงาน",null,null,null,null,null,null,null,null,0]
[null,null,{"$f":"IF(C127=$U$6,\" - ปูผิว Asphaltic Concrete    ส่วนที่เหลือทั้งหมดแล้วเสร็จ\",\" - ลาดยาง Cape Seal   ส่วนที่เหลือทั้งหมดแล้วเสร็จ\")","v":" - ปูผิว Asphaltic Concrete    ส่วนที่เหลือทั้งหมดแล้วเสร็จ"},null,null,null,null,null,null,null,null,null,null,null,0]
[null,null,"งานที่ปรับราคาไม่ได้"]
[null,null,"เป็นจำนวนเงินประมาณร้อยละ ",null,{"$f":"AU9","v":100},"ของค่าจ้างทั้งหมด  จ่ายให้เมื่อผู้รับจ้างได้ปฏิบัติงาน"]
[null,null," - ติดตั้งเครื่องหมายจราจร ตีเส้นจราจร และงานอื่นๆ ตามรูปแบบรายการและข้อกำหนดในสัญญาจ้างทั้งหมด"]
[null,null,"    แล้วเสร็จรวมทั้งทำสถานที่ก่อสร้างให้สะอาดเรียบร้อยตามที่กำหนดไว้ในสัญญาจ้าง"]
[]
["การส่งมอบงาน",null,"ผู้รับจ้างสามารถส่งมอบงานงวดใดงวดหนึ่งก่อนก็ได้  โดยไม่จำเป็นต้องเรียงลำดับงวดงานและผู้ว่าจ้าง"]
[null,null,"จะเบิกเงินค่าก่อสร้างให้ต่อเมื่อคณะกรรมการตรวจการจ้างได้ทำการตรวจรับงานเป็นการถูกต้อง"]
[null,null,"เรียบร้อยแล้วเท่านั้น"]
[]
[]
[null,null,null,null,null,"ลงชื่อ","……………….………………",null,"แบ่งงวด"]
[null,null,null,null,null,null,{"$f":"ปร.5!C32","v":"(นายวิทยา  ทิพย์ทอง)"}]
[null,null,null,null,null,null,{"$f":"ปร.5!C33","v":"นายช่างโยธาชำนาญงาน"}]
[]
[null,null,null,null,null,"ลงชื่อ","……………….………………",null,"ตรวจ"]
[null,null,null,null,null,null,{"$f":"ปร.5!C36","v":"(นายคำสอน  อักษรกลาง)"}]
[null,null,null,null,null,null,{"$f":"ปร.5!C37","v":"นายช่างโยธาอาวุโส"}]
[]
[null,null,null,null,null,"ลงชื่อ","……………….………………",null,"เห็นชอบ"]
[null,null,null,null,null,null,{"$f":"ปร.5!C40","v":"(นายประยุทธ์  เย็นอารมย์)"}]
[null,null,null,null,null,{"$f":"ปร.5!C41","v":"ผู้อำนวยการกองช่าง"}]

{"sheet":"Factor_FR","index":24,"n_rows":173,"n_cols":87,"rows_kept":173,"cut":false,"hidden":false,"merged":[]}
["หน้าที่ 1/12",null,null,null,null,null,null,null,null,null,null,null,null,null,null,null,null,null,null,null,"หน้าที่  6",null,null,null,null,null,null,null,null,null,null,null,"หน้าที่  9",null,null,null,null,null,null,null,null,null,null,null,"หน้าที่  12",null,null,null,null,null,null,null,null,null,null,null,"หน้าที่  15",null,null,null,null,null,null,null,null,null,null,null,null,null,null,null,null,null,null,null,null,"หน้าที่  17"]
["ตาราง  Factor  F  งานก่อสร้างทาง",null,null,null,null,null,null,null,null,null,null,null,null,null,null,null,null,null,null,null,"      1. ค่าอำนวยการ",null,null,null,null,null,null,null,null,null,null,null,null,null,null,null,null,null,null,null,null,null,null,null,"1.3 ค่าใช้จ่ายเกี่ยวกับบุคคลากรและสำนักงานใหญ่",null,null,null,null,null,null,null,null,null,null,null,null,null,null,null,null,null,null,null,null,null,null,null,null,null,null,null,null,null,null,null,null,"2. ดอกเบี้ย"]
[null,null,null,null,null,null,null,null,null,null,null,null,null,null,null,null,null,null,null,null,"       1.1 ค่าใช้จ่ายขั้นตอนในการทำสัญญา",null,null,null,null,null,null,null,null,null,null,null,"1.2 ค่าใช้จ่ายเกี่ยวกับสำนักงานสนาม,ที่พักเจ้าหน้าที่และยานพาหนะ",null,null,null,null,null,null,null,null,null,null,null,null,"1.3.1 กรณีค่างานลงทุนไม่เกิน",null,null,60,"ล้านบาท",null,null,null,null,null,null,"1.4 ค่าใช้จ่ายในการประกันภัยโครงการ",null,null,null,null,null,null,null,null,null,null,null,null,null,null,null,null,null,null,null,null,null,"ดอกเบี้ยเงินกู้",null,{"$f":"I4","v":6},"  % ต่อปี",null,"เงินจ่ายล่วงหน้า",{"$f":"D4","v":0},"  % ของค่างาน"]
[null,"เงินล่วงหน้าจ่าย",null,{"$f":"ปร.5!I12*100","v":0},"%","ดอกเบี้ยเงินกู้",null,null,{"$f":"ปร.5!I13*100","v":6},"% ต่อปี",null,null,null,null,null,null,null,null,null,null,"         1.1.1 ค่าธรรมเนียมธนาคารหนังสือค้ำประกันสัญญา",null,null,null,null,null,null,null,null,null,null,null,null,"1.2.1 กรณีค่างานลงทุนไม่เกิน",null,null,60,"ล้านบาท",null,null,null,null,null,null,"ลำดับที่","ประเภท",null,null,null,"หน่วย","จำนวน","อัตราค่าเช่า/เงินเดือน",null,"ค่าเช่า/เงินเดือน",null,null,null,"ประกอบด้วย",null,null,null,null,null,null,null,null,null,null,null,null,null,null,null,null,null,null,null,null,"ระยะเวลาการเบิกจ่าย",null,3,"  เดือน",null,"หักเงินประกันผลงาน",{"$f":"D5","v":0},"  % ของค่างาน"]
[null,"เงินประกันผลงานหัก",null,{"$f":"ปร.5!I14*100","v":0},"%","ค่าภาษีมูลค่าเพิ่ม(VAT)",null,null,{"$f":"ปร.5!I15*100","v":7.0000000000000009},"%",null,null,null,null,null,null,null,null,null,null,"    วงเงินค้ำประกัน",null,5,"  % ของค่างาน",null,null,"อัตราค่าธรรมเนียมหนังสือค้ำ",null,2.5,"  %  ของวงเงินค้ำประกัน   ",null,null,"ลำดับที่","ประเภท",null,null,null,"หน่วย","จำนวน","อัตราค่าเช่า/เงินเดือน",null,"ค่าเช่า/เงินเดือน",null,null,null,null,null,null,null,null,null,"บาท/เดือน",null,"บาท/เดือน",null,null,null,"1.4.1 ค่าธรรมเนียมในการประกันภัยโครงการ",null,null,null,0.25,"% ของค่างาน",null,null,null,null,null,null,null,null,null,null,null,null,null,null,null,"สูตร","I    =   i/12*[r/100+(T+(D-1)*a/100-(a+r)/100*(T+1)/2-(D-1)]"]
[null,null,null,null,null,null,null,null,null,null,null,null,null,null,null,null,null,null,null,null,"ค่างานลงทุน",null,"วงเงินค้ำประกัน",null,"ระยะเวลา",null,"ค่าธรรมเนียม",null,"ค่าธรรมเนียมเป็นร้อยละของค่างาน",null,null,null,null,null,null,null,null,null,null,"บาท/เดือน",null,"บาท/เดือน",null,null,1,"บุคคลากร",null,null,null,null,null,null,null,null," ",null,null,"1.4.2 ค่าความเสี่ยงภัยที่ไม่ครอบคลุมอยู่ในการประกันภัย และค่าความเสี่ยงจาก",null,null,null,null,null,null,null,null,null,null,null,null,null,null,null,null,null,null,null,"ค่างาน(ทุน)",null,"ระยะเวลา","เงินจ่าย","หักเงินประกัน","อัตรา","จำนวนดอกเบี้ยต่อ","หมายเหตุ"]
["ค่างาน",null,"ค่าใช้จ่ายในการดำเนินงานก่อสร้าง",null,null,null,"รวม","ภาษีมูลค่าเพิ่ม","Factor  F","Factor  F\nฝนชุก 1","Factor  F\nฝนชุก 2",null,null,null,null,null,null,null,null,null,"ล้านบาท",null,"ล้านบาท",null,"เดือน",null,"บาท",null,"%",null,null,null,1,"อาคาร",null,null,null,null,null,null,null,null,null,null,1.1000000000000001,"ผู้จัดการสนาม ( ดูแล 2 โครงการ )",null,null,null,"คน",1,null,30000,null,{"$f":"BA7/2","v":15000},null,null,"          การผันแปรของอัตราแลกเปลี่ยนเงินตราและอัตราเงินเฟ้อ",null,null,null,0.05,"% ของค่างาน",null,null,null,null,null,null,null,null,null,null,null,null,null,null,null,null,null,"ล่วงหน้า","ผลงาน","ดอกเบี้ยเงินกู้","ค่างาน ( ทุน )"]
["(ทุน)",null,"%",null,null,null,"ในรูป",null,null,null,null,null,null,null,null,null,null,null,null,null,"<",5,null,{"$f":"(V8*$W$5)/100","v":0.25},{"$f":"IF($I$6=0,Z8,$I$6)","v":6},6,null,{"$f":"(X8*1000000)*($AC$5/100)*(Y8/12)","v":3125},null,null,{"$f":"(AB8*100)/(V8*1000000)","v":6.25E-2},null,1.1000000000000001,"สำนักงานสนาม เช่าตึกแถว  1  ห้อง",null,null,null,"ห้อง",1,null,3500,null,{"$f":"(AM8*AO8)","v":3500},null,1.2,"วิศวกรควบคุมงานสนาม",null,null,null,"คน",1,null,15000,null,{"$f":"(AY8*BA8)","v":15000},null,null,"รวมค่าใช้จ่ายในการประกันภัยโครงการ",null,null,null,0.3,"% ของค่างาน",null,null,null,null,null,null,null,null,null,null,null,null,null,null,"ล้านบาท",null,"เดือน","%","%","% ต่อปี","%"]
[null,null,"ค่า","ค่า","ค่า","รวม","Factor","VAT",null,null,null,null,null,null,null,null,null,"ค่าค้ำประกันสัญญา","ระยะเวลา",null,null,10,null,0.5,9,9,null,9375,null,null,9.375E-2,null,1.2,"บ้านพักเจ้าหน้าที่",null,null,null,"หลัง",2,null,3000,null,{"$f":"(AM9*AO9)","v":6000},null,1.3,"ช่างควบคุมงาน",null,null,null,"คน",1,null,8000,null,{"$f":"(AY9*BA9)","v":8000},null,null,null,null,null,null,null,null,null,null,null,null,null,null,null,null,null,null,null,null,null,null,"<",{"$f":"B11","v":5},{"$f":"Y8","v":6},{"$f":"$CG$3","v":0},{"$f":"$CG$4","v":0},{"$f":"$CC$3","v":6},{"$f":"-CE9/12*(CD9/100+(CB9+$CC$4-1)*CC9/100-(CC9+CD9)/100*(CB9+1)/2-($CC$4-1))","v":1}]
["ล้านบาท",null,"อำนวยการ","ดอกเบี้ย","กำไร","ค่าใช้จ่าย",null,null,null,null,null,null,null,null,null,null,null," +ค่าอากร (%)","เดือน",null,null,20,null,1,12,12,null,25000,null,null,0.125,null,1.3,"ที่จอดเครื่องจักรและโรงฃ่อม",null,null,null,"ตร.ม.",1000,null,2,null,{"$f":"(AM10*AO10)","v":2000},null,1.4,"ช่างเครื่องยนต์",null,null,null,"คน",1,null,7000,null,{"$f":"(AY10*BA10)","v":7000},null,null,null,null,null,null,null,null,null,null,null,null,null,null,null,null,null,null,null,null,null,null,null,10,9,0,0,6,1," เมื่อ"]
["<",5,20.834,0.7,{"$f":"CG52","v":5.5},{"$f":"(C11+D11+E11)","v":27.033999999999999},{"$f":"1+(F11/100)","v":1.27034},{"$f":"1+($I$5/100)","v":1.07},{"$f":"ROUNDDOWN((G11*H11),4)","v":1.3592},{"$f":"ROUND((G11+(1/12*(C11-R11)*S11/12+1/12*$I$4+0.625)/100)*H11,4)","v":1.3805000000000001},{"$f":"ROUND((G11+(2/12*(C11-R11)*S11/12+2/12*$I$4+1.25)/100)*H11,4)","v":1.4017999999999999},null,null,null,null,null,null,{"$f":"X92+AB92","v":0.16250000000000001},{"$f":"Y8","v":6},null,null,30,null,1.5,12,12,null,37500,null,null,0.125,null,1.4,"ค่าเอกสารสิ่งพิมพ์และด้านธุรการ",null,null,null,"โครงการ",1,null,3000,null,{"$f":"(AM11*AO11)","v":3000},null,1.5,"พนักงานธุรการ",null,null,null,"คน",1,null,6000,null,{"$f":"(AY11*BA11)","v":6000},null,null,null,null,null,null,null,null,null,null,null,null,null,null,null,null,null,null,null,null,null,null,null,20,12,0,0,6,1,"I  =","ดอกเบี้ยรวมทั้งโครงการ(%)"]
[null,10,16.0809,0.625,{"$f":"CG53","v":5.5},22.2059,1.222059,1.07,{"$f":"ROUNDDOWN((G12*H12),4)","v":1.3076000000000001},{"$f":"ROUND((G12+(1/12*(C12-R12)*S12/12+1/12*$I$4+0.625)/100)*H12,4)","v":1.3303},{"$f":"ROUND((G12+(2/12*(C12-R12)*S12/12+2/12*$I$4+1.25)/100)*H12,4)","v":1.3529},null,null,null,null,null,null,0.19375000000000001,9,null,null,40,null,2,16,16,null,66666.666666666657,null,null,0.16666666666666666,null,2,"ยานพาหนะ",null,null,null,null,null,null,null,null," ",null,1.6,"คนงานทั่วไป",null,null,null,"คน",1,null,4000,null,{"$f":"(AY12*BA12)","v":4000},null,null,null,null,null,null,null,null,null,null,null,null,null,null,null,null,null,null,null,null,null,null,null,30,12,0,0,6,1,"T  =","ระยะเวลา(เดือน)"]
[null,{"$f":"B12+10","v":20},{"$f":"BL52","v":9.7858000000000018},{"$f":"CF11","v":1},{"$f":"CF54","v":5.5},16.285800000000002,1.1628579999999999,1.07,{"$f":"ROUND((G13*H13),4)","v":1.2443},{"$f":"ROUND((G13+(1/12*(C13-R13)*S13/12+1/12*$I$4+0.625)/100)*H13,4)","v":1.2647999999999999},{"$f":"ROUND((G13+(2/12*(C13-R13)*S13/12+2/12*$I$4+1.25)/100)*H13,4)","v":1.2854000000000001},null,null,null,null,null,null,0.22500000000000001,12,null,null,50,null,2.5,18,18,null,93750,null,null,0.1875,null,2.1,"ค่ารถควบคุมงาน+พนักงานขับรถ",null,null,null,"คัน",2,null,21500,null,{"$f":"(AM13*AO13)","v":43000},null,"รวม",null,null,null,null,null,null,null,null,null,{"$f":"SUM(BC7:BC12)","v":55000},null,null,null,null,null,null,null,null,null,null,null,null,null,null,null,null,null,null,null,null,null,null,null,40,16,0,0,6,1,"D  =","ช่วงเวลาการรับเงิน(เดือน)"]
[null,30,{"$f":"BL53","v":6.9081999999999999},1,5.5,13.408200000000001,1.134082,1.07,1.2135,1.2315,1.2495000000000001,null,null,null,null,null,null,0.22500000000000001,12,null,null,60,null,3,18,18,null,112500,null,null,0.1875,null,2.2000000000000002,"ค่าน้ำมันเชื้อเพลิง",null,null,null,"คัน",2,null,3600,null,{"$f":"(AM14*AO14)","v":7200},null,2,"ค่าใช้จ่ายสำนักงานใหญ่ ( ดูแล 4 โครงการ )",null,null,null,null,null,null,null,null," ",null,null,null,null,null,null,null,null,null,null,null,null,null,null,null,null,null,null,null,null,null,null,null,50,18,0,0,6,1,"a  =","อัตราเงินล่วงหน้าจ่าย(%)"]
[null,40,{"$f":"BK54","v":6.989866666666666},1,5,12.989866666666666,1.1298986666666666,1.07,1.2090000000000001,1.2290000000000001,1.2491000000000001,null,null,null,null,null,null,0.26666666666666666,16,null,null,70,null,3.5,19,19,null,138541.66666666666,null,null,0.19791666666666666,null,2.2999999999999998,"ค่าฃ่อมบำรุง",null,null,null,"คัน",2,null,1000,null,{"$f":"(AM15*AO15)","v":2000},null,2.1,"ค่าใช้จ่ายเอกสารด้านธุรการ",null,null,null,null,1,null,3000,null,{"$f":"(AY15*BA15)/4","v":750},null,null,null,null,null,null,null,null,null,null,null,null,null,null,null,null,null,null,null,null,null,null,null,60,18,0,0,6,1,"i  =","อัตราดอกเบี้ยเงินกู้ต่อปี(%)"]
[null,50,6.4551799999999995,1,5,12.455179999999999,1.1245517999999999,1.07,1.2033,1.2236,1.2438,null,null,null,null,null,null,0.28749999999999998,18,null,null,80,null,4,20,20,null,166666.66666666669,null,null,0.20833333333333334,null,2.4,"ค่าเบี้ยประกันภัยยานพาหนะ",null,null,null,"คัน",2,null,840,null,{"$f":"(AM16*AO16)","v":1680},null,2.2000000000000002,"ค่าใช้จ่ายด้านยานพาหนะ",null,null,null,null,1,null,3000,null,750,null,null,null,null,null,null,null,null,null,null,null,null,null,null,null,null,null,null,null,null,null,null,null,70,19,0,0,6,1,"r  =","อัตราเงินประกันผลงาน(%)"]
[null,60,5.5918999999999999,1,5,11.591899999999999,1.1159189999999999,1.07,{"$f":"ROUND((G17*H17),4)","v":1.194},{"$f":"ROUND((G17+(1/12*(C17-R17)*S17/12+1/12*$I$4+0.625)/100)*H17,4)","v":1.2132000000000001},{"$f":"ROUND((G17+(2/12*(C17-R17)*S17/12+2/12*$I$4+1.25)/100)*H17,4)","v":1.2323},null,null,null,null,null,null,0.28749999999999998,18,null,null,90,null,4.5,20,20,null,187500,null,null,0.20833333333333334,null,"รวม",null,null,null,null,null,null,null,null,null,{"$f":"SUM(AQ8:AQ16)","v":68380},null,2.2999999999999998,"ผู้จัดการใหญ่",null,null,null,"คน",1,null,50000,null,12500,null,null,null,null,null,null,null,null,null,null,null,null,null,null,null,null,null,null,null,null,null,null,null,80,20,0,0,6,1]
[null,70,5.4048023809523809,1,4.5,10.904802380952381,1.1090480238095237,1.07,1.1867000000000001,1.2059,1.2252000000000001,null,null,null,null,null,null,0.29791666666666666,19,null,null,100,null,5,20,20,null,208333.33333333334,null,null,0.20833333333333337,null,"      หลักเกณฑ์การคิดค่าใช้จ่ายยานพาหนะ",null,null,null,null,null,null,null,null,null,null,null,2.4,"ช่างเทคนิค",null,null,null,"คน",1,null,8000,null,2000,null,null,null,null,null,null,null,null,null,null,null,null,null,null,null,null,null,null,null,null,null,null,null,90,20,0,0,6,1]
[null,80,5.1508333333333329,1,4.5,10.650833333333333,1.1065083333333334,1.07,1.1839999999999999,1.2032,1.2223999999999999,null,null,null,null,null,null,0.30833333333333335,20,null,null,110,null,5.5,21,21,null,240625,null,null,0.21875,null,"        ค่าเช่ารถยนต์บรรทุกเล็กเครื่องยนต์ดีเซล",null,null,null,550,"  บาท/วัน","  ความยาวของทางก่อสร้าง",null,null,6,"  กม.",null,2.5,"เจ้าหน้าที่บัญชี",null,null,null,"คน",1,null,8000,null,2000,null,null,null,null,null,null,null,null,null,null,null,null,null,null,null,null,null,null,null,null,null,null,null,100,20,0,0,6,1]
[null,90,4.769222222222222,1,4.5,10.269222222222222,1.1026922222222222,1.07,1.1798999999999999,1.1984999999999999,1.2172000000000001,null,null,null,null,null,null,0.30833333333333335,20,null,null,120,null,6,22,22,null,275000,null,null,0.22916666666666666,null,"        อัตราความสิ้นเปลืองเฉลี่ย",null,null,null,8,"  กม./ลิตร","  จำนวนเที่ยวของการใช้รถควบคุมงานไปกลับ",null,null,4,"  เที่ยว",null,2.6,"เจ้าหน้าที่ธุรการ",null,null,null,"คน",1,null,6000,null,1500,null,null,null,null,null,null,null,null,null,null,null,null,null,null,null,null,null,null,null,null,null,null,null,110,21,0,0,6,1]
[null,100,4.4639333333333333,1,4.5,9.9639333333333333,1.0996393333333334,1.07,1.1766000000000001,1.1948000000000001,1.2130000000000001,null,null,null,null,null,null,0.30833333333333335,20,null,null,130,null,6.5,22,22,null,297916.66666666663,null,null,0.22916666666666666,null,"         ราคาน้ำมันดีเซล",null,null,null,20,"  บาท/ลิตร","  จำนวนวันใน  1  เดือน",null,null,30,"  วัน",null,2.7,"เจ้าหน้าที่ประสานงาน",null,null,null,"คน",1,null,4000,null,1000,null,null,null,null,null,null,null,null,null,null,null,null,null,null,null,null,null,null,null,null,null,null,null,120,22,0,0,6,1]
[null,110,4.3794590909090907,1,4,9.3794590909090907,1.0937945909090909,1.07,1.1704000000000001,1.1887000000000001,1.2071000000000001,null,null,null,null,null,null,0.31874999999999998,21,null,null,140,null,7,22,22,null,320833.33333333331,null,null,0.22916666666666666,null,null,null,null,null,null,null,null,null,null,null,null,null,"รวม",null,null,null,null,null,null,null,null,null,{"$f":"SUM(BC15:BC21)","v":20500},null,null,null,null,null,null,null,null,null,null,null,null,null,null,null,null,null,null,null,null,null,null,null,130,22,0,0,6,1]
[null,120,4.3158000000000003,1,4,9.3157999999999994,1.0931580000000001,1.07,1.1697,1.1881999999999999,1.2068000000000001,null,null,null,null,null,null,0.32916666666666666,22,null,null,150,null,7.5,22,22,null,343750,null,null,0.22916666666666666,null,null,"1.2.2 กรณีค่างานลงทุนไม่เกิน",null,null,150,"ล้านบาท",null,null,null,null,null,null,null,null,null,null,null,null,null,null,null,null,null,null,null,null,null,null,null,null,null,null,null,null,null,null,null,null,null,null,null,null,null,null,null,null,140,22,0,0,6,1]
[null,130,4.1220589743589739,1,4,9.1220589743589748,1.0912205897435898,1.07,1.1676,1.1858,1.2040999999999999,null,null,null,null,null,null,0.32916666666666666,22,null,null,160,null,8,22,22,null,366666.66666666663,null,null,0.22916666666666666,null,"ลำดับที่","ประเภท",null,null,null,"หน่วย","จำนวน","อัตราค่าเช่า/เงินเดือน",null,"ค่าเช่า/เงินเดือน",null,null,null,"1.3.2 กรณีค่างานลงทุนไม่เกิน",null,null,150,"ล้านบาท",null,null,null,null,null,null,null,null,null,null,null,null,null,null,null,null,null,null,null,null,null,null,null,null,null,null,null,null,150,22,0,0,6,1]
[null,140,3.9559952380952379,1,4,8.9559952380952375,1.0895599523809523,1.07,1.1657999999999999,1.1838,1.2018,null,null,null,null,null,null,0.32916666666666666,22,null,null,170,null,8.5,22,22,null,389583.33333333331,null,null,0.22916666666666663,null,null,null,null,null,null,null,null,"บาท/เดือน",null,"บาท/เดือน",null,null,"ลำดับที่","ประเภท",null,null,null,"หน่วย","จำนวน","อัตราค่าเช่า/เงินเดือน",null,"ค่าเช่า/เงินเดือน",null,null,null,null,null,null,null,null,null,null,null,null,null,null,null,null,null,null,null,null,null,null,null,null,160,22,0,0,6,1]
[null,150,3.8120733333333332,1,4,8.8120733333333341,1.0881207333333334,1.07,1.1642999999999999,1.1819999999999999,1.1998,null,null,null,null,null,null,0.32916666666666666,22,null,null,180,null,9,22,22,null,412500,null,null,0.22916666666666666,null,1,"อาคาร",null,null,null,null,null,null,null,null,null,null,null,null,null,null,null,null,null,"บาท/เดือน",null,"บาท/เดือน",null,null,null,null,null,null,null,null,null,null,null,null,null,null,null,null,null,null,null,null,null,null,null,null,170,22,0,0,6,1]
[null,160,2.4527666666666663,1,4,7.4527666666666663,1.0745276666666665,1.07,1.1496999999999999,1.1653,1.1808000000000001,null,null,null,null,null,null,0.32916666666666666,22,null,null,190,null,9.5,23,23,null,455208.33333333337,null,null,0.23958333333333334,null,1.1000000000000001,"สำนักงานสนาม เช่าตึกแถว  1  ห้อง",null,null,null,"ห้อง",1,null,3500,null,{"$f":"AM27*AO27","v":3500},null,1,"บุคคลากร",null,null,null,null,null,null,null,null," ",null,null,null,null,null,null,null,null,null,null,null,null,null,null,null,null,null,null,null,null,null,null,null,180,22,0,0,6,1]
[null,170,2.4439666666666664,1,4,7.4439666666666664,1.0744396666666667,1.07,1.1496999999999999,1.1651,1.1806000000000001,null,null,null,null,null,null,0.32916666666666661,22,null,null,200,null,10,23,23,null,479166.66666666669,null,null,0.23958333333333337,null,1.2,"บ้านพักเจ้าหน้าที่",null,null,null,"หลัง",3,null,3000,null,{"$f":"AM28*AO28","v":9000},null,1.1000000000000001,"ผู้จัดการสนาม ( ดูแล 2 โครงการ )",null,null,null,"คน",1,null,30000,null,{"$f":"(AY28*BA28)/2","v":15000},null,null,null,null,null,null,null,null,null,null,null,null,null,null,null,null,null,null,null,null,null,null,null,190,23,0,0,6,1]
[null,180,2.4116999999999997,1,4,7.4116999999999997,1.074117,1.07,1.1493,1.1647000000000001,1.1801999999999999,null,null,null,null,null,null,0.32916666666666666,22,null,null,210,null,10.5,23,23,null,503125,null,null,0.23958333333333334,null,1.3,"ที่จอดเครื่องจักรและโรงฃ่อม",null,null,null,"ตร.ม.",1500,null,2,null,{"$f":"AM29*AO29","v":3000},null,1.2,"วิศวกรควบคุมงานสนาม",null,null,null,"คน",1,null,15000,null,{"$f":"AY29*BA29","v":15000},null,null,null,null,null,null,null,null,null,null,null,null,null,null,null,null,null,null,null,null,null,null,null,200,23,0,0,6,1]
[null,190,2.4498675438596491,1,3.5,6.9498675438596491,1.0694986754385964,1.07,1.1444000000000001,1.1599999999999999,1.1757,null,null,null,null,null,null,0.33958333333333335,23,null,null,220,null,11,23,23,null,527083.33333333337,null,null,0.23958333333333334,null,1.4,"ค่าเอกสารสิ่งพิมพ์และด้านธุรการ",null,null,null,null,1,null,3000,null,{"$f":"AM30*AO30","v":3000},null,1.3,"ช่างควบคุมงาน",null,null,null,"คน",2,null,8000,null,{"$f":"AY30*BA30","v":16000},null,null,null,null,null,null,null,null,null,null,null,null,null,null,null,null,null,null,null,null,null,null,null,210,23,0,0,6,1]
[null,200,2.4227033333333332,1,3.5,6.9227033333333328,1.0692270333333334,1.07,1.1440999999999999,1.1597,1.1753,null,null,null,null,null,null,0.33958333333333335,23,null,null,230,null,11.5,23,23,null,551041.66666666674,null,null,0.23958333333333334,null,2,"ยานพาหนะ",null,null,null,null,null,null,null,null," ",null,1.4,"ช่างเครื่องยนต์",null,null,null,"คน",1,null,7000,null,{"$f":"AY31*BA31","v":7000},null,null,null,null,null,null,null,null,null,null,null,null,null,null,null,null,null,null,null,null,null,null,null,220,23,0,0,6,1]
[null,210,2.3981261904761904,1,3.5,6.8981261904761908,1.0689812619047618,1.07,1.1437999999999999,1.1594,1.1749000000000001,null,null,null,null,null,null,0.33958333333333335,23,null,null,240,null,12,23,23,null,575000,null,null,0.23958333333333334,null,2.1,"ค่ารถควบคุมงาน+พนักงานขับรถ",null,null,null,"คัน",2,null,21500,null,{"$f":"AM32*AO32","v":43000},null,1.5,"พนักงานธุรการ",null,null,null,"คน",1,null,6000,null,{"$f":"AY32*BA32","v":6000},null,null,null,null,null,null,null,null,null,null,null,null,null,null,null,null,null,null,null,null,null,null,null,230,23,0,0,6,1]
[null,220,2.3757833333333331,1,3.5,6.8757833333333327,1.0687578333333334,1.07,1.1435999999999999,1.1591,1.1746000000000001,null,null,null,null,null,null,0.33958333333333335,23,null,null,250,null,12.5,23,23,null,598958.33333333337,null,null,0.23958333333333334,null,2.2000000000000002,"ค่าน้ำมันเชื้อเพลิง",null,null,null,"คัน",2,null,3600,null,{"$f":"(AM33*AO33)","v":7200},null,1.6,"คนงานทั่วไป",null,null,null,"คน",1,null,4000,null,{"$f":"(AY33*BA33)","v":4000},null,null,null,null,null,null,null,null,null,null,null,null,null,null,null,null,null,null,null,null,null,null,null,240,23,0,0,6,1]
[null,230,2.3553833333333332,1,3.5,6.8553833333333332,1.0685538333333333,1.07,1.1434,1.1588000000000001,1.1742999999999999,null,null,null,null,null,null,0.33958333333333335,23,null,null,260,null,13,23,23,null,622916.66666666674,null,null,0.23958333333333334,null,2.2999999999999998,"ค่าฃ่อมบำรุง",null,null,null,"คัน",2,null,1000,null,{"$f":"AM34*AO34","v":2000},null,"รวม",null,null,null,null,null,null,null,null,null,{"$f":"SUM(BC28:BC33)","v":63000},null,null,null,null,null,null,null,null,null,null,null,null,null,null,null,null,null,null,null,null,null,null,null,250,23,0,0,6,1]
[null,240,2.3366833333333332,1,3.5,6.8366833333333332,1.0683668333333334,1.07,1.1432,1.1586000000000001,1.1740999999999999,null,null,null,null,null,null,0.33958333333333335,23,null,null,270,null,13.5,23,23,null,646875,null,null,0.23958333333333334,null,2.4,"ค่าเบี้ยประกันภัยยานพาหนะ",null,null,null,"คัน",2,null,840,null,{"$f":"AM35*AO35","v":1680},null,2,"ค่าใช้จ่ายสำนักงานใหญ่(ดูแล 4 โครงการ)",null,null,null,null,null,null,null,null,null,null,null,null,null,null,null,null,null,null,null,null,null,null,null,null,null,null,null,null,null,null,null,null,260,23,0,0,6,1]
[null,250,2.3194793333333332,1,3.5,6.8194793333333337,1.0681947933333333,1.07,1.143,1.1584000000000001,1.1738,null,null,null,null,null,null,0.33958333333333335,23,null,null,280,null,14,23,23,null,670833.33333333337,null,null,0.23958333333333334,null,"รวม",null,null,null,null,null,null,null,null,null,{"$f":"SUM(AQ27:AQ35)","v":72380},null,2.1,"ค่าใช้จ่ายเอกสารด้านธุรการ",null,null,null,null,1,null,3000,null,{"$f":"(AY36*BA36)/4","v":750},null,null,null,null,null,null,null,null,null,null,null,null,null,null,null,null,null,null,null,null,null,null,null,270,23,0,0,6,1]
[null,260,2.3035987179487178,1,3.5,6.8035987179487183,1.0680359871794871,1.07,1.1428,1.1581999999999999,1.1736,null,null,null,null,null,null,0.33958333333333335,23,null,null,290,null,14.5,23,23,null,694791.66666666674,null,null,0.23958333333333334,null,"      หลักเกณฑ์การคิดค่าใช้จ่ายยานพาหนะ",null,null,null,null,null,null,null,null,null,null,null,2.2000000000000002,"ค่าใช้จ่ายด้านยานพาหนะ",null,null,null,null,1,null,3000,null,750,null,null,null,null,null,null,null,null,null,null,null,null,null,null,null,null,null,null,null,null,null,null,null,280,23,0,0,6,1]
[null,270,2.2888944444444443,1,3.5,6.7888944444444448,1.0678889444444444,1.07,1.1426000000000001,1.1579999999999999,1.1734,null,null,null,null,null,null,0.33958333333333335,23,null,null,300,null,15,23,23,null,718750,null,null,0.23958333333333334,null,"        ค่าเช่ารถยนต์บรรทุกเล็กเครื่องยนต์ดีเซล",null,null,null,550,"  บาท/วัน","  ความยาวของทางก่อสร้าง",null,null,6,"  กม.",null,2.2999999999999998,"ผู้จัดการใหญ่",null,null,null,"คน",1,null,60000,null,15000,null,null,null,null,null,null,null,null,null,null,null,null,null,null,null,null,null,null,null,null,null,null,null,290,23,0,0,6,1]
[null,280,2.2752404761904761,1,3.5,6.7752404761904756,1.0677524047619047,1.07,1.1425000000000001,1.1577999999999999,1.1732,null,null,null,null,null,null,0.33958333333333335,23,null,null,350,null,17.5,24,24,null,875000,null,null,0.25,null,"        อัตราความสิ้นเปลืองเฉลี่ย",null,null,null,8,"  กม./ลิตร","  จำนวนเที่ยวของการใช้รถควบคุมงานไปกลับ",null,null,4,"  เที่ยว",null,2.4,"ช่างเทคนิค",null,null,null,"คน",1,null,8000,null,2000,null,null,null,null,null,null,null,null,null,null,null,null,null,null,null,null,null,null,null,null,null,null,null,300,23,0,0,6,1]
[null,290,2.26252816091954,1,3.5,6.7625281609195405,1.0676252816091953,1.07,1.1424000000000001,1.1577,1.173,null,null,null,null,null,null,0.33958333333333335,23,null,null,400,null,20,24,24,null,1000000,null,null,0.25,null,"         ราคาน้ำมันดีเซล",null,null,null,20,"  บาท/ลิตร","  จำนวนวันใน  1  เดือน",null,null,30,"  วัน",null,2.5,"เจ้าหน้าที่บัญชี",null,null,null,"คน",1,null,8000,null,2000,null,null,null,null,null,null,null,null,null,null,null,null,null,null,null,null,null,null,null,null,null,null,null,350,24,0,0,6,1]
[null,300,2.2506633333333332,1,3.5,6.7506633333333337,1.0675066333333334,1.07,1.1422000000000001,1.1575,1.1728000000000001,null,null,null,null,null,null,0.33958333333333335,23,null,null,450,null,22.5,24,24,null,1125000,null,null,0.25,null,null,null,null,null,null,null,null,null,null,null,null,null,2.6,"เจ้าหน้าที่ธุรการ",null,null,null,"คน",1,null,6000,null,1500,null,null,null,null,null,null,null,null,null,null,null,null,null,null,null,null,null,null,null,null,null,null,null,400,24,0,0,6,1]
[null,{"$f":"B41+50","v":350},2.8895657142857143,1,3.5,7.3895657142857143,1.0738956571428571,1.07,1.1491,1.1656,1.1821999999999999,null,null,null,null,null,null,0.35,24,null,null,500,null,25,24,24,null,1250000,null,null,0.25,null,null,null,null,null,null,null,null,null,null,null,null,null,2.7,"เจ้าหน้าที่ประสานงาน",null,null,null,"คน",1,null,4000,null,1000,null,null,null,null,null,null,null,null,null,null,null,null,null,null,null,null,null,null,null,null,null,null,null,450,24,0,0,6,1]
[null,{"$f":"B42+50","v":400},2.6731199999999999,1,3.5,7.1731199999999999,1.0717311999999999,1.07,1.1468,1.1629,1.1791,null,null,null,null,null,null,0.35,24,null,">",500,null,25,24,24,null,1250000,null,null,0.25,null,null,null,null,null,null,null,null,null,null,null,null,null,"รวม",null,null,null,null,null,null,null,null,null,{"$f":"SUM(BC36:BC42)","v":23000},null,null,null,null,null,null,null,null,null,null,null,null,null,null,null,null,null,null,null,null,null,null,null,500,24,0,0,6,1]
[null,{"$f":"B43+50","v":450},2.5047733333333331,1,3.5,7.0047733333333326,1.0700477333333334,1.07,{"$f":"ROUND((G44*H44),4)","v":1.145},{"$f":"ROUND((G44+(1/12*(C44-R44)*S44/12+1/12*$I$4+0.625)/100)*H44,4)","v":1.1608000000000001},{"$f":"ROUND((G44+(2/12*(C44-R44)*S44/12+2/12*$I$4+1.25)/100)*H44,4)","v":1.1767000000000001},null,null,null,null,null,null,0.35,24,null,"หน้าที่  7",null,null,null,null,null,null,null,null,null,null,null,"หน้าที่  10",null,null,null,null,null,null,null,null,null,null,null,"หน้าที่  13",null,null,null,null,null,null,null,null,null,null,null,"หน้าที่  16",null,null,null,null,null,null,null,null,null,null,null,null,null,null,null,null,null,null,null,null,">",500,24,0,0,6,1]
[null,{"$f":"B44+50","v":500},2.3700959999999998,1,3.5,6.8700960000000002,1.0687009599999999,1.07,1.1435,1.1592,1.1748000000000001,null,null,null,null,null,null,0.35,24,null,null,null,null,null,null,null,null,null,null,null,null,null,null,null,null,null,null,null,null,null,null,null,null,null,null,null,null,null,null,null,null,null,null,null,null,null,null,null,null,null,null,null,null,null,null,null,null,null,null,null,null,null,null,null,null,null,null,"หน้าที่  18"]
[">",500,2.3700959999999998,1,3.5,6.8700960000000002,1.0687009599999999,1.07,1.1435,1.1592,1.1748000000000001,null,null,null,null,null,null,0.35,24,null,"            1.1.2  ค่าธรรมเนียมธนาคารหนังสือค้ำประกันผลงานก่อสร้าง",null,null,null,null,null,null,null,null,null,null,null,null,"1.2.3 กรณีค่างานลงทุนไม่เกิน",null,null,300,"ล้านบาท",null,null,null,null,null,null,null,"1.2.3 กรณีค่างานลงทุนไม่เกิน",null,null,300,"ล้านบาท",null,null,null,null,null,null,"รวมค่าใช้จ่ายตามข้อ 1.1 -1.4"]
[" หมายเหตุ  กรณีค่างานอยู่ระหว่างช่วงของค่างานต้นทุนที่กำหนด ให้เทียบอัตราส่วนเพื่อหาค่า FACTOR F",null,null,null,null,null,null,null," ",null," ตุลาคม 2559",null,null,null,null,null,null,null,null,null,"วงเงินค้ำประกัน",null,5,"%  ของค่างาน",null,null,null,"ระยะเวลา",2,"ปี",null,null,"ลำดับที่","ประเภท",null,null,null,"หน่วย","จำนวน","อัตราค่าเช่า/เงินเดือน",null,"ค่าเช่า/เงินเดือน",null,null,"ลำดับที่","ประเภท",null,null,null,"หน่วย","จำนวน","อัตราค่าเช่า/เงินเดือน",null,"ค่าเช่า/เงินเดือน",null,null,null,null,null,null,null,null,null,null,null,null,null,null,null,null,null,null,null,null,null,null,null,"3. กำไร"]
[null,null,null,null,null,null,null,null,null,null,null,null,null,null,null,null,null,null,null,null,"อัตราค่าธรรมเนียม",null,2.5,"% ต่อปี",null,null,null,"ค่าธรรมเนียม",{"$f":"($W$47/100)*($W$48/100)*(2*100)","v":0.25000000000000006},"         % ของค่างาน",null,null,null,null,null,null,null,null,null,"บาท/เดือน",null,"บาท/เดือน",null,null,null,null,null,null,null,null,null,"บาท/เดือน",null,"บาท/เดือน",null,null,"ค่างาน ( ทุน )",null,"รวมค่าใช้จ่ายข้อ 1.1","รวมค่าใช้จ่ายข้อ 1.2","รวมค่าใช้จ่ายข้อ 1.3","รวมค่าใช้จ่ายข้อ 1.4","รวมค่าใช้จ่ายทั้งหมด",null,null,null,null,null,null,null,null,null,null,null,null,null,null,null,"ดอกเบี้ยเงินฝากประจำ 12 เดือน สำหรับนิติบุคคล",null,null,null,0,"  %(ยกเลิก)"]
["งานทาง",null,null,null,null,null,null,null,null,null,null,null,null,null,null,null,null,null,null,null," ",null,null,null,null,null,null,null,null,null,null,null,1,"อาคาร",null,null,null,null,null,null,null,null,null,null,1,"บุคคลากร",null,null,null,null,null,null,null,null," ",null,"ล้านบาท",null,"%","%","%","%","%",null,null,null,null,null,null,null,null,null,null,null,null,null,null,null,"ระยะเวลาการเบิกจ่ายค่างาน",null,null,null,0,"  เดือน(ยกเลิก)"]
[null,"จำนวนเงิน","FACTOR F (ปกติ)","FACTOR F (ฝนชุก 1)","FACTOR F (ฝนชุก 2)",null,{"$f":"+I4/100","v":0.06},"ดอกเบี้ยเงินกู้",null,null,null,null,null,null,null,null,null,null,null,null,null,null,"     1.1.3  ค่าอากรแสตมป์ติดสัญญา",null,null,null,null,null,null,null,null,null,null,1.1000000000000001,"สำนักงานสนาม เช่าตึกแถว  1  ห้อง",null,null,null,"ห้อง",1,null,3500,null,{"$f":"AN50*AP50","v":3500},null,1.1000000000000001,"ผู้จัดการสนาม ( ดูแล 2 โครงการ )",null,null,null,"คน",1,null,50000,null,{"$f":"(AZ50*BB50)/2","v":25000},null,"<",{"$f":"B11","v":5},{"$f":"AE92","v":0.6705000000000001},{"$f":"AP93","v":8.2056000000000004},{"$f":"BC93","v":9.0599999999999987},{"$f":"$BJ$8","v":0.3},{"$f":"(BH50+BI50+BJ50+BK50)","v":18.2361},null,null,null,null,null,null,null,null,null,null,null,null,null,null,"ค่างาน ( ทุน )",null,"กำไรปกติ",null,"กำไรเชิงธุรกิจ",null,"รวมกำไร",null,"หมายเหตุ"]
["ช่วงที่ค่าเงินน้อย",{"$f":"+J51","v":593468},{"$f":"ROUND(IF(B51<=5000000,I11,IF(B51>=500000000,I46,VLOOKUP(F51,B11:K46,8))),4)","v":1.3592},{"$f":"ROUND(IF(B51<=5000000,J11,IF(B51>=500000000,J46,VLOOKUP(F51,B11:K46,9))),4)","v":1.3805000000000001},{"$f":"ROUND(IF(B51<=5000000,K11,IF(B51>=500000000,K46,VLOOKUP(F51,B11:K46,10))),4)","v":1.4017999999999999},{"$f":"+B51/1000000","v":0.593468},{"$f":"+I5/100","v":7.0000000000000007E-2},"ภาษี",null,{"$f":"IF(B53>=500000000,B53,IF(B53>=300000000,(ROUNDDOWN(B53/50000000,0)*50000000),IF(B53>=10000000,(ROUNDDOWN(B53/10000000,0)*10000000),IF(B53>=5000000,(ROUNDDOWN(B53/5000000,0)*5000000),IF(B53<5000000,B53)))))","v":593468},null,null,null,null,null,null,null,null,null,null,null,null,null,null,null,null,null,"ค่าอากรแสตมป์",null,0.1,"       % ของค่างาน",null,null,1.2,"บ้านพักเจ้าหน้าที่",null,null,null,"หลัง",3,null,3000,null,{"$f":"AN51*AP51","v":9000},null,1.2,"วิศวกรควบคุมงานสนาม",null,null,null,"คน",1,null,15000,null,{"$f":"AZ51*BB51","v":15000},null,null,{"$f":"B12","v":10},{"$f":"AE93","v":0.7017500000000001},{"$f":"AP94","v":6.1542000000000003},{"$f":"BC94","v":6.8849999999999998},{"$f":"$BJ$8","v":0.3},{"$f":"(BH51+BI51+BJ51+BK51)","v":14.04095},null,null,null,null,null,null,null,null,null,null,null,null,null,null,"ล้านบาท",null,"%",null,"%",null,"%"]
["ช่วงที่ค่าเงินมาก",{"$f":"+J52","v":593468},{"$f":"ROUND(IF(B52<=5000000,I11,IF(B52>=500000000,I46,VLOOKUP(F52,B11:K46,8))),4)","v":1.3592},{"$f":"ROUND(IF(B52<=5000000,J11,IF(B52>=500000000,J46,VLOOKUP(F52,B11:K46,9))),4)","v":1.3805000000000001},{"$f":"ROUND(IF(B52<=5000000,K11,IF(B52>=500000000,K46,VLOOKUP(F52,B11:K46,10))),4)","v":1.4017999999999999},{"$f":"+B52/1000000","v":0.593468},{"$f":"+D5/100","v":0},"เงินประกันผลงานหัก",null,{"$f":"IF(B53>=500000000,B53,IF(B53>=300000000,(ROUNDUP(B53/50000000,0)*50000000),IF(B53>=10000000,(ROUNDUP(B53/10000000,0)*10000000),IF(B53>=5000000,(ROUNDUP(B53/5000000,0)*5000000),IF(B53<5000000,B53)))))","v":593468},null,null,null,null,null,null,null,null,null,null,null," ",null,null,null,null,null,null,null,null,null,null,null,1.3,"ที่จอดเครื่องจักรและโรงฃ่อม",null,null,null,"ตร.ม.",2000,null,2,null,{"$f":"AN52*AP52","v":4000},null,1.3,"ช่างควบคุมงาน",null,null,null,"คน",2,null,12000,null,{"$f":"AZ52*BB52","v":24000},null,null,{"$f":"B13","v":20},{"$f":"AE94","v":0.7330000000000001},{"$f":"AP95","v":4.1028000000000002},{"$f":"BC95","v":4.6500000000000004},{"$f":"$BJ$8","v":0.3},{"$f":"(BH52+BI52+BJ52+BK52)","v":9.7858000000000018},null,null,null,null,null,null,null,null,null,null,null,null,null,null,"<",{"$f":"B11","v":5},{"$f":"$CE$48/4","v":0},null,5.5,null,{"$f":"CC52+CE52","v":5.5}]
["ราคางาน",{"$f":"SUM(ปร.5!E12:E14)","v":593468},{"$f":"ROUNDDOWN(IF(B51=B52,C52,IF(B53>B52,\"NO\",C51-((C51-C52)*(B53-B51)/(B52-B51)))),4)","v":1.3592},{"$f":"ROUNDDOWN(IF(B51=B52,D52,IF(B53>B52,\"NO\",D51-((D51-D52)*(B53-B51)/(B52-B51)))),4)","v":1.3805000000000001},{"$f":"ROUNDDOWN(IF(B51=B52,E52,IF(B53>B52,\"NO\",E51-((E51-E52)*(B53-B51)/(B52-B51)))),4)","v":1.4017999999999999},null,{"$f":"+D4/100","v":0},"เงินล่วงหน้าจ่าย",null,null,null,null,null,null,null,null,null,null,null,null,null,"            1.1.4  เงินสมทบกองทุนเงินทดแทน กองทุนประกันสังคม และค่าอากรแสตมป์ติดสัญญา",null,null,null,null,null,null,null,null,null,null,null,1.4,"ค่าเอกสารสิ่งพิมพ์และด้านธุรการ",null,null,null,"โครงการ",1,null,3000,null,{"$f":"AN53*AP53","v":3000},null,1.4,"ช่างเครื่องยนต์",null,null,null,"คน",2,null,7000,null,{"$f":"AZ53*BB53","v":14000},null,null,{"$f":"B14","v":30},{"$f":"AE95","v":0.7330000000000001},{"$f":"AP96","v":2.7351999999999999},{"$f":"BC96","v":3.1399999999999997},{"$f":"$BJ$8","v":0.3},{"$f":"(BH53+BI53+BJ53+BK53)","v":6.9081999999999999},null,null,null,null,null,null,null,null,null,null,null,null,null,null,null,{"$f":"B12","v":10},{"$f":"$CE$48/4","v":0},null,5.5,null,{"$f":"CC53+CE53","v":5.5}]
["หมายเหตุ     กรุณาตรวจเช็คอีกครั้ง",null,null,null,null,null,null,null,null,null,null,null,null,null,null,null,null,null,null,null,null,"1.1.4.1 เงินสมทบกองทุนเงินทดแทน",null,null,0.51,null,"% ของค่าแรงงาน",null,null,null,null,null,2,"ยานพาหนะ",null,null,null,null,null,null,null,null," ",null,1.5,"พนักงานธุรการ",null,null,null,"คน",1,null,6000,null,{"$f":"AY54*BA54","v":6000},null,null,{"$f":"B15","v":40},{"$f":"AE96","v":0.77466666666666673},{"$f":"AP97","v":2.7351999999999999},{"$f":"BC97","v":3.1799999999999997},{"$f":"$BJ$8","v":0.3},{"$f":"(BG54+BH54+BI54+BJ54)","v":6.989866666666666},null,null,null,null,null,null,null,null,null,null,null,null,null,null,null,{"$f":"B13","v":20},{"$f":"$CE$48/4","v":0},null,5.5,null,{"$f":"CB54+CD54","v":5.5}]
[null,null,null,null,null,null,null,null,null,null,null,null,null,null,null,null,null,null,null,null,null,null,"ค่าแรงงาน",null,0.3,null,"% ของค่างาน",null,null,null,null,null,2.1,"ค่ารถควบคุมงาน+พนักงานขับรถ",null,null,null,"คัน",2,null,21500,null,{"$f":"AM55*AO55","v":43000},null,1.6,"คนงานทั่วไป",null,null,null,"คน",1,null,4000,null,{"$f":"AY55*BA55","v":4000},null,null,50,0.7955000000000001,2.4616799999999999,2.8980000000000001,0.3,6.4551799999999995,null,null,null,null,null,null,null,null,null,null,null,null,null,null,null,30,0,null,5.5,null,5.5]
[null,null,null,null,null,null,null,null,null,null,null,null,null,null,null,null,null,null,null,null,null,null,"เงินสมทบ","0.51*0.30",null,null,{"$f":"$Y$54*$Y$55","v":0.153},"% ของค่างาน",null,null,null,null,2.2000000000000002,"ค่าน้ำมันเชื้อเพลิง",null,null,null,"คัน",2,null,6000,null,{"$f":"(AM56*AO56)","v":12000},null,"รวม",null,null,null,null,null,null,null,null,null,{"$f":"SUM(BC50:BC55)","v":10000},null,null,60,0.7955000000000001,2.0514000000000001,2.4450000000000003,0.3,5.5918999999999999,null,null,null,null,null,null,null,null,null,null,null,null,null,null,null,40,0,null,5,null,5]
[null,null,null,null,null,null,null,null,null,null,null,null,null,null,null,null,null,null,null,null,null,null,null,null,null,null,null,null,null,null,null,null,2.2999999999999998,"ค่าฃ่อมบำรุง",null,null,null,"คัน",2,null,1000,null,{"$f":"AM57*AO57","v":2000},null,2,"ค่าใช้จ่ายสำนักงานใหญ่ ( ดูแล 4 โครงการ )",null,null,null,null,null,null,null,null,null,null,null,70,0.80591666666666673,1.9645999999999999,2.3342857142857145,0.3,5.4048023809523809,null,null,null,null,null,null,null,null,null,null,null,null,null,null,null,50,0,null,5,null,5]
[null,null,null,null,null,null,null,null,null,null,null,null,null,null,null,null,null,null,null,null,null,"1.1.4.2 เงินสมทบกองทุนประกันสังคม",null,null,0.35,null,"% ของค่าแรงงาน",null,null,null,null,null,2.4,"ค่าเบี้ยประกันภัยยานพาหนะ",null,null,null,"คัน",2,null,840,null,{"$f":"AM58*AO58","v":1680},null,2.1,"ค่าใช้จ่ายเอกสารด้านธุรการ ",null,null,null,null,1,null,3000,null,{"$f":"AY58*BA58/4","v":750},null,null,80,0.81633333333333336,1.8095000000000001,2.2249999999999996,0.3,5.1508333333333329,null,null,null,null,null,null,null,null,null,null,null,null,null,null,null,60,0,null,5,null,5]
[null,null,null,null,null,null,null,null,null,null,null,null,null,null,null,null,null,null,null,null,null,null,"ค่าแรงงาน",null,0.3,null,"% ของค่าแรงงาน",null,null,null,null,null,"รวม",null,null,null,null,null,null,null,null,null,{"$f":"SUM(AQ50:AQ58)","v":58680},null,2.2000000000000002,"ค่าใช้จ่ายด้านยานพาหนะ",null,null,null,null,1,null,3000,null,{"$f":"AY59*BA59/4","v":750},null,null,90,0.81633333333333336,1.6084444444444443,2.0444444444444443,0.3,4.769222222222222,null,null,null,null,null,null,null,null,null,null,null,null,null,null,null,70,0,null,4.5,null,4.5]
[null,null,null,null,null,null,null,null,null,null,null,null,null,null,null,null,null,null,null,null,null,null,"เงินสมทบ","0.35*0.30",null,null,{"$f":"$Y$58*$Y$59","v":0.105},"% ของค่างาน",null,null,null,null,"      หลักเกณฑ์การคิดค่าใช้จ่ายยานพาหนะ",null,null,null,null,null,null,null,null,null,null,null,2.2999999999999998,"ผู้จัดการใหญ่",null,null,null,"คน",1,null,84000,null,{"$f":"(AY60*BA60)/4","v":21000},null,null,100,0.81633333333333347,1.4476,1.9,0.3,4.4639333333333333,null,null,null,null,null,null,null,null,null,null,null,null,null,null,null,80,0,null,4.5,null,4.5]
[null,null,null,null,null,null,null,null,null,null,null,null,null,null,null,null,null,null,null,null,null,null,null,null,null,null,null,null,null,null,null,null,"        ค่าเช่ารถยนต์บรรทุกเล็กเครื่องยนต์ดีเซล",null,null,null,550,"  บาท/วัน","  ความยาวของทางก่อสร้าง",null,null,20,"  กม.",null,2.4,"ช่างเทคนิค",null,null,null,"คน",1,null,8000,null,{"$f":"(AY61*BA61)/4","v":2000},null,null,110,0.8267500000000001,1.3817999999999999,1.8709090909090911,0.3,4.3794590909090907,null,null,null,null,null,null,null,null,null,null,null,null,null,null,null,90,0,null,4.5,null,4.5]
[null,null,null,null,null,null,null,null,null,null,null,null,null,null,null,null,null,null,null,null,null,"รวมค่าใช้จ่ายเงินสมทบกองทุนทดแทน และประกันสังคม",null,null,null,null,null,null,{"$f":"($AA$56+$AA$60)","v":0.25800000000000001},"         % ของค่างาน",null,null,"        อัตราความสิ้นเปลืองเฉลี่ย",null,null,null,8,"  กม./ลิตร","  จำนวนเที่ยวของการใช้รถควบคุมงานไปกลับ",null,null,2,"  เที่ยว",null,2.5,"เจ้าหน้าที่บัญชี",null,null,null,"คน",1,null,8000,null,{"$f":"(AY62*BA62)/4","v":2000},null,null,120,0.83716666666666673,1.3269666666666666,1.8516666666666666,0.3,4.3158000000000003,null,null,null,null,null,null,null,null,null,null,null,null,null,null,null,100,0,null,4.5,null,4.5]
[null,null,null,null,null,null,null,null,null,null,null,null,null,null,null,null,null,null,null,null,null,null,null,null,null,null,null,null,null,null,null,null,"         ราคาน้ำมันดีเซล",null,null,null,20,"  บาท/ลิตร","  จำนวนวันใน  1  เดือน",null,null,30,"  วัน",null,2.6,"เจ้าหน้าที่ธุรการ",null,null,null,"คน",1,null,6000,null,{"$f":"(AY63*BA63)/4","v":1500},null,null,130,0.83716666666666673,1.2248923076923077,1.76,0.3,4.1220589743589739,null,null,null,null,null,null,null,null,null,null,null,null,null,null,null,110,0,null,4,null,4]
[null,null,null,null,null,null,null,null,null,null,null,null,null,null,null,null,null,null,null,null,null,null,null,null,null,null,null,null,null,null,null,null,null,null,null,null,null,null,null,null,null,null,null,null,2.7,"เจ้าหน้าที่ประสานงาน",null,null,null,"คน",1,null,4000,null,{"$f":"(AY64*BA64)/4","v":1000},null,null,140,0.83716666666666673,1.1374,1.6814285714285715,0.3,3.9559952380952379,null,null,null,null,null,null,null,null,null,null,null,null,null,null,null,120,0,null,4,null,4]
[null,null,null,null,null,null,null,null,null,null,null,null,null,null,null,null,null,null,null,null," ",null,null,null,null,null,null,null,null,null,null,null,null,"1.2.4 กรณีค่างานลงทุนเกิน",null,null,300,"ล้านบาท",null,null,null,null,null,null,"รวม",null,null,null,null,null,null,null,null,null,{"$f":"SUM(BC58:BC64)","v":29000},null,null,150,0.83716666666666673,1.0615733333333333,1.6133333333333333,0.3,3.8120733333333332,null,null,null,null,null,null,null,null,null,null,null,null,null,null,null,130,0,null,4,null,4]
[null,null,null,null,null,null,null,null,null,null,null,null,null,null,null,null,null,null,null,null," ",null,null,null,null,null,null,null,null,null,null,null,"ลำดับที่","ประเภท",null,null,null,"หน่วย","จำนวน","อัตราค่าเช่า/เงินเดือน",null,"ค่าเช่า/เงินเดือน",null,null,null,null,null,null,null,null,null,null,null,null,null,null,null,160,0.83716666666666673,0.80684999999999996,0.50875000000000004,0.3,2.4527666666666663,null,null,null,null,null,null,null,null,null,null,null,null,null,null,null,140,0,null,4,null,4]
[null,null,null,null,null,null,null,null,null,null,null,null,null,null,null,null,null,null,null,null," ",null,null,null,null,null,null,null,null,null,null,null,null,null,null,null,null,null,null,"บาท/เดือน",null,"บาท/เดือน",null,null,null,"1.2.4 กรณีค่างานลงทุนเกิน",null,null,300,"ล้านบาท",null,null,null,null,null,null,null,170,0.83716666666666673,0.79174117647058828,0.51505882352941179,0.3,2.4439666666666664,null,null,null,null,null,null,null,null,null,null,null,null,null,null,null,150,0,null,4,null,4]
[null,null,null,null,null,null,null,null,null,null,null,null,null,null,null,null,null,null,null,null," ",null,null,null,null,null,null,null,null,null,null,null,1,"อาคาร",null,null,null,null,null,null,null,null,null,null,"ลำดับที่","ประเภท",null,null,null,"หน่วย","จำนวน","อัตราค่าเช่า/เงินเดือน",null,"ค่าเช่า/เงินเดือน",null,null,null,180,0.83716666666666673,0.77831111111111106,0.49622222222222223,0.3,2.4116999999999997,null,null,null,null,null,null,null,null,null,null,null,null,null,null,null,160,0,null,4,null,4]
[null,null,null,null,null,null,null,null,null,null,null,null,null,null,null,null,null,null,null,null," ",null,null,null,null,null,null,null,null,null,null,null,1.1000000000000001,"สำนักงานสนาม เช่าตึกแถว  1  ห้อง",null,null,null,"ห้อง",1,null,3500,null,{"$f":"AM69*AO69","v":3500},null,null,null,null,null,null,null,null,"บาท/เดือน",null,"บาท/เดือน",null,null,null,190,0.84758333333333336,0.80112631578947369,0.50115789473684214,0.3,2.4498675438596491,null,null,null,null,null,null,null,null,null,null,null,null,null,null,null,170,0,null,4,null,4]
[null,null,null,null,null,null,null,null,null,null,null,null,null,null,null,null,null,null,null,null," ",null,null,null,null,null,null,null,null,null,null,null,1.2,"บ้านพักเจ้าหน้าที่",null,null,null,"หลัง",4,null,3000,null,{"$f":"AM70*AO70","v":12000},null,1,"บุคคลากร",null,null,null,null,null,null,null,null," ",null,null,200,0.84758333333333347,0.78981999999999997,0.48530000000000001,0.3,2.4227033333333332,null,null,null,null,null,null,null,null,null,null,null,null,null,null,null,180,0,null,4,null,4]
[null,null,null,null,null,null,null,null,null,null,null,null,null,null,null,null,null,null,null,null," ",null,null,null,null,null,null,null,null,null,null,null,1.3,"ที่จอดเครื่องจักรและโรงฃ่อม",null,null,null,"ตร.ม.",2500,null,2,null,{"$f":"AM71*AO71","v":5000},null,1.1000000000000001,"ผู้จัดการสนาม ( ดูแล 2 โครงการ )",null,null,null,"คน",1,null,50000,null,{"$f":"(AY71*BA71)/2","v":25000},null,null,210,0.84758333333333336,0.77959047619047617,0.47095238095238096,0.3,2.3981261904761904,null,null,null,null,null,null,null,null,null,null,null,null,null,null,null,190,0,null,3.5,null,3.5]
[null,null,null,null,null,null,null,null,null,null,null,null,null,null,null,null,null,null,null,null," ",null,null,null,null,null,null,null,null,null,null,null,1.4,"ค่าเอกสารสิ่งพิมพ์และด้านธุรการ",null,null,null,"โครงการ",1,null,3000,null,{"$f":"AM72*AO72","v":3000},null,1.2,"วิศวกรควบคุมงานสนาม",null,null,null,"คน",2,null,15000,null,{"$f":"AY72*BA72","v":30000},null,null,220,0.84758333333333336,0.77029090909090914,0.45790909090909093,0.3,2.3757833333333331,null,null,null,null,null,null,null,null,null,null,null,null,null,null,null,200,0,null,3.5,null,3.5]
[null,null,null,null,null,null,null,null,null,null,null,null,null,null,null,null,null,null,null,null," ",null,null,null,null,null,null,null,null,null,null,null,2,"ยานพาหนะ",null,null,null,null,null,null,null,null," ",null,1.3,"ช่างควบคุมงาน",null,null,null,"คน",3,null,8000,null,{"$f":"AY73*BA73","v":24000},null,null,230,0.84758333333333336,0.76180000000000003,0.44599999999999995,0.3,2.3553833333333332,null,null,null,null,null,null,null,null,null,null,null,null,null,null,null,210,0,null,3.5,null,3.5]
[null,null,null,null,null,null,null,null,null,null,null,null,null,null,null,null,null,null,null,null," ",null,null,null,null,null,null,null,null,null,null,null,2.1,"ค่ารถควบคุมงาน+พนักงานขับรถ",null,null,null,"คัน",3,null,21500,null,{"$f":"AM74*AO74","v":64500},null,1.4,"ช่างเครื่องยนต์",null,null,null,"คน",2,null,7000,null,{"$f":"AY74*BA74","v":14000},null,null,240,0.84758333333333336,0.75401666666666667,0.43508333333333332,0.3,2.3366833333333332,null,null,null,null,null,null,null,null,null,null,null,null,null,null,null,220,0,null,3.5,null,3.5]
[null,null,null,null,null,null,null,null,null,null,null,null,null,null,null,null,null,null,null,null," ",null,null,null,null,null,null,null,null,null,null,null,2.2000000000000002,"ค่าน้ำมันเชื้อเพลิง",null,null,null,"คัน",3,null,9000,null,{"$f":"(AM75*AO75)","v":27000},null,1.5,"พนักงานธุรการ",null,null,null,"คน",1,null,6000,null,{"$f":"AY75*BA75","v":6000},null,null,250,0.84758333333333336,0.74685599999999996,0.42503999999999997,0.3,2.3194793333333332,null,null,null,null,null,null,null,null,null,null,null,null,null,null,null,230,0,null,3.5,null,3.5]
[null,null,null,null,null,null,null,null,null,null,null,null,null,null,null,null,null,null,null,null," ",null,null,null,null,null,null,null,null,null,null,null,2.2999999999999998,"ค่าฃ่อมบำรุง",null,null,null,"คัน",3,null,1000,null,{"$f":"AM76*AO76","v":3000},null,1.6,"คนงานทั่วไป",null,null,null,"คน",1,null,4000,null,{"$f":"AY76*BA76","v":4000},null,null,260,0.84758333333333336,0.74024615384615389,0.41576923076923078,0.3,2.3035987179487178,null,null,null,null,null,null,null,null,null,null,null,null,null,null,null,240,0,null,3.5,null,3.5]
[null,null,null,null,null,null,null,null,null,null,null,null,null,null,null,null,null,null,null,null," ",null,null,null,null,null,null,null,null,null,null,null,2.4,"ค่าเบี้ยประกันภัยยานพาหนะ",null,null,null,"คัน",3,null,840,null,{"$f":"AM77*AO77","v":2520},null,"รวม",null,null,null,null,null,null,null,null,null,{"$f":"SUM(BC71:BC76)","v":103000},null,null,270,0.84758333333333336,0.73412592592592596,0.40718518518518521,0.3,2.2888944444444443,null,null,null,null,null,null,null,null,null,null,null,null,null,null,null,250,0,null,3.5,null,3.5]
[null,null,null,null,null,null,null,null,null,null,null,null,null,null,null,null,null,null,null,null," ",null,null,null,null,null,null,null,null,null,null,null,"รวม",null,null,null,null,null,null,null,null,null,{"$f":"SUM(AQ69:AQ77)","v":120520},null,2,"ค่าใช้จ่ายสำนักงานใหญ่ ( ดูแล 4 โครงการ )",null,null,null,null,null,null,null,null,null,null,null,280,0.84758333333333336,0.72844285714285717,0.39921428571428574,0.3,2.2752404761904761,null,null,null,null,null,null,null,null,null,null,null,null,null,null,null,260,0,null,3.5,null,3.5]
[null,null,null,null,null,null,null,null,null,null,null,null,null,null,null,null,null,null,null,null," ",null,null,null,null,null,null,null,null,null,null,null,"      หลักเกณฑ์การคิดค่าใช้จ่ายยานพาหนะ",null,null,null,null,null,null,null,null,null,null,null,2.1,"ค่าใช้จ่ายเอกสารด้านธุรการ",null,null,null,null,1,null,3000,null,{"$f":"AY79*BA79/4","v":750},null,null,290,0.84758333333333336,0.72315172413793105,0.39179310344827589,0.3,2.26252816091954,null,null,null,null,null,null,null,null,null,null,null,null,null,null,null,270,0,null,3.5,null,3.5]
[null,null,null,null,null,null,null,null,null,null,null,null,null,null,null,null,null,null,null,null," ",null,null,null,null,null,null,null,null,null,null,null,"        ค่าเช่ารถยนต์บรรทุกเล็กเครื่องยนต์ดีเซล",null,null,null,550,"  บาท/วัน","  ความยาวของทางก่อสร้าง",null,null,30,"  กม.",null,2.2000000000000002,"ค่าใช้จ่ายด้านยานพาหนะ",null,null,null,null,1,null,3000,null,{"$f":"AY80*BA80/4","v":750},null,null,300,0.84758333333333336,0.71821333333333337,0.38486666666666669,0.3,2.2506633333333332,null,null,null,null,null,null,null,null,null,null,null,null,null,null,null,280,0,null,3.5,null,3.5]
[null,null,null,null,null,null,null,null,null,null,null,null,null,null,null,null,null,null,null,null," ",null,null,null,null,null,null,null,null,null,null,null,"        อัตราความสิ้นเปลืองเฉลี่ย",null,null,null,8,"  กม./ลิตร","  จำนวนเที่ยวของการใช้รถควบคุมงานไปกลับ",null,null,2,"  เที่ยว",null,2.2999999999999998,"ผู้จัดการใหญ่",null,null,null,"คน",1,null,84000,null,{"$f":"(AY81*BA81)/4","v":21000},null,null,350,0.85799999999999998,0.82642285714285713,0.90514285714285714,0.3,2.8895657142857143,null,null,null,null,null,null,null,null,null,null,null,null,null,null,null,290,0,null,3.5,null,3.5]
[null,null,null,null,null,null,null,null,null,null,null,null,null,null,null,null,null,null,null,null," ",null,null,null,null,null,null,null,null,null,null,null,"         ราคาน้ำมันดีเซล",null,null,null,20,"  บาท/ลิตร","  จำนวนวันใน  1  เดือน",null,null,30,"  วัน",null,2.4,"ช่างเทคนิค",null,null,null,"คน",1,null,8000,null,{"$f":"(AY82*BA82)/4","v":2000},null,null,400,0.85799999999999998,0.72311999999999999,0.79200000000000004,0.3,2.6731199999999999,null,null,null,null,null,null,null,null,null,null,null,null,null,null,null,300,0,null,3.5,null,3.5]
[null,null,null,null,null,null,null,null,null,null,null,null,null,null,null,null,null,null,null,null," ",null,null,null,null,null,null,null,null,null,null,null,null,null,null,null,null,null,null,null,null,null,null,null,2.5,"เจ้าหน้าที่บัญชี",null,null,null,"คน",1,null,8000,null,{"$f":"(AY83*BA83)/4","v":2000},null,null,450,0.85799999999999998,0.64277333333333331,0.70399999999999996,0.3,2.5047733333333331,null,null,null,null,null,null,null,null,null,null,null,null,null,null,null,350,0,null,3.5,null,3.5]
[null,null,null,null,null,null,null,null,null,null,null,null,null,null,null,null,null,null,null,null," ",null,null,null,null,null,null,null,null,null,null,null,null,null,null,null,null,null,null,null,null,null,null,null,2.6,"เจ้าหน้าที่ธุรการ",null,null,null,"คน",1,null,6000,null,{"$f":"(AY84*BA84)/4","v":1500},null,null,500,0.85799999999999998,0.57849600000000001,0.63359999999999994,0.3,2.3700959999999998,null,null,null,null,null,null,null,null,null,null,null,null,null,null,null,400,0,null,3.5,null,3.5]
[null,null,null,null,null,null,null,null,null,null,null,null,null,null,null,null,null,null,null,null," ",null,null,null,null,null,null,null,null,null,null,null,null,null,null,null,null,null,null,null,null,null,null,null,2.7,"เจ้าหน้าที่ประสานงาน",null,null,null,"คน",1,null,4000,null,{"$f":"(AY85*BA85)/4","v":1000},null,">",500,0.85799999999999998,0.57849600000000001,0.63359999999999994,0.3,2.3700959999999998,null,null,null,null,null,null,null,null,null,null,null,null,null,null,null,450,0,null,3.5,null,3.5]
[null,null,null,null,null,null,null,null,null,null,null,null,null,null,null,null,null,null,null,null," ",null,null,null,null,null,null,null,null,null,null,null,null,null,null,null,null,null,null,null,null,null,null,null,"รวม",null,null,null,null,null,null,null,null,null,{"$f":"SUM(BC79:BC85)","v":29000},null,null,null,null,null,null,null,null,null,null,null,null,null,null,null,null,null,null,null,null,null,null,null,500,0,null,3.5,null,3.5]
[null,null,null,null,null,null,null,null,null,null,null,null,null,null,null,null,null,null,null,null,"หน้าที่  8",null,null,null,null,null,null,null,null,null,null,null,"หน้าที่  11",null,null,null,null,null,null,null,null,null,null,null,"หน้าที่  14",null,null,null,null,null,null,null,null,null,null,null,null,null,null,null,null,null,null,null,null,null,null,null,null,null,null,null,null,null,null,null,null,">",500,0,null,3.5,null,3.5]
[null,null,null,null,null,null,null,null,null,null,null,null,null,null,null,null,null,null,null,null," "]
[null,null,null,null,null,null,null,null,null,null,null,null,null,null,null,null,null,null,null,null,"รวมค่าใช้จ่ายตามข้อ 1.1",null,null,null,null,null,null,null,null,null,null,null,"รวมค่าใช้จ่ายตามข้อ 1.2",null,null,null,null,null,null,null,null,null,null,null,"รวมค่าใช้จ่ายตามข้อ 1.3"]
[null,null,null,null,null,null,null,null,null,null,null,null,null,null,null,null,null,null,null,null,"ค่างาน ( ทุน )",null,"ข้อ 1.1.1",null,"ข้อ 1.1.2",null,null,"ข้อ 1.1.3","ข้อ 1.1.4",null,"รวม",null,"ค่างาน(ทุน)",null,null,"ระยะเวลา","ค่าใช้จ่าย",null,"รวมค่าใช้จ่าย",null,"ค่าใช้จ่าย ข้อ 1-2",null,null,null,"ค่างาน(ทุน)",null,"ระยะเวลา","ค่าใช้จ่าย","รวม","ค่า","ทุน","ค่า","รวม","ค่า","รวมค่า"]
[null,null,null,null,null,null,null,null,null,null,null,null,null,null,null,null,null,null,null,null,"ล้านบาท",null,"ค้ำประกันสัญญา%",null,"ค้ำประกันผลงาน%",null,null,"ค่าอากร%","กองทุนทดแทน+ประกันสังคม%",null,"%",null,null,null,null,null,"ข้อ 1-2 เป็นเงิน",null,"ข้อ 1-2 ทั้งหมดเป็นเงิน",null,"คิดเป็นร้อยละของค่างาน",null,null,null,null,null,null,"ข้อ 1","ค่าใช้จ่าย","ใช้จ่ายข้อ 1 ","หมุนเวียน","ใช้จ่ายข้อ 2","ค่าใช้จ่าย","ใช้จ่ายข้อ 2","ใช้จ่าย 1-2"]
[null,null,null,null,null,null,null,null,null,null,null,null,null,null,null,null,null,null,null,null,"<",{"$f":"V8","v":5},null,{"$f":"AE8","v":6.25E-2},null,null,{"$f":"$AC$48","v":0.25000000000000006},{"$f":"$AD$51","v":0.1},null,{"$f":"$AC$62","v":0.25800000000000001},{"$f":"(X92+AA92+AB92+AD92)","v":0.6705000000000001},null,"ล้านบาท",null,null,"เดือน","(บาท/เดือน)",null,"(บาท)",null,"(%)",null,null,null,"ล้านบาท",null,"เดือน","บาท/เดือน","บาท","%","ล้านบาท","บาท/เดือน","บาท","%","%"]
[null,null,null,null,null,null,null,null,null,null,null,null,null,null,null,null,null,null,null,null,null,10,null,9.375E-2,null,null,0.25000000000000006,0.1,null,0.25800000000000001,0.7017500000000001,null,"<",{"$f":"V8","v":5},null,{"$f":"Y8","v":6},null,{"$f":"$AQ$17","v":68380},null,{"$f":"(AJ93*AL93)","v":410280},null,{"$f":"(AN93*100)/(AH93*1000000)","v":8.2056000000000004},null,null,"<",{"$f":"B11","v":5},{"$f":"Y8","v":6},{"$f":"$BC$13","v":55000},{"$f":"(AU93*AV93)","v":330000},{"$f":"(AW93*100)/(AT93*1000000)","v":6.6},200,{"$f":"$BC$22","v":20500},{"$f":"(AU93*AZ93)","v":123000},{"$f":"(BA93*100)/(AT93*1000000)","v":2.46},{"$f":"AX93+BB93","v":9.0599999999999987}]
[null,null,null,null,null,null,null,null,null,null,null,null,null,null,null,null,null,null,null,null,null,20,null,0.125,null,null,0.25000000000000006,0.1,null,0.25800000000000001,0.7330000000000001,null,null,10,null,9,null,68380,null,615420,null,6.1542000000000003,null,null,null,10,9,{"$f":"$AV$93+1000*((AT94-$AT$94)/10+1)","v":56000},504000,5.04,200,20500,184500,1.845,6.8849999999999998]
[null,null,null,null,null,null,null,null,null,null,null,null,null,null,null,null,null,null,null,null,null,30,null,0.125,null,null,0.25000000000000006,0.1,null,0.25800000000000001,0.7330000000000001,null,null,20,null,12,null,68380,null,820560,null,4.1028000000000002,null,null,null,20,12,57000,684000,3.42,200,20500,246000,1.23,4.6500000000000004]
[null,null,null,null,null,null,null,null,null,null,null,null,null,null,null,null,null,null,null,null,null,40,null,0.16666666666666666,null,null,0.25000000000000006,0.1,null,0.25800000000000001,0.77466666666666673,null,null,30,null,12,null,68380,null,820560,null,2.7351999999999999,null,null,null,30,12,58000,696000,2.3199999999999998,200,20500,246000,0.82,3.1399999999999997]
[null,null,null,null,null,null,null,null,null,null,null,null,null,null,null,null,null,null,null,null,null,50,null,0.1875,null,null,0.25000000000000006,0.1,null,0.25800000000000001,0.7955000000000001,null,null,40,null,16,null,68380,null,1094080,null,2.7351999999999999,null,null,null,40,16,59000,944000,2.36,200,20500,328000,0.82,3.1799999999999997]
[null,null,null,null,null,null,null,null,null,null,null,null,null,null,null,null,null,null,null,null,null,60,null,0.1875,null,null,0.25000000000000006,0.1,null,0.25800000000000001,0.7955000000000001,null,null,50,null,18,null,68380,null,1230840,null,2.4616799999999999,null,null,null,50,18,60000,1080000,2.16,200,20500,369000,0.73799999999999999,2.8980000000000001]
[null,null,null,null,null,null,null,null,null,null,null,null,null,null,null,null,null,null,null,null,null,70,null,0.19791666666666666,null,null,0.25000000000000006,0.1,null,0.25800000000000001,0.80591666666666673,null,null,60,null,18,null,68380,null,1230840,null,2.0514000000000001,null,null,null,60,18,61000,1098000,1.83,200,20500,369000,0.61499999999999999,2.4450000000000003]
[null,null,null,null,null,null,null,null,null,null,null,null,null,null,null,null,null,null,null,null,null,80,null,0.20833333333333334,null,null,0.25000000000000006,0.1,null,0.25800000000000001,0.81633333333333336,null,null,70,null,19,null,{"$f":"$AQ$36","v":72380},null,1375220,null,1.9645999999999999,null,null,null,70,19,{"$f":"$BC$34","v":63000},1197000,1.71,{"$f":"150*3","v":450},{"$f":"$BC$43","v":23000},437000,0.62428571428571433,2.3342857142857145]
[null,null,null,null,null,null,null,null,null,null,null,null,null,null,null,null,null,null,null,null,null,90,null,0.20833333333333334,null,null,0.25000000000000006,0.1,null,0.25800000000000001,0.81633333333333336,null,null,80,null,20,null,72380,null,1447600,null,1.8095000000000001,null,null,null,80,20,{"$f":"$AV$100+3000*((AT101-$AT$101)/10+1)","v":66000},1320000,1.65,450,23000,460000,0.57499999999999996,2.2249999999999996]
[null,null,null,null,null,null,null,null,null,null,null,null,null,null,null,null,null,null,null,null,null,100,null,0.20833333333333337,null,null,0.25000000000000006,0.1,null,0.25800000000000001,0.81633333333333347,null,null,90,null,20,null,72380,null,1447600,null,1.6084444444444443,null,null,null,90,20,69000,1380000,1.5333333333333334,450,23000,460000,0.51111111111111107,2.0444444444444443]
[null,null,null,null,null,null,null,null,null,null,null,null,null,null,null,null,null,null,null,null,null,110,null,0.21875,null,null,0.25000000000000006,0.1,null,0.25800000000000001,0.8267500000000001,null,null,100,null,20,null,72380,null,1447600,null,1.4476,null,null,null,100,20,72000,1440000,1.44,450,23000,460000,0.46,1.9]
[null,null,null,null,null,null,null,null,null,null,null,null,null,null,null,null,null,null,null,null,null,120,null,0.22916666666666666,null,null,0.25000000000000006,0.1,null,0.25800000000000001,0.83716666666666673,null,null,110,null,21,null,72380,null,1519980,null,1.3817999999999999,null,null,null,110,21,75000,1575000,1.4318181818181819,450,23000,483000,0.43909090909090909,1.8709090909090911]
[null,null,null,null,null,null,null,null,null,null,null,null,null,null,null,null,null,null,null,null,null,130,null,0.22916666666666666,null,null,0.25000000000000006,0.1,null,0.25800000000000001,0.83716666666666673,null,null,120,null,22,null,72380,null,1592360,null,1.3269666666666666,null,null,null,120,22,78000,1716000,1.43,450,23000,506000,0.42166666666666669,1.8516666666666666]
[null,null,null,null,null,null,null,null,null,null,null,null,null,null,null,null,null,null,null,null,null,140,null,0.22916666666666666,null,null,0.25000000000000006,0.1,null,0.25800000000000001,0.83716666666666673,null,null,130,null,22,null,72380,null,1592360,null,1.2248923076923077,null,null,null,130,22,81000,1782000,1.3707692307692307,450,23000,506000,0.38923076923076921,1.76]
[null,null,null,null,null,null,null,null,null,null,null,null,null,null,null,null,null,null,null,null,null,150,null,0.22916666666666666,null,null,0.25000000000000006,0.1,null,0.25800000000000001,0.83716666666666673,null,null,140,null,22,null,72380,null,1592360,null,1.1374,null,null,null,140,22,84000,1848000,1.32,450,23000,506000,0.36142857142857143,1.6814285714285715]
[null,null,null,null,null,null,null,null,null,null,null,null,null,null,null,null,null,null,null,null,null,160,null,0.22916666666666666,null,null,0.25000000000000006,0.1,null,0.25800000000000001,0.83716666666666673,null,null,150,null,22,null,72380,null,1592360,null,1.0615733333333333,null,null,null,150,22,87000,1914000,1.276,450,23000,506000,0.33733333333333332,1.6133333333333333]
[null,null,null,null,null,null,null,null,null,null,null,null,null,null,null,null,null,null,null,null,null,170,null,0.22916666666666663,null,null,0.25000000000000006,0.1,null,0.25800000000000001,0.83716666666666673,null,null,160,null,22,null,{"$f":"$AQ$59","v":58680},null,1290960,null,0.80684999999999996,null,null,null,160,22,{"$f":"$BC$56","v":10000},220000,0.13750000000000001,{"$f":"300*3","v":900},{"$f":"$BC$65-2000","v":27000},594000,0.37125000000000002,0.50875000000000004]
[null,null,null,null,null,null,null,null,null,null,null,null,null,null,null,null,null,null,null,null,null,180,null,0.22916666666666666,null,null,0.25000000000000006,0.1,null,0.25800000000000001,0.83716666666666673,null,null,170,null,22,null,{"$f":"$AQ$59+2500*((AH110-$AH$110)/10+1)","v":61180},null,1345960,null,0.79174117647058828,null,null,null,170,22,{"$f":"$AV$109+800*((AT110-$AT$110)/10+1)","v":10800},237600,0.13976470588235293,900,{"$f":"$BC$65","v":29000},638000,0.37529411764705883,0.51505882352941179]
[null,null,null,null,null,null,null,null,null,null,null,null,null,null,null,null,null,null,null,null,null,190,null,0.23958333333333334,null,null,0.25000000000000006,0.1,null,0.25800000000000001,0.84758333333333336,null,null,180,null,22,null,63680,null,1400960,null,0.77831111111111106,null,null,null,180,22,11600,255200,0.14177777777777778,900,29000,638000,0.35444444444444445,0.49622222222222223]
[null,null,null,null,null,null,null,null,null,null,null,null,null,null,null,null,null,null,null,null,null,200,null,0.23958333333333337,null,null,0.25000000000000006,0.1,null,0.25800000000000001,0.84758333333333347,null,null,190,null,23,null,66180,null,1522140,null,0.80112631578947369,null,null,null,190,23,12400,285200,0.15010526315789474,900,29000,667000,0.35105263157894739,0.50115789473684214]
[null,null,null,null,null,null,null,null,null,null,null,null,null,null,null,null,null,null,null,null,null,210,null,0.23958333333333334,null,null,0.25000000000000006,0.1,null,0.25800000000000001,0.84758333333333336,null,null,200,null,23,null,68680,null,1579640,null,0.78981999999999997,null,null,null,200,23,13200,303600,0.15179999999999999,900,29000,667000,0.33350000000000002,0.48530000000000001]
[null,null,null,null,null,null,null,null,null,null,null,null,null,null,null,null,null,null,null,null,null,220,null,0.23958333333333334,null,null,0.25000000000000006,0.1,null,0.25800000000000001,0.84758333333333336,null,null,210,null,23,null,71180,null,1637140,null,0.77959047619047617,null,null,null,210,23,14000,322000,0.15333333333333332,900,29000,667000,0.31761904761904763,0.47095238095238096]
[null,null,null,null,null,null,null,null,null,null,null,null,null,null,null,null,null,null,null,null,null,230,null,0.23958333333333334,null,null,0.25000000000000006,0.1,null,0.25800000000000001,0.84758333333333336,null,null,220,null,23,null,73680,null,1694640,null,0.77029090909090914,null,null,null,220,23,14800,340400,0.15472727272727274,900,29000,667000,0.30318181818181816,0.45790909090909093]
[null,null,null,null,null,null,null,null,null,null,null,null,null,null,null,null,null,null,null,null,null,240,null,0.23958333333333334,null,null,0.25000000000000006,0.1,null,0.25800000000000001,0.84758333333333336,null,null,230,null,23,null,76180,null,1752140,null,0.76180000000000003,null,null,null,230,23,15600,358800,0.156,900,29000,667000,0.28999999999999998,0.44599999999999995]
[null,null,null,null,null,null,null,null,null,null,null,null,null,null,null,null,null,null,null,null,null,250,null,0.23958333333333334,null,null,0.25000000000000006,0.1,null,0.25800000000000001,0.84758333333333336,null,null,240,null,23,null,78680,null,1809640,null,0.75401666666666667,null,null,null,240,23,16400,377200,0.15716666666666668,900,29000,667000,0.27791666666666665,0.43508333333333332]
[null,null,null,null,null,null,null,null,null,null,null,null,null,null,null,null,null,null,null,null,null,260,null,0.23958333333333334,null,null,0.25000000000000006,0.1,null,0.25800000000000001,0.84758333333333336,null,null,250,null,23,null,81180,null,1867140,null,0.74685599999999996,null,null,null,250,23,17200,395600,0.15823999999999999,900,29000,667000,0.26679999999999998,0.42503999999999997]
[null,null,null,null,null,null,null,null,null,null,null,null,null,null,null,null,null,null,null,null,null,270,null,0.23958333333333334,null,null,0.25000000000000006,0.1,null,0.25800000000000001,0.84758333333333336,null,null,260,null,23,null,83680,null,1924640,null,0.74024615384615389,null,null,null,260,23,18000,414000,0.15923076923076923,900,29000,667000,0.25653846153846155,0.41576923076923078]
[null,null,null,null,null,null,null,null,null,null,null,null,null,null,null,null,null,null,null,null,null,280,null,0.23958333333333334,null,null,0.25000000000000006,0.1,null,0.25800000000000001,0.84758333333333336,null,null,270,null,23,null,86180,null,1982140,null,0.73412592592592596,null,null,null,270,23,18800,432400,0.16014814814814815,900,29000,667000,0.24703703703703703,0.40718518518518521]
[null,null,null,null,null,null,null,null,null,null,null,null,null,null,null,null,null,null,null,null,null,290,null,0.23958333333333334,null,null,0.25000000000000006,0.1,null,0.25800000000000001,0.84758333333333336,null,null,280,null,23,null,88680,null,2039640,null,0.72844285714285717,null,null,null,280,23,19600,450800,0.161,900,29000,667000,0.23821428571428571,0.39921428571428574]
[null,null,null,null,null,null,null,null,null,null,null,null,null,null,null,null,null,null,null,null,null,300,null,0.23958333333333334,null,null,0.25000000000000006,0.1,null,0.25800000000000001,0.84758333333333336,null,null,290,null,23,null,91180,null,2097140,null,0.72315172413793105,null,null,null,290,23,20400,469200,0.16179310344827585,900,29000,667000,0.23,0.39179310344827589]
[null,null,null,null,null,null,null,null,null,null,null,null,null,null,null,null,null,null,null,null,null,350,null,0.25,null,null,0.25000000000000006,0.1,null,0.25800000000000001,0.85799999999999998,null,null,300,null,23,null,93680,null,2154640,null,0.71821333333333337,null,null,null,300,23,21200,487600,0.16253333333333334,900,29000,667000,0.22233333333333333,0.38486666666666669]
[null,null,null,null,null,null,null,null,null,null,null,null,null,null,null,null,null,null,null,null,null,400,null,0.25,null,null,0.25000000000000006,0.1,null,0.25800000000000001,0.85799999999999998,null,null,350,null,24,null,{"$f":"$AQ$78","v":120520},null,2892480,null,0.82642285714285713,null,null,null,350,24,{"$f":"$BC$77","v":103000},2472000,0.70628571428571429,{"$f":"500*4","v":2000},{"$f":"$BC$86","v":29000},696000,0.19885714285714284,0.90514285714285714]
[null,null,null,null,null,null,null,null,null,null,null,null,null,null,null,null,null,null,null,null,null,450,null,0.25,null,null,0.25000000000000006,0.1,null,0.25800000000000001,0.85799999999999998,null,null,400,null,24,null,{"$f":"$AQ$78","v":120520},null,2892480,null,0.72311999999999999,null,null,null,400,24,{"$f":"$BC$77","v":103000},2472000,0.61799999999999999,{"$f":"500*4","v":2000},{"$f":"$BC$86","v":29000},696000,0.17399999999999999,0.79200000000000004]
[null,null,null,null,null,null,null,null,null,null,null,null,null,null,null,null,null,null,null,null,null,500,null,0.25,null,null,0.25000000000000006,0.1,null,0.25800000000000001,0.85799999999999998,null,null,450,null,24,null,{"$f":"$AQ$78","v":120520},null,2892480,null,0.64277333333333331,null,null,null,450,24,{"$f":"$BC$77","v":103000},2472000,0.54933333333333334,{"$f":"500*4","v":2000},{"$f":"$BC$86","v":29000},696000,0.15466666666666667,0.70399999999999996]
[null,null,null,null,null,null,null,null,null,null,null,null,null,null,null,null,null,null,null,null,">",500,null,0.25,null,null,0.25000000000000006,0.1,null,0.25800000000000001,0.85799999999999998,null,null,500,null,24,null,{"$f":"$AQ$78","v":120520},null,2892480,null,0.57849600000000001,null,null,null,500,24,{"$f":"$BC$77","v":103000},2472000,0.49440000000000001,{"$f":"500*4","v":2000},{"$f":"$BC$86","v":29000},696000,0.13919999999999999,0.63359999999999994]
[null,null,null,null,null,null,null,null,null,null,null,null,null,null,null,null,null,null,null,null," ",null,null,null,null,null,null,null,null,null,null,null,">",500,null,24,null,{"$f":"$AQ$78","v":120520},null,2892480,null,0.57849600000000001,null,null,">",500,24,{"$f":"$BC$77","v":103000},2472000,0.49440000000000001,{"$f":"500*4","v":2000},{"$f":"$BC$86","v":29000},696000,0.13919999999999999,0.63359999999999994]
[null,null,null,null,null,null,null,null,null,null,null,null,null,null,null,null,null,null,null,null," "]
[null,null,null,null,null,null,null,null,null,null,null,null,null,null,null,null,null,null,null,null," "]
[null,null,null,null,null,null,null,null,null,null,null,null,null,null,null,null,null,null,null,null," "]
[]
[]
[]
[]
[]
[]
[null,null,null,null,null,null,null,null,null,null,null,null,null,null,null,null,null,null,null,null," "]
[null,null,null,null,null,null,null,null,null,null,null,null,null,null,null,null,null,null,null,null," "]
[null,null,null,null,null,null,null,null,null,null,null,null,null,null,null,null,null,null,null,null," "]
[null,null,null,null,null,null,null,null,null,null,null,null,null,null,null,null,null,null,null,null," "]
[null,null,null,null,null,null,null,null,null,null,null,null,null,null,null,null,null,null,null,null," "]
[null,null,null,null,null,null,null,null,null,null,null,null,null,null,null,null,null,null,null,null," "]
[null,null,null,null,null,null,null,null,null,null,null,null,null,null,null,null,null,null,null,null," "]
[null,null,null,null,null,null,null,null,null,null,null,null,null,null,null,null,null,null,null,null," "]
[null,null,null,null,null,null,null,null,null,null,null,null,null,null,null,null,null,null,null,null," "]
[null,null,null,null,null,null,null,null,null,null,null,null,null,null,null,null,null,null,null,null," "]
[null,null,null,null,null,null,null,null,null,null,null,null,null,null,null,null,null,null,null,null," "]
[null,null,null,null,null,null,null,null,null,null,null,null,null,null,null,null,null,null,null,null," "]
[null,null,null,null,null,null,null,null,null,null,null,null,null,null,null,null,null,null,null,null," "]
[null,null,null,null,null,null,null,null,null,null,null,null,null,null,null,null,null,null,null,null," "]
[null,null,null,null,null,null,null,null,null,null,null,null,null,null,null,null,null,null,null,null," "]
[null,null,null,null,null,null,null,null,null,null,null,null,null,null,null,null,null,null,null,null," "]
[null,null,null,null,null,null,null,null,null,null,null,null,null,null,null,null,null,null,null,null," "]
[null,null,null,null,null,null,null,null,null,null,null,null,null,null,null,null,null,null,null,null," "]
[null,null,null,null,null,null,null,null,null,null,null,null,null,null,null,null,null,null,null,null," "]
[null,null,null,null,null,null,null,null,null,null,null,null,null,null,null,null,null,null,null,null," "]
[null,null,null,null,null,null,null,null,null,null,null,null,null,null,null,null,null,null,null,null," "]
[null,null,null,null,null,null,null,null,null,null,null,null,null,null,null,null,null,null,null,null," "]
[null,null,null,null,null,null,null,null,null,null,null,null,null,null,null,null,null,null,null,null," "]
[null,null,null,null,null,null,null,null,null,null,null,null,null,null,null,null,null,null,null,null," "]
[null,null,null,null,null,null,null,null,null,null,null,null,null,null,null,null,null,null,null,null," "]
[null,null,null,null,null,null,null,null,null,null,null,null,null,null,null,null,null,null,null,null," "]
[null,null,null,null,null,null,null,null,null,null,null,null,null,null,null,null,null,null,null,null," "]
[null,null,null,null,null,null,null,null,null,null,null,null,null,null,null,null,null,null,null,null," "]
[null,null,null,null,null,null,null,null,null,null,null,null,null,null,null,null,null,null,null,null," "]
[null,null,null,null,null,null,null,null,null,null,null,null,null,null,null,null,null,null,null,null," "]
[null,null,null,null,null,null,null,null,null,null,null,null,null,null,null,null,null,null,null,null," "]
[null,null,null,null,null,null,null,null,null,null,null,null,null,null,null,null,null,null,null,null," "]
[null,null,null,null,null,null,null,null,null,null,null,null,null,null,null,null,null,null,null,null," "]
[null,null,null,null,null,null,null,null,null,null,null,null,null,null,null,null,null,null,null,null," "]
[null,null,null,null,null,null,null,null,null,null,null,null,null,null,null,null,null,null,null,null," "]
[null,null,null,null,null,null,null,null,null,null,null,null,null,null,null,null,null,null,null,null," "]

{"sheet":"Factor_FB","index":25,"n_rows":195,"n_cols":87,"rows_kept":195,"cut":false,"hidden":true,"merged":[]}
["หน้าที่ 1/12",null,null,null,null,null,null,null,null,null,null,null,null,null,null,null,null,null,null,null,"หน้าที่  6",null,null,null,null,null,null,null,null,null,null,null,null,"หน้าที่  9",null,null,null,null,null,null,null,null,null,null,null,"หน้าที่  12",null,null,null,null,null,null,null,null,null,null,null,"หน้าที่  15",null,null,null,null,null,null,null,null,null,null,null,null,null,null,null,null,null,null,null,null,"หน้าที่  17"]
["ตาราง Factor F งานก่อสร้างสะพานและท่อเหลี่ยม",null,null,null,null,null,null,null,null,null,null,null,null,null,null,null,null,null,null,null,"      1. ค่าอำนวยการ (งานสะพานและท่อเหลี่ยม)",null,null,null,null,null,null,null,null,null,null,null,null,null,null,null,null,null,null,null,null,null,null,null,null,"1.3 ค่าใช้จ่ายเกี่ยวกับบุคคลากรและสำนักงานใหญ่ (งานสะพานและท่อเหลี่ยม)",null,null,null,null,null,null,null,null,null,null,null,null,null,null,null,null,null,null,null,null,null,null,null,null,null,null,null,null,null,null,null,null,"2. ดอกเบี้ย"]
[]
[null,"เงินล่วงหน้าจ่าย",null,{"$f":"ปร.5!I12*100","v":0},"%","ดอกเบี้ยเงินกู้",null,null,{"$f":"ปร.5!I13*100","v":6},"% ต่อปี",null,null,null,null,null,null,null,null,null,null,"       1.1 ค่าใช้จ่ายขั้นตอนในการทำสัญญา",null,null,null,null,null,null,null,null,null,null,null,null,"1.2 ค่าใช้จ่ายเกี่ยวกับสำนักงานสนาม,ที่พักเจ้าหน้าที่และยานพาหนะ (งานสะพานและท่อเหลี่ยม)",null,null,null,null,null,null,null,null,null,null,null,null,"1.3.1 กรณีค่างานลงทุนไม่เกิน",null,null,10,"ล้านบาท",null,null,null,null,null,null,"1.4 ค่าใช้จ่ายในการประกันภัยโครงการ",null,null,null,null,null,null,null,null,null,null,null,null,null,null,null,null,null,null,null,null,null,"ดอกเบี้ยเงินกู้",null,{"$f":"Factor_FB!I4","v":6},"% ต่อปี",null,"เงินจ่ายล่วงหน้า",{"$f":"Factor_FB!D4","v":0},"% ของค่างาน"]
[null,"เงินประกันผลงานหัก",null,{"$f":"ปร.5!I14*100","v":0},"%","ค่าภาษีมูลค่าเพิ่ม(VAT)",null,null,{"$f":"ปร.5!I15*100","v":7.0000000000000009},"%",null,null,null,null,null,null,null,null,null,null,"       1.1.1 ค่าธรรมเนียมธนาคารหนังสือค้ำประกันสัญญา",null,null,null,null,null,null,null,null,null,null,null,null,null,"1.2.1 กรณีค่างานลงทุนไม่เกิน",null,null,10,"ล้านบาท",null,null,null,null,null,null,"ลำดับที่","ประเภท",null,null,null,"หน่วย","จำนวน","อัตราค่าเช่า/เงินเดือน",null,"ค่าเช่า/เงินเดือน",null,null,null,"ประกอบด้วย",null,null,null,null,null,null,null,null,null,null,null,null,null,null,null,null,null,null,null,null,"ระยะเวลาการเบิกจ่าย",null,3,"เดือน",null,"หักเงินประกันผลงาน",{"$f":"Factor_FB!D5","v":0},"% ของค่างาน"]
[null,null,null,null,null,null,null,null,null,null,null,null,null,null,null,null,null,null,null,null,"    วงเงินค้ำประกัน",null,5,"  % ของค่างาน",null,null,"อัตราค่าธรรมเนียมหนังสือค้ำ",null,2.5,"  %  ของวงเงินค้ำประกัน   ",null,null,null,"ลำดับที่","ประเภท",null,null,null,"หน่วย","จำนวน","อัตราค่าเช่า/เงินเดือน",null,"ค่าเช่า/เงินเดือน",null,null,null,null,null,null,null,null,null,"บาท/เดือน",null,"บาท/เดือน",null,null,null,"1.4.1 ค่าธรรมเนียมในการประกันภัยโครงการ",null,null,null,0.25,"% ของค่างาน",null,null,null,null,null,null,null,null,null,null,null,null,null,null,null,"สูตร","  I    =   i/12*[r/100+(T+(D-1)*a/100-(a + r)/100*(T+1)/2-(D-1)]"]
["ค่างาน",null,"ค่าใช้จ่ายในการดำเนินงานก่อสร้าง",null,null,null,"รวม","ภาษีมูลค่าเพิ่ม",null,null,null,null,null,null,null,null,null,null,null,null,"ค่างานลงทุน",null,"วงเงินค้ำประกัน",null,"ระยะเวลา",null,"ค่าธรรมเนียม",null,"ค่าธรรมเนียมเป็นร้อยละของค่างาน",null,null,null,null,null,null,null,null,null,null,null,"บาท/เดือน",null,"บาท/เดือน",null,null,1,"บุคคลากร",null,null,null,null,null,null,null,null," ",null,null,"1.4.2 ค่าความเสี่ยงภัยที่ไม่ครอบคลุมอยู่ในการประกันภัย และค่าความเสี่ยงจาก",null,null,null,null,null,null,null,null,null,null,null,null,null,null,null,null,null,null,null,"ค่างาน(ทุน)",null,"ระยะเวลา","เงินจ่าย","หักเงินประกัน","อัตรา","จำนวนดอกเบี้ยต่อ","หมายเหตุ"]
["(ทุน)",null,"%",null,null,null,"ในรูป",null,"Factor  F",null,null,null,null,null,null,null,null,null,null,null,"ล้านบาท",null,"ล้านบาท",null,"เดือน",null,"บาท",null,"%",null,null,null,null,1,"อาคาร",null,null,null,null,null,null,null,null,null,null,1.1000000000000001,"ผู้จัดการสนาม ( ดูแล 2 โครงการ )",null,null,null,"คน",0,null,30000,null,{"$f":"(AZ8*BB8)","v":0},null,null,"          การผันแปรของอัตราแลกเปลี่ยนเงินตราและอัตราเงินเฟ้อ",null,null,null,0.05,"% ของค่างาน",null,null,null,null,null,null,null,null,null,null,null,null,null,null,null,null,null,"ล่วงหน้า","ผลงาน","ดอกเบี้ยเงินกู้","ค่างาน ( ทุน )"]
[null,null,"ค่า","ค่า","ค่า","รวม","Factor","VAT",null,null,null,null,null,null,null,null,null,null,null,null,"<",{"$f":"Factor_FB!B11","v":5},null,{"$f":"(V9*$W$6)/100","v":0.25},{"$f":"IF($I$6=0,Z9,$I$6)","v":6},6,null,{"$f":"(X9*1000000)*($AC$6/100)*(Y9/12)","v":3125},null,null,{"$f":"(AB9*100)/(V9*1000000)","v":6.25E-2},null,null,1.1000000000000001,"สำนักงานสนาม เช่าตึกแถว  1  ห้อง",null,null,null,"ห้อง",1,null,3500,null,{"$f":"(AN9*AP9)","v":3500},null,1.2,"วิศวกรควบคุมงานสนาม",null,null,null,"คน",1,null,15000,null,15000,null,null,"รวมค่าใช้จ่ายในการประกันภัยโครงการ",null,null,null,0.3,"% ของค่างาน",null,null,null,null,null,null,null,null,null,null,null,null,null,null,"ล้านบาท",null,"เดือน","%","%","% ต่อปี","%"]
["ล้านบาท",null,"อำนวยการ","ดอกเบี้ย","กำไร","ค่าใช้จ่าย",null,null,null,null,null,null,null,null,null,null,null,null,null,null,null,{"$f":"Factor_FB!B12","v":10},null,0.5,9,9,null,9375,null,null,9.375E-2,null,null,1.2,"บ้านพักเจ้าหน้าที่",null,null,null,"หลัง",1,null,3000,null,{"$f":"(AN10*AP10)","v":3000},null,1.3,"ช่างควบคุมงาน",null,null,null,"คน",1,null,8000,null,8000,null,null,null,null,null,null,null,null,null,null,null,null,null,null,null,null,null,null,null,null,null,null,"<",{"$f":"Factor_FB!B11","v":5},{"$f":"Factor_FB!Y9","v":6},{"$f":"$CH$4","v":0},{"$f":"$CH$5","v":0},{"$f":"$CD$4","v":6},{"$f":"-CF10/12*(CE10/100+(CC10+$CD$5-1)*CD10/100-(CD10+CE10)/100*(CC10+1)/2-($CD$5-1))","v":1}]
["<",5,{"$f":"Factor_FB!BL55","v":10.2393},{"$f":"Factor_FB!CG10","v":1},{"$f":"Factor_FB!CG57","v":5.5},{"$f":"(C11+D11+E11)","v":16.7393},{"$f":"1+(F11/100)","v":1.1673930000000001},{"$f":"1+($I$5/100)","v":1.07},{"$f":"ROUND((G11*H11),4)","v":1.2491000000000001},null,null,null,null,null,null,null,null,null,null,null,null,{"$f":"Factor_FB!B13","v":15},null,0.75,12,12,null,18750,null,null,0.125,null,null,1.3,"ที่จอดเครื่องจักรและโรงฃ่อม",null,null,null,"ตร.ม.",400,null,2,null,{"$f":"(AN11*AP11)","v":800},null,1.4,"ช่างเครื่องยนต์",null,null,null,"คน",0,null,7000,null,0,null,null,null,null,null,null,null,null,null,null,null,null,null,null,null,null,null,null,null,null,null,null,null,{"$f":"Factor_FB!B12","v":10},{"$f":"Factor_FB!Y10","v":9},0,0,6,{"$f":"-CF11/12*(CE11/100+(CC11+$CD$5-1)*CD11/100-(CD11+CE11)/100*(CC11+1)/2-($CD$5-1))","v":1}," เมื่อ"]
[null,10,{"$f":"Factor_FB!BL56","v":7.9533500000000004},{"$f":"Factor_FB!CG11","v":1},{"$f":"Factor_FB!CG58","v":5.5},14.45335,1.1445335000000001,1.07,1.2246999999999999,null,null,null,null,null,null,null,null,null,null,null,null,{"$f":"Factor_FB!B14","v":20},null,1,15,15,null,31250,null,null,0.15625,null,null,1.4,"ค่าเอกสารสิ่งพิมพ์และด้านธุรการ",null,null,null,"โครงการ",1,null,2000,null,{"$f":"(AN12*AP12)","v":2000},null,1.5,"พนักงานธุรการ",null,null,null,"คน",0,null,6000,null,0,null,null,null,null,null,null,null,null,null,null,null,null,null,null,null,null,null,null,null,null,null,null,null,{"$f":"Factor_FB!B13","v":15},{"$f":"Factor_FB!Y11","v":12},0,0,6,{"$f":"-CF12/12*(CE12/100+(CC12+($CD$5-1))*CD12/100-(CD12+CE12)/100*(CC12+1)/2-($CD$5-1))","v":1},"I   =","ดอกเบี้ยรวมทั้งโครงการ(%)"]
[null,15,{"$f":"Factor_FB!BL57","v":7.8041999999999998},{"$f":"Factor_FB!CG12","v":1},{"$f":"Factor_FB!CG59","v":5.5},14.3042,1.1430419999999999,1.07,1.2231000000000001,null,null,null,null,null,null,null,null,null,null,null,null,{"$f":"Factor_FB!B15","v":25},null,1.25,15,15,null,39062.5,null,null,0.15625,null,null,2,"ยานพาหนะ",null,null,null,null,null,null,null,null,0,null,1.6,"คนงานทั่วไป",null,null,null,"คน",1,null,4000,null,4000,null,null,null,null,null,null,null,null,null,null,null,null,null,null,null,null,null,null,null,null,null,null,null,{"$f":"Factor_FB!B14","v":20},{"$f":"Factor_FB!Y12","v":15},0,0,6,1,"T  =","ระยะเวลา(เดือน)"]
[null,20,{"$f":"Factor_FB!BL58","v":7.5434999999999999},{"$f":"Factor_FB!CG13","v":1},{"$f":"Factor_FB!CG60","v":5.5},14.0435,1.1404350000000001,1.07,1.2202999999999999,null,null,null,null,null,null,null,null,null,null,null,null,{"$f":"Factor_FB!B16","v":30},null,1.5,18,18,null,56250,null,null,0.1875,null,null,2.1,"ค่ารถควบคุมงาน+พนักงานขับรถ",null,null,null,"คัน",1,null,21500,null,{"$f":"(AN14*AP14)","v":21500},null,"รวม",null,null,null,null,null,null,null,null,null,{"$f":"SUM(BD8:BD13)","v":27000},null,null,null,null,null,null,null,null,null,null,null,null,null,null,null,null,null,null,null,null,null,null,null,{"$f":"Factor_FB!B15","v":25},{"$f":"Factor_FB!Y13","v":15},0,0,6,1,"D =","ช่วงเวลาการรับเงิน(เดือน)"]
[null,25,{"$f":"Factor_FB!BL59","v":6.3526499999999997},{"$f":"Factor_FB!CG14","v":1},{"$f":"Factor_FB!CG61","v":5.5},12.852650000000001,1.1285265,1.07,1.2075,null,null,null,null,null,null,null,null,null,null,null,null,{"$f":"Factor_FB!B17","v":35},null,1.75,19,19,null,69270.833333333328,null,null,0.19791666666666666,null,null,2.2000000000000002,"ค่าน้ำมันเชื้อเพลิง",null,null,null,"คัน",1,null,3600,null,{"$f":"(AN15*AP15)","v":3600},null,2,"ค่าใช้จ่ายสำนักงานใหญ่ ( ดูแล 4 โครงการ )",null,null,null,null,null,null,null,null," ",null,null,null,null,null,null,null,null,null,null,null,null,null,null,null,null,null,null,null,null,null,null,null,{"$f":"Factor_FB!B16","v":30},{"$f":"Factor_FB!Y14","v":18},0,0,6,1,"a  =","อัตราเงินล่วงหน้าจ่าย(%)"]
[null,30,{"$f":"Factor_FB!BL60","v":6.4889000000000001},{"$f":"Factor_FB!CG15","v":1},{"$f":"Factor_FB!CG62","v":5},12.488900000000001,1.124889,1.07,1.2036,null,null,null,null,null,null,null,null,null,null,null,null,{"$f":"Factor_FB!B18","v":40},null,2,19,19,null,79166.666666666657,null,null,0.19791666666666666,null,null,2.2999999999999998,"ค่าฃ่อมบำรุง",null,null,null,"คัน",1,null,1000,null,{"$f":"(AN16*AP16)","v":1000},null,2.1,"ค่าใช้จ่ายเอกสารด้านธุรการ",null,null,null,null,1,null,3000,null,{"$f":"(AZ16*BB16)/4","v":750},null,null,null,null,null,null,null,null,null,null,null,null,null,null,null,null,null,null,null,null,null,null,null,{"$f":"Factor_FB!B17","v":35},{"$f":"Factor_FB!Y15","v":19},0,0,6,1,"i   =","อัตราดอกเบี้ยเงินกู้ต่อปี(%)"]
[null,35,{"$f":"Factor_FB!BL61","v":6.0806595238095236},{"$f":"Factor_FB!CG16","v":1},{"$f":"Factor_FB!CG63","v":5},12.080659523809523,1.1208065952380952,1.07,1.1993,null,null,null,null,null,null,null,null,null,null,null,null,{"$f":"Factor_FB!B19","v":45},null,2.25,19,19,null,89062.5,null,null,0.19791666666666666,null,null,2.4,"ค่าเบี้ยประกันภัยยานพาหนะ",null,null,null,"คัน",1,null,840,null,{"$f":"(AN17*AP17)","v":840},null,2.2000000000000002,"ค่าใช้จ่ายด้านยานพาหนะ",null,null,null,null,1,null,3000,null,750,null,null,null,null,null,null,null,null,null,null,null,null,null,null,null,null,null,null,null,null,null,null,null,{"$f":"Factor_FB!B18","v":40},{"$f":"Factor_FB!Y16","v":19},0,0,6,1,"r  =","อัตราเงินประกันผลงาน(%)"]
[null,40,{"$f":"Factor_FB!BL62","v":5.5419416666666672},{"$f":"Factor_FB!CG17","v":1},{"$f":"Factor_FB!CG64","v":5},11.541941666666666,1.1154194166666667,1.07,1.1935,null,null,null,null,null,null,null,null,null,null,null,null,{"$f":"Factor_FB!B20","v":50},null,2.5,19,19,null,98958.333333333328,null,null,0.19791666666666663,null,null,"รวม",null,null,null,null,null,null,null,null,null,{"$f":"SUM(AR9:AR17)","v":36240},null,2.2999999999999998,"ผู้จัดการใหญ่",null,null,null,"คน",1,null,30000,null,7500,null,null,null,null,null,null,null,null,null,null,null,null,null,null,null,null,null,null,null,null,null,null,null,{"$f":"Factor_FB!B19","v":45},{"$f":"Factor_FB!Y17","v":19},0,0,6,1]
[null,45,{"$f":"Factor_FB!BL63","v":5.1229388888888892},{"$f":"Factor_FB!CG18","v":1},{"$f":"Factor_FB!CG65","v":4.5},10.622938888888889,1.106229388888889,1.07,1.1837,null,null,null,null,null,null,null,null,null,null,null,null,{"$f":"Factor_FB!B21","v":55},null,2.75,19,19,null,108854.16666666666,null,null,0.19791666666666666,null,null,"      หลักเกณฑ์การคิดค่าใช้จ่ายยานพาหนะ",null,null,null,null,null,null,null,null,null,null,null,2.4,"ช่างเทคนิค",null,null,null,"คน",1,null,8000,null,2000,null,null,null,null,null,null,null,null,null,null,null,null,null,null,null,null,null,null,null,null,null,null,null,{"$f":"Factor_FB!B20","v":50},{"$f":"Factor_FB!Y18","v":19},0,0,6,1]
[null,50,{"$f":"Factor_FB!BL64","v":4.7877366666666665},{"$f":"Factor_FB!CG19","v":1},{"$f":"Factor_FB!CG66","v":4.5},10.287736666666667,1.1028773666666667,1.07,1.1800999999999999,null,null,null,null,null,null,null,null,null,null,null,null,{"$f":"Factor_FB!B22","v":60},null,3,19,19,null,118750,null,null,0.19791666666666666,null,null,"        ค่าเช่ารถยนต์บรรทุกเล็กเครื่องยนต์ดีเซล",null,null,null,550,"  บาท/วัน","  ระยะทาง",null,null,6,"  กม.",null,2.5,"เจ้าหน้าที่บัญชี",null,null,null,"คน",1,null,8000,null,2000,null,null,null,null,null,null,null,null,null,null,null,null,null,null,null,null,null,null,null,null,null,null,null,{"$f":"Factor_FB!B21","v":55},{"$f":"Factor_FB!Y19","v":19},0,0,6,1]
[null,55,{"$f":"Factor_FB!BL65","v":4.6136621212121209},{"$f":"Factor_FB!CG20","v":1},{"$f":"Factor_FB!CG67","v":4.5},10.113662121212121,1.1011366212121212,1.07,1.1781999999999999,null,null,null,null,null,null,null,null,null,null,null,null,{"$f":"Factor_FB!B23","v":65},null,3.25,21,21,null,142187.5,null,null,0.21875,null,null,"        อัตราความสิ้นเปลืองเฉลี่ย",null,null,null,8,"  กม./ลิตร","  จำนวนเที่ยวของการใช้รถควบคุมงานไปกลับ",null,null,4,"  เที่ยว",null,2.6,"เจ้าหน้าที่ธุรการ",null,null,null,"คน",0,null,6000,null,0,null,null,null,null,null,null,null,null,null,null,null,null,null,null,null,null,null,null,null,null,null,null,null,{"$f":"Factor_FB!B22","v":60},{"$f":"Factor_FB!Y20","v":19},0,0,6,1]
[null,60,{"$f":"Factor_FB!BL66","v":4.4543499999999998},{"$f":"Factor_FB!CG21","v":1},{"$f":"Factor_FB!CG68","v":4.5},9.9543499999999998,1.0995435,1.07,1.1765000000000001,null,null,null,null,null,null,null,null,null,null,null,null,{"$f":"Factor_FB!B24","v":70},null,3.5,21,21,null,153125,null,null,0.21875,null,null,"         ราคาน้ำมันดีเซล",null,null,null,20,"  บาท/ลิตร","  จำนวนวันใน  1  เดือน",null,null,30,"  วัน",null,2.7,"เจ้าหน้าที่ประสานงาน",null,null,null,"คน",1,null,4000,null,1000,null,null,null,null,null,null,null,null,null,null,null,null,null,null,null,null,null,null,null,null,null,null,null,{"$f":"Factor_FB!B23","v":65},{"$f":"Factor_FB!Y21","v":21},0,0,6,1]
[null,65,{"$f":"Factor_FB!BL67","v":4.6721961538461541},{"$f":"Factor_FB!CG22","v":1},{"$f":"Factor_FB!CG69","v":4},9.6721961538461549,1.0967219615384616,1.07,1.1735,null,null,null,null,null,null,null,null,null,null,null,null,{"$f":"Factor_FB!B25","v":75},null,3.75,21,21,null,164062.5,null,null,0.21875,null,null,null,null,null,null,null,null,null,null,null,null,null,null,"รวม",null,null,null,null,null,null,null,null,null,{"$f":"SUM(BD16:BD22)","v":14000},null,null,null,null,null,null,null,null,null,null,null,null,null,null,null,null,null,null,null,null,null,null,null,{"$f":"Factor_FB!B24","v":70},{"$f":"Factor_FB!Y22","v":21},0,0,6,1]
[null,70,{"$f":"Factor_FB!BL68","v":4.5389499999999998},{"$f":"Factor_FB!CG23","v":1},{"$f":"Factor_FB!CG70","v":4},9.5389499999999998,1.0953895,1.07,1.1720999999999999,null,null,null,null,null,null,null,null,null,null,null,null,{"$f":"Factor_FB!B26","v":80},null,4,21,21,null,175000,null,null,0.21875,null,null,null,"1.2.2 กรณีค่างานลงทุนไม่เกิน",null,null,50,"ล้านบาท",null,null,null,null,null,null,null,null,null,null,null,null,null,null,null,null,null,null,null,null,null,null,null,null,null,null,null,null,null,null,null,null,null,null,null,null,null,null,null,null,{"$f":"Factor_FB!B25","v":75},{"$f":"Factor_FB!Y23","v":21},0,0,6,1]
[null,75,{"$f":"Factor_FB!BL69","v":4.42347},{"$f":"Factor_FB!CG24","v":1},{"$f":"Factor_FB!CG71","v":4},9.42347,1.0942346999999999,1.07,1.1708000000000001,null,null,null,null,null,null,null,null,null,null,null,null,{"$f":"Factor_FB!B27","v":85},null,4.25,21,21,null,185937.5,null,null,0.21875,null,null,"ลำดับที่","ประเภท",null,null,null,"หน่วย","จำนวน","อัตราค่าเช่า/เงินเดือน",null,"ค่าเช่า/เงินเดือน",null,null,null,"1.3.2 กรณีค่างานลงทุนไม่เกิน",null,null,50,"ล้านบาท",null,null,null,null,null,null,null,null,null,null,null,null,null,null,null,null,null,null,null,null,null,null,null,null,null,null,null,null,{"$f":"Factor_FB!B26","v":80},{"$f":"Factor_FB!Y24","v":21},0,0,6,1]
[null,80,{"$f":"Factor_FB!BL70","v":4.322425},{"$f":"Factor_FB!CG25","v":1},{"$f":"Factor_FB!CG72","v":4},9.3224249999999991,1.09322425,1.07,1.1697,null,null,null,null,null,null,null,null,null,null,null,null,{"$f":"Factor_FB!B28","v":90},null,4.5,21,21,null,196875,null,null,0.21875,null,null,null,null,null,null,null,null,null,"บาท/เดือน",null,"บาท/เดือน",null,null,"ลำดับที่","ประเภท",null,null,null,"หน่วย","จำนวน","อัตราค่าเช่า/เงินเดือน",null,"ค่าเช่า/เงินเดือน",null,null,null,null,null,null,null,null,null,null,null,null,null,null,null,null,null,null,null,null,null,null,null,null,{"$f":"Factor_FB!B27","v":85},{"$f":"Factor_FB!Y25","v":21},0,0,6,1]
[null,85,{"$f":"Factor_FB!BL71","v":4.233267647058824},{"$f":"Factor_FB!CG26","v":1},{"$f":"Factor_FB!CG73","v":4},9.233267647058824,1.0923326764705883,1.07,1.1688000000000001,null,null,null,null,null,null,null,null,null,null,null,null,{"$f":"Factor_FB!B29","v":95},null,4.75,21,21,null,207812.5,null,null,0.21875,null,null,1,"อาคาร",null,null,null,null,null,null,null,null,null,null,null,null,null,null,null,null,null,"บาท/เดือน",null,"บาท/เดือน",null,null,null,null,null,null,null,null,null,null,null,null,null,null,null,null,null,null,null,null,null,null,null,null,{"$f":"Factor_FB!B28","v":90},{"$f":"Factor_FB!Y26","v":21},0,0,6,1]
[null,90,{"$f":"Factor_FB!BL72","v":4.1540166666666671},{"$f":"Factor_FB!CG27","v":1},{"$f":"Factor_FB!CG74","v":4},9.1540166666666671,1.0915401666666666,1.07,1.1678999999999999,null,null,null,null,null,null,null,null,null,null,null,null,{"$f":"Factor_FB!B30","v":100},null,5,21,21,null,218750,null,null,0.21875,null,null,1.1000000000000001,"สำนักงานสนาม เช่าตึกแถว  1  ห้อง",null,null,null,"ห้อง",1,null,3500,null,{"$f":"AN28*AP28","v":3500},null,1,"บุคคลากร",null,null,null,null,null,null,null,null," ",null,null,null,null,null,null,null,null,null,null,null,null,null,null,null,null,null,null,null,null,null,null,null,{"$f":"Factor_FB!B29","v":95},{"$f":"Factor_FB!Y27","v":21},0,0,6,1]
[null,95,{"$f":"Factor_FB!BL73","v":4.083107894736842},{"$f":"Factor_FB!CG28","v":1},{"$f":"Factor_FB!CG75","v":4},9.0831078947368411,1.0908310789473683,1.07,1.1672,null,null,null,null,null,null,null,null,null,null,null,null,{"$f":"Factor_FB!B31","v":105},null,5.25,21,21,null,229687.5,null,null,0.21875,null,null,1.2,"บ้านพักเจ้าหน้าที่",null,null,null,"หลัง",1,null,3000,null,{"$f":"AN29*AP29","v":3000},null,1.1000000000000001,"ผู้จัดการสนาม ( ดูแล 2 โครงการ )",null,null,null,"คน",0,null,30000,null,{"$f":"(AZ29*BB29)/2","v":0},null,null,null,null,null,null,null,null,null,null,null,null,null,null,null,null,null,null,null,null,null,null,null,{"$f":"Factor_FB!B30","v":100},{"$f":"Factor_FB!Y28","v":21},0,0,6,1]
[null,100,{"$f":"Factor_FB!BL74","v":4.0192899999999998},{"$f":"Factor_FB!CG29","v":1},{"$f":"Factor_FB!CG76","v":4},9.0192899999999998,1.0901928999999999,1.07,1.1665000000000001,null,null,null,null,null,null,null,null,null,null,null,null,{"$f":"Factor_FB!B32","v":110},null,5.5,21,21,null,240625,null,null,0.21875,null,null,1.3,"ที่จอดเครื่องจักรและโรงฃ่อม",null,null,null,"ตร.ม.",600,null,2,null,{"$f":"AN30*AP30","v":1200},null,1.2,"วิศวกรควบคุมงานสนาม",null,null,null,"คน",1,null,15000,null,{"$f":"AZ30*BB30","v":15000},null,null,null,null,null,null,null,null,null,null,null,null,null,null,null,null,null,null,null,null,null,null,null,{"$f":"Factor_FB!B31","v":105},{"$f":"Factor_FB!Y29","v":21},0,0,6,1]
[null,105,{"$f":"Factor_FB!BL75","v":4.1755500000000003},{"$f":"Factor_FB!CG30","v":1},{"$f":"Factor_FB!CG77","v":3.5},8.6755500000000012,1.0867555,1.07,1.1628000000000001,null,null,null,null,null,null,null,null,null,null,null,null,{"$f":"Factor_FB!B33","v":115},null,5.75,21,21,null,251562.5,null,null,0.21875,null,null,1.4,"ค่าเอกสารสิ่งพิมพ์และด้านธุรการ",null,null,null,null,1,null,3000,null,{"$f":"AN31*AP31","v":3000},null,1.3,"ช่างควบคุมงาน",null,null,null,"คน",1,null,8000,null,{"$f":"AZ31*BB31","v":8000},null,null,null,null,null,null,null,null,null,null,null,null,null,null,null,null,null,null,null,null,null,null,null,{"$f":"Factor_FB!B32","v":110},{"$f":"Factor_FB!Y30","v":21},0,0,6,1]
[null,110,{"$f":"Factor_FB!BL76","v":4.0369681818181817},{"$f":"Factor_FB!CG31","v":1},{"$f":"Factor_FB!CG78","v":3.5},8.5369681818181817,1.0853696818181817,1.07,1.1613,null,null,null,null,null,null,null,null,null,null,null,null,{"$f":"Factor_FB!B34","v":120},null,6,21,21,null,262500,null,null,0.21875,null,null,2,"ยานพาหนะ",null,null,null,null,null,null,null,null,0,null,1.4,"ช่างเครื่องยนต์",null,null,null,"คน",0,null,7000,null,{"$f":"AZ32*BB32","v":0},null,null,null,null,null,null,null,null,null,null,null,null,null,null,null,null,null,null,null,null,null,null,null,{"$f":"Factor_FB!B33","v":115},{"$f":"Factor_FB!Y31","v":21},0,0,6,1]
[null,115,{"$f":"Factor_FB!BL77","v":3.9104369565217389},{"$f":"Factor_FB!CG32","v":1},{"$f":"Factor_FB!CG79","v":3.5},8.4104369565217389,1.0841043695652175,1.07,1.1599999999999999,null,null,null,null,null,null,null,null,null,null,null,null,{"$f":"Factor_FB!B35","v":125},null,6.25,21,21,null,273437.5,null,null,0.21875,null,null,2.1,"ค่ารถควบคุมงาน+พนักงานขับรถ",null,null,null,"คัน",1,null,21500,null,{"$f":"AN33*AP33","v":21500},null,1.5,"พนักงานธุรการ",null,null,null,"คน",1,null,6000,null,{"$f":"AZ33*BB33","v":6000},null,null,null,null,null,null,null,null,null,null,null,null,null,null,null,null,null,null,null,null,null,null,null,{"$f":"Factor_FB!B34","v":120},{"$f":"Factor_FB!Y32","v":21},0,0,6,1]
[null,120,{"$f":"Factor_FB!BL78","v":3.7944499999999999},{"$f":"Factor_FB!CG33","v":1},{"$f":"Factor_FB!CG80","v":3.5},8.2944499999999994,1.0829445,1.07,1.1588000000000001,null,null,null,null,null,null,null,null,null,null,null,null,{"$f":"Factor_FB!B36","v":130},null,6.5,21,21,null,284375,null,null,0.21875,null,null,2.2000000000000002,"ค่าน้ำมันเชื้อเพลิง",null,null,null,"คัน",1,null,3600,null,{"$f":"AN34*AP34","v":3600},null,1.6,"คนงานทั่วไป",null,null,null,"คน",0,null,4000,null,{"$f":"AZ34*BB34","v":0},null,null,null,null,null,null,null,null,null,null,null,null,null,null,null,null,null,null,null,null,null,null,null,{"$f":"Factor_FB!B35","v":125},{"$f":"Factor_FB!Y33","v":21},0,0,6,1]
[null,125,{"$f":"Factor_FB!BL79","v":3.6877420000000001},{"$f":"Factor_FB!CG34","v":1},{"$f":"Factor_FB!CG81","v":3.5},8.1877420000000001,1.0818774200000001,1.07,1.1576,null,null,null,null,null,null,null,null,null,null,null,null,{"$f":"Factor_FB!B37","v":135},null,6.75,21,21,null,295312.5,null,null,0.21875,null,null,2.2999999999999998,"ค่าฃ่อมบำรุง",null,null,null,"คัน",1,null,1000,null,{"$f":"AN35*AP35","v":1000},null,"รวม",null,null,null,null,null,null,null,null,null,{"$f":"SUM(BD29:BD34)","v":29000},null,null,null,null,null,null,null,null,null,null,null,null,null,null,null,null,null,null,null,null,null,null,null,{"$f":"Factor_FB!B36","v":130},{"$f":"Factor_FB!Y34","v":21},0,0,6,1]
[null,130,{"$f":"Factor_FB!BL80","v":3.5892423076923077},{"$f":"Factor_FB!CG35","v":1},{"$f":"Factor_FB!CG82","v":3.5},8.0892423076923077,1.080892423076923,1.07,1.1566000000000001,null,null,null,null,null,null,null,null,null,null,null,null,{"$f":"Factor_FB!B38","v":140},null,7,21,21,null,306250,null,null,0.21875,null,null,2.4,"ค่าเบี้ยประกันภัยยานพาหนะ",null,null,null,"คัน",1,null,840,null,{"$f":"AN36*AP36","v":840},null,2,"ค่าใช้จ่ายสำนักงานใหญ่(ดูแล 4 โครงการ)",null,null,null,null,null,null,null,null,null,null,null,null,null,null,null,null,null,null,null,null,null,null,null,null,null,null,null,null,null,null,null,null,{"$f":"Factor_FB!B37","v":135},{"$f":"Factor_FB!Y35","v":21},0,0,6,1]
[null,135,{"$f":"Factor_FB!BL81","v":3.4980388888888889},{"$f":"Factor_FB!CG36","v":1},{"$f":"Factor_FB!CG83","v":3.5},7.9980388888888889,1.0799803888888888,1.07,1.1556,null,null,null,null,null,null,null,null,null,null,null,null,{"$f":"Factor_FB!B39","v":145},null,7.25,21,21,null,317187.5,null,null,0.21875,null,null,"รวม",null,null,null,null,null,null,null,null,null,{"$f":"SUM(AR28:AR36)","v":37640},null,2.1,"ค่าใช้จ่ายเอกสารด้านธุรการ",null,null,null,null,1,null,3000,null,{"$f":"(AZ37*BB37)/4","v":750},null,null,null,null,null,null,null,null,null,null,null,null,null,null,null,null,null,null,null,null,null,null,null,{"$f":"Factor_FB!B38","v":140},{"$f":"Factor_FB!Y36","v":21},0,0,6,1]
[null,140,{"$f":"Factor_FB!BL82","v":3.4133499999999999},{"$f":"Factor_FB!CG37","v":1},{"$f":"Factor_FB!CG84","v":3.5},7.9133499999999994,1.0791335,1.07,1.1547000000000001,null,null,null,null,null,null,null,null,null,null,null,null,{"$f":"Factor_FB!B40","v":150},null,7.5,21,21,null,328125,null,null,0.21875,null,null,"      หลักเกณฑ์การคิดค่าใช้จ่ายยานพาหนะ",null,null,null,null,null,null,null,null,null,null,null,2.2000000000000002,"ค่าใช้จ่ายด้านยานพาหนะ",null,null,null,null,1,null,3000,null,750,null,null,null,null,null,null,null,null,null,null,null,null,null,null,null,null,null,null,null,null,null,null,null,{"$f":"Factor_FB!B39","v":145},{"$f":"Factor_FB!Y37","v":21},0,0,6,1]
[null,145,{"$f":"Factor_FB!BL83","v":3.3345017241379304},{"$f":"Factor_FB!CG38","v":1},{"$f":"Factor_FB!CG85","v":3.5},7.8345017241379304,1.0783450172413793,1.07,1.1537999999999999,null,null,null,null,null,null,null,null,null,null,null,null,{"$f":"Factor_FB!B41","v":155},null,7.75,21,21,null,339062.5,null,null,0.21875,null,null,"        ค่าเช่ารถยนต์บรรทุกเล็กเครื่องยนต์ดีเซล",null,null,null,550,"  บาท/วัน","  ระยะทาง",null,null,6,"  กม.",null,2.2999999999999998,"ผู้จัดการใหญ่",null,null,null,"คน",1,null,40000,null,10000,null,null,null,null,null,null,null,null,null,null,null,null,null,null,null,null,null,null,null,null,null,null,null,{"$f":"Factor_FB!B40","v":150},{"$f":"Factor_FB!Y38","v":21},0,0,6,1]
[null,150,{"$f":"Factor_FB!BL84","v":3.26091},{"$f":"Factor_FB!CG39","v":1},{"$f":"Factor_FB!CG86","v":3.5},7.76091,1.0776091000000001,1.07,1.153,null,null,null,null,null,null,null,null,null,null,null,null,{"$f":"Factor_FB!B42","v":160},null,8,21,21,null,350000,null,null,0.21875,null,null,"        อัตราความสิ้นเปลืองเฉลี่ย",null,null,null,8,"  กม./ลิตร","  จำนวนเที่ยวของการใช้รถควบคุมงานไปกลับ",null,null,4,"  เที่ยว",null,2.4,"ช่างเทคนิค",null,null,null,"คน",1,null,8000,null,2000,null,null,null,null,null,null,null,null,null,null,null,null,null,null,null,null,null,null,null,null,null,null,null,{"$f":"Factor_FB!B41","v":155},{"$f":"Factor_FB!Y39","v":21},0,0,6,1]
[null,155,{"$f":"Factor_FB!BL85","v":3.1920661290322578},{"$f":"Factor_FB!CG40","v":1},{"$f":"Factor_FB!CG87","v":3.5},7.6920661290322574,1.0769206612903226,1.07,1.1523000000000001,null,null,null,null,null,null,null,null,null,null,null,null,{"$f":"Factor_FB!B43","v":165},null,8.25,21,21,null,360937.5,null,null,0.21875,null,null,"         ราคาน้ำมันดีเซล",null,null,null,20,"  บาท/ลิตร","  จำนวนวันใน  1  เดือน",null,null,30,"  วัน",null,2.5,"เจ้าหน้าที่บัญชี",null,null,null,"คน",1,null,8000,null,2000,null,null,null,null,null,null,null,null,null,null,null,null,null,null,null,null,null,null,null,null,null,null,null,{"$f":"Factor_FB!B42","v":160},{"$f":"Factor_FB!Y40","v":21},0,0,6,1]
[null,160,{"$f":"Factor_FB!BL86","v":3.1275250000000003},{"$f":"Factor_FB!CG41","v":1},{"$f":"Factor_FB!CG88","v":3.5},7.6275250000000003,1.0762752499999999,1.07,1.1516,null,null,null,null,null,null,null,null,null,null,null,null,{"$f":"Factor_FB!B44","v":170},null,8.5,21,21,null,371875,null,null,0.21875,null,null,null,null,null,null,null,null,null,null,null,null,null,null,2.6,"เจ้าหน้าที่ธุรการ",null,null,null,"คน",1,null,6000,null,1500,null,null,null,null,null,null,null,null,null,null,null,null,null,null,null,null,null,null,null,null,null,null,null,{"$f":"Factor_FB!B43","v":165},{"$f":"Factor_FB!Y41","v":21},0,0,6,1]
[null,165,{"$f":"Factor_FB!BL87","v":3.0668954545454543},{"$f":"Factor_FB!CG42","v":1},{"$f":"Factor_FB!CG89","v":3.5},7.5668954545454543,1.0756689545454545,1.07,1.151,null,null,null,null,null,null,null,null,null,null,null,null,{"$f":"Factor_FB!B45","v":175},null,8.75,21,21,null,382812.5,null,null,0.21875,null,null,null,null,null,null,null,null,null,null,null,null,null,null,2.7,"เจ้าหน้าที่ประสานงาน",null,null,null,"คน",1,null,4000,null,1000,null,null,null,null,null,null,null,null,null,null,null,null,null,null,null,null,null,null,null,null,null,null,null,{"$f":"Factor_FB!B44","v":170},{"$f":"Factor_FB!Y42","v":21},0,0,6,1]
[null,170,{"$f":"Factor_FB!BL88","v":3.0098323529411761},{"$f":"Factor_FB!CG43","v":1},{"$f":"Factor_FB!CG90","v":3.5},7.5098323529411761,1.0750983235294118,1.07,1.1504000000000001,null,null,null,null,null,null,null,null,null,null,null,null,{"$f":"Factor_FB!B46","v":180},null,9,21,21,null,393750,null,null,0.21875,null,null,null,null,null,null,null,null,null,null,null,null,null,null,"รวม",null,null,null,null,null,null,null,null,null,{"$f":"SUM(BD37:BD43)","v":18000},null,null,null,null,null,null,null,null,null,null,null,null,null,null,null,null,null,null,null,null,null,null,null,{"$f":"Factor_FB!B45","v":175},{"$f":"Factor_FB!Y43","v":21},0,0,6,1]
[null,175,{"$f":"Factor_FB!BL89","v":2.9560299999999997},{"$f":"Factor_FB!CG44","v":1},{"$f":"Factor_FB!CG91","v":3.5},7.4560300000000002,1.0745602999999999,1.07,1.1497999999999999,null,null,null,null,null,null,null,null,null,null,null,null,{"$f":"Factor_FB!B47","v":185},null,9.25,21,21,null,404687.5,null,null,0.21875,null,null,null,null,null,null,null,null,null,null,null,null,null,null,null,null,null,null,null,null,null,null,null,null,null,null,null,null,null,null,null,null,null,null,null,null,null,null,null,null,null,null,null,null,null,null,null,null,{"$f":"Factor_FB!B46","v":180},{"$f":"Factor_FB!Y44","v":21},0,0,6,1]
[null,180,{"$f":"Factor_FB!BL90","v":2.9052166666666666},{"$f":"Factor_FB!CG45","v":1},{"$f":"Factor_FB!CG92","v":3.5},7.4052166666666661,1.0740521666666667,1.07,1.1492,null,null,null,null,null,null,null,null,null,null,null,null,{"$f":"Factor_FB!B48","v":190},null,9.5,21,21,null,415625,null,null,0.21875,null,null,null,null,null,null,null,null,null,null,null,null,null,null,null,null,null,null,null,null,null,null,null,null,null,null,null,null,null,null,null,null,null,null,null,null,null,null,null,null,null,null,null,null,null,null,null,null,{"$f":"Factor_FB!B47","v":185},{"$f":"Factor_FB!Y45","v":21},0,0,6,1]
[null,185,{"$f":"Factor_FB!BL91","v":2.8571499999999999},{"$f":"Factor_FB!CG46","v":1},{"$f":"Factor_FB!CG93","v":3.5},7.3571499999999999,1.0735714999999999,1.07,1.1487000000000001,null,null,null,null,null,null,null,null,null,null,null,null,{"$f":"Factor_FB!B49","v":195},null,9.75,21,21,null,426562.5,null,null,0.21875,null,null,null,null,null,null,null,null,null,null,null,null,null,null,null,null,null,null,null,null,null,null,null,null,null,null,null,null,null,null,null,null,null,null,null,null,null,null,null,null,null,null,null,null,null,null,null,null,{"$f":"Factor_FB!B48","v":190},{"$f":"Factor_FB!Y46","v":21},0,0,6,1]
[null,190,{"$f":"Factor_FB!BL92","v":2.8116131578947368},{"$f":"Factor_FB!CG47","v":1},{"$f":"Factor_FB!CG94","v":3.5},7.3116131578947368,1.0731161315789475,1.07,1.1482000000000001,null,null,null,null,null,null,null,null,null,null,null,">",{"$f":"Factor_FB!B50","v":200},null,10,21,21,null,437500,null,null,0.21875,null,null,null,null,null,null,null,null,null,null,null,null,null,null,null,null,null,null,null,null,null,null,null,null,null,null,null,null,null,null,null,null,null,null,null,null,null,null,null,null,null,null,null,null,null,null,null,null,{"$f":"Factor_FB!B49","v":195},{"$f":"Factor_FB!Y47","v":21},0,0,6,1]
[null,195,{"$f":"Factor_FB!BL93","v":2.768411538461538},{"$f":"Factor_FB!CG48","v":1},{"$f":"Factor_FB!CG95","v":3.5},7.268411538461538,1.0726841153846154,1.07,1.1477999999999999,null,null,null,null,null,null,null,null,null,null,null,"หน้าที่  7",null,null,null,null,null,null,null,null,null,null,null,null,"หน้าที่  10",null,null,null,null,null,null,null,null,null,null,null,"หน้าที่  13",null,null,null,null,null,null,null,null,null,null,null,"หน้าที่  16",null,null,null,null,null,null,null,null,null,null,null,null,null,null,null,null,null,null,null,null,">",{"$f":"Factor_FB!B50","v":200},{"$f":"Factor_FB!Y48","v":21},0,0,6,1]
[">",200,{"$f":"Factor_FB!BL94","v":2.7273700000000001},{"$f":"Factor_FB!CG49","v":1},{"$f":"Factor_FB!CG96","v":3.5},7.2273700000000005,1.0722737,1.07,1.1473]
["หมายเหตุ  กรณีค่างานอยู่ระหว่างช่วงของค่างานต้นทุนที่กำหนด ให้เทียบอัตราส่วนเพื่อหาค่า FACTOR F",null,null,null,null,null,null,null,"         สิงหาคม  2549",null,null,null,null,null,null,null,null,null,null,null,"            1.1.2  ค่าธรรมเนียมธนาคารหนังสือค้ำประกันผลงานก่อสร้าง",null,null,null,null,null,null,null,null,null,null,null,null,null,"1.2.3 กรณีค่างานลงทุนไม่เกิน",null,null,100,"ล้านบาท",null,null,null,null,null,null,null,"1.2.3 กรณีค่างานลงทุนไม่เกิน",null,null,100,"ล้านบาท",null,null,null,null,null,null,"รวมค่าใช้จ่ายตามข้อ 1.1 -1.4 (งานสะพานและท่อเหลี่ยม)",null,null,null,null,null,null,null,null,null,null,null,null,null,null,null,null,null,null,null,null,"หน้าที่  18"]
["หน้าที่ 2/1",null,null,null,null,null,null,null,null,null,null,null,null,null,null,null,null,null,null,null,"วงเงินค้ำประกัน",null,5,"%  ของค่างาน",null,null,null,"ระยะเวลา",2,"ปี",null,null,null,"ลำดับที่","ประเภท",null,null,null,"หน่วย","จำนวน","อัตราค่าเช่า/เงินเดือน",null,"ค่าเช่า/เงินเดือน",null,null,"ลำดับที่","ประเภท",null,null,null,"หน่วย","จำนวน","อัตราค่าเช่า/เงินเดือน",null,"ค่าเช่า/เงินเดือน",null,null,null,null,null,null,null,null,null,null,null,null,null,null,null,null,null,null,null,null,null,null,null,"3. กำไร"]
["ตาราง Factor F งานก่อสร้างสะพานและท่อเหลี่ยม เงินกู้",null,null,null,null,null,null,null,null,null,null,null,null,null,null,null,null,null,null,null,"อัตราค่าธรรมเนียม",null,2.5,"% ต่อปี",null,null,null,"ค่าธรรมเนียม",{"$f":"($W$52/100)*($W$53/100)*(2*100)","v":0.25000000000000006},"         % ของค่างาน",null,null,null,null,null,null,null,null,null,null,"บาท/เดือน",null,"บาท/เดือน",null,null,null,null,null,null,null,null,null,"บาท/เดือน",null,"บาท/เดือน",null,null,"ค่างาน ( ทุน )",null,"รวมค่าใช้จ่ายข้อ 1.1","รวมค่าใช้จ่ายข้อ 1.2","รวมค่าใช้จ่ายข้อ 1.3","รวมค่าใช้จ่ายข้อ 1.4","รวมค่าใช้จ่ายทั้งหมด",null,null,null,null,null,null,null,null,null,null,null,null,null,null,null,"ดอกเบี้ยเงินฝากประจำ 12 เดือน สำหรับนิติบุคคล",null,null,null,0,"   % (ยกเลิก)"]
[null,"เงินล่วงหน้าจ่าย",null,{"$f":"D4","v":0},"%","ดอกเบี้ยเงินกู้",null,null,{"$f":"I4","v":6},"% ต่อปี",null,null,null,null,null,null,null,null,null,null," ",null,null,null,null,null,null,null,null,null,null,null,null,1,"อาคาร",null,null,null,null,null,null,null,null,null,null,1.1000000000000001,"ผู้จัดการสนาม ( ดูแล 2 โครงการ )",null,null,null,"คน",0,null,50000,null,{"$f":"(AZ54*BB54)/2","v":0},null,"ล้านบาท",null,"%","%","%","%","%",null,null,null,null,null,null,null,null,null,null,null,null,null,null,null,"ระยะเวลาการเบิกจ่ายค่างาน",null,null,null,0,"  เดือน (ยกเลิก)"]
[null,"เงินประกันผลงานหัก",null,{"$f":"D5","v":0},"%","ค่าภาษีมูลค่าเพิ่ม(VAT)",null,null,0,"% ต่อปี",null,null,null,null,null,null,null,null,null,null,null,"     1.1.3  ค่าอากรแสตมป์ติดสัญญา",null,null,null,null,null,null,null,null,null,null,null,1.1000000000000001,"สำนักงานสนาม เช่าตึกแถว  1  ห้อง",null,null,null,"ห้อง",1,null,3500,null,{"$f":"AN55*AP55","v":3500},null,1.2,"วิศวกรควบคุมงานสนาม",null,null,null,"คน",1,null,20000,null,{"$f":"AZ55*BB55","v":20000},null,"<",{"$f":"Factor_FB!B11","v":5},{"$f":"AE101","v":0.6705000000000001},{"$f":"AQ102","v":4.3487999999999998},{"$f":"BD102","v":4.92},{"$f":"$BK$9","v":0.3},{"$f":"(BH55+BI55+BJ55+BK55)","v":10.2393},null,null,null,null,null,null,null,null,null,null,null,null,null,null,"ค่างาน(ทุน)",null,"กำไรปกติ",null,"กำไรเชิงธุรกิจ",null,"รวมกำไร",null,"หมายเหตุ"]
[null,null,null,null,null,null,null,null,null,null,null,null,null,null,null,null,null,null,null,null,null,null,null,null,null,null,"ค่าอากรแสตมป์",null,0.1,"       % ของค่างาน",null,null,null,1.2,"บ้านพักเจ้าหน้าที่",null,null,null,"หลัง",1,null,3000,null,{"$f":"AN56*AP56","v":3000},null,1.3,"ช่างควบคุมงาน",null,null,null,"คน",1,null,10000,null,{"$f":"AZ56*BB56","v":10000},null,null,{"$f":"Factor_FB!B12","v":10},0.7017500000000001,3.2616000000000001,3.6900000000000004,0.3,7.9533500000000004,null,null,null,null,null,null,null,null,null,null,null,null,null,null,"ล้านบาท",null,"%",null,"%",null,"%"]
["ค่างาน",null,"ค่าใช้จ่ายในการดำเนินงานก่อสร้าง",null,null,null,"รวม","ภาษีมูลค่าเพิ่ม",null,null,null,null,null,null,null,null,null,null,null,null," ",null,null,null,null,null,null,null,null,null,null,null,null,1.3,"ที่จอดเครื่องจักรและโรงฃ่อม",null,null,null,"ตร.ม.",800,null,2,null,{"$f":"AN57*AP57","v":1600},null,1.4,"ช่างเครื่องยนต์",null,null,null,"คน",1,null,7000,null,{"$f":"AZ57*BB57","v":7000},null,null,{"$f":"Factor_FB!B13","v":15},0.7330000000000001,3.0112000000000001,3.76,0.3,7.8041999999999998,null,null,null,null,null,null,null,null,null,null,null,null,null,null,"<",{"$f":"Factor_FB!B11","v":5},{"$f":"$CF$53/4","v":0},null,5.5,null,{"$f":"CC57+CE57","v":5.5}]
["(ทุน)",null,"%",null,null,null,"ในรูป",null,"Factor  F",null,null,null,null,null,null,null,null,null,null,null,"            1.1.4  เงินสมทบกองทุนเงินทดแทน กองทุนประกันสังคม และค่าอากรแสตมป์ติดสัญญา",null,null,null,null,null,null,null,null,null,null,null,null,1.4,"ค่าเอกสารสิ่งพิมพ์และด้านธุรการ",null,null,null,"โครงการ",1,null,3000,null,{"$f":"AN58*AP58","v":3000},null,1.5,"พนักงานธุรการ",null,null,null,"คน",1,null,6000,null,{"$f":"AZ58*BB58","v":6000},null,null,{"$f":"Factor_FB!B14","v":20},0.7642500000000001,2.823,3.65625,0.3,7.5434999999999999,null,null,null,null,null,null,null,null,null,null,null,null,null,null,null,{"$f":"Factor_FB!B12","v":10},0,null,5.5,null,{"$f":"CC58+CE57","v":5.5}]
[null,null,"ค่า","ค่า","ค่า","รวม","Factor","VAT",null,null,null,null,null,null,null,null,null,null,null,null,null,"1.1.4.1 เงินสมทบกองทุนเงินทดแทน",null,null,0.51,null,"% ของค่าแรงงาน",null,null,null,null,null,null,2,"ยานพาหนะ",null,null,null,null,null,null,null,null,0,null,1.6,"คนงานทั่วไป",null,null,null,"คน",0,null,4000,null,{"$f":"AZ59*BB59","v":0},null,null,{"$f":"Factor_FB!B15","v":25},0.7642500000000001,2.2584,3.0300000000000002,0.3,6.3526499999999997,null,null,null,null,null,null,null,null,null,null,null,null,null,null,null,{"$f":"Factor_FB!B13","v":15},0,null,5.5,null,5.5]
["ล้านบาท",null,"อำนวยการ","ดอกเบี้ย","กำไร","ค่าใช้จ่าย",null,null,null,null,null,null,null,null,null,null,null,null,null,null,null,null,"ค่าแรงงาน",null,0.3,null,"% ของค่างาน",null,null,null,null,null,null,2.1,"ค่ารถควบคุมงาน+พนักงานขับรถ",null,null,null,"คัน",1,null,21500,null,{"$f":"AN60*AP60","v":21500},null,"รวม",null,null,null,null,null,null,null,null,null,{"$f":"SUM(BD54:BD59)","v":43000},null,null,{"$f":"Factor_FB!B16","v":30},0.7955000000000001,2.2584,3.1350000000000002,0.3,6.4889000000000001,null,null,null,null,null,null,null,null,null,null,null,null,null,null,null,{"$f":"Factor_FB!B14","v":20},0,null,5.5,null,5.5]
["<",{"$f":"B11","v":5},10.2393,1,5.5,16.7393,1.1673930000000001,{"$f":"$I$55+1","v":1},{"$f":"ROUND((G61*H61),4)","v":1.1674},null,null,null,null,null,null,null,null,null,null,null,null,null,"เงินสมทบ","0.51*0.30",null,null,{"$f":"$Y$59*$Y$60","v":0.153},"% ของค่างาน",null,null,null,null,null,2.2000000000000002,"ค่าน้ำมันเชื้อเพลิง",null,null,null,"คัน",1,null,3600,null,{"$f":"AN61*AP61","v":3600},null,2,"ค่าใช้จ่ายสำนักงานใหญ่ ( ดูแล 4 โครงการ )",null,null,null,null,null,null,null,null,null,null,null,{"$f":"Factor_FB!B17","v":35},0.80591666666666673,2.0433142857142856,2.9314285714285715,0.3,6.0806595238095236,null,null,null,null,null,null,null,null,null,null,null,null,null,null,null,{"$f":"Factor_FB!B15","v":25},0,null,5,null,5.5]
[null,10,7.9533500000000004,1,5.5,14.45335,1.1445335000000001,1,{"$f":"ROUND((G62*H62),4)","v":1.1445000000000001},null,null,null,null,null,null,null,null,null,null,null,null,null,null,null,null,null,null,null,null,null,null,null,null,2.2999999999999998,"ค่าฃ่อมบำรุง",null,null,null,"คัน",1,null,1000,null,{"$f":"AN62*AP62","v":1000},null,2.1,"ค่าใช้จ่ายเอกสารด้านธุรการ ",null,null,null,null,1,null,3000,null,{"$f":"(AZ62*BB62)/4","v":750},null,null,{"$f":"Factor_FB!B18","v":40},0.80591666666666673,1.7879,2.6481250000000003,0.3,5.5419416666666672,null,null,null,null,null,null,null,null,null,null,null,null,null,null,null,{"$f":"Factor_FB!B16","v":30},0,null,5,null,5]
[null,15,{"$f":"C13","v":7.8041999999999998},1,5.5,14.3042,1.1430419999999999,1,{"$f":"ROUND((G63*H63),4)","v":1.143},null,null,null,null,null,null,null,null,null,null,null,null,"1.1.4.2 เงินสมทบกองทุนประกันสังคม",null,null,0.35,null,"% ของค่าแรงงาน",null,null,null,null,null,null,2.4,"ค่าเบี้ยประกันภัยยานพาหนะ",null,null,null,"คัน",1,null,840,null,{"$f":"AN63*AP63","v":840},null,2.2000000000000002,"ค่าใช้จ่ายด้านยานพาหนะ",null,null,null,null,1,null,3000,null,750,null,null,{"$f":"Factor_FB!B19","v":45},0.80591666666666673,1.5892444444444445,2.427777777777778,0.3,5.1229388888888892,null,null,null,null,null,null,null,null,null,null,null,null,null,null,null,{"$f":"Factor_FB!B17","v":35},0,null,5,null,5]
[null,20,7.5434999999999999,1,5.5,14.0435,1.1404350000000001,1,1.1404000000000001,null,null,null,null,null,null,null,null,null,null,null,null,null,"ค่าแรงงาน",null,0.3,null,"% ของค่าแรงงาน",null,null,null,null,null,null,"รวม",null,null,null,null,null,null,null,null,null,{"$f":"SUM(AR55:AR63)","v":38040},null,2.2999999999999998,"ผู้จัดการใหญ่",null,null,null,"คน",1,null,50000,null,12500,null,null,{"$f":"Factor_FB!B20","v":50},0.80591666666666673,1.43032,2.2515000000000001,0.3,4.7877366666666665,null,null,null,null,null,null,null,null,null,null,null,null,null,null,null,{"$f":"Factor_FB!B18","v":40},0,null,4.5,null,5]
[null,25,6.3526499999999997,1,5.5,12.852650000000001,1.1285265,1,1.1285000000000001,null,null,null,null,null,null,null,null,null,null,null,null,null,"เงินสมทบ","0.35*0.30",null,null,{"$f":"$Y$63*$Y$64","v":0.105},"% ของค่างาน",null,null,null,null,null,"      หลักเกณฑ์การคิดค่าใช้จ่ายยานพาหนะ",null,null,null,null,null,null,null,null,null,null,null,2.4,"ช่างเทคนิค",null,null,null,"คน",1,null,8000,null,2000,null,null,{"$f":"Factor_FB!B21","v":55},0.80591666666666673,1.3141090909090909,2.1936363636363634,0.3,4.6136621212121209,null,null,null,null,null,null,null,null,null,null,null,null,null,null,null,{"$f":"Factor_FB!B19","v":45},0,null,4.5,null,4.5]
[null,30,6.4889000000000001,1,5,12.488900000000001,1.124889,1,1.1249,null,null,null,null,null,null,null,null,null,null,null,null,null,null,null,null,null,null,null,null,null,null,null,null,"        ค่าเช่ารถยนต์บรรทุกเล็กเครื่องยนต์ดีเซล",null,null,null,550,"  บาท/วัน","  ระยะทาง",null,null,6,"  กม.",null,2.5,"เจ้าหน้าที่บัญชี",null,null,null,"คน",1,null,8000,null,2000,null,null,{"$f":"Factor_FB!B22","v":60},0.80591666666666673,1.2045999999999999,2.1438333333333333,0.3,4.4543499999999998,null,null,null,null,null,null,null,null,null,null,null,null,null,null,null,{"$f":"Factor_FB!B20","v":50},0,null,4.5,null,4.5]
[null,35,6.0806595238095236,1,5,12.080659523809523,1.1208065952380952,1,1.1208,null,null,null,null,null,null,null,null,null,null,null,null,"รวมค่าใช้จ่ายเงินสมทบกองทุนทดแทน และประกันสังคม",null,null,null,null,null,null,{"$f":"($AA$61+$AA$65)","v":0.25800000000000001},"         % ของค่างาน",null,null,null,"        อัตราความสิ้นเปลืองเฉลี่ย",null,null,null,8,"  กม./ลิตร","  จำนวนเที่ยวของการใช้รถควบคุมงานไปกลับ",null,null,4,"  เที่ยว",null,2.6,"เจ้าหน้าที่ธุรการ",null,null,null,"คน",1,null,6000,null,1500,null,null,{"$f":"Factor_FB!B23","v":65},0.8267500000000001,1.2289846153846153,2.3164615384615383,0.3,4.6721961538461541,null,null,null,null,null,null,null,null,null,null,null,null,null,null,null,{"$f":"Factor_FB!B21","v":55},0,null,4.5,null,4.5]
[null,40,5.5419416666666672,1,5,11.541941666666666,1.1154194166666667,1,1.1153999999999999,null,null,null,null,null,null,null,null,null,null,null,null,null,null,null,null,null,null,null,null,null,null,null,null,"         ราคาน้ำมันดีเซล",null,null,null,20,"  บาท/ลิตร","  จำนวนวันใน  1  เดือน",null,null,30,"  วัน",null,2.7,"เจ้าหน้าที่ประสานงาน",null,null,null,"คน",1,null,4000,null,1000,null,null,{"$f":"Factor_FB!B24","v":70},0.8267500000000001,1.1412,2.2709999999999999,0.3,4.5389499999999998,null,null,null,null,null,null,null,null,null,null,null,null,null,null,null,{"$f":"Factor_FB!B22","v":60},0,null,4,null,4.5]
[null,45,5.1229388888888892,1,4.5,10.622938888888889,1.106229388888889,1,1.1062000000000001,null,null,null,null,null,null,null,null,null,null,null," ",null,null,null,null,null,null,null,null,null,null,null,null,null,null,null,null,null,null,null,null,null,null,null,null,"รวม",null,null,null,null,null,null,null,null,null,{"$f":"SUM(BD62:BD68)","v":20500},null,null,{"$f":"Factor_FB!B25","v":75},0.8267500000000001,1.0651200000000001,2.2315999999999998,0.3,4.42347,null,null,null,null,null,null,null,null,null,null,null,null,null,null,null,{"$f":"Factor_FB!B23","v":65},0,null,4,null,4]
[null,50,4.7877366666666665,1,4.5,10.287736666666667,1.1028773666666667,1,1.1029,null,null,null,null,null,null,null,null,null,null,null," ",null,null,null,null,null,null,null,null,null,null,null,null,null,"1.2.4 กรณีค่างานลงทุนเกิน",null,null,100,"ล้านบาท",null,null,null,null,null,null,null,null,null,null,null,null,null,null,null,null,null,null,null,{"$f":"Factor_FB!B26","v":80},0.8267500000000001,0.99855000000000005,2.1971249999999998,0.3,4.322425,null,null,null,null,null,null,null,null,null,null,null,null,null,null,null,{"$f":"Factor_FB!B24","v":70},0,null,4,null,4]
[null,55,4.6136621212121209,1,4.5,10.113662121212121,1.1011366212121212,1,1.1011,null,null,null,null,null,null,null,null,null,null,null," ",null,null,null,null,null,null,null,null,null,null,null,null,"ลำดับที่","ประเภท",null,null,null,"หน่วย","จำนวน","อัตราค่าเช่า/เงินเดือน",null,"ค่าเช่า/เงินเดือน",null,null,null,"1.2.4 กรณีค่างานลงทุนเกิน",null,null,100,"ล้านบาท",null,null,null,null,null,null,null,{"$f":"Factor_FB!B27","v":85},0.8267500000000001,0.93981176470588235,2.1667058823529413,0.3,4.233267647058824,null,null,null,null,null,null,null,null,null,null,null,null,null,null,null,{"$f":"Factor_FB!B25","v":75},0,null,4,null,4]
[null,60,4.4543499999999998,1,4.5,9.9543499999999998,1.0995435,1,1.0994999999999999,null,null,null,null,null,null,null,null,null,null,null," ",null,null,null,null,null,null,null,null,null,null,null,null,null,null,null,null,null,null,null,"บาท/เดือน",null,"บาท/เดือน",null,null,"ลำดับที่","ประเภท",null,null,null,"หน่วย","จำนวน","อัตราค่าเช่า/เงินเดือน",null,"ค่าเช่า/เงินเดือน",null,null,null,{"$f":"Factor_FB!B28","v":90},0.8267500000000001,0.88759999999999994,2.1396666666666668,0.3,4.1540166666666671,null,null,null,null,null,null,null,null,null,null,null,null,null,null,null,{"$f":"Factor_FB!B26","v":80},0,null,4,null,4]
[null,65,{"$f":"C23","v":4.6721961538461541},1,4,9.6721961538461549,1.0967219615384616,1,1.0967,null,null,null,null,null,null,null,null,null,null,null," ",null,null,null,null,null,null,null,null,null,null,null,null,1,"อาคาร",null,null,null,null,null,null,null,null,null,null,null,null,null,null,null,null,null,"บาท/เดือน",null,"บาท/เดือน",null,null,null,{"$f":"Factor_FB!B29","v":95},0.8267500000000001,0.84088421052631579,2.1154736842105262,0.3,4.083107894736842,null,null,null,null,null,null,null,null,null,null,null,null,null,null,null,{"$f":"Factor_FB!B27","v":85},0,null,4,null,4]
[null,70,4.5389499999999998,1,4,9.5389499999999998,1.0953895,1,1.0953999999999999,null,null,null,null,null,null,null,null,null,null,null," ",null,null,null,null,null,null,null,null,null,null,null,null,1.1000000000000001,"สำนักงานสนาม เช่าตึกแถว  1  ห้อง",null,null,null,"ห้อง",1,null,3500,null,{"$f":"AN74*AP74","v":3500},null,1,"บุคคลากร",null,null,null,null,null,null,null,null," ",null,null,{"$f":"Factor_FB!B30","v":100},0.8267500000000001,0.79883999999999999,2.0937000000000001,0.3,4.0192899999999998,null,null,null,null,null,null,null,null,null,null,null,null,null,null,null,{"$f":"Factor_FB!B28","v":90},0,null,4,null,4]
[null,75,4.42347,1,4,9.42347,1.0942346999999999,1,1.0942000000000001,null,null,null,null,null,null,null,null,null,null,null," ",null,null,null,null,null,null,null,null,null,null,null,null,1.2,"บ้านพักเจ้าหน้าที่",null,null,null,"หลัง",1,null,3000,null,{"$f":"AN75*AP75","v":3000},null,1.1000000000000001,"ผู้จัดการสนาม ( ดูแล 2 โครงการ )",null,null,null,"คน",1,null,50000,null,{"$f":"(AZ75*BB75)/2","v":25000},null,null,{"$f":"Factor_FB!B31","v":105},0.8267500000000001,0.76880000000000004,2.2799999999999998,0.3,4.1755500000000003,null,null,null,null,null,null,null,null,null,null,null,null,null,null,null,{"$f":"Factor_FB!B29","v":95},0,null,4,null,4]
[null,80,4.322425,1,4,9.3224249999999991,1.09322425,1,1.0931999999999999,null,null,null,null,null,null,null,null,null,null,null," ",null,null,null,null,null,null,null,null,null,null,null,null,1.3,"ที่จอดเครื่องจักรและโรงฃ่อม",null,null,null,"ตร.ม.",1000,null,2,null,{"$f":"AN76*AP76","v":2000},null,1.2,"วิศวกรควบคุมงานสนาม",null,null,null,"คน",1,null,20000,null,{"$f":"AZ76*BB76","v":20000},null,null,{"$f":"Factor_FB!B32","v":110},0.8267500000000001,0.73385454545454543,2.1763636363636363,0.3,4.0369681818181817,null,null,null,null,null,null,null,null,null,null,null,null,null,null,null,{"$f":"Factor_FB!B30","v":100},0,null,3.5,null,4]
[null,85,4.233267647058824,1,4,9.233267647058824,1.0923326764705883,1,1.0923,null,null,null,null,null,null,null,null,null,null,null," ",null,null,null,null,null,null,null,null,null,null,null,null,1.4,"ค่าเอกสารสิ่งพิมพ์และด้านธุรการ",null,null,null,"โครงการ",1,null,3000,null,{"$f":"AN77*AP77","v":3000},null,1.3,"ช่างควบคุมงาน",null,null,null,"คน",2,null,10000,null,{"$f":"AZ77*BB77","v":20000},null,null,{"$f":"Factor_FB!B33","v":115},0.8267500000000001,0.70194782608695649,2.0817391304347828,0.3,3.9104369565217389,null,null,null,null,null,null,null,null,null,null,null,null,null,null,null,{"$f":"Factor_FB!B31","v":105},0,null,3.5,null,3.5]
[null,90,4.1540166666666671,1,4,9.1540166666666671,1.0915401666666666,1,1.0914999999999999,null,null,null,null,null,null,null,null,null,null,null," ",null,null,null,null,null,null,null,null,null,null,null,null,2,"ยานพาหนะ",null,null,null,null,null,null,null,null,0,null,1.4,"ช่างเครื่องยนต์",null,null,null,"คน",2,null,7000,null,{"$f":"AZ78*BB78","v":14000},null,null,{"$f":"Factor_FB!B34","v":120},0.8267500000000001,0.67269999999999996,1.9950000000000001,0.3,3.7944499999999999,null,null,null,null,null,null,null,null,null,null,null,null,null,null,null,{"$f":"Factor_FB!B32","v":110},0,null,3.5,null,3.5]
[null,95,4.083107894736842,1,4,9.0831078947368411,1.0908310789473683,1,1.0908,null,null,null,null,null,null,null,null,null,null,null," ",null,null,null,null,null,null,null,null,null,null,null,null,2.1,"ค่ารถควบคุมงาน+พนักงานขับรถ",null,null,null,"คัน",1,null,21500,null,{"$f":"AN79*AP79","v":21500},null,1.5,"พนักงานธุรการ",null,null,null,"คน",1,null,6000,null,{"$f":"AZ79*BB79","v":6000},null,null,{"$f":"Factor_FB!B35","v":125},0.8267500000000001,0.64579200000000003,1.9152,0.3,3.6877420000000001,null,null,null,null,null,null,null,null,null,null,null,null,null,null,null,{"$f":"Factor_FB!B33","v":115},0,null,3.5,null,3.5]
[null,100,4.0192899999999998,1,4,9.0192899999999998,1.0901928999999999,1,1.0902000000000001,null,null,null,null,null,null,null,null,null,null,null," ",null,null,null,null,null,null,null,null,null,null,null,null,2.2000000000000002,"ค่าน้ำมันเชื้อเพลิง",null,null,null,"คัน",1,null,3600,null,{"$f":"AN80*AP80","v":3600},null,1.6,"คนงานทั่วไป",null,null,null,"คน",0,null,3000,null,{"$f":"AZ80*BB80","v":0},null,null,{"$f":"Factor_FB!B36","v":130},0.8267500000000001,0.62095384615384619,1.8415384615384616,0.3,3.5892423076923077,null,null,null,null,null,null,null,null,null,null,null,null,null,null,null,{"$f":"Factor_FB!B34","v":120},0,null,3.5,null,3.5]
[null,105,4.1755500000000003,1,3.5,8.6755500000000012,1.0867555,1,1.0868,null,null,null,null,null,null,null,null,null,null,null," ",null,null,null,null,null,null,null,null,null,null,null,null,2.2999999999999998,"ค่าฃ่อมบำรุง",null,null,null,"คัน",1,null,1000,null,{"$f":"AN81*AP81","v":1000},null,"รวม",null,null,null,null,null,null,null,null,null,{"$f":"SUM(BD75:BD80)","v":85000},null,null,{"$f":"Factor_FB!B37","v":135},0.8267500000000001,0.59795555555555557,1.7733333333333334,0.3,3.4980388888888889,null,null,null,null,null,null,null,null,null,null,null,null,null,null,null,{"$f":"Factor_FB!B35","v":125},0,null,3.5,null,3.5]
[null,110,4.0369681818181817,1,3.5,8.5369681818181817,1.0853696818181817,1,1.0853999999999999,null,null,null,null,null,null,null,null,null,null,null," ",null,null,null,null,null,null,null,null,null,null,null,null,2.4,"ค่าเบี้ยประกันภัยยานพาหนะ",null,null,null,"คัน",1,null,840,null,{"$f":"AN82*AP82","v":840},null,2,"ค่าใช้จ่ายสำนักงานใหญ่ ( ดูแล 4 โครงการ )",null,null,null,null,null,null,null,null,null,null,null,{"$f":"Factor_FB!B38","v":140},0.8267500000000001,0.5766,1.71,0.3,3.4133499999999999,null,null,null,null,null,null,null,null,null,null,null,null,null,null,null,{"$f":"Factor_FB!B36","v":130},0,null,3.5,null,3.5]
[null,115,{"$f":"C33","v":3.9104369565217389},1,3.5,8.4104369565217389,1.0841043695652175,1,1.0841000000000001,null,null,null,null,null,null,null,null,null,null,null," ",null,null,null,null,null,null,null,null,null,null,null,null,"รวม",null,null,null,null,null,null,null,null,null,{"$f":"SUM(AR74:AR82)","v":38440},null,2.1,"ค่าใช้จ่ายเอกสารด้านธุรการ",null,null,null,null,1,null,3000,null,{"$f":"(AZ83*BB83)/4","v":750},null,null,{"$f":"Factor_FB!B39","v":145},0.8267500000000001,0.55671724137931033,1.6510344827586205,0.3,3.3345017241379304,null,null,null,null,null,null,null,null,null,null,null,null,null,null,null,{"$f":"Factor_FB!B37","v":135},0,null,3.5,null,3.5]
[null,120,3.7944499999999999,1,3.5,8.2944499999999994,1.0829445,1,1.0829,null,null,null,null,null,null,null,null,null,null,null," ",null,null,null,null,null,null,null,null,null,null,null,null,"      หลักเกณฑ์การคิดค่าใช้จ่ายยานพาหนะ",null,null,null,null,null,null,null,null,null,null,null,2.2000000000000002,"ค่าใช้จ่ายด้านยานพาหนะ",null,null,null,null,1,null,3000,null,750,null,null,{"$f":"Factor_FB!B40","v":150},0.8267500000000001,0.53815999999999997,1.5960000000000001,0.3,3.26091,null,null,null,null,null,null,null,null,null,null,null,null,null,null,null,{"$f":"Factor_FB!B38","v":140},0,null,3.5,null,3.5]
[null,125,3.6877420000000001,1,3.5,8.1877420000000001,1.0818774200000001,1,1.0819000000000001,null,null,null,null,null,null,null,null,null,null,null," ",null,null,null,null,null,null,null,null,null,null,null,null,"        ค่าเช่ารถยนต์บรรทุกเล็กเครื่องยนต์ดีเซล",null,null,null,550,"  บาท/วัน","  ระยะทาง",null,null,6,"  กม.",null,2.2999999999999998,"ผู้จัดการใหญ่",null,null,null,"คน",1,null,84000,null,21000,null,null,{"$f":"Factor_FB!B41","v":155},0.8267500000000001,0.52080000000000004,1.544516129032258,0.3,3.1920661290322578,null,null,null,null,null,null,null,null,null,null,null,null,null,null,null,{"$f":"Factor_FB!B39","v":145},0,null,3.5,null,3.5]
[null,130,3.5892423076923077,1,3.5,8.0892423076923077,1.080892423076923,1,1.0809,null,null,null,null,null,null,null,null,null,null,null," ",null,null,null,null,null,null,null,null,null,null,null,null,"        อัตราความสิ้นเปลืองเฉลี่ย",null,null,null,8,"  กม./ลิตร","  จำนวนเที่ยวของการใช้รถควบคุมงานไปกลับ",null,null,4,"  เที่ยว",null,2.4,"ช่างเทคนิค",null,null,null,"คน",1,null,8000,null,2000,null,null,{"$f":"Factor_FB!B42","v":160},0.8267500000000001,0.504525,1.4962500000000001,0.3,3.1275250000000003,null,null,null,null,null,null,null,null,null,null,null,null,null,null,null,{"$f":"Factor_FB!B40","v":150},0,null,3.5,null,3.5]
[null,135,3.4980388888888889,1,3.5,7.9980388888888889,1.0799803888888888,1,1.08,null,null,null,null,null,null,null,null,null,null,null," ",null,null,null,null,null,null,null,null,null,null,null,null,"         ราคาน้ำมันดีเซล",null,null,null,20,"  บาท/ลิตร","  จำนวนวันใน  1  เดือน",null,null,30,"  วัน",null,2.5,"เจ้าหน้าที่บัญชี",null,null,null,"คน",1,null,8000,null,2000,null,null,{"$f":"Factor_FB!B43","v":165},0.8267500000000001,0.48923636363636364,1.4509090909090909,0.3,3.0668954545454543,null,null,null,null,null,null,null,null,null,null,null,null,null,null,null,{"$f":"Factor_FB!B41","v":155},0,null,3.5,null,3.5]
[null,140,3.4133499999999999,1,3.5,7.9133499999999994,1.0791335,1,1.0790999999999999,null,null,null,null,null,null,null,null,null,null,null," ",null,null,null,null,null,null,null,null,null,null,null,null,null,null,null,null,null,null,null,null,null,null,null,null,2.6,"เจ้าหน้าที่ธุรการ",null,null,null,"คน",1,null,6000,null,1500,null,null,{"$f":"Factor_FB!B44","v":170},0.8267500000000001,0.4748470588235294,1.408235294117647,0.3,3.0098323529411761,null,null,null,null,null,null,null,null,null,null,null,null,null,null,null,{"$f":"Factor_FB!B42","v":160},0,null,3.5,null,3.5]
[null,145,3.3345017241379304,1,3.5,7.8345017241379304,1.0783450172413793,1,1.0783,null,null,null,null,null,null,null,null,null,null,null," ",null,null,null,null,null,null,null,null,null,null,null,null,null,null,null,null,null,null,null,null,null,null,null,null,2.7,"เจ้าหน้าที่ประสานงาน",null,null,null,"คน",1,null,4000,null,1000,null,null,{"$f":"Factor_FB!B45","v":175},0.8267500000000001,0.46128000000000002,1.3679999999999999,0.3,2.9560299999999997,null,null,null,null,null,null,null,null,null,null,null,null,null,null,null,{"$f":"Factor_FB!B43","v":165},0,null,3.5,null,3.5]
[null,150,3.26091,1,3.5,7.76091,1.0776091000000001,1,1.0775999999999999,null,null,null,null,null,null,null,null,null,null,null," ",null,null,null,null,null,null,null,null,null,null,null,null,null,null,null,null,null,null,null,null,null,null,null,null,"รวม",null,null,null,null,null,null,null,null,null,{"$f":"SUM(BD83:BD89)","v":29000},null,null,{"$f":"Factor_FB!B46","v":180},0.8267500000000001,0.44846666666666668,1.33,0.3,2.9052166666666666,null,null,null,null,null,null,null,null,null,null,null,null,null,null,null,{"$f":"Factor_FB!B44","v":170},0,null,3.5,null,3.5]
[null,155,3.1920661290322578,1,3.5,7.6920661290322574,1.0769206612903226,1,1.0769,null,null,null,null,null,null,null,null,null,null,null," ",null,null,null,null,null,null,null,null,null,null,null,null,null,null,null,null,null,null,null,null,null,null,null,null,null,null,null,null,null,null,null,null,null,null,null,null,null,{"$f":"Factor_FB!B47","v":185},0.8267500000000001,0.43634594594594595,1.2940540540540542,0.3,2.8571499999999999,null,null,null,null,null,null,null,null,null,null,null,null,null,null,null,{"$f":"Factor_FB!B45","v":175},0,null,3.5,null,3.5]
[null,160,3.1275250000000003,1,3.5,7.6275250000000003,1.0762752499999999,1,1.0763,null,null,null,null,null,null,null,null,null,null,null," ",null,null,null,null,null,null,null,null,null,null,null,null,null,null,null,null,null,null,null,null,null,null,null,null,null,null,null,null,null,null,null,null,null,null,null,null,null,{"$f":"Factor_FB!B48","v":190},0.8267500000000001,0.42486315789473683,1.26,0.3,2.8116131578947368,null,null,null,null,null,null,null,null,null,null,null,null,null,null,null,{"$f":"Factor_FB!B46","v":180},0,null,3.5,null,3.5]
[null,165,{"$f":"C43","v":3.0668954545454543},1,3.5,7.5668954545454543,1.0756689545454545,1,1.0757000000000001,null,null,null,null,null,null,null,null,null,null,null," ",null,null,null,null,null,null,null,null,null,null,null,null,null,null,null,null,null,null,null,null,null,null,null,null,null,null,null,null,null,null,null,null,null,null,null,null,null,{"$f":"Factor_FB!B49","v":195},0.8267500000000001,0.41396923076923076,1.2276923076923076,0.3,2.768411538461538,null,null,null,null,null,null,null,null,null,null,null,null,null,null,null,{"$f":"Factor_FB!B47","v":185},0,null,3.5,null,3.5]
[null,170,3.0098323529411761,1,3.5,7.5098323529411761,1.0750983235294118,1,1.0750999999999999,null,null,null,null,null,null,null,null,null,null,null," ",null,null,null,null,null,null,null,null,null,null,null,null,null,null,null,null,null,null,null,null,null,null,null,null,null,null,null,null,null,null,null,null,null,null,null,null,">",{"$f":"Factor_FB!B50","v":200},0.8267500000000001,0.40361999999999998,1.1970000000000001,0.3,2.7273700000000001,null,null,null,null,null,null,null,null,null,null,null,null,null,null,null,{"$f":"Factor_FB!B48","v":190},0,null,3.5,null,3.5]
[null,175,2.9560299999999997,1,3.5,7.4560300000000002,1.0745602999999999,1,1.0746,null,null,null,null,null,null,null,null,null,null,null," ",null,null,null,null,null,null,null,null,null,null,null,null,null,null,null,null,null,null,null,null,null,null,null,null,null,null,null,null,null,null,null,null,null,null,null,null,null,null,null,null,null,null,null,null,null,null,null,null,null,null,null,null,null,null,null,null,null,null,{"$f":"Factor_FB!B49","v":195},0,null,3.5,null,3.5]
[null,180,2.9052166666666666,1,3.5,7.4052166666666661,1.0740521666666667,1,1.0741000000000001,null,null,null,null,null,null,null,null,null,null,null,"หน้าที่  8",null,null,null,null,null,null,null,null,null,null,null,null,"หน้าที่  11",null,null,null,null,null,null,null,null,null,null,null,"หน้าที่  14",null,null,null,null,null,null,null,null,null,null,null,null,null,null,null,null,null,null,null,null,null,null,null,null,null,null,null,null,null,null,null,null,">",{"$f":"Factor_FB!B50","v":200},0,null,3.5,null,3.5]
[null,185,2.8571499999999999,1,3.5,7.3571499999999999,1.0735714999999999,1,1.0736000000000001,null,null,null,null,null,null,null,null,null,null,null," "]
[null,190,2.8116131578947368,1,3.5,7.3116131578947368,1.0731161315789475,1,1.0730999999999999,null,null,null,null,null,null,null,null,null,null,null,"รวมค่าใช้จ่ายตามข้อ 1.1 (งานสะพานและท่อเหลี่ยม)",null,null,null,null,null,null,null,null,null,null,null,null,"รวมค่าใช้จ่ายตามข้อ 1.2 (งานสะพานและท่อเหลี่ยม)",null,null,null,null,null,null,null,null,null,null,null,"รวมค่าใช้จ่ายตามข้อ 1.3 (งานสะพานและท่อเหลี่ยม)"]
[null,195,2.768411538461538,1,3.5,7.268411538461538,1.0726841153846154,1,1.0727,null,null,null,null,null,null,null,null,null,null,null,"ค่างาน ( ทุน )",null,"ข้อ 1.1.1",null,"ข้อ 1.1.2",null,null,"ข้อ 1.1.3","ข้อ 1.1.4",null,"รวม",null,null,"ค่างาน(ทุน)",null,null,"ระยะเวลา","ค่าใช้จ่าย",null,"รวมค่าใช้จ่าย",null,"ค่าใช้จ่าย ข้อ 1-2",null,null,null,"ค่างาน(ทุน)",null,"ระยะเวลา","ค่าใช้จ่าย","รวม","ค่า","ทุน","ค่า","รวม","ค่า","รวมค่า"]
[">",200,2.7273700000000001,1,3.5,7.2273700000000005,1.0722737,1,1.0723,null,null,null,null,null,null,null,null,null,null,null,"ล้านบาท",null,"ค้ำประกันสัญญา%",null,"ค้ำประกันผลงาน%",null,null,"ค่าอากร%","กองทุนทดแทน+ประกันสังคม%",null,"%",null,null,null,null,null,null,"ข้อ 1-2 เป็นเงิน",null,"ข้อ 1-2 ทั้งหมดเป็นเงิน",null,"คิดเป็นร้อยละของค่างาน",null,null,null,null,null,null,"ข้อ 1","ค่าใช้จ่าย","ใช้จ่ายข้อ 1 ","หมุนเวียน","ใช้จ่ายข้อ 2","ค่าใช้จ่าย","ใช้จ่ายข้อ 2","ใช้จ่าย 1-2"]
["หมายเหตุ  กรณีค่างานอยู่ระหว่างช่วงของค่างานต้นทุนที่กำหนด ให้เทียบอัตราส่วนเพื่อหาค่า FACTOR F",null,null,null,null,null,null,null,"          ต.ค. 2544",null,null,null,null,null,null,null,null,null,null,null,"<",{"$f":"V9","v":5},null,{"$f":"AE9","v":6.25E-2},null,null,{"$f":"$AC$53","v":0.25000000000000006},{"$f":"$AC$56","v":0.1},null,{"$f":"$AC$67","v":0.25800000000000001},{"$f":"(X101+AA101+AB101+AD101)","v":0.6705000000000001},null,null,"ล้านบาท",null,null,"เดือน","(บาท/เดือน)",null,"(บาท)",null,"(%)",null,null,null,"ล้านบาท",null,"เดือน","บาท/เดือน","บาท","%","ล้านบาท","บาท/เดือน","บาท","%","%"]
["หน้าที่ 3",null,null,null,null,null,null,null,null,null,null,null,null,null,null,null,null,null,null,null,null,10,null,9.375E-2,null,null,0.25000000000000006,0.1,null,0.25800000000000001,0.7017500000000001,null,null,"<",{"$f":"V9","v":5},null,{"$f":"Y9","v":6},null,{"$f":"$AR$18","v":36240},null,{"$f":"(AK102*AM102)","v":217440},null,{"$f":"(AO102*100)/(AI102*1000000)","v":4.3487999999999998},null,null,"<",{"$f":"V9","v":5},{"$f":"Y9","v":6},{"$f":"$BD$14","v":27000},{"$f":"(AV102*AW102)","v":162000},{"$f":"(AX102*100)/(AU102*1000000)","v":3.24},40,{"$f":"$BD$23","v":14000},{"$f":"(AV102*BA102)","v":84000},{"$f":"(BB102*100)/(AU102*1000000)","v":1.68},{"$f":"AY102+BC102","v":4.92}]
[null,null,null,null,null,null,null,null,null,null,null,null,null,null,null,null,null,null,null,null,null,15,null,0.125,null,null,0.25000000000000006,0.1,null,0.25800000000000001,0.7330000000000001,null,null,null,10,null,9,null,{"$f":"$AR$18","v":36240},null,326160,null,3.2616000000000001,null,null,null,10,9,{"$f":"$BD$14","v":27000},243000,2.4300000000000002,40,{"$f":"$BD$23","v":14000},126000,1.26,3.6900000000000004]
["หลักเกณฑ์การใช้ตาราง FACTOR F งานก่อสร้างสะพานและท่อเหลี่ยม",null,null,null,null,null,null,null,null,null,null,null,null,null,null,null,null,null,null,null,null,20,null,0.15625,null,null,0.25000000000000006,0.1,null,0.25800000000000001,0.7642500000000001,null,null,null,15,null,12,null,{"$f":"$AR$37","v":37640},null,451680,null,3.0112000000000001,null,null,null,15,12,{"$f":"$BD$35","v":29000},348000,2.3199999999999998,200,{"$f":"$BD$44","v":18000},216000,1.44,3.76]
[null,null,null,null,null,null,null,null,null,null,null,null,null,null,null,null,null,null,null,null,null,25,null,0.15625,null,null,0.25000000000000006,0.1,null,0.25800000000000001,0.7642500000000001,null,null,null,20,null,15,null,37640,null,564600,null,2.823,null,null,null,20,15,{"$f":"$BD$35+1750*((AU105-$AU$105)/5+1)","v":30750},461250,2.3062499999999999,200,18000,270000,1.35,3.65625]
[1,"กรณีค่างานอยู่ระหว่างช่วงของค่างานต้นทุนที่กำหนด  ให้เทียบอัตราส่วนเพื่อหา Factor F",null,null,null,null,null,null,null,null,null,null,null,null,null,null,null,null,null,null,null,30,null,0.1875,null,null,0.25000000000000006,0.1,null,0.25800000000000001,0.7955000000000001,null,null,null,25,null,15,null,37640,null,564600,null,2.2584,null,null,null,25,15,32500,487500,1.95,200,18000,270000,1.08,3.0300000000000002]
[2,"งานสะพานและ/หรือท่อเหลี่ยม ทางแยกต่างระดับที่อยู่ในงานทาง ให้แยกค่างานต้นทุนและใช้ Factor F งานสะพาน",null,null,null,null,null,null,null,null,null,null,null,null,null,null,null,null,null,null,null,35,null,0.19791666666666666,null,null,0.25000000000000006,0.1,null,0.25800000000000001,0.80591666666666673,null,null,null,30,null,18,null,37640,null,677520,null,2.2584,null,null,null,30,18,34250,616500,2.0550000000000002,200,18000,324000,1.08,3.1350000000000002]
[null,"และท่อเหลี่ยม",null,null,null,null,null,null,null,null,null,null,null,null,null,null,null,null,null,null,null,40,null,0.19791666666666666,null,null,0.25000000000000006,0.1,null,0.25800000000000001,0.80591666666666673,null,null,null,35,null,19,null,37640,null,715160,null,2.0433142857142856,null,null,null,35,19,36000,684000,1.9542857142857142,200,18000,342000,0.97714285714285709,2.9314285714285715]
[3,"ตาราง  Factor  F  นี้ใช้ได้กับค่าน้ำมันเชื้อเพลิงทุกราคา   แต่จะแปรเปลี่ยนตามอัตราดอกเบี้ยเงินกู้ธนาคารพาณิชย์",null,null,null,null,null,null,null,null,null,null,null,null,null,null,null,null,null,null,null,45,null,0.19791666666666666,null,null,0.25000000000000006,0.1,null,0.25800000000000001,0.80591666666666673,null,null,null,40,null,19,null,37640,null,715160,null,1.7879,null,null,null,40,19,37750,717250,1.7931250000000001,200,18000,342000,0.85499999999999998,2.6481250000000003]
[null,"อัตราการจ่ายเงินล่วงหน้า อัตราการหักเงินประกันผลงาน และอัตราภาษีมูลค่าเพิ่ม",null,null,null,null,null,null,null,null,null,null,null,null,null,null,null,null,null,null,null,50,null,0.19791666666666663,null,null,0.25000000000000006,0.1,null,0.25800000000000001,0.80591666666666673,null,null,null,45,null,19,null,37640,null,715160,null,1.5892444444444445,null,null,null,45,19,39500,750500,1.6677777777777778,200,18000,342000,0.76,2.427777777777778]
[4,"อัตราดอกเบี้ยเงินกู้เป็นอัตราดอกเบี้ยขั้นต่ำในการกู้สำหรับลูกค้าชั้นดี ( MLR ) เป็นอัตราของธนาคารกรุงไทย จำกัด",null,null,null,null,null,null,null,null,null,null,null,null,null,null,null,null,null,null,null,55,null,0.19791666666666666,null,null,0.25000000000000006,0.1,null,0.25800000000000001,0.80591666666666673,null,null,null,50,null,19,null,37640,null,715160,null,1.43032,null,null,null,50,19,41250,783750,1.5674999999999999,200,18000,342000,0.68400000000000005,2.2515000000000001]
[null,"( มหาชน ) ฃึ่งสำนักงานปลัดสำนักนายกรัฐมนตรีจะเป็นผู้แจ้งเวียนให้ส่วนราชการทราบและนำไปใช้",null,null,null,null,null,null,null,null,null,null,null,null,null,null,null,null,null,null,null,60,null,0.19791666666666666,null,null,0.25000000000000006,0.1,null,0.25800000000000001,0.80591666666666673,null,null,null,55,null,19,null,{"$f":"$AR$64","v":38040},null,722760,null,1.3141090909090909,null,null,null,55,19,{"$f":"$BD$60","v":43000},817000,1.4854545454545454,400,{"$f":"$BD$69","v":20500},389500,0.70818181818181813,2.1936363636363634]
[5,"กรณีใช้เงินกู้จากแหล่งเงินกู้  ให้ใช้ตาราง Factor  F สำหรับกรณีเงินกู้  ถึงแม้ค่าก่อสร้างจะมีเงินงบประมาณสมทบ",null,null,null,null,null,null,null,null,null,null,null,null,null,null,null,null,null,null,null,65,null,0.21875,null,null,0.25000000000000006,0.1,null,0.25800000000000001,0.8267500000000001,null,null,null,60,null,19,null,38040,null,722760,null,1.2045999999999999,null,null,null,60,19,{"$f":"$BD$60+4000*((AU113-$AU$113)/5+1)+200","v":47200},896800,1.4946666666666666,400,20500,389500,0.64916666666666667,2.1438333333333333]
[null,null,null,null,null,null,null,null,null,null,null,null,null,null,null,null,null,null,null,null,null,70,null,0.21875,null,null,0.25000000000000006,0.1,null,0.25800000000000001,0.8267500000000001,null,null,null,65,null,21,null,38040,null,798840,null,1.2289846153846153,null,null,null,65,21,51200,1075200,1.6541538461538461,400,20500,430500,0.66230769230769226,2.3164615384615383]
[null,null,null,null,null,null,null,null,null,null,null,null,null,null,null,null,null,null,null,null,null,75,null,0.21875,null,null,0.25000000000000006,0.1,null,0.25800000000000001,0.8267500000000001,null,null,null,70,null,21,null,38040,null,798840,null,1.1412,null,null,null,70,21,55200,1159200,1.6559999999999999,400,20500,430500,0.61499999999999999,2.2709999999999999]
[null,null,null,null,null,null,null,null,null,null,null,null,null,null,null,null,null,null,null,null,null,80,null,0.21875,null,null,0.25000000000000006,0.1,null,0.25800000000000001,0.8267500000000001,null,null,null,75,null,21,null,38040,null,798840,null,1.0651200000000001,null,null,null,75,21,59200,1243200,1.6576,400,20500,430500,0.57399999999999995,2.2315999999999998]
[null,null,null,null,null,null,null,null,null,null,null,null,null,null,null,null,null,null,null,null,null,85,null,0.21875,null,null,0.25000000000000006,0.1,null,0.25800000000000001,0.8267500000000001,null,null,null,80,null,21,null,38040,null,798840,null,0.99855000000000005,null,null,null,80,21,63200,1327200,1.659,400,20500,430500,0.53812499999999996,2.1971249999999998]
[null,null,null,{"$f":"+#REF!/1000000","v":{"$error":"#REF!"}},null,null,null,null,{"$f":"IF(#REF!>=200000000,#REF!,IF(#REF!<=5000000,#REF!,IF(#REF!>5000000,(ROUNDDOWN(#REF!/5000000,0)*5000000),IF(#REF!<5000000,#REF!))))","v":{"$error":"#REF!"}},null,null,null,null,null,null,null,null,null,null,null,null,90,null,0.21875,null,null,0.25000000000000006,0.1,null,0.25800000000000001,0.8267500000000001,null,null,null,85,null,21,null,38040,null,798840,null,0.93981176470588235,null,null,null,85,21,67200,1411200,1.660235294117647,400,20500,430500,0.50647058823529412,2.1667058823529413]
[null,null,null,{"$f":"+#REF!/1000000","v":{"$error":"#REF!"}},null,null,null,null,{"$f":"IF(#REF!>=200000000,#REF!,IF(#REF!<=5000000,#REF!,IF(#REF!>5000000,(ROUNDUP(#REF!/5000000,0)*5000000),IF(#REF!<5000000,#REF!))))","v":{"$error":"#REF!"}},null,null,null,null,null,null,null,null,null,null,null,null,95,null,0.21875,null,null,0.25000000000000006,0.1,null,0.25800000000000001,0.8267500000000001,null,null,null,90,null,21,null,38040,null,798840,null,0.88759999999999994,null,null,null,90,21,71200,1495200,1.6613333333333333,400,20500,430500,0.47833333333333333,2.1396666666666668]
[null,null,null,null,null,null,null,null,null,null,null,null,null,null,null,null,null,null,null,null,null,100,null,0.21875,null,null,0.25000000000000006,0.1,null,0.25800000000000001,0.8267500000000001,null,null,null,95,null,21,null,38040,null,798840,null,0.84088421052631579,null,null,null,95,21,75200,1579200,1.6623157894736842,400,20500,430500,0.45315789473684209,2.1154736842105262]
[null,null,null,null,null,null,null,null,null,null,null,null,null,null,null,null,null,null,null,null,null,105,null,0.21875,null,null,0.25000000000000006,0.1,null,0.25800000000000001,0.8267500000000001,null,null,null,100,null,21,null,38040,null,798840,null,0.79883999999999999,null,null,null,100,21,79200,1663200,1.6632,400,20500,430500,0.43049999999999999,2.0937000000000001]
[null,null,null,null,null,null,null,null,null,null,null,null,null,null,null,null,null,null,null,null,null,110,null,0.21875,null,null,0.25000000000000006,0.1,null,0.25800000000000001,0.8267500000000001,null,null,null,105,null,21,null,{"$f":"$AR$83","v":38440},null,807240,null,0.76880000000000004,null,null,null,105,21,{"$f":"$BD$81","v":85000},1785000,1.7,800,{"$f":"$BD$90","v":29000},609000,0.57999999999999996,2.2799999999999998]
[null,null,null,null,null,null,null,null,null,null,null,null,null,null,null,null,null,null,null,null,null,115,null,0.21875,null,null,0.25000000000000006,0.1,null,0.25800000000000001,0.8267500000000001,null,null,null,110,null,21,null,38440,null,807240,null,0.73385454545454543,null,null,null,110,21,85000,1785000,1.6227272727272728,800,29000,609000,0.55363636363636359,2.1763636363636363]
[null,null,null,{"$f":"+#REF!/1000000","v":{"$error":"#REF!"}},null,null,null,null,{"$f":"IF(#REF!>=200000000,#REF!,IF(#REF!<=5000000,#REF!,IF(#REF!>5000000,(ROUNDDOWN(#REF!/5000000,0)*5000000),IF(#REF!<5000000,#REF!))))","v":{"$error":"#REF!"}},null,null,null,null,null,null,null,null,null,null,null,null,120,null,0.21875,null,null,0.25000000000000006,0.1,null,0.25800000000000001,0.8267500000000001,null,null,null,115,null,21,null,38440,null,807240,null,0.70194782608695649,null,null,null,115,21,85000,1785000,1.5521739130434782,800,29000,609000,0.52956521739130435,2.0817391304347828]
[null,null,null,{"$f":"+#REF!/1000000","v":{"$error":"#REF!"}},null,null,null,null,{"$f":"IF(#REF!>=200000000,#REF!,IF(#REF!<=5000000,#REF!,IF(#REF!>5000000,(ROUNDUP(#REF!/5000000,0)*5000000),IF(#REF!<5000000,#REF!))))","v":{"$error":"#REF!"}},null,null,null,null,null,null,null,null,null,null,null,null,125,null,0.21875,null,null,0.25000000000000006,0.1,null,0.25800000000000001,0.8267500000000001,null,null,null,120,null,21,null,38440,null,807240,null,0.67269999999999996,null,null,null,120,21,85000,1785000,1.4875,800,29000,609000,0.50749999999999995,1.9950000000000001]
[null,null,null,null,null,null,null,null,null,null,null,null,null,null,null,null,null,null,null,null,null,130,null,0.21875,null,null,0.25000000000000006,0.1,null,0.25800000000000001,0.8267500000000001,null,null,null,125,null,21,null,38440,null,807240,null,0.64579200000000003,null,null,null,125,21,85000,1785000,1.4279999999999999,800,29000,609000,0.48720000000000002,1.9152]
[null,null,null,null,null,null,null,null,null,null,null,null,null,null,null,null,null,null,null,null,null,135,null,0.21875,null,null,0.25000000000000006,0.1,null,0.25800000000000001,0.8267500000000001,null,null,null,130,null,21,null,38440,null,807240,null,0.62095384615384619,null,null,null,130,21,85000,1785000,1.3730769230769231,800,29000,609000,0.46846153846153848,1.8415384615384616]
[null,null,null,null,null,null,null,null,null,null,null,null,null,null,null,null,null,null,null,null,null,140,null,0.21875,null,null,0.25000000000000006,0.1,null,0.25800000000000001,0.8267500000000001,null,null,null,135,null,21,null,38440,null,807240,null,0.59795555555555557,null,null,null,135,21,85000,1785000,1.3222222222222222,800,29000,609000,0.45111111111111113,1.7733333333333334]
[null,null,null,null,null,null,null,null,null,null,null,null,null,null,null,null,null,null,null,null,null,145,null,0.21875,null,null,0.25000000000000006,0.1,null,0.25800000000000001,0.8267500000000001,null,null,null,140,null,21,null,38440,null,807240,null,0.5766,null,null,null,140,21,85000,1785000,1.2749999999999999,800,29000,609000,0.435,1.71]
["หน้าที่ 4",null,null,null,null,null,null,null,null,null,null,null,null,null,null,null,null,null,null,null,null,150,null,0.21875,null,null,0.25000000000000006,0.1,null,0.25800000000000001,0.8267500000000001,null,null,null,145,null,21,null,38440,null,807240,null,0.55671724137931033,null,null,null,145,21,85000,1785000,1.2310344827586206,800,29000,609000,0.42,1.6510344827586205]
[null,null,null,null,null,null,null,null,null,null,null,null,null,null,null,null,null,null,null,null,null,155,null,0.21875,null,null,0.25000000000000006,0.1,null,0.25800000000000001,0.8267500000000001,null,null,null,150,null,21,null,38440,null,807240,null,0.53815999999999997,null,null,null,150,21,85000,1785000,1.19,800,29000,609000,0.40600000000000003,1.5960000000000001]
["การคำนวณค่างานก่อสร้างสะพานและท่อเหลี่ยมในงานจ้างเหมาก่อสร้าง",null,null,null,null,null,null,null,null,null,null,null,null,null,null,null,null,null,null,null,null,160,null,0.21875,null,null,0.25000000000000006,0.1,null,0.25800000000000001,0.8267500000000001,null,null,null,155,null,21,null,38440,null,807240,null,0.52080000000000004,null,null,null,155,21,85000,1785000,1.1516129032258065,800,29000,609000,0.39290322580645159,1.544516129032258]
[null,"ในงานจ้างเหมาก่อสร้าง  ค่างานจะคิดเป็นราคาต่อหน่วยของลักษณะงานต่าง ๆ   และค่างานทั้งโครงการ  ได้จากการ",null,null,null,null,null,null,null,null,null,null,null,null,null,null,null,null,null,null,null,165,null,0.21875,null,null,0.25000000000000006,0.1,null,0.25800000000000001,0.8267500000000001,null,null,null,160,null,21,null,38440,null,807240,null,0.504525,null,null,null,160,21,85000,1785000,1.1156250000000001,800,29000,609000,0.38062499999999999,1.4962500000000001]
["คำนวณหาปริมาณงานแต่ละลักษณะงาน คูณด้วยค่างานต่อหน่วย เมื่อรวมค่างานแต่ละลัษณะงานเข้าด้วยกัน ก็จะได้ต้นทุน",null,null,null,null,null,null,null,null,null,null,null,null,null,null,null,null,null,null,null,null,170,null,0.21875,null,null,0.25000000000000006,0.1,null,0.25800000000000001,0.8267500000000001,null,null,null,165,null,21,null,38440,null,807240,null,0.48923636363636364,null,null,null,165,21,85000,1785000,1.0818181818181818,800,29000,609000,0.36909090909090908,1.4509090909090909]
["ค่างานทั้งโครงการ   แต่ในงานจ้างเหมาผู้รับจ้างจะต้องมีค่าใช้จ่าย ด้านอำนวยการทั้งในสำนักงานใหญ่  และสำนักงานสนาม",null,null,null,null,null,null,null,null,null,null,null,null,null,null,null,null,null,null,null,null,175,null,0.21875,null,null,0.25000000000000006,0.1,null,0.25800000000000001,0.8267500000000001,null,null,null,170,null,21,null,38440,null,807240,null,0.4748470588235294,null,null,null,170,21,85000,1785000,1.05,800,29000,609000,0.35823529411764704,1.408235294117647]
["นอกจากนี้  ยังมีค่าใช้จ่ายด้านดอกเบี้ย ค่าความเสี่ยงต่อความเสียหายจากภัยธรรมชาติหรืออุบัติภัย และภาษีต่างๆ ที่ต้องจ่าย",null,null,null,null,null,null,null,null,null,null,null,null,null,null,null,null,null,null,null,null,180,null,0.21875,null,null,0.25000000000000006,0.1,null,0.25800000000000001,0.8267500000000001,null,null,null,175,null,21,null,38440,null,807240,null,0.46128000000000002,null,null,null,175,21,85000,1785000,1.02,800,29000,609000,0.34799999999999998,1.3679999999999999]
["ให้แก่รัฐจากเงินที่ได้จากการก่อสร้างนี้",null,null,null,null,null,null,null,null,null,null,null,null,null,null,null,null,null,null,null,null,185,null,0.21875,null,null,0.25000000000000006,0.1,null,0.25800000000000001,0.8267500000000001,null,null,null,180,null,21,null,38440,null,807240,null,0.44846666666666668,null,null,null,180,21,85000,1785000,0.9916666666666667,800,29000,609000,0.33833333333333332,1.33]
[null,"สภาพภูมิอากาศของภาคต่างๆ ของประเทศ มีผลกระทบต่อค่าใช้จ่ายต่างๆ ดังกล่าวข้างต้น ในพื้นที่ที่มีฝนตกชุก หรือมี",null,null,null,null,null,null,null,null,null,null,null,null,null,null,null,null,null,null,null,190,null,0.21875,null,null,0.25000000000000006,0.1,null,0.25800000000000001,0.8267500000000001,null,null,null,185,null,21,null,38440,null,807240,null,0.43634594594594595,null,null,null,185,21,85000,1785000,0.96486486486486489,800,29000,609000,0.32918918918918921,1.2940540540540542]
["ช่วงเวลาฤดูฝนยาวนานกว่าภาคอื่นๆ จะมีขั่วโมงการทำงานก่อสร้างต่อปีน้อยกว่าพื้นที่แล้งกว่ามีผลทำให้ค่าอำนวยการต่างๆ",null,null,null,null,null,null,null,null,null,null,null,null,null,null,null,null,null,null,null,null,195,null,0.21875,null,null,0.25000000000000006,0.1,null,0.25800000000000001,0.8267500000000001,null,null,null,190,null,21,null,38440,null,807240,null,0.42486315789473683,null,null,null,190,21,85000,1785000,0.93947368421052635,800,29000,609000,0.32052631578947366,1.26]
["สูงขึ้นและยังกระทบถีงค่าครอบครองเครื่องจักร  โดยเฉพาะค่าเสื่อมราคาเครื่องจักรจะสูงกว่าเครื่องจักรที่ทำงานในพื้นที่ที่แล้ง",null,null,null,null,null,null,null,null,null,null,null,null,null,null,null,null,null,null,null,">",200,null,0.21875,null,null,0.25000000000000006,0.1,null,0.25800000000000001,0.8267500000000001,null,null,null,195,null,21,null,38440,null,807240,null,0.41396923076923076,null,null,null,195,21,85000,1785000,0.91538461538461535,800,29000,609000,0.31230769230769229,1.2276923076923076]
["กว่า",null,null,null,null,null,null,null,null,null,null,null,null,null,null,null,null,null,null,null," ",null,null,null,null,null,null,null,null,null,null,null,null,">",200,null,21,null,38440,null,807240,null,0.40361999999999998,null,null,">",200,21,85000,1785000,0.89249999999999996,800,29000,609000,0.30449999999999999,1.1970000000000001]
["          ค่าใช้จ่ายในการดำเนินโครงการก่อสร้าง  ประกอบด้วย",null,null,null,null,null,null,null,null,null,null,null,null,null,null,null,null,null,null,null," "]
[null,1,"ค่าอำนวยการ",null,null,null,null,null,null,null,null,null,null,null,null,null,null,null,null,null," "]
[null,2,"ดอกเบี้ย",null,null,null,null,null,null,null,null,null,null,null,null,null,null,null,null,null," "]
[null,3,"กำไร",null,null,null,null,null,null,null,null,null,null,null,null,null,null,null,null,null," "]
[null,4,"ภาษี",null,null,null,null,null,null,null,null,null,null,null,null,null,null,null,null,null," "]
[null,"1. ค่าอำนวยการ",null,null,null,null,null,null,null,null,null,null,null,null,null,null,null,null,null,null," "]
[null,1.1000000000000001,"ค่าใช้จ่ายในขั้นตอนการทำสัญญา",null,null,null,null,null,null,null,null,null,null,null,null,null,null,null,null,null," "]
[null,null,"1.1.1  ค่าธรรมเนียมหนังสือค้ำประกันสัญญา(Performance Bond)",null,null,null,null,null,null,null,null,null,null,null,null,null,null,null,null,null," "]
[null,null,"1.1.2  ค่าธรรมเนียมหนังสือค้ำประกันผลงานก่อสร้าง  2  ปี",null,null,null,null,null,null,null,null,null,null,null,null,null,null,null,null,null," "]
[null,null,"1.1.3  ค่าอากรแสตมป์ติดสัญญา",null,null,null,null,null,null,null,null,null,null,null,null,null,null,null,null,null," "]
[null,null,"1.1.4  ค่าเงินสมทบกองทุนทดแทนและกองทุนประกันสังคม",null,null,null,null,null,null,null,null,null,null,null,null,null,null,null,null,null," "]
[null,1.2,"ค่าใช้จ่ายสำนักงานสนาม ที่พักเจ้าหน้าที่และยานพาหนะ",null,null,null,null,null,null,null,null,null,null,null,null,null,null,null,null,null," "]
[null,1.3,"ค่าใช้จ่ายบุคคลากรและค่าใช้จ่ายสำนักงานใหญ่",null,null,null,null,null,null,null,null,null,null,null,null,null,null,null,null,null," "]
[null,1.4,"ค่าธรรมเนียมประกันภัยโครงการ",null,null,null,null,null,null,null,null,null,null,null,null,null,null,null,null,null," "]
[null,"2. ดอกเบี้ย",null,null,null,null,null,null,null,null,null,null,null,null,null,null,null,null,null,null," "]
[null,"     คำนวณจากอัตราดอกเบี้ยเงินกู้ขั้นต่ำ ( MLR ) ของธนาคารกรุงไทย จำกัด ( มหาชน )  ซึ่งสำนักงานปลัดสำนักนายก",null,null,null,null,null,null,null,null,null,null,null,null,null,null,null,null,null,null," "]
["รัฐมนตรี จะเป็นผู้แจ้งเวียนอัตราดอกเบี้ดังกล่าวให้หน่วยราชการทราบ",null,null,"ประกอบด้วย",null,null,null,null,null,null,null,null,null,null,null,null,null,null,null,null," "]
[null,"     เนื่องจาก  การดำเนินการก่อสร้างต้องใช้วงเงินลงทุนสูงมาก  บางครั้งจำเป็นต้องกู้ยืมจากสถาบันการเงิน   เพื่อมาใช้",null,null,null,null,null,null,null,null,null,null,null,null,null,null,null,null,null,null," "]
["หมุนเวียนในงานก่อสร้าง  แม้ว่าทางราชการจะมีการจ่ายเงินล่วงหน้าให้แก่ผู้รับจ้าง  เพื่อใช้หมุนเวียนในการเตรียมงานก่อสร้าง",null,null,null,null,null,null,null,null,null,null,null,null,null,null,null,null,null,null,null," "]
["จำนวนร้อยละ 10  ของค่างานทั้งโครงการแล้วก็ตาม  เงินจำนวนนี้จะพอเพียงสำหรับการเตรียมการเบื้องต้น  และจัดหาวัสดุมา",null,null,null,null,null,null,null,null,null,null,null,null,null,null,null,null,null,null,null," "]
["ใช้ก่อสร้างได้เพียงบางส่วนเท่านั้น นอกจากนี้เงินจ่ายล่วงหน้าจะถูกหักคืนทุกงวดที่ทางราชการจ่ายค่างาน และยังมีการหักเงิน",null,null,null,null,null,null,null,null,null,null,null,null,null,null,null,null,null,null,null," "]
["ประกันผลงานจากค่างานที่จ่ายให้อีกด้วย  ดังนั้นจึงยังคงต้องมีการกู้ยืมเงินมาใช้หมุนเวียน",null,null,null,null,null,null,null,null,null,null,null,null,null,null,null,null,null,null,null," "]
[null,"    โดยทั่วไปดอกเบี้ยจะคิดให้สำหรับระยะเวลาประมาณ 3 เดือนหรือ 1/4 ของปี  เพราะในการทำงานผู้รับจ้างต้องจัดหา",null,null,null,null,null,null,null,null,null,null,null,null,null,null,null,null,null,null," "]
["วัสดุล่วงหน้าและภายหลังส่งมอบงานแต่ละงวดแล้วยังต้องรอขั้นตอนการเบิกจ่ายค่างานอีก",null,null,null,null,null,null,null,null,null,null,null,null,null,null,null,null,null,null,null," "]
[null,null,null,null,null,null,null,null,null,null,null,null,null,null,null,null,null,null,null,null," "]
[null,null,null,null,null,null,null,null,null,null,null,null,null,null,null,null,null,null,null,null," "]
[null,null,null,null,null,null,null,null,null,null,null,null,null,null,null,null,null,null,null,null," "]
["หน้าที่ 5",null,null,null,null,null,null,null,null,null,null,null,null,null,null,null,null,null,null,null," "]
[null,null,null,null,null,null,null,null,null,null,null,null,null,null,null,null,null,null,null,null," "]
[null,"3. กำไร",null,null,null,null,null,null,null,null,null,null,null,null,null,null,null,null,null,null," "]
[null,"    อัตรากำไรกำหนดโดยใช้อัตรากำไรทางธุรกิจ ( Financial  Profit ) คือกำไรเชิงธุรกิจ ( Excess Profit ) หมายถึงส่วนที่",null,null,null,null,null,null,null,null,null,null,null,null,null,null,null,null,null,null," "]
["สูงกว่าอัตราดอกเบี้ยเงินฝากประจำ  ฃึ่งจะต้องมีค่าเพียงพอที่จะดึงดูดผู้ลงทุนให้สนใจมาลงทุน",null,null,null,null,null,null,null,null,null,null,null,null,null,null,null,null,null,null,null," "]
[null,null,null,null,null,null,null,null,null,null,null,null,null,null,null,null,null,null,null,null," "]
[null,"4. ภาษี"]
[null,"    ภาษีที่ผู้รับจ้างจะต้องจ่ายคือ ภาษีมูลค่าเพิ่ม ( VAT ) ในอัตราปัจจุบันโดยหัก ณ ที่จ่าย "]
[]
[]
[]
[]
[]
[]
[]
[]
[]
[]
[]
[]
[]
["งานสะพานและท่อเหลี่ยม",null,null,null,null,"เงินที่ใช้",1,null,null,null,null,"เงินงบประมาณ"]
[null,"จำนวนเงิน","FACTOR F",null,null,{"$f":"+Factor_FB!I4/100","v":0.06},"ดอกเบี้ยเงินกู้",null,null,null,null,"เงินกู้"]
["ช่วงที่ค่าเงินน้อย",{"$f":"+I192","v":585628},{"$f":"IF(G190=1,(IF(B192<=5000000,Factor_FB!I11,IF(B192>=200000000,Factor_FB!I50,VLOOKUP(D192,Factor_FB!B11:J50,8)))),(IF(B192<=5000000,Factor_FB!I61,IF(B192>=200000000,Factor_FB!I100,VLOOKUP(D192,Factor_FB!B61:J100,8)))))","v":1.2491000000000001},{"$f":"+B192/1000000","v":0.58562800000000004},null,{"$f":"+Factor_FB!I5/100","v":7.0000000000000007E-2},"ภาษี",null,{"$f":"IF(B194>=200000000,B194,IF(B194<=5000000,B194,IF(B194>5000000,(ROUNDDOWN(B194/5000000,0)*5000000),IF(B194<5000000,B194))))","v":585628},null,null,"เงินงบประมาณ+เงินกู้"]
["ช่วงที่ค่าเงินมาก",{"$f":"+I193","v":585628},{"$f":"IF(G190=1,(IF(B193<=5000000,Factor_FB!I11,IF(B193>=200000000,Factor_FB!I50,VLOOKUP(D193,Factor_FB!B11:J50,8)))),(IF(B193<=5000000,Factor_FB!I61,IF(B193>=200000000,Factor_FB!I100,VLOOKUP(D193,Factor_FB!B61:J100,8)))))","v":1.2491000000000001},{"$f":"+B193/1000000","v":0.58562800000000004},null,{"$f":"+Factor_FB!D5/100","v":0},"เงินประกันผลงานหัก",null,{"$f":"IF(B194>=200000000,B194,IF(B194<=5000000,B194,IF(B194>5000000,(ROUNDUP(B194/5000000,0)*5000000),IF(B194<5000000,B194))))","v":585628}]
["ราคางาน",{"$f":"SUM(ปร.5!E12:E13)","v":585628},{"$f":"ROUNDDOWN(IF(B192=B193,C192,IF(B194>B193,\"NO\",C192-((C192-C193)*(B194-B192)/(B193-B192)))),4)","v":1.2491000000000001},null,null,{"$f":"+Factor_FB!D4/100","v":0},"เงินล่วงหน้าจ่าย"]
["หมายเหตุ     กรุณาตรวจเช็คอีกครั้ง"]

{"sheet":"หกล้อขนส่ง","index":26,"n_rows":209,"n_cols":87,"rows_kept":209,"cut":false,"hidden":true,"merged":[[69,4,70,4]]}
["ตารางขนส่งวัสดุก่อสร้าง รถบรรทุก 6 ล้อ"]
["ภูมิประเทศเป็นที่ราบ ทางผิวลาดยาง ปริมาณจราจรปกติ"]
[{"$f":"\"( น้ำมันโซล่า \"&ROUNDDOWN(P5,0)&\" - \"&P5+0.49&\" บาท/ลิตร เฉลี่ย \"&P5&\"0 บาท/ลิตร)\"","v":"( น้ำมันโซล่า 26 - 26.99 บาท/ลิตร เฉลี่ย 26.50 บาท/ลิตร)"}]
["ระยะ\nขนส่ง\n(กม.)","ค่าบรรทุก\nบาท/ตัน","ค่าบรรทุก\nบาท/ลบ.ม.",null,"ระยะ\nขนส่ง\n(กม.)","ค่าบรรทุก\nบาท/ตัน","ค่าบรรทุก\nบาท/ลบ.ม.",null,"ระยะ\nขนส่ง\n(กม.)","ค่าบรรทุก\nบาท/ตัน","ค่าบรรทุก\nบาท/ลบ.ม."]
[{"$f":"M9","v":1},{"$f":"N9","v":10.8},{"$f":"O9","v":15.12},null,{"$f":"M36","v":28},{"$f":"N36","v":77.11},{"$f":"O36","v":107.95},null,{"$f":"M63","v":55},{"$f":"N63","v":149.68},{"$f":"O63","v":209.55},null,"ราคาน้ำมันโซล่าที่อำเภอเมือง เฉลี่ย ลิตรละ",null,null,{"$f":"ค่าเสื่อมราคา!D5","v":26.5},"บาท",null,null,null,null,null,null,null,null,null,null,"ค่าขนส่ง",null,"ค่าขนส่ง",null,"ค่าขนส่ง",null,"ค่าขนส่ง",null,"ค่าขนส่ง",null,"ค่าขนส่ง",null,"ค่าขนส่ง",null,"ค่าขนส่ง",null,"ค่าขนส่ง",null,"ค่าขนส่ง",null,"ค่าขนส่ง",null,"ค่าขนส่ง",null,"ค่าขนส่ง",null,"ค่าขนส่ง",null,"ค่าขนส่ง",null,"ค่าขนส่ง",null,"ค่าขนส่ง",null,"ค่าขนส่ง",null,"ค่าขนส่ง",null,"ค่าขนส่ง",null,"ค่าขนส่ง",null,"ค่าขนส่ง",null,"ค่าขนส่ง",null,"ค่าขนส่ง",null,"ค่าขนส่ง",null,"ค่าขนส่ง",null,"ค่าขนส่ง",null,"ค่าขนส่ง",null,"ค่าขนส่ง",null,"ค่าขนส่ง"]
[2,12.36,17.3,null,29,79.790000000000006,111.71,null,56,152.37,213.31,null,null,null,null,null,null,null,null,null,null,null,null,null,null,null,null,25.5,null,26.5,null,27.5,null,28.5,null,29.5,null,30.5,null,31.5,null,32.5,null,33.5,null,34.5,null,35.5,null,36.5,null,37.5,null,38.5,null,39.5,null,40.5,null,41.5,null,42.5,null,43.5,null,44.5,null,45.5,null,46.5,null,47.5,null,48.5,null,49.5,null,50.5,null,51.5,null,52.5,null,53.5,null,54.5]
[3,13.92,19.48,null,30,82.48,115.47,null,57,155.05000000000001,217.08,null,"ระยะขนส่ง","บาท/ตัน","บาท/ลบ.ม.",null,null,null,null,null,null,null,null,null,null,null,"ระยะขนส่ง","บาท/ตัน","บาท/ลบ.ม.","บาท/ตัน","บาท/ลบ.ม.","บาท/ตัน","บาท/ลบ.ม.","บาท/ตัน","บาท/ลบ.ม.","บาท/ตัน","บาท/ลบ.ม.","บาท/ตัน","บาท/ลบ.ม.","บาท/ตัน","บาท/ลบ.ม.","บาท/ตัน","บาท/ลบ.ม.","บาท/ตัน","บาท/ลบ.ม.","บาท/ตัน","บาท/ลบ.ม.","บาท/ตัน","บาท/ลบ.ม.","บาท/ตัน","บาท/ลบ.ม.","บาท/ตัน","บาท/ลบ.ม.","บาท/ตัน","บาท/ลบ.ม.","บาท/ตัน","บาท/ลบ.ม.","บาท/ตัน","บาท/ลบ.ม.","บาท/ตัน","บาท/ลบ.ม.","บาท/ตัน","บาท/ลบ.ม.","บาท/ตัน","บาท/ลบ.ม.","บาท/ตัน","บาท/ลบ.ม.","บาท/ตัน","บาท/ลบ.ม.","บาท/ตัน","บาท/ลบ.ม.","บาท/ตัน","บาท/ลบ.ม.","บาท/ตัน","บาท/ลบ.ม.","บาท/ตัน","บาท/ลบ.ม.","บาท/ตัน","บาท/ลบ.ม.","บาท/ตัน","บาท/ลบ.ม.","บาท/ตัน","บาท/ลบ.ม.","บาท/ตัน","บาท/ลบ.ม.","บาท/ตัน","บาท/ลบ.ม."]
[4,15.47,21.66,null,31,85.17,119.24,null,58,157.74,220.83,null,null,{"$f":"HLOOKUP(P5,$AB$6:$BY$8,3,FALSE)","v":3},{"$f":"N8+1","v":4},null,null,null,1,null,null,null,null,null,null,null,null,1,2,3,4,5,6,7,8,9,10,11,12,13,14,15,16,17,18,19,20,21,22,23,24,25,26,27,28,29,30,31,32,33,34,35,36,37,38,39,40,41,42,43,44,45,46,47,48,49,50,51,52,53,54,55,56,57,58,59,60]
[5,17.03,23.84,null,32,87.86,123,null,59,160.41999999999999,224.59,null,1,{"$f":"HLOOKUP($N$8,$AB$8:$CI$209,S9,FALSE)","v":10.8},{"$f":"HLOOKUP($O$8,$AB$8:$CI$209,S9,FALSE)","v":15.12},null,null,null,2,null,null,null,null,null,null,null,1,10.76,15.07,10.8,15.12,10.84,15.18,10.88,15.23,10.92,15.28,10.95,15.33,10.99,15.39,11.03,15.44,11.07,15.49,11.1,15.55,11.14,15.6,11.18,15.65,11.22,15.7,11.26,15.76,11.29,15.81,11.33,15.86,11.37,15.92,11.41,15.97,11.44,16.02,11.48,16.07,11.52,16.13,11.56,16.18,11.6,16.23,11.63,16.29,11.67,16.34,11.71,16.39,11.75,16.440000000000001,11.78,16.5,11.82,16.55,11.86,16.600000000000001]
[6,18.579999999999998,26.02,null,33,90.55,126.77,null,60,163.12,228.36,null,{"$f":"M9+1","v":2},{"$f":"HLOOKUP($N$8,$AB$8:$CI$209,S10,FALSE)","v":12.36},{"$f":"HLOOKUP($O$8,$AB$8:$CI$209,S10,FALSE)","v":17.3},null,null,null,3,null,null,null,null,null,null,null,2,12.28,17.2,12.36,17.3,12.43,17.41,12.51,17.510000000000002,12.59,17.62,12.66,17.73,12.74,17.829999999999998,12.81,17.940000000000001,12.89,18.04,12.96,18.149999999999999,13.04,18.25,13.11,18.36,13.19,18.47,13.27,18.57,13.34,18.68,13.42,18.78,13.49,18.89,13.57,18.989999999999998,13.64,19.100000000000001,13.72,19.21,13.79,19.309999999999999,13.87,19.420000000000002,13.95,19.52,14.02,19.63,14.1,19.73,14.17,19.84,14.25,19.95,14.32,20.05,14.4,20.16,14.47,2026]
[7,20.66,28.93,null,34,93.23,130.52000000000001,null,61,165.81,232.13,null,3,13.92,19.48,null,null,null,4,null,null,null,null,null,null,null,3,13.8,19.32,13.92,19.48,14.03,19.64,14.14,19.8,14.26,19.96,14.37,20.12,14.48,20.27,14.6,20.43,14.71,20.59,14.82,20.75,14.94,20.91,15.05,21.07,15.16,21.23,15.28,21.39,15.39,21.54,15.5,21.7,15.62,21.86,15.73,22.02,15.84,22.18,15.96,22.34,16.07,22.5,16.18,22.65,16.3,22.81,16.41,22.97,16.52,23.13,16.64,23.29,16.75,23.45,16.86,23.61,16.98,23.77,17.09,23.92]
[8,23.35,32.69,null,35,95.92,134.29,null,62,168.5,235.89,null,4,15.47,21.66,null,null,null,5,null,null,null,null,null,null,null,4,15.32,21.45,15.47,21.66,15.62,21.87,15.77,22.08,15.92,22.29,16.079999999999998,22.51,16.23,22.72,16.38,22.93,16.53,23.14,16.68,23.35,16.829999999999998,23.56,16.98,23.78,17.13,23.99,17.28,24.2,17.440000000000001,24.41,17.59,24.62,17.739999999999998,24.83,17.89,25.05,18.04,25.26,18.190000000000001,25.47,18.34,25.68,18.489999999999998,25.89,18.64,26.1,18.8,26.31,18.95,26.53,19.100000000000001,26.74,19.25,26.95,19.399999999999999,27.16,19.55,27.37,19.7,27.58]
[9,26.04,36.450000000000003,null,36,98.61,138.05000000000001,null,63,171.18,239.65,null,5,17.03,23.84,null,null,null,6,null,null,null,null,null,null,null,5,16.84,23.57,17.03,23.84,17.22,24.1,17.41,24.37,17.59,24.63,17.78,24.9,17.97,25.16,18.16,25.43,18.350000000000001,25.69,18.54,25.95,18.73,26.22,18.920000000000002,26.48,19.11,26.75,19.29,27.01,19.48,27.28,19.670000000000002,27.54,19.86,27.81,20.05,28.07,20.239999999999998,28.33,20.43,28.6,20.62,28.86,20.81,29.13,20.99,29.39,21.18,29.66,21.37,29.92,21.56,30.19,21.75,30.45,21.94,30.71,22.13,30.98,22.32,31.24]
[10,28.73,40.22,null,37,101.3,141.81,null,64,173.87,243.41,null,6,18.579999999999998,26.02,null,null,null,7,null,null,null,null,null,null,null,6,18.36,25.7,18.579999999999998,26.02,18.809999999999999,26.34,19.04,26.65,19.260000000000002,26.97,19.489999999999998,27.29,19.72,27.61,19.940000000000001,27.92,20.170000000000002,28.24,20.399999999999999,28.56,20.62,28.87,20.85,29.19,21.08,29.51,21.3,29.83,21.53,30.14,21.76,30.46,21.98,30.78,22.21,31.1,22.44,31.41,22.66,31.73,22.89,32.049999999999997,23.12,32.369999999999997,23.34,32.68,23.57,33,23.8,33.32,24.02,33.630000000000003,24.25,33.950000000000003,24.48,34.270000000000003,24.7,34.590000000000003,24.93,34.9]
[11,31.41,43.98,null,38,103.98,145.58000000000001,null,65,176.56,247.19,null,7,20.66,28.93,null,null,null,8,null,null,null,null,null,null,null,7,20.399999999999999,28.56,20.66,28.93,20.93,29.3,21.19,29.67,21.46,30.04,21.72,30.41,21.99,30.78,22.25,31.15,22.51,31.52,22.78,31.89,23.04,32.26,23.31,32.630000000000003,23.57,33,23.84,33.369999999999997,24.1,33.74,24.37,34.11,24.63,34.479999999999997,24.89,34.85,25.16,35.22,25.42,35.590000000000003,25.69,35.96,25.95,36.33,26.22,36.700000000000003,26.48,37.07,26.75,37.44,27.01,37.81,27.27,38.18,27.54,38.549999999999997,27.8,38.92,28.07,39.29]
[12,34.1,47.74,null,39,106.67,149.34,null,66,179.24,250.94,null,8,23.35,32.69,null,null,null,9,null,null,null,null,null,null,null,8,23.05,32.270000000000003,23.35,32.69,23.65,33.11,23.96,33.54,24.26,33.96,24.56,34.380000000000003,24.86,34.81,25.16,35.229999999999997,25.47,35.65,25.77,36.08,26.07,36.5,26.37,36.92,26.68,37.35,26.98,37.770000000000003,27.28,38.19,27.58,38.61,27.88,39.04,28.19,39.46,28.49,39.880000000000003,28.79,40.31,29.09,40.729999999999997,29.4,41.15,29.7,41.58,30,42,30.3,42.42,30.6,42.85,30.91,43.27,31.21,43.69,31.51,44.12,31.81,44.54]
[13,36.79,51.51,null,40,109.36,153.11000000000001,null,67,181.93,254.71,null,9,26.04,36.450000000000003,null,null,null,10,null,null,null,null,null,null,null,9,25.7,35.979999999999997,26.04,36.450000000000003,26.38,36.93,26.72,37.409999999999997,27.06,37.880000000000003,27.4,38.36,27.74,38.83,28.08,39.31,28.42,39.79,28.76,40.26,29.1,40.74,29.44,41.21,29.78,41.69,30.12,42.17,30.46,42.64,30.8,43.12,31.14,43.59,31.48,44.07,31.82,44.55,32.159999999999997,45.02,32.5,45.5,32.840000000000003,45.97,33.18,46.45,33.520000000000003,46.93,33.86,47.4,34.200000000000003,47.88,34.54,48.35,34.880000000000003,48.83,35.22,49.31,35.56,49.78]
[14,39.479999999999997,55.27,null,41,112.05,156.87,null,68,184.62,258.47000000000003,null,10,28.73,40.22,null,null,null,11,null,null,null,null,null,null,null,10,28.35,39.69,28.73,40.22,29.1,40.75,29.48,41.27,29.86,41.8,30.24,42.33,30.62,42.86,30.99,43.39,31.37,43.92,31.75,44.45,32.130000000000003,44.98,32.5,45.51,32.880000000000003,46.03,33.26,46.56,33.64,47.09,34.020000000000003,47.62,34.39,48.15,34.770000000000003,48.68,35.15,49.21,35.53,49.74,35.9,50.27,36.28,50.79,36.659999999999997,51.32,37.04,51.85,37.42,52.38,37.79,52.91,38.17,53.44,38.549999999999997,53.97,38.93,54.5,39.299999999999997,55.03]
[15,42.17,59.03,null,42,114.74,160.63,null,69,187.31,262.24,null,11,31.41,43.98,null,null,null,12,null,null,null,null,null,null,null,11,31,43.4,31.41,43.98,31.83,44.56,32.25,45.14,32.659999999999997,45.73,33.08,46.31,33.49,46.89,33.909999999999997,47.47,34.32,48.05,34.74,48.63,35.15,49.22,35.57,49.8,35.99,50.38,36.4,50.96,36.82,51.54,37.229999999999997,52.12,37.65,52.71,38.06,53.29,38.479999999999997,53.87,38.89,54.45,39.31,55.03,39.729999999999997,55.62,40.14,56.2,40.56,56.78,40.97,57.36,41.39,57.94,41.8,58.52,42.22,59.11,42.63,59.69,43.05,60.27]
[16,44.85,62.79,null,43,117.42,164.39,null,70,190,266,null,12,34.1,47.74,null,null,null,13,null,null,null,null,null,null,null,12,33.65,47.11,34.1,47.74,34.56,48.38,35.01,49.01,35.46,49.65,35.92,50.28,36.369999999999997,50.92,36.82,51.55,37.28,52.19,37.729999999999997,52.82,38.18,53.45,38.64,54.09,39.090000000000003,54.72,39.54,55.36,40,55.99,40.450000000000003,56.63,40.9,57.26,41.36,57.9,41.81,58.53,42.26,59.17,42.72,59.8,43.17,60.44,43.62,61.07,44.08,61.71,44.53,62.34,44.98,62.97,45.44,63.61,45.89,64.239999999999995,46.34,64.88,46.8,65.510000000000005]
[17,47.54,66.56,null,44,120.11,168.15,null,71,192.69,269.77,null,13,36.79,51.51,null,null,null,14,null,null,null,null,null,null,null,13,36.299999999999997,50.82,36.79,51.51,37.28,52.19,37.770000000000003,52.88,38.26,53.57,38.75,54.26,39.25,54.94,39.74,55.63,40.229999999999997,56.32,40.72,57.01,41.21,57.69,41.7,58.38,42.19,59.07,42.68,59.76,43.17,60.44,43.67,61.13,44.16,61.82,44.65,62.51,45.14,63.19,45.63,63.88,46.12,64.569999999999993,46.61,65.260000000000005,47.1,65.94,47.59,66.63,48.09,67.319999999999993,48.58,68.010000000000005,49.07,68.69,49.56,69.38,50.05,70.069999999999993,50.54,70.760000000000005]
[18,50.23,70.319999999999993,null,45,122.8,171.92,null,72,195.37,273.52,null,14,39.479999999999997,55.27,null,null,null,15,null,null,null,null,null,null,null,14,38.950000000000003,54.53,39.479999999999997,55.27,40.01,56.01,40.53,56.75,41.06,57.49,41.59,58.23,42.12,58.97,42.65,59.71,43.18,60.45,43.71,61.19,44.24,61.93,44.77,62.67,45.29,63.41,45.82,64.150000000000006,46.35,64.89,46.88,65.63,47.41,66.37,47.94,67.12,48.47,67.86,49,68.599999999999994,49.53,69.34,50.05,70.08,50.58,70.819999999999993,51.11,71.56,51.64,72.3,52.17,73.040000000000006,52.7,73.78,53.23,74.52,53.76,75.260000000000005,54.29,76]
[19,52.92,74.08,null,46,125.49,175.68,null,73,198.06,277.29000000000002,null,15,42.17,59.03,null,null,null,16,null,null,null,null,null,null,null,15,41.6,58.24,42.17,59.03,42.73,59.82,43.3,60.62,43.87,61.41,44.43,62.2,45,63,45.57,63.79,46.13,64.58,46.7,65.38,47.27,66.17,47.83,66.959999999999994,48.4,67.760000000000005,48.97,68.55,49.53,69.34,50.1,70.14,50.67,70.930000000000007,51.23,71.72,51.8,72.52,52.37,73.31,52.93,74.099999999999994,53.5,74.900000000000006,54.07,75.69,54.63,76.48,55.2,77.28,55.77,78.069999999999993,56.33,78.86,56.9,79.66,57.47,80.45,58.03,81.239999999999995]
[20,55.6,77.849999999999994,null,47,128.18,179.45,null,74,200.74,281.04000000000002,null,16,44.85,62.79,null,null,null,17,null,null,null,null,null,null,null,16,44.25,61.95,44.85,62.79,45.46,63.64,46.06,64.489999999999995,46.67,65.33,47.27,66.180000000000007,47.88,67.03,48.48,67.87,49.08,68.72,49.69,69.56,50.29,70.41,50.9,71.260000000000005,51.5,72.099999999999994,52.11,72.95,52.71,73.790000000000006,53.32,74.64,53.92,75.489999999999995,54.52,76.33,55.13,77.180000000000007,55.73,78.03,56.34,78.87,56.94,79.72,57.55,80.56,58.15,81.41,58.76,82.26,59.36,83.1,59.96,83.95,60.57,84.8,61.17,85.64,61.78,86.49]
[21,58.29,81.61,null,48,130.86000000000001,183.21,null,75,203.44,284.81,null,17,47.54,66.56,null,null,null,18,null,null,null,null,null,null,null,17,46.9,65.66,47.54,66.56,48.18,67.459999999999994,48.82,68.349999999999994,49.47,69.25,50.11,70.150000000000006,50.75,71.05,51.39,71.95,52.04,72.849999999999994,52.68,73.75,53.32,74.650000000000006,53.96,75.55,54.6,76.45,55.25,77.349999999999994,55.89,78.25,56.53,79.14,57.17,80.040000000000006,57.82,80.94,58.46,81.84,59.1,82.74,59.74,83.64,60.38,84.54,61.03,85.44,61.67,86.34,62.31,87.24,62.95,88.14,63.6,89.03,64.239999999999995,89.93,64.88,90.83,65.52,91.73]
[22,60.98,85.37,null,49,133.55000000000001,186.97,null,76,206.12,288.57,null,18,50.23,70.319999999999993,null,null,null,19,null,null,null,null,null,null,null,18,49.55,69.37,50.23,70.319999999999993,50.91,71.27,51.59,72.22,52.27,73.180000000000007,52.95,74.13,53.63,75.08,54.31,76.03,54.99,76.98,55.67,77.94,56.35,78.89,57.03,79.84,57.71,80.790000000000006,58.39,81.739999999999995,59.07,82.7,59.75,83.65,60.43,84.6,61.11,85.55,61.79,86.5,62.47,87.46,63.15,88.41,63.83,89.36,64.510000000000005,90.31,65.19,91.26,65.87,92.22,66.55,93.17,67.23,94.12,67.91,95.07,68.59,96.02,69.27,96.98]
[23,63.67,89.13,null,50,136.24,190.74,null,77,208.81,292.33,null,19,52.92,74.08,null,null,null,20,null,null,null,null,null,null,null,19,52.2,73.08,52.92,74.08,53.63,75.09,54.35,76.09,55.07,77.099999999999994,55.79,78.099999999999994,56.5,79.11,57.22,80.11,57.94,81.12,58.66,82.12,59.38,83.13,60.09,84.13,60.81,85.14,61.53,86.14,62.25,87.15,62.96,88.15,63.68,89.16,64.400000000000006,90.16,65.12,91.17,65.84,92.17,66.55,93.18,67.27,94.18,67.989999999999995,95.18,68.709999999999994,96.19,69.42,97.19,70.14,98.2,70.86,99.2,71.58,100.21,72.3,101.21,73.010000000000005,102.22]
[24,66.349999999999994,92.9,null,51,138.93,194.5,null,78,211.49,296.08999999999997,null,20,55.6,77.849999999999994,null,null,null,21,null,null,null,null,null,null,null,20,54.85,76.790000000000006,55.6,77.849999999999994,56.36,78.900000000000006,57.11,79.959999999999994,57.87,81.02,58.63,82.08,59.38,83.13,60.14,84.19,60.89,85.25,61.65,86.31,62.4,87.37,63.16,88.42,63.91,89.48,64.67,90.54,65.430000000000007,91.6,66.180000000000007,92.65,66.94,93.71,67.69,94.77,68.45,95.83,69.2,96.89,69.959999999999994,97.94,70.709999999999994,99,71.47,100.06,72.23,101.12,72.98,102.17,73.739999999999995,103.23,74.489999999999995,104.29,75.25,105.35,76,106.41,76.760000000000005,107.46]
[25,69.040000000000006,96.66,null,52,141.61000000000001,198.26,null,79,214.18,299.86,null,21,58.29,81.61,null,null,null,22,null,null,null,null,null,null,null,21,57.5,80.5,58.29,81.61,59.08,82.72,59.88,83.83,60.67,84.94,61.46,86.05,62.26,87.16,63.05,88.27,63.84,89.38,64.64,90.49,65.430000000000007,91.6,66.22,92.71,67.02,93.82,67.81,94.94,68.599999999999994,96.05,69.400000000000006,97.16,70.19,98.27,70.98,99.38,71.78,100.49,72.569999999999993,101.6,73.36,102.71,74.16,103.82,74.95,104.93,75.739999999999995,106.04,76.540000000000006,107.15,77.33,108.26,78.12,109.37,78.92,110.48,79.709999999999994,111.6,80.5,112.71]
[26,71.73,100.42,null,53,144.30000000000001,202.02,null,80,216.87,303.62,null,22,60.98,85.37,null,null,null,23,null,null,null,null,null,null,null,22,60.15,84.21,60.98,85.37,61.81,86.53,62.64,87.7,63.47,88.86,64.3,90.03,65.14,91.19,65.97,92.35,66.8,93.52,67.63,94.68,68.459999999999994,95.84,69.290000000000006,97.01,70.12,98.17,70.95,99.33,71.78,100.5,72.62,101.66,73.45,102.82,74.28,103.99,75.11,105.15,75.94,106.32,76.77,107.48,77.599999999999994,108.64,78.430000000000007,109.81,79.260000000000005,110.97,80.099999999999994,112.13,80.930000000000007,113.3,81.760000000000005,114.46,82.59,115.62,83.42,116.79,84.25,117.95]
[27,74.42,104.18,null,54,146.99,205.78,null,81,219.56,307.38,null,23,63.67,89.13,null,null,null,24,null,null,null,null,null,null,null,23,62.8,87.92,63.67,89.13,64.540000000000006,90.35,65.41,91.57,66.27,92.78,67.14,94,68.010000000000005,95.22,68.88,96.43,69.75,97.65,70.62,98.87,71.489999999999995,100.08,72.36,101.3,73.23,102.52,74.09,103.73,74.959999999999994,104.95,75.83,106.16,76.7,107.38,77.569999999999993,108.6,78.44,109.81,79.31,111.03,80.180000000000007,112.25,81.05,113.46,81.91,114.68,82.78,115.9,83.65,117.11,84.52,118.33,85.39,119.55,86.26,120.76,87.13,121.98,88,123.19]
[{"$f":"M90","v":82},{"$f":"N90","v":222.25},{"$f":"O90","v":311.14999999999998},null,{"$f":"M117","v":109},{"$f":"N117","v":294.82},{"$f":"O117","v":412.75},null,{"$f":"M144","v":136},{"$f":"N144","v":367.39},{"$f":"O144","v":514.35},null,24,66.349999999999994,92.9,null,null,null,25,null,null,null,null,null,null,null,24,65.45,91.63,66.349999999999994,92.9,67.260000000000005,94.17,68.17,95.43,69.069999999999993,96.7,69.98,97.97,70.89,99.24,71.790000000000006,100.51,72.7,101.78,73.61,103.05,74.510000000000005,104.32,75.42,105.59,76.33,106.86,77.23,108.13,78.14,109.4,79.05,110.67,79.95,111.94,80.86,113.21,81.77,114.47,82.67,115.74,83.58,117.01,84.49,118.28,85.39,119.55,86.3,120.82,87.21,122.09,88.11,123.36,89.02,124.63,89.93,125.9,90.83,127.17,91.74,128.44]
[83,224.93,314.91000000000003,null,110,297.51,416.52,null,137,370.07,518.09,null,25,69.040000000000006,96.66,null,null,null,26,null,null,null,null,null,null,null,25,68.099999999999994,95.34,69.040000000000006,96.66,69.989999999999995,97.98,70.930000000000007,99.3,71.88,100.63,72.819999999999993,101.95,73.760000000000005,103.27,74.709999999999994,104.59,75.650000000000006,105.92,76.599999999999994,107.24,77.540000000000006,108.56,78.489999999999995,109.88,79.430000000000007,111.2,80.38,112.53,81.319999999999993,113.85,82.26,115.17,83.21,116.49,84.15,117.82,85.1,119.14,86.04,120.46,86.99,121.78,87.93,123.1,88.88,124.43,89.82,125.75,90.76,127.07,91.71,128.38999999999999,92.65,129.72,93.6,131.04,94.54,132.36000000000001,95.49,133.68]
[84,227.64,318.69,null,111,300.22000000000003,420.31,null,138,372.81,521.92999999999995,null,26,71.73,100.42,null,null,null,27,null,null,null,null,null,null,null,26,70.75,99.05,71.73,100.42,72.709999999999994,101.8,73.69,103.17,74.680000000000007,104.55,75.66,105.92,76.64,107.3,77.62,108.67,78.61,110.05,79.59,111.42,80.569999999999993,112.8,81.55,114.17,82.53,115.55,83.52,116.92,84.5,118.3,85.48,119.67,86.46,121.05,87.45,122.42,88.43,123.8,89.41,125.17,90.39,126.55,91.37,127.92,92.36,129.30000000000001,93.34,130.66999999999999,94.32,132.05000000000001,95.3,133.43,96.29,134.80000000000001,97.27,136.18,98.25,137.55000000000001,99.23,138.93]
[85,230.32,322.44,null,112,302.89999999999998,424.06,null,139,375.45,525.63,null,27,74.42,104.18,null,null,null,28,null,null,null,null,null,null,null,27,73.400000000000006,102.76,74.42,104.18,75.44,105.61,76.459999999999994,107.04,77.48,108.47,78.5,109.9,79.52,111.32,80.540000000000006,112.75,81.56,114.18,82.58,115.61,83.6,117.04,84.62,118.46,85.64,119.89,86.66,121.32,87.68,122.75,88.7,124.18,89.72,125.6,90.74,127.03,91.76,128.46,92.78,129.88999999999999,93.8,131.32,94.82,132.74,95.84,134.16999999999999,96.86,135.6,97.88,137.03,98.9,138.46,99.92,139.88,100.94,141.31,101.96,142.74,102.98,144.16999999999999]
[86,232.99,326.19,null,113,305.58999999999997,427.83,null,140,378.16,529.41999999999996,null,28,77.11,107.95,null,null,null,29,null,null,null,null,null,null,null,28,76.05,106.47,77.11,107.95,78.16,109.43,79.22,110.91,80.28,112.39,81.34,113.87,82.4,115.35,83.45,116.83,84.51,118.32,85.57,119.8,86.63,121.28,87.68,122.76,88.74,124.24,89.8,125.72,90.86,127.2,91.92,128.68,92.97,130.16,94.03,131.63999999999999,95.09,133.12,96.15,134.6,97.2,136.09,98.26,137.57,99.32,139.05000000000001,100.38,140.53,101.44,142.01,102.49,143.49,103.55,144.97,104.61,146.44999999999999,105.67,147.93,106.72,149.41]
[87,235.69,329.96,null,114,308.27,431.57,null,141,380.82,533.14,null,29,79.790000000000006,111.71,null,null,null,30,null,null,null,null,null,null,null,29,78.7,110.18,79.790000000000006,111.71,80.89,113.25,81.99,114.78,83.08,116.31,84.18,117.85,85.27,119.38,86.37,120.91,87.46,122.45,88.56,123.98,89.65,125.52,90.75,127.05,91.85,128.58000000000001,92.94,130.12,94.04,131.65,95.13,133.18,96.23,134.72,97.32,136.25,98.42,137.79,99.51,139.32,100.61,140.85,101.71,142.38999999999999,102.8,143.91999999999999,103.9,145.44999999999999,104.99,146.99,106.09,148.52000000000001,107.18,150.06,108.25,151.59,109.37,153.12,110.47,154.66]
[88,238.37,333.72,null,115,310.95,435.33,null,142,383.55,536.97,null,30,82.48,115.47,null,null,null,31,null,null,null,null,null,null,null,30,81.349999999999994,113.89,82.48,115.47,83.61,117.06,84.75,118.65,85.88,120.23,87.01,121.82,88.15,123.41,89.28,124.99,90.41,126.58,91.55,128.16999999999999,92.68,129.75,93.81,131.34,94.95,132.93,96.08,134.51,97.21,136.1,98.35,137.69,99.48,139.27000000000001,100.61,140.86000000000001,101.75,142.44999999999999,102.88,144.03,104.01,145.62,105.15,147.21,106.28,148.79,107.41,150.38,108.55,151.97,109.68,153.55000000000001,110.81,155.13999999999999,111.95,156.72999999999999,113.08,158.31,114.21,159.9]
[89,241.06,337.48,null,116,313.64999999999998,439.11,null,143,386.23,540.72,null,31,85.17,119.24,null,null,null,32,null,null,null,null,null,null,null,31,84,117.6,85.17,119.24,86.34,120.88,87.51,122.52,88.68,124.16,89.85,125.8,91.03,127.44,92.2,129.08000000000001,93.37,130.72,94.54,132.35,95.71,133.99,96.88,135.63,98.05,137.27000000000001,99.22,138.91,100.39,140.55000000000001,101.57,142.19,102.74,143.83000000000001,103.91,145.47,105.08,147.11000000000001,106.25,148.75,107.42,150.38999999999999,108.59,152.03,109.76,153.66999999999999,110.93,155.31,112.11,156.94999999999999,113.28,158.59,114.45,160.22999999999999,115.62,161.87,116.79,163.51,117.96,165.15]
[90,243.76,341.26,null,117,316.32,442.85,null,144,388.92,544.49,null,32,87.86,123,null,null,null,33,null,null,null,null,null,null,null,32,86.65,121.31,87.86,123,89.07,124.69,90.27,126.38,91.48,128.08000000000001,92.69,129.77000000000001,93.9,131.46,95.11,133.15,96.32,134.85,97.53,136.54,98.74,138.22999999999999,99.95,139.91999999999999,101.15,141.62,102.36,143.31,103.57,145,104.78,146.69,105.99,148.38999999999999,107.2,150.08000000000001,108.41,151.77000000000001,109.62,153.46,110.83,155.16,112.03,156.85,113.24,158.54,114.45,160.22999999999999,115.66,161.91999999999999,116.87,163.62,118.08,165.31,119.29,167,120.5,168.69,121.71,170.39]
[91,246.45,345.03,null,118,319,446.6,null,145,391.57,548.20000000000005,null,33,90.55,126.77,null,null,null,34,null,null,null,null,null,null,null,33,89.3,125.02,90.55,126.77,91.79,128.51,93.04,130.26,94.29,132,95.53,133.75,96.78,135.49,98.03,137.24,99.27,138.97999999999999,100.52,140.72999999999999,101.77,142.47,103.01,144.22,104.26,145.96,105.51,147.71,106.75,149.44999999999999,108,151.19999999999999,109.25,152.94999999999999,110.49,154.69,111.74,156.44,112.99,158.18,114.23,159.93,115.48,161.66999999999999,116.73,163.41999999999999,117.97,165.16,119.22,166.91,120.47,168.65,121.71,170.4,122.96,172.14,124.21,173.89,125.45,175.63]
[92,249.13,348.78,null,119,321.7,450.38,null,146,394.28,552,null,34,93.23,130.52000000000001,null,null,null,35,null,null,null,null,null,null,null,34,91.95,128.72999999999999,93.23,130.52000000000001,94.52,132.32,95.8,134.12,97.09,135.91999999999999,98.37,137.72,99.65,139.52000000000001,100.94,141.31,102.22,143.11000000000001,103.51,144.91,104.79,146.71,106.08,148.51,107.36,150.30000000000001,108.65,152.1,109.93,153.9,111.21,155.69999999999999,112.5,157.5,113.78,159.30000000000001,115.07,161.09,116.35,162.88999999999999,117.64,164.69,118.92,166.49,120.21,168.29,121.49,170.09,122.77,171.88,124.06,173.68,125.34,175.48,126.63,177.28,127.91,179.08,129.19999999999999,180.87]
[93,251.81,352.53,null,120,324.41000000000003,454.17,null,147,396.95,555.72,null,35,95.92,134.29,null,null,null,36,null,null,null,null,null,null,null,35,94.6,132.44,95.92,134.29,97.24,136.13999999999999,98.57,137.99,99.89,139.84,101.21,141.69,102.53,143.55000000000001,103.86,145.4,105.18,147.25,106.5,149.1,107.82,150.94999999999999,109.14,152.80000000000001,110.47,154.65,111.79,156.5,113.11,158.35,114.43,160.21,115.76,162.06,117.08,163.91,118.4,165.76,119.72,167.61,121.04,169.46,122.37,171.31,123.69,173.16,125.01,175.01,126.33,176.87,127.66,178.72,128.97999999999999,180.57,130.30000000000001,182.42,131.62,179.08,132.94,186.12]
[94,254.5,356.3,null,121,327.08999999999997,457.92,null,148,399.68,559.54999999999995,null,36,98.61,138.05000000000001,null,null,null,37,null,null,null,null,null,null,null,36,97.25,136.15,98.61,138.05000000000001,99.97,139.96,101.33,141.86000000000001,102.69,143.77000000000001,104.05,145.66999999999999,105.41,147.57,106.77,149.47999999999999,108.13,151.38,109.49,153.29,110.85,155.19,112.21,157.09,113.57,159,114.93,160.9,116.29,162.81,117.65,164.71,119.01,166.61,120.37,168.52,121.73,170.42,123.09,172.33,124.45,174.23,125.81,176.13,127.17,178.04,128.53,179.94,129.88999999999999,181.85,131.25,183.75,132.61000000000001,185.65,133.97,187.56,135.33000000000001,189.46,136.69,191.37]
[95,257.20999999999998,360.09,null,122,329.78,461.69,null,149,402.37,563.30999999999995,null,37,101.3,141.81,null,null,null,38,null,null,null,null,null,null,null,37,99.9,139.86000000000001,101.3,141.81,102.69,143.77000000000001,104.09,145.72999999999999,105.49,147.69,106.89,149.63999999999999,108.29,151.6,109.68,153.56,111.08,155.51,112.48,157.47,113.88,159.43,115.27,161.38,116.67,163.34,118.07,165.3,119.47,167.25,120.87,169.21,122.26,171.17,123.66,173.13,125.06,175.08,126.46,177.04,127.85,179,129.25,180.95,130.65,182.91,132.05000000000001,184.87,133.44999999999999,186.82,134.84,188.78,136.24,190.74,137.63999999999999,192.69,139.04,194.65,140.43,196.61]
[96,259.88,363.83,null,123,332.44,465.42,null,150,405.06,567.08000000000004,null,38,103.98,145.58000000000001,null,null,null,39,null,null,null,null,null,null,null,38,102.55,143.57,103.98,145.58000000000001,105.42,147.59,106.85,149.6,108.29,151.61000000000001,109.73,153.62,111.16,155.62,112.6,157.63,114.03,159.63999999999999,115.47,161.65,116.9,163.66,118.34,165.67,119.77,167.68,121.21,169.69,122.65,171.7,124.08,173.71,125.52,175.72,126.95,177.73,128.38999999999999,179.74,129.82,181.75,131.26,183.76,132.69,185.77,134.13,187.78,135.57,189.79,137,191.8,138.44,193.81,139.87,195.82,141.31,197.83,142.74,199.84,144.18,201.85]
[97,262.56,367.59,null,124,335.16,469.22,null,151,407.7,570.78,null,39,106.67,149.34,null,null,null,40,null,null,null,null,null,null,null,39,105.2,147.28,106.67,149.34,108.14,151.4,109.62,153.46,111.09,155.53,112.56,157.59,114.04,159.65,115.51,161.71,116.98,163.78,118.46,165.84,119.93,167.9,121.4,169.97,122.88,172.03,124.35,174.09,125.82,176.15,127.3,178.22,128.77000000000001,180.28,130.24,182.34,131.72,184.4,133.19,186.47,134.66,188.53,136.13999999999999,190.59,137.61000000000001,192.65,139.08000000000001,194.72,140.56,196.78,142.03,198.84,143.5,200.91,144.97999999999999,202.97,146.44999999999999,205.03,147.91999999999999,207.09]
[98,265.26,371.37,null,125,337.84,472.98,null,152,410.41,574.58000000000004,null,40,109.36,153.11000000000001,null,null,null,41,null,null,null,null,null,null,null,40,107.85,150.99,109.36,153.11000000000001,110.87,155.22,112.38,157.34,113.9,159.44999999999999,115.41,161.57,116.92,163.68,118.43,165.8,119.94,167.92,121.45,170.03,122.96,172.15,124.47,174.26,125.98,176.38,127.5,178.49,129.01,180.61,130.52000000000001,182.72,132.03,184.84,133.54,186.96,135.05000000000001,189.07,136.56,191.19,138.07,193.3,139.58000000000001,195.42,141.1,197.53,142.61000000000001,199.65,144.12,201.76,145.63,203.88,147.13999999999999,206,148.65,208.11,150.16,210.23,151.66999999999999,212.34]
[99,267.95,375.13,null,126,340.54,476.76,null,153,413.07,578.29999999999995,null,41,112.05,156.87,null,null,null,42,null,null,null,null,null,null,null,41,110.5,154.69999999999999,112.05,156.87,113.6,159.04,115.15,161.21,116.7,163.37,118.24,165.54,119.79,167.71,121.34,169.88,122.89,172.05,124.44,174.22,125.99,176.39,127.54,178.55,129.09,180.72,130.63999999999999,182.89,132.18,185.06,133.72999999999999,187.23,135.28,189.4,136.83000000000001,191.56,138.38,193.73,139.93,195.9,141.47999999999999,198.07,143.03,200.24,144.58000000000001,202.41,146.12,204.57,147.66999999999999,206.74,149.22,208.91,150.77000000000001,211.08,152.32,213.25,153.87,215.42,155.41999999999999,217.59]
[100,270.63,378.88,null,127,343.2,480.49,null,154,415.81,582.13,null,42,114.74,160.63,null,null,null,43,null,null,null,null,null,null,null,42,113.15,158.41,114.74,160.63,116.32,162.85,117.91,165.07,119.5,167.29,121.08,169.51,122.67,171.74,124.26,173.96,125.84,176.18,127.43,178.4,129.02000000000001,180.62,130.6,182.84,132.19,185.06,133.78,187.29,135.36000000000001,189.51,136.94999999999999,191.73,138.54,193.95,140.12,196.17,141.71,198.39,143.30000000000001,200.61,144.88,202.83,146.47,205.06,148.06,207.28,149.63999999999999,209.5,151.22999999999999,211.72,152.82,213.94,154.4,216.16,155.99,218.38,157.58000000000001,220.61,159.16,222.83]
[101,273.31,382.64,null,128,345.88,484.23,null,155,418.48,585.88,null,43,117.42,164.39,null,null,null,44,null,null,null,null,null,null,null,43,115.8,162.12,117.42,164.39,119.05,166.67,120.67,168.94,122.3,171.21,123.92,173.49,125.54,175.76,127.17,178.04,128.79,180.31,130.41999999999999,182.59,132.04,184.86,133.66999999999999,187.13,135.29,189.41,136.91999999999999,191.68,138.54,193.96,140.16,196.23,141.79,198.5,143.41,200.78,145.04,203.05,146.66,205.33,148.29,207.6,149.91,209.88,151.54,212.15,153.16,214.42,154.78,216.7,156.41,218.97,158.03,221.25,159.66,223.52,161.28,225.8,162.91,228.07]
[102,276.02,386.43,null,129,348.56,487.99,null,156,421.17,589.64,null,44,120.11,168.15,null,null,null,45,null,null,null,null,null,null,null,44,118.45,165.83,120.11,168.15,121.77,170.48,123.43,172.81,125.1,175.13,126.76,177.46,128.41999999999999,179.79,130.08000000000001,182.11,131.74,184.44,133.41,186.77,135.07,189.1,136.72999999999999,191.42,138.38999999999999,193.75,140.06,196.08,141.72,198.4,143.38,200.73,145.04,203.06,146.69999999999999,205.39,148.37,207.71,150.03,210.04,151.69,212.37,153.35,214.69,155.02000000000001,217.02,156.68,219.35,158.34,221.68,160,224,161.66,226.33,163.33000000000001,228.66,164.99,230.98,166.65,233.31]
[103,278.70999999999998,390.19,null,130,351.26,491.77,null,157,423.87,593.41,null,45,122.8,171.92,null,null,null,46,null,null,null,null,null,null,null,45,121.1,169.54,122.8,171.92,124.5,174.3,126.2,176.68,127.9,179.06,129.6,181.44,131.30000000000001,183.82,133,186.2,134.69999999999999,188.58,136.4,190.96,138.1,193.34,139.80000000000001,195.72,141.5,198.1,143.19999999999999,200.48,144.9,202.86,146.6,205.24,148.30000000000001,207.62,150,210,151.69999999999999,212.38,153.4,214.76,155.1,217.14,156.80000000000001,219.52,158.5,221.9,160.19999999999999,224.28,161.9,226.66,163.6,229.04,165.3,231.42,167,233.8,168.7,236.18,170.4,238.56]
[104,281.38,393.93,null,131,353.97,495.56,null,158,426.57,597.20000000000005,null,46,125.49,175.68,null,null,null,47,null,null,null,null,null,null,null,46,123.75,173.25,125.49,175.68,127.23,178.12,128.96,180.55,130.69999999999999,182.98,132.44,185.42,134.18,187.85,135.91999999999999,190.28,137.65,192.71,139.38999999999999,195.15,141.13,197.58,142.87,200.01,144.6,202.45,146.34,204.88,148.08000000000001,207.31,149.82,209.74,151.56,212.18,153.29,214.61,155.03,217.04,156.77000000000001,219.48,158.51,221.91,160.24,224.34,161.97999999999999,226.77,163.72,229.21,165.46,231.64,167.2,234.07,168.93,236.51,170.67,238.94,172.41,241.37,174.15,243.8]
[105,284.07,397.69,null,132,356.64,499.3,null,159,429.22,600.9,null,47,128.18,179.45,null,null,null,48,null,null,null,null,null,null,null,47,126.4,176.96,128.18,179.45,129.94999999999999,181.93,131.72999999999999,184.42,133.5,186.91,135.28,189.39,137.06,191.88,138.83000000000001,194.36,140.61000000000001,196.85,142.38,199.34,144.16,201.82,145.93,204.31,147.71,206.79,149.47999999999999,209.28,151.26,211.76,153.04,214.25,154.81,216.74,156.59,219.22,158.36000000000001,221.71,160.13999999999999,224.19,161.91,226.68,163.69,229.16,165.46,231.65,167.24,234.14,169.02,236.62,170.79,239.11,172.57,241.59,174.34,244.08,176.12,246.56,177.89,249.05]
[106,286.77,401.48,null,133,359.33,503.06,null,160,431.94,604.72,null,48,130.86000000000001,183.21,null,null,null,49,null,null,null,null,null,null,null,48,129.05000000000001,180.67,130.86000000000001,183.21,132.68,185.75,134.49,188.29,136.30000000000001,190.83,138.12,193.36,139.93,195.9,141.74,198.44,143.56,200.98,145.37,203.52,147.18,206.06,149,208.6,150.81,211.14,152.62,213.67,154.44,216.21,156.25,218.75,158.06,221.29,159.88,223.83,161.69,226.37,163.5,228.91,165.32,231.44,167.13,233.98,168.94,236.52,170.76,239.06,172.57,241.6,174.38,244.14,176.2,246.68,178.01,249.22,179.82,251.75,181.64,254.29]
[107,289.45,405.23,null,134,362.02,506.83,null,161,434.6,608.45000000000005,null,49,133.55000000000001,186.97,null,null,null,50,null,null,null,null,null,null,null,49,131.69999999999999,184.38,133.55000000000001,186.97,135.4,189.57,137.25,192.16,139.11000000000001,194.75,140.96,197.34,142.81,199.93,144.66,202.52,146.51,205.11,148.36000000000001,207.71,150.21,210.3,152.06,212.89,153.91,215.48,155.77000000000001,218.07,157.62,220.66,159.47,223.26,161.32,225.85,163.16999999999999,228.44,165.02,231.03,166.87,233.62,168.72,236.21,170.57,238.8,172.43,241.4,174.28,243.99,176.13,246.58,177.98,249.17,179.83,251.76,181.68,254.35,183.53,256.95,185.38,259.54000000000002]
[108,292.14999999999998,409.01,null,135,364.73,510.62,null,162,437.27,612.17999999999995,null,50,136.24,190.74,null,null,null,51,null,null,null,null,null,null,null,50,134.35,188.09,136.24,190.74,138.13,193.38,140.02000000000001,196.03,141.91,198.67,143.80000000000001,201.32,145.69,203.96,147.57,206.6,149.46,209.25,151.35,211.89,153.24,214.54,155.13,217.18,157.02000000000001,219.83,158.91,222.47,160.80000000000001,225.12,162.69,227.76,164.57,230.4,166.46,233.05,168.35,235.69,170.24,238.34,172.13,240.98,174.02,243.63,175.91,246.27,177.8,248.92,179.69,251.56,181.57,254.2,183.46,256.85000000000002,185.35,264.63,187.24,262.14,189.13,264.77999999999997]
[{"$f":"M171","v":163},{"$f":"N171","v":439.95},{"$f":"O171","v":615.94000000000005},null,{"$f":"M198","v":190},{"$f":"N198","v":512.61},{"$f":"O198","v":717.65},null,null,null,null,null,51,138.93,194.5,null,null,null,52,null,null,null,null,null,null,null,51,137,191.8,138.93,194.5,140.86000000000001,197.2,142.78,199.89,144.71,202.59,146.63999999999999,205.29,148.56,207.99,150.49,210.68,152.41999999999999,213.38,154.34,216.08,156.27000000000001,218.78,158.19999999999999,221.47,160.12,224.17,162.05000000000001,226.87,163.98,229.57,165.9,232.26,167.83,234.96,169.76,237.66,171.68,240.35,173.61,243.05,175.54,245.75,177.46,248.45,179.39,251.14,181.32,253.84,183.24,256.54000000000002,185.17,259.24,187.1,261.93,189.02,264.63,190.95,267.33,192.88,270.02999999999997]
[164,442.64,619.70000000000005,null,191,515.26,721.36,null,null,null,null,null,52,141.61000000000001,198.26,null,null,null,53,null,null,null,null,null,null,null,52,139.65,195.51,141.61000000000001,198.26,143.58000000000001,201.01,145.54,203.76,147.51,206.51,149.47,209.26,151.43,212.01,153.4,214.76,155.36000000000001,217.51,157.33000000000001,220.26,159.29,223.01,161.26,225.76,163.22,228.51,165.19,231.26,167.15,234.01,169.11,236.76,171.08,239.51,173.04,242.26,175.01,245.01,176.97,247.76,178.94,250.51,180.9,253.26,182.87,256.01,184.83,258.76,186.79,261.51,188.76,264.26,190.72,267.01,192.69,269.76,194.65,272.51,196.62,275.26]
[165,445.34,623.48,null,192,517.91,725.08,null,null,null,null,null,53,144.30000000000001,202.02,null,null,null,54,null,null,null,null,null,null,null,53,142.30000000000001,199.22,144.30000000000001,202.02,146.30000000000001,204.82,148.30000000000001,207.63,150.31,210.43,152.31,213.23,154.31,216.04,156.31,218.84,158.32,221.64,160.32,224.44,162.32,227.25,164.32,230.05,166.32,232.85,168.33,235.66,170.33,238.46,172.33,241.26,174.33,244.07,176.34,246.87,178.34,249.67,180.34,252.48,182.34,255.28,184.34,258.08,186.35,260.88,188.35,263.69,190.35,266.49,192.35,269.29000000000002,194.36,272.10000000000002,196.36,274.89999999999998,198.36,277.7,200.36,280.51]
[166,448.05,627.27,null,193,520.67999999999995,728.95,null,null,null,null,null,54,146.99,205.78,null,null,null,55,null,null,null,null,null,null,null,54,144.94999999999999,202.93,146.99,205.78,149.03,208.64,151.07,211.5,153.11000000000001,214.35,155.15,217.21,157.19,220.06,159.22999999999999,222.92,161.27000000000001,225.78,163.31,228.63,165.35,231.49,167.39,234.34,169.43,237.2,171.47,240.06,173.51,242.91,175.55,245.77,177.59,248.62,179.63,251.48,181.67,254.34,183.71,257.19,185.75,260.05,187.79,262.89999999999998,189.83,265.76,191.87,268.62,193.91,271.47000000000003,195.95,274.33,197.99,277.18,200.03,280.04000000000002,202.07,282.89999999999998,204.11,285.75]
[167,450.77,631.07000000000005,null,194,523.35,732.69,null,null,null,null,null,55,149.68,209.55,null,null,null,56,null,null,null,null,null,null,null,55,147.6,206.64,149.68,209.55,151.76,212.46,153.83000000000001,215.37,155.91,218.28,157.99,221.19,160.07,224.09,162.15,227,164.22,229.91,166.3,232.82,168.38,235.73,170.46,238.64,172.53,241.55,174.61,244.46,176.69,247.37,178.77,250.27,180.85,253.18,182.92,256.08999999999997,185,259,187.08,261.91000000000003,189.16,264.82,191.23,267.73,193.31,270.64,195.39,273.55,197.47,276.45,199.55,279.36,201.62,282.27,203.7,285.18,205.78,288.08999999999997,207.86,291]
[168,453.41,634.78,null,195,526.03,736.45,null,null,null,null,null,56,152.37,213.31,null,null,null,57,null,null,null,null,null,null,null,56,150.25,210.35,152.37,213.31,154.47999999999999,216.28,156.6,219.24,158.71,222.2,160.83000000000001,225.16,162.94999999999999,228.12,165.06,231.09,167.18,234.05,169.29,237.01,171.41,239.97,173.52,242.93,175.64,245.89,177.75,248.86,179.87,251.82,181.99,254.78,184.1,257.74,186.22,260.7,188.33,263.66000000000003,190.45,266.63,192.56,269.58999999999997,194.68,272.55,196.79,275.51,198.91,278.47000000000003,201.03,281.44,203.14,284.39999999999998,205.26,287.36,207.37,290.32,209.49,293.27999999999997,211.6,296.24]
[169,456.15,638.61,null,196,528.72,740.21,null,null,null,null,null,57,155.05000000000001,217.08,null,null,null,58,null,null,null,null,null,null,null,57,152.9,214.06,155.05000000000001,217.08,157.21,220.09,159.36000000000001,223.11,161.51,226.12,163.66999999999999,229.13,165.82,232.15,167.97,235.16,170.13,238.18,172.28,241.19,174.43,244.21,176.59,247.22,178.74,250.24,180.89,253.25,183.05,256.27,185.2,259.27999999999997,187.35,262.3,189.51,265.31,191.66,268.33,193.81,271.33999999999997,195.97,274.35000000000002,198.12,277.37,200.27,280.38,202.43,283.39999999999998,204.58,286.41000000000003,206.73,289.43,208.89,292.44,211.04,295.45999999999998,213.19,298.47000000000003,215.35,301.49]
[170,458.81,642.34,null,197,531.41,743.98,null,null,null,null,null,58,157.74,220.83,null,null,null,59,null,null,null,null,null,null,null,58,155.55000000000001,217.76,157.74,220.83,159.93,223.9,162.12,226.97,164.31,230.03,166.5,233.1,168.69,236.17,170.88,239.24,173.07,242.3,175.27,245.37,177.46,248.44,179.65,251.51,181.84,254.57,184.03,257.64,186.22,260.70999999999998,188.41,263.77999999999997,190.6,266.83999999999997,192.79,269.91000000000003,194.99,272.98,197.18,276.05,199.37,279.12,201.56,282.18,203.75,285.25,205.94,288.32,208.13,291.39,210.32,294.45,212.51,297.52,214.71,300.58999999999997,216.9,303.66000000000003,219.09,306.72000000000003]
[171,461.49,646.08000000000004,null,198,534.12,747.76,null,null,null,null,null,59,160.41999999999999,224.59,null,null,null,60,null,null,null,null,null,null,null,59,158.19999999999999,221.47,160.41999999999999,224.59,162.65,227.71,164.88,230.83,167.11,233.96,169.34,237.08,171.57,240.2,173.8,243.32,176.03,246.44,178.26,249.56,180.48,252.68,182.71,255.8,184.94,258.92,187.17,262.04000000000002,189.4,265.16000000000003,191.63,268.27999999999997,193.86,271.39999999999998,196.09,274.52,198.32,277.64,200.54,280.76,202.77,283.88,205,287,207.23,290.12,209.46,293.24,211.69,296.36,213.92,299.48,216.15,302.61,218.38,305.73,220.6,308.85000000000002,22.83,311.97000000000003]
[172,464.17,649.83000000000004,null,199,536.71,751.4,null,null,null,null,null,60,163.12,228.36,null,null,null,61,null,null,null,null,null,null,null,60,160.85,225.19,163.12,228.36,165.38,231.54,167.65,234.71,169.92,237.88,172.18,241.06,174.45,244.23,176.72,247.4,178.98,250.58,181.25,253.75,183.52,256.92,185.78,260.10000000000002,188.05,263.27,190.32,266.44,192.58,269.62,194.85,272.79000000000002,197.12,275.95999999999998,199.38,279.14,201.65,282.31,203.92,285.48,206.18,288.66000000000003,208.45,291.83,210.72,295,212.98,298.18,215.25,301.35000000000002,217.52,304.52,219.78,307.7,222.05,310.87,224.32,314.04000000000002,226.58,317.22000000000003]
[173,466.86,653.6,null,200,539.42999999999995,755.2,null,null,null,null,null,61,165.81,232.13,null,null,null,62,null,null,null,null,null,null,null,61,163.51,228.91,165.81,232.13,168.11,235.36,170.42,238.59,172.72,241.81,175.03,245.04,177.33,248.27,179.64,251.49,181.94,254.72,184.25,257.94,186.55,261.17,188.85,264.39999999999998,191.16,267.62,193.46,270.85000000000002,195.77,274.08,198.07,277.3,200.38,280.52999999999997,202.68,283.75,204.99,286.98,207.29,290.20999999999998,209.59,293.43,211.9,296.66000000000003,214.2,299.89,216.51,303.11,218.81,306.33999999999997,221.12,309.56,223.42,312.79000000000002,225.73,316.02,228.03,319.24,230.33,322.47000000000003]
[174,469.55,657.37,null,"200-\n1000",{"$f":"\"เพิ่ม  \"&ROUND(N209,2)","v":"เพิ่ม  2.7"},{"$f":"\"เพิ่ม  \"&ROUND(O209,2)","v":"เพิ่ม  3.78"},null,null,null,null,null,62,168.5,235.89,null,null,null,63,null,null,null,null,null,null,null,62,166.15,232.61,168.5,235.89,170.84,239.17,173.18,242.45,175.52,245.73,177.86,249.01,180.21,252.29,182.55,255.57,184.89,258.85000000000002,187.23,262.13,189.58,265.41000000000003,191.92,268.68,194.26,271.95999999999998,196.6,275.24,198.94,278.52,201.29,281.8,203.63,285.08,205.97,288.36,208.31,291.64,210.66,294.92,213,298.2,215.34,301.48,217.68,304.76,220.02,308.02999999999997,222.37,311.31,224.71,314.58999999999997,227.05,317.87,229.39,321.14999999999998,231.74,324.43,234.08,327.71]
[175,472.26,661.16,null,null,"ต่อ กม.","ต่อ กม.",null,null,null,null,null,63,171.18,239.65,null,null,null,64,null,null,null,null,null,null,null,63,168.8,236.32,171.18,239.65,173.56,242.99,175.94,246.32,178.32,249.65,180.7,252.98,183.08,256.31,185.46,259.64999999999998,187.84,262.98,190.22,266.31,192.6,269.64,194.98,272.97000000000003,197.36,276.31,199.74,279.64,202.12,282.97000000000003,204.5,286.3,206.88,289.63,209.26,292.97000000000003,211.64,296.3,214.02,299.63,216.4,302.95999999999998,218.78,306.29000000000002,221.16,309.63,223.54,312.95999999999998,225.92,316.29000000000002,228.3,319.62,230.68,322.95,233.06,326.29000000000002,235.44,329.62,237.82,332.95]
[176,474.89,664.84,null,null,null,null,null,null,null,null,null,64,173.87,243.41,null,null,null,65,null,null,null,null,null,null,null,64,171.45,240.03,173.87,243.41,176.28,246.8,178.7,250.18,181.12,253.57,183.54,256.95,185.96,260.33999999999997,188.37,263.72000000000003,190.79,267.11,193.21,270.49,195.63,273.88,198.04,277.26,200.46,280.64999999999998,202.88,284.02999999999997,205.3,287.42,207.72,290.8,210.13,294.19,212.55,297.57,214.97,300.95999999999998,217.39,304.33999999999997,219.8,307.73,222.22,311.11,224.64,314.5,227.06,317.88,229.48,321.27,231.89,324.64999999999998,234.31,328.04,236.73,331.42,239.15,334.81,241.56,338.19]
[177,477.61,668.66,null,null,null,null,null,null,null,null,null,65,176.56,247.19,null,null,null,66,null,null,null,null,null,null,null,65,174.11,243.75,176.56,247.19,179.02,250.63,181.47,254.06,183.93,257.5,186.38,260.94,188.84,264.38,191.3,267.81,193.75,271.25,196.21,274.69,198.66,278.13,201.12,281.57,203.57,285,206.03,288.44,208.48,291.88,210.94,295.32,213.4,298.75,215.85,302.19,218.31,305.63,220.76,309.07,223.22,312.51,225.67,315.94,228.13,319.38,230.58,322.82,233.04,326.26,235.5,329.69,237.95,333.13,240.41,336.57,242.86,340.01,245.32,343.45]
[178,480.35,672.49,null,null,null,null,null,null,null,null,null,{"$f":"M73+1","v":66},{"$f":"HLOOKUP($N$8,$AB$8:$CI$209,S74,FALSE)","v":179.24},{"$f":"HLOOKUP($O$8,$AB$8:$CI$209,S74,FALSE)","v":250.94},null,null,null,67,null,null,null,null,null,null,null,66,176.75,247.45,179.24,250.94,181.74,254.43,184.23,257.92,186.72,261.41000000000003,189.22,264.89999999999998,191.71,268.39,194.2,271.88,196.7,275.38,199.19,278.87,201.68,282.36,204.18,285.85000000000002,206.67,289.33999999999997,209.16,292.83,211.66,296.32,214.15,299.81,216.64,303.3,219.14,306.79000000000002,221.63,310.27999999999997,224.12,313.77,226.62,317.26,229.11,320.75,231.6,324.24,234.1,327.74,236.59,331.23,239.08,334.72,241.58,338.21,244.07,341.7,246.56,345.19,249.06,348.68]
[179,483,676.2,null,null,null,null,null,null,null,null,null,67,181.93,254.71,null,null,null,68,null,null,null,null,null,null,null,67,179.4,251.16,181.93,254.71,184.46,258.25,187,261.79000000000002,189.53,265.33999999999997,192.06,268.88,194.59,272.42,197.12,275.97000000000003,199.65,279.51,202.18,283.05,204.71,286.60000000000002,207.24,290.14,209.78,293.69,212.31,297.23,214.84,300.77,217.37,304.32,219.9,307.86,222.43,311.39999999999998,224.96,314.95,227.49,318.49,230.02,322.02999999999997,232.56,325.58,235.09,329.12,237.62,332.66,240.15,336.21,242.68,339.75,245.21,343.3,247.74,346.84,250.27,350.38,252.8,353.93]
[180,485.66,679.92,null,null,null,null,null,null,null,null,null,68,184.62,258.47000000000003,null,null,null,69,null,null,null,null,null,null,null,68,182.05,254.87,184.62,258.47000000000003,187.19,262.06,189.76,265.66000000000003,192.33,269.26,194.89,272.85000000000002,197.46,276.45,200.03,280.04000000000002,202.6,283.64,205.17,287.24,207.74,290.83,210.31,294.43,212.88,298.02999999999997,215.45,301.62,218.01,305.22000000000003,220.58,308.82,223.15,312.41000000000003,225.72,316.01,228.29,319.61,230.86,323.2,233.43,326.8,236,330.39,238.57,333.99,241.13,337.59,243.7,341.18,246.27,344.78,248.84,348.38,251.41,351.97,253.98,355.57,256.55,359.17]
[181,488.33,683.66,null,null,null,null,null,null,null,null,null,69,187.31,262.24,null,null,null,70,null,null,null,null,null,null,null,69,184.7,258.58999999999997,187.31,262.24,189.92,265.89,192.52,269.52999999999997,195.13,273.18,197.74,276.83,200.34,280.48,202.95,284.13,205.56,287.77999999999997,208.16,291.43,210.77,295.08,213.38,298.73,215.98,302.38,218.59,306.02999999999997,221.2,309.68,223.8,313.33,226.41,316.98,229.02,320.63,231.62,324.27,234.23,327.92,236.84,331.57,239.44,335.22,242.05,338.87,244.66,342.52,247.26,346.17,249.87,349.82,252.48,353.47,255.08,357.12,257.69,360.77,260.3,364.42]
[182,491.1,687.54,null,null,null,null,null,null,null,null,null,70,190,266,null,null,null,71,null,null,null,null,null,null,null,70,187.35,262.29000000000002,190,266,192.64,269.7,195.29,273.39999999999998,197.93,277.10000000000002,200.58,280.81,203.22,284.51,205.86,288.20999999999998,208.51,291.91000000000003,211.15,295.61,213.8,299.32,216.44,303.02,219.09,306.72000000000003,221.73,310.42,224.38,314.13,227.02,317.83,229.66,321.52999999999997,232.31,325.23,234.95,328.93,237.6,332.64,240.24,336.34,242.89,340.04,245.53,343.74,248.18,347.45,250.82,351.15,253.46,354.85,256.11,358.55,258.75,362.25,261.39999999999998,365.96,264.04000000000002,369.66]
[183,493.78,691.29,null,null,null,null,null,null,null,null,null,71,192.69,269.77,null,null,null,72,null,null,null,null,null,null,null,71,190.01,266.01,192.69,269.77,195.37,273.52,198.05,277.27999999999997,200.74,281.02999999999997,203.42,284.79000000000002,206.1,288.54000000000002,208.78,292.3,211.47,296.05,214.15,299.81,216.83,303.56,219.51,307.32,222.19,311.07,224.88,314.83,227.56,318.58,230.24,322.33999999999997,232.92,326.08999999999997,235.61,329.85,238.29,333.6,240.97,337.36,243.65,341.11,246.33,344.87,249.02,348.62,251.7,352.38,254.38,356.13,257.06,359.89,259.75,363.64,262.43,367.4,265.11,371.15,267.79000000000002,374.91]
[184,496.47,695.06,null,null,null,null,null,null,null,null,null,72,195.37,273.52,null,null,null,73,null,null,null,null,null,null,null,72,192.65,269.72000000000003,195.37,273.52,198.09,277.33,200.81,281.14,203.53,284.95,206.25,288.76,208.97,292.56,211.69,296.37,214.41,300.18,217.13,303.99,219.85,307.8,222.57,311.60000000000002,225.29,315.41000000000003,228.01,319.22000000000003,230.73,323.02999999999997,233.45,326.83999999999997,236.17,330.64,238.89,334.45,241.61,338.26,244.33,342.07,247.05,345.88,249.77,349.68,252.49,353.49,255.21,357.3,257.93,361.11,260.64999999999998,364.92,263.37,363.64,266.08999999999997,372.53,268.81,376.34,271.52999999999997,380.15]
[185,499.08,698.71,null,null,null,null,null,null,null,null,null,73,198.06,277.29000000000002,null,null,null,74,null,null,null,null,null,null,null,73,195.31,273.43,198.06,277.29000000000002,200.82,281.14999999999998,203.58,285.01,206.34,288.87,209.09,292.73,211.85,296.58999999999997,214.61,300.45,217.37,304.31,220.13,308.18,222.88,312.04000000000002,225.64,315.89999999999998,228.4,319.76,231.16,323.62,233.91,327.48,236.67,331.34,239.43,335.2,242.19,339.06,244.95,342.92,247.7,346.78,250.46,350.64,253.22,354.51,255.98,358.37,258.73,362.23,261.49,366.09,264.25,369.95,267.01,373.81,269.77,377.67,272.52,381.53,275.27999999999997,385.39]
[186,501.79,702.5,null,null,null,null,null,null,null,null,null,74,200.74,281.04000000000002,null,null,null,75,null,null,null,null,null,null,null,74,197.94,277.12,200.74,281.04000000000002,203.54,284.95,206.33,288.86,209.13,292.77999999999997,211.92,296.69,214.72,300.61,217.51,304.52,220.31,308.43,223.1,312.35000000000002,225.9,316.26,228.7,320.17,231.49,324.08999999999997,234.29,328,237.08,331.92,239.88,335.83,242.67,339.74,245.47,343.66,248.26,347.57,251.06,351.48,253.86,355.4,256.64999999999998,359.31,259.45,363.23,262.24,367.14,265.04000000000002,371.05,267.83,374.97,270.63,378.88,273.42,382.79,276.22000000000003,386.71,279.02,390.62]
[187,504.51,706.31,null,null,null,null,null,null,null,null,null,75,203.44,284.81,null,null,null,76,null,null,null,null,null,null,null,75,200.6,280.85000000000002,203.44,284.81,206.27,288.77999999999997,209.1,292.75,211.94,296.70999999999998,214.77,300.68,217.6,304.64999999999998,220.44,308.61,223.27,312.58,226.1,316.55,228.94,320.51,231.77,324.48,234.6,328.45,237.44,332.41,240.27,336.38,243.1,340.35,245.94,344.31,248.77,348.28,251.6,352.25,254.44,356.21,257.27,360.18,260.10000000000002,364.15,262.94,368.11,265.77,372.08,268.60000000000002,376.05,271.44,380.01,274.27,383.98,277.10000000000002,387.95,279.94,391.91,282.77,395.88]
[188,507.23,710.12,null,null,null,null,null,null,null,null,null,76,206.12,288.57,null,null,null,77,null,null,null,null,null,null,null,76,203.25,284.55,206.12,288.57,208.99,292.58999999999997,211.86,296.61,214.73,300.63,217.61,304.64999999999998,220.48,308.67,223.35,312.69,226.22,316.70999999999998,229.09,320.73,231.96,324.74,234.83,328.76,237.7,332.78,240.57,336.8,243.45,340.82,246.32,344.84,249.19,348.86,252.06,352.88,254.93,356.9,257.8,360.92,260.67,364.94,263.54000000000002,368.96,266.41000000000003,372.98,269.29000000000002,377,272.16000000000003,381.02,275.02999999999997,385.04,277.89999999999998,389.06,280.77,393.08,283.64,397.1,286.51,401.12]
[189,509.87,713.81,null,null,null,null,null,null,null,null,null,77,208.81,292.33,null,null,null,78,null,null,null,null,null,null,null,77,205.9,288.26,208.81,292.33,211.72,296.39999999999998,214.62,300.47000000000003,217.53,304.55,220.44,308.62,223.35,312.69,226.26,316.76,229.17,320.83999999999997,232.08,324.91000000000003,234.99,328.98,237.9,333.05,240.8,337.13,243.71,341.2,246.62,345.27,249.53,349.34,252.44,353.42,255.35,357.49,258.26,361.56,261.17,365.63,264.08,369.71,266.98,373.78,269.89,377.85,272.8,381.92,275.70999999999998,386,278.62,390.07,281.52999999999997,394.14,284.44,398.21,287.35000000000002,402.28,290.26,406.36]
[null,null,null,null,null,null,null,null,null,null,null,null,78,211.49,296.08999999999997,null,null,null,79,null,null,null,null,null,null,null,78,208.55,291.97000000000003,211.49,296.08999999999997,214.44,300.22000000000003,217.39,304.33999999999997,220.33,308.47000000000003,223.28,312.58999999999997,226.23,316.72000000000003,229.17,320.83999999999997,232.12,324.97000000000003,235.07,329.09,238.01,333.22,240.96,337.34,243.91,341.47,246.85,345.6,249.8,349.72,252.75,353.85,255.69,357.97,258.64,362.1,261.58999999999997,366.22,264.52999999999997,370.35,267.48,374.47,270.43,378.6,273.37,382.72,276.32,386.85,279.27,390.97,282.20999999999998,395.1,285.16000000000003,399.22,288.11,403.35,291.05,407.48,294,411.6]
[null,null,null,null,null,null,null,null,null,null,null,null,79,214.18,299.86,null,null,null,80,null,null,null,null,null,null,null,79,211.2,295.68,214.18,299.86,217.17,304.02999999999997,220.15,308.20999999999998,223.14,312.39,226.12,316.57,229.1,320.75,232.09,324.92,235.07,329.1,238.06,333.28,241.04,337.46,244.03,341.64,247.01,345.82,250,349.99,252.98,354.17,255.96,358.35,258.95,362.53,261.93,366.71,264.92,370.88,267.89999999999998,375.06,270.89,379.24,273.87,383.42,276.86,387.6,279.83999999999997,391.78,282.82,395.95,285.81,400.13,288.79000000000002,404.31,291.77999999999997,408.49,294.76,412.67,297.75,416.85]
[null,null,null,null,null,null,null,null,null,null,null,null,80,216.87,303.62,null,null,null,81,null,null,null,null,null,null,null,80,213.85,299.39,216.87,303.62,219.89,307.85000000000002,222.92,312.08,225.94,316.31,228.96,320.54000000000002,231.98,324.77,235,329.01,238.03,333.24,241.05,337.47,244.07,341.7,247.09,345.93,250.12,350.16,253.14,354.39,256.16000000000003,358.62,259.18,362.85,262.2,367.09,265.23,371.32,268.25,375.55,271.27,379.78,274.29000000000002,384.01,277.32,388.24,280.33999999999997,392.47,283.36,396.7,286.38,400.93,289.39999999999998,405.17,292.43,409.4,295.45,413.63,298.47000000000003,417.86,301.49,422.09]
[null,null,null,null,null,null,null,null,null,null,null,null,81,219.56,307.38,null,null,null,82,null,null,null,null,null,null,null,81,216.5,303.10000000000002,219.56,307.38,222.62,311.67,225.68,315.95,228.74,320.24,231.8,324.52,234.86,328.8,237.92,333.09,240.98,337.37,244.04,341.66,247.1,345.94,250.16,350.22,253.22,354.51,256.27999999999997,358.79,259.33999999999997,363.08,262.39999999999998,367.36,265.45999999999998,371.64,268.52,375.93,271.58,380.21,274.64,384.5,277.7,388.78,280.76,393.06,283.82,397.35,286.88,401.63,289.94,405.92,293,410.2,296.06,414.48,299.12,418.77,302.18,423.05,305.24,427.34]
[null,null,null,null,null,null,null,null,null,null,null,null,82,222.25,311.14999999999998,null,null,null,83,null,null,null,null,null,null,null,82,219.15,306.81,222.25,311.14999999999998,225.34,315.48,228.44,319.82,231.54,324.16000000000003,234.64,328.49,237.74,332.83,240.83,337.17,243.93,341.5,247.03,345.84,250.13,350.18,253.22,354.51,256.32,358.85,259.42,363.19,262.52,367.53,265.62,371.86,268.70999999999998,376.2,271.81,380.54,274.91000000000003,384.87,278.01,389.21,281.10000000000002,393.55,284.2,397.88,287.3,402.22,290.39999999999998,406.56,293.5,410.89,296.58999999999997,415.23,299.69,419.57,302.79000000000002,423.9,305.89,428.24,308.98,432.58]
[null,null,null,null,null,null,null,null,null,null,null,null,83,224.93,314.91000000000003,null,null,null,84,null,null,null,null,null,null,null,83,221.8,310.52,224.93,314.91000000000003,228.07,319.3,231.2,323.69,234.34,328.08,237.47,332.46,240.61,336.85,243.75,341.24,246.88,345.63,250.02,350.02,253.15,354.41,256.29000000000002,358.8,259.42,363.19,262.56,367.58,265.69,371.97,268.83,376.36,271.97000000000003,380.75,275.10000000000002,385.14,278.24,389.53,281.37,393.92,284.51,398.31,287.64,402.7,290.77999999999997,407.09,293.91000000000003,411.48,297.05,415.87,300.19,420.26,303.32,424.65,306.45999999999998,429.04,309.58999999999997,433.43,312.73,437.82]
[null,null,null,null,null,null,null,null,null,null,null,null,84,227.64,318.69,null,null,null,85,null,null,null,null,null,null,null,84,224.46,314.25,227.64,318.69,230.81,323.13,233.98,327.58,237.16,332.02,240.33,336.46,243.5,340.9,246.68,345.35,249.85,349.79,253.02,354.23,256.2,358.67,259.37,363.12,262.54000000000002,367.56,265.72000000000003,372,268.89,376.45,272.06,380.89,275.24,385.33,278.41000000000003,389.77,281.58,394.22,284.76,398.66,287.93,403.1,291.10000000000002,407.54,294.27999999999997,411.99,297.45,416.43,300.62,420.87,303.8,425.31,306.97000000000003,429.76,310.14,434.2,313.32,438.64,316.49,443.09]
[null,null,null,null,null,null,null,null,null,null,null,null,85,230.32,322.44,null,null,null,86,null,null,null,null,null,null,null,85,227.11,317.95,230.32,322.44,233.53,326.94,236.74,331.43,239.95,335.93,243.16,340.43,246.37,344.92,249.58,349.42,252.79,353.91,256.01,358.41,259.22000000000003,362.9,262.43,367.4,265.64,371.89,268.85000000000002,376.39,272.06,380.89,275.27,385.38,278.48,389.88,281.69,394.37,284.91000000000003,398.87,288.12,403.36,291.33,407.86,294.54000000000002,412.35,297.75,416.85,300.95999999999998,421.35,304.17,425.84,307.38,430.34,310.58999999999997,434.83,313.81,439.33,317.02,443.82,320.23,448.32]
[null,null,null,null,null,null,null,null,null,null,null,null,86,232.99,326.19,null,null,null,87,null,null,null,null,null,null,null,86,229.74,321.64,232.99,326.19,236.24,330.74,239.49,335.29,242.74,339.84,245.99,344.38,249.24,348.93,252.49,353.48,255.74,358.03,258.98,362.58,262.23,367.13,265.48,371.67,268.73,376.22,271.98,380.77,275.23,385.32,278.48,389.87,281.73,394.42,284.98,398.97,288.22000000000003,403.51,291.47000000000003,408.06,294.72000000000003,412.61,297.97000000000003,417.16,301.22000000000003,421.71,304.47000000000003,426.26,307.72000000000003,430.8,310.97000000000003,435.35,314.22000000000003,439.9,317.45999999999998,444.45,320.70999999999998,449,323.95999999999998,453.55]
[null,null,null,null,null,null,null,null,null,null,null,null,87,235.69,329.96,null,null,null,88,null,null,null,null,null,null,null,87,232.4,325.36,235.69,329.96,238.97,334.56,242.26,339.16,245.55,343.76,248.83,348.37,252.12,352.97,255.41,357.57,258.69,362.17,261.98,366.77,265.27,371.37,268.55,375.97,271.83999999999997,380.57,275.13,385.18,278.41000000000003,389.78,281.7,394.38,284.99,398.98,288.27,403.58,291.56,408.18,294.85000000000002,412.78,298.13,417.39,301.42,421.99,304.70999999999998,426.59,307.99,431.19,311.27999999999997,435.79,314.57,440.39,317.85000000000002,444.99,321.14,449.59,324.43,454.2,327.71,458.8]
[null,null,null,null,null,null,null,null,null,null,null,null,88,238.37,333.72,null,null,null,89,null,null,null,null,null,null,null,88,235.05,329.07,238.37,333.72,241.7,338.38,245.02,343.03,248.35,347.69,251.67,352.34,255,356.99,258.32,361.65,261.64999999999998,366.3,264.97000000000003,370.96,268.29000000000002,375.61,271.62,380.27,274.94,384.92,278.27,389.57,281.58999999999997,394.23,284.92,398.88,288.24,403.54,291.57,408.19,294.89,412.85,298.20999999999998,417.5,301.54000000000002,422.15,304.86,426.81,308.19,431.46,311.51,436.12,314.83999999999997,440.77,318.16000000000003,445.42,321.49,450.08,324.81,454.73,328.13,459.39,331.46,464.04]
[null,null,null,null,null,null,null,null,null,null,null,null,89,241.06,337.48,null,null,null,90,null,null,null,null,null,null,null,89,237.69,332.77,241.06,337.48,244.42,342.19,247.78,346.89,251.14,351.6,254.51,356.31,257.87,361.01,261.23,365.72,264.58999999999997,370.43,267.95,375.14,271.32,379.84,274.68,384.55,278.04000000000002,389.26,281.39999999999998,393.96,284.77,398.67,288.13,403.38,291.49,408.09,294.85000000000002,412.79,298.20999999999998,417.5,301.58,422.21,304.94,426.91,308.3,431.62,311.66000000000003,436.33,315.02999999999997,441.04,318.39,445.74,321.75,450.45,325.11,455.16,328.47,459.86,331.84,464.57,335.2,469.28]
[null,null,null,null,null,null,null,null,null,null,null,null,90,243.76,341.26,null,null,null,91,null,null,null,null,null,null,null,90,240.36,336.5,243.76,341.26,247.16,346.02,250.56,350.78,253.96,355.54,257.36,360.3,260.76,365.06,264.16000000000003,369.82,267.56,374.58,270.95999999999998,379.34,274.36,384.1,277.76,388.86,281.16000000000003,393.62,284.56,398.38,287.95999999999998,403.14,291.36,407.9,294.76,412.66,298.16000000000003,417.42,301.56,422.18,304.95999999999998,426.94,308.36,431.7,311.76,436.46,315.16000000000003,441.22,318.56,445.98,321.95999999999998,450.74,325.36,455.5,328.76,460.26,332.16,465.02,335.56,469.78,338.96,474.54]
[null,null,null,null,null,null,null,null,null,null,null,null,91,246.45,345.03,null,null,null,92,null,null,null,null,null,null,null,91,243.01,340.21,246.45,345.03,249.88,349.84,253.32,354.65,256.76,359.46,260.2,364.28,263.64,369.09,267.07,373.9,270.51,378.72,273.95,383.53,277.39,388.34,280.82,393.15,284.26,397.97,287.7,402.78,291.14,407.59,294.58,412.41,298.01,417.22,301.45,422.03,304.89,426.85,308.33,431.66,311.76,436.47,315.2,441.28,318.64,446.1,322.08,450.91,325.52,455.72,328.95,460.54,332.39,465.35,335.83,470.16,339.27,474.97,342.7,479.79]
[null,null,null,null,null,null,null,null,null,null,null,null,92,249.13,348.78,null,null,null,93,null,null,null,null,null,null,null,92,245.66,343.92,249.13,348.78,252.61,353.65,256.08,358.52,259.56,363.38,263.02999999999997,368.25,266.51,373.11,269.98,377.98,273.45999999999998,382.84,276.94,387.71,280.41000000000003,392.58,283.89,397.44,287.36,402.31,290.83999999999997,407.17,294.31,412.04,297.79000000000002,416.9,301.26,421.77,304.74,426.64,308.22000000000003,431.5,311.69,436.37,315.17,441.23,318.64,446.1,322.12,450.97,325.58999999999997,455.83,329.07,460.7,332.54,465.56,336.02,470.43,339.5,475.29,342.97,480.16,346.45,485.03]
[null,null,null,null,null,null,null,null,null,null,null,null,93,251.81,352.53,null,null,null,94,null,null,null,null,null,null,null,93,248.29,347.61,251.81,352.53,255.32,357.45,258.83,362.37,262.35000000000002,367.29,265.86,372.2,269.37,377.12,272.89,382.04,276.39999999999998,386.96,279.91000000000003,391.88,283.43,396.8,286.94,401.72,290.45,406.63,293.97000000000003,411.55,297.48,416.47,300.99,421.39,304.51,426.31,308.02,431.23,311.52999999999997,436.15,315.05,441.07,318.56,445.98,322.07,450.9,325.58999999999997,455.82,329.1,460.74,332.61,465.66,336.13,470.58,339.64,475.5,343.15,480.41,346.67,485.33,350.18,490.25]
[null,null,null,null,null,null,null,null,null,null,null,null,94,254.5,356.3,null,null,null,95,null,null,null,null,null,null,null,94,250.95,351.33,254.5,356.3,258.05,361.27,261.60000000000002,366.24,265.14999999999998,371.21,268.7,376.18,272.25,381.15,275.8,386.13,279.36,391.1,282.91000000000003,396.07,286.45999999999998,401.04,290.01,406.01,293.56,410.98,297.11,415.96,300.66000000000003,420.93,304.20999999999998,425.9,307.76,430.87,311.32,435.84,314.87,440.81,318.42,445.79,321.97000000000003,450.76,325.52,455.73,329.07,460.7,332.62,465.67,336.17,470.64,339.72,475.61,343.28,480.59,346.83,485.56,350.38,490.53,353.93,495.5]
[null,null,null,null,null,null,null,null,null,null,null,null,95,257.20999999999998,360.09,null,null,null,96,null,null,null,null,null,null,null,95,253.62,355.06,257.20999999999998,360.09,260.79000000000002,365.11,264.38,370.14,267.97000000000003,375.16,271.56,380.18,275.14999999999998,385.21,278.74,390.23,282.33,395.26,285.92,400.28,289.51,405.31,293.08999999999997,410.33,296.68,415.36,300.27,420.38,303.86,425.4,307.45,430.43,311.04000000000002,435.45,314.63,440.48,318.22000000000003,445.5,321.81,450.53,325.39,455.55,328.98,460.58,332.57,465.6,336.16,470.62,339.75,475.65,343.34,480.67,346.93,485.7,350.52,490.72,354.11,495.75,357.69,500.77]
[null,null,null,null,null,null,null,null,null,null,null,null,96,259.88,363.83,null,null,null,97,null,null,null,null,null,null,null,96,256.25,358.75,259.88,363.83,263.5,368.9,267.13,373.98,270.76,379.06,274.38,384.14,278.01,389.21,281.64,394.29,285.26,399.37,288.89,404.44,292.52,409.52,296.14,414.6,299.77,419.68,303.39999999999998,424.75,307.02,429.83,310.64999999999998,434.91,314.27999999999997,439.99,317.89999999999998,445.06,321.52999999999997,450.14,325.16000000000003,455.22,328.78,460.3,332.41,465.37,336.04,470.45,339.66,475.53,343.29,480.6,346.92,485.68,350.54,490.76,354.17,495.84,357.8,500.91,361.42,505.99]
[null,null,null,null,null,null,null,null,null,null,null,null,97,262.56,367.59,null,null,null,98,null,null,null,null,null,null,null,97,258.89999999999998,362.46,262.56,367.59,266.23,372.72,269.89,377.85,273.55,382.98,277.22000000000003,388.11,280.88,393.24,284.55,398.37,288.20999999999998,403.5,291.88,408.63,295.54000000000002,413.76,299.20999999999998,418.89,302.87,424.02,306.52999999999997,429.15,310.2,434.28,313.86,439.41,317.52999999999997,444.54,321.19,449.67,324.86,454.8,328.52,459.93,332.19,465.06,335.85,470.19,339.51,475.32,343.18,480.45,346.84,485.58,350.51,490.71,354.17,495.84,357.84,500.97,361.5,506.1,365.17,511.23]
[null,null,null,null,null,null,null,null,null,null,null,null,98,265.26,371.37,null,null,null,99,null,null,null,null,null,null,null,98,261.56,366.18,265.26,371.37,268.95999999999998,376.55,272.67,381.73,276.37,386.92,280.07,392.1,283.77,397.28,287.48,402.47,291.18,407.65,294.88,412.83,298.58,418.01,302.27999999999997,423.2,305.99,428.38,309.69,433.56,313.39,438.75,317.08999999999997,443.93,320.8,449.11,324.5,454.3,328.2,459.48,331.9,464.66,335.6,469.85,339.31,475.03,343.01,480.21,346.71,485.4,350.41,490.58,354.12,195.76,357.82,500.94,361.52,506.13,365.22,511.31,368.92,516.49]
[null,null,null,null,null,null,null,null,null,null,null,null,99,267.95,375.13,null,null,null,100,null,null,null,null,null,null,null,99,264.20999999999998,369.89,267.95,375.13,271.69,380.37,275.43,385.6,279.17,390.84,282.91000000000003,396.07,286.64999999999998,401.31,290.39,406.55,294.13,411.78,297.87,417.02,301.61,422.25,305.35000000000002,427.49,309.08999999999997,432.73,312.83,437.96,316.57,443.2,320.31,448.43,324.05,453.67,327.79,458.91,331.53,464.14,335.27,469.38,339.01,474.61,342.75,479.85,346.49,485.09,350.23,490.32,353.97,495.56,357.71,500.79,361.45,506.03,365.19,511.27,368.93,516.5,372.67,521.74]
[null,null,null,null,null,null,null,null,null,null,null,null,100,270.63,378.88,null,null,null,101,null,null,null,null,null,null,null,100,266.85000000000002,373.59,270.63,378.88,274.39999999999998,384.16,278.18,389.45,281.95999999999998,394.74,285.74,400.03,289.51,405.32,293.29000000000002,410.61,297.07,415.9,300.85000000000002,421.19,304.63,426.48,308.39999999999998,431.76,312.18,437.05,315.95999999999998,442.34,319.74,447.63,323.51,452.92,327.29000000000002,458.21,331.07,463.5,334.85,468.79,338.63,474.08,342.4,479.36,346.18,484.65,349.96,489.94,353.74,495.23,357.51,500.52,361.29,505.81,365.07,511.1,368.85,516.39,372.63,521.67999999999995,376.4,526.96]
[null,null,null,null,null,null,null,null,null,null,null,null,101,273.31,382.64,null,null,null,102,null,null,null,null,null,null,null,101,269.5,377.3,273.31,382.64,277.13,387.98,280.95,393.32,284.76,398.67,288.58,404.01,292.39,409.35,296.20999999999998,414.69,300.02,420.03,303.83999999999997,425.38,307.64999999999998,430.72,311.47000000000003,436.06,315.29000000000002,441.4,319.10000000000002,446.74,322.92,452.08,326.73,457.43,330.55,462.77,334.36,468.11,338.18,473.45,341.99,478.79,345.81,484.13,349.63,489.48,353.44,494.82,357.26,500.16,361.07,505.5,364.89,510.84,368.7,516.19000000000005,372.52,521.53,376.33,526.87,380.15,532.21]
[null,null,null,null,null,null,null,null,null,null,null,null,102,276.02,386.43,null,null,null,103,null,null,null,null,null,null,null,102,272.17,381.03,276.02,386.43,279.87,391.82,283.73,397.22,287.58,402.61,291.43,408.01,295.29000000000002,413.4,299.14,418.79,302.99,424.19,306.85000000000002,429.58,310.7,434.98,314.55,440.37,318.41000000000003,445.77,322.26,451.16,326.11,456.56,329.97,461.95,333.82,467.35,337.67,472.74,341.53,478.14,345.38,483.53,349.23,488.93,353.09,494.32,356.94,499.71,360.79,505.11,364.65,510.5,368.5,515.9,372.35,521.29,376.21,526.69000000000005,380.06,532.08000000000004,383.91,537.48]
[null,null,null,null,null,null,null,null,null,null,null,null,103,278.70999999999998,390.19,null,null,null,104,null,null,null,null,null,null,null,103,274.82,384.74,278.70999999999998,390.19,282.60000000000002,395.64,286.49,401.09,290.38,406.53,294.27,411.98,298.16000000000003,417.43,302.06,422.88,305.95,428.32,309.83999999999997,433.77,313.73,439.22,317.62,444.67,321.51,450.11,325.39999999999998,455.56,329.29,461.01,333.18,466.46,337.08,471.91,340.97,477.35,344.86,482.8,348.75,488.25,352.64,493.7,356.53,499.14,360.42,504.59,364.31,510.04,368.2,515.49,372.1,520.92999999999995,375.99,526.38,379.88,531.83000000000004,383.77,537.28,387.66,542.72]
[null,null,null,null,null,null,null,null,null,null,null,null,104,281.38,393.93,null,null,null,105,null,null,null,null,null,null,null,104,277.45,388.43,281.38,393.93,285.31,399.43,289.24,404.93,293.17,410.43,297.10000000000002,415.94,301.02999999999997,421.44,304.95,426.94,308.88,432.44,312.81,437.94,316.74,443.44,320.67,448.94,324.60000000000002,454.44,328.53,459.94,332.46,465.44,336.39,470.94,340.31,476.44,344.24,481.94,348.17,487.44,352.1,492.94,356.03,498.44,359.96,503.94,363.89,509.44,367.82,514.94000000000005,371.75,520.44000000000005,375.67,525.94000000000005,379.6,531.44000000000005,383.53,536.95000000000005,387.46,542.45000000000005,391.39,547.95000000000005]
[null,null,null,null,null,null,null,null,null,null,null,null,105,284.07,397.69,null,null,null,106,null,null,null,null,null,null,null,105,280.10000000000002,392.14,284.07,397.69,288.02999999999997,403.25,292,408.8,295.97000000000003,414.35,299.93,419.91,303.89999999999998,425.46,307.87,431.01,311.83,436.57,315.8,442.12,319.77,447.67,323.73,453.23,327.7,458.78,331.67,464.33,335.63,469.89,339.6,475.44,343.57,480.99,347.53,486.55,351.5,492.1,355.47,497.65,359.43,503.21,363.4,508.76,367.37,514.30999999999995,371.33,519.87,375.3,525.41999999999996,379.27,530.97,383.23,536.53,387.2,542.08000000000004,391.17,547.63,395.13,553.19000000000005]
[null,null,null,null,null,null,null,null,null,null,null,null,106,286.77,401.48,null,null,null,107,null,null,null,null,null,null,null,106,282.76,395.87,286.77,401.48,290.77,407.08,294.77999999999997,412.69,298.77999999999997,418.29,302.79000000000002,423.9,306.79000000000002,429.51,310.8,435.11,314.8,440.72,318.8,446.33,322.81,451.93,326.81,457.54,330.82,463.14,334.82,468.75,338.83,474.36,342.83,479.96,346.84,485.57,350.84,491.18,354.84,496.78,358.85,502.39,362.85,507.99,366.86,513.6,370.86,519.21,374.87,524.80999999999995,378.87,530.41999999999996,382.88,536.03,386.88,541.63,390.88,547.24,394.89,552.84,398.89,558.45000000000005]
[null,null,null,null,null,null,null,null,null,null,null,null,107,289.45,405.23,null,null,null,108,null,null,null,null,null,null,null,107,285.41000000000003,399.57,289.45,405.23,293.49,410.89,297.54000000000002,416.55,301.58,422.21,305.62,427.87,309.66000000000003,433.53,313.7,439.19,317.75,444.85,321.79000000000002,450.5,325.83,456.16,329.87,461.82,333.92,467.48,337.96,473.14,342,478.8,346.04,484.46,350.08,490.12,354.13,495.78,358.17,501.44,362.21,507.1,366.25,512.75,370.3,518.41,374.34,524.07000000000005,378.38,529.73,382.42,535.39,386.46,541.04999999999995,390.51,546.71,394.55,552.37,398.59,558.03,402.63,563.69000000000005]
[null,null,null,null,null,null,null,null,null,null,null,null,108,292.14999999999998,409.01,null,null,null,109,null,null,null,null,null,null,null,108,288.07,403.29,292.14999999999998,409.01,296.23,414.72,300.31,420.43,304.39,426.14,308.47000000000003,431.85,312.55,437.57,316.63,443.28,320.70999999999998,448.99,324.79000000000002,454.7,328.87,460.41,332.95,466.13,337.03,471.84,341.11,477.55,345.19,483.26,349.27,488.97,353.35,494.69,357.43,500.4,361.51,506.11,365.59,511.82,369.67,517.53,373.75,523.25,377.83,528.96,381.91,534.66999999999996,385.99,540.38,390.07,546.09,394.15,551.80999999999995,398.23,557.52,402.31,563.23,406.39,568.94000000000005]
[null,null,null,null,null,null,null,null,null,null,null,null,109,294.82,412.75,null,null,null,110,null,null,null,null,null,null,null,109,290.70999999999998,406.99,294.82,412.75,298.94,418.52,303.06,424.28,307.18,430.05,311.3,435.81,315.41000000000003,441.58,319.52999999999997,447.34,323.64999999999998,453.11,327.77,458.87,331.88,464.64,336,470.4,340.12,476.17,344.24,481.93,348.36,487.7,352.47,493.46,356.59,499.23,360.71,504.99,364.83,510.76,368.94,516.52,373.06,522.29,377.18,528.04999999999995,381.3,533.82000000000005,385.42,539.58000000000004,389.53,545.35,393.65,551.11,397.77,556.88,401.89,562.64,406,568.41,410.12,574.16999999999996]
[null,null,null,null,null,null,null,null,null,null,null,null,110,297.51,416.52,null,null,null,111,null,null,null,null,null,null,null,110,293.36,410.7,297.51,416.52,301.67,422.34,305.83,428.16,309.98,433.97,314.14,439.79,318.29000000000002,445.61,322.45,451.43,326.60000000000002,457.24,330.76,463.06,334.91,468.88,339.07,474.7,343.23,480.52,347.38,486.33,351.54,492.15,355.69,497.97,359.85,503.79,364,509.6,368.16,515.41999999999996,372.31,521.24,376.47,527.05999999999995,380.63,532.88,384.78,538.69000000000005,388.94,544.51,393.09,550.33000000000004,397.25,556.15,401.4,561.96,405.56,567.78,409.71,573.6,413.87,579.41999999999996]
[null,null,null,null,null,null,null,null,null,null,null,null,111,300.22000000000003,420.31,null,null,null,112,null,null,null,null,null,null,null,111,296.02,414.43,300.22000000000003,420.31,304.41000000000003,426.18,308.60000000000002,432.05,312.8,437.92,316.99,443.79,321.18,449.66,325.38,455.53,329.57,461.4,333.76,467.27,337.96,473.14,342.15,479.01,346.34,484.88,350.54,490.75,354.73,496.62,358.92,502.49,363.12,508.37,367.31,514.24,371.5,520.11,375.7,525.98,379.89,531.85,384.08,537.72,388.28,543.59,392.47,549.46,396.66,555.33000000000004,400.86,561.20000000000005,405.05,567.07000000000005,409.24,572.94000000000005,413.44,578.80999999999995,417.63,584.67999999999995]
[null,null,null,null,null,null,null,null,null,null,null,null,112,302.89999999999998,424.06,null,null,null,113,null,null,null,null,null,null,null,112,298.67,418.14,302.89999999999998,424.06,307.13,429.98,311.36,435.91,315.58999999999997,441.83,319.82,447.75,324.06,453.68,328.29,459.6,332.52,465.52,336.75,471.45,340.98,477.37,345.21,483.3,349.44,489.22,353.67,495.14,357.9,501.07,362.14,506.99,366.37,512.91,370.6,518.84,374.83,524.76,379.06,530.67999999999995,383.29,536.61,387.52,542.53,391.75,548.45000000000005,395.98,554.38,400.22,560.29999999999995,404.45,566.23,408.68,572.15,412.91,578.07000000000005,417.14,584,421.37,589.91999999999996]
[null,null,null,null,null,null,null,null,null,null,null,null,113,305.58999999999997,427.83,null,null,null,114,null,null,null,null,null,null,null,113,301.33,421.86,305.58999999999997,427.83,309.86,433.81,314.13,439.79,318.39999999999998,445.76,322.67,451.74,326.94,457.72,331.21,463.69,335.48,469.67,339.75,475.64,344.01,481.62,348.28,487.6,352.55,493.57,356.82,499.55,361.09,505.53,365.36,511.5,369.63,517.48,373.9,523.46,378.17,529.42999999999995,382.43,535.41,386.7,541.39,390.97,547.36,395.24,553.34,399.51,559.30999999999995,403.78,565.29,408.05,571.27,412.32,577.24,416.59,583.22,420.85,589.20000000000005,425.12,595.16999999999996]
[null,null,null,null,null,null,null,null,null,null,null,null,114,308.27,431.57,null,null,null,115,null,null,null,null,null,null,null,114,303.95999999999998,425.54,308.27,431.57,312.57,437.6,316.88,443.63,321.19,449.66,325.49,455.69,329.8,461.72,334.11,467.75,338.41,473.78,342.72,479.81,347.03,485.84,351.33,491.87,355.64,497.9,359.95,503.92,364.25,509.95,368.56,515.98,372.87,522.01,377.17,528.04,381.48,534.07000000000005,385.79,540.1,390.09,546.13,394.4,552.16,398.71,558.19000000000005,403.01,564.22,407.32,570.25,411.63,576.28,415.93,582.30999999999995,420.24,588.34,424.55,594.36,428.85,600.39]
[null,null,null,null,null,null,null,null,null,null,null,null,115,310.95,435.33,null,null,null,116,null,null,null,null,null,null,null,115,306.61,429.25,310.95,435.33,315.29000000000002,441.41,319.64,447.49,323.98,453.58,328.33,459.66,332.67,465.74,337.02,471.82,341.36,477.91,345.71,483.99,350.05,490.07,354.39,496.15,358.74,502.23,363.08,508.32,367.43,514.4,371.77,520.48,376.12,526.55999999999995,380.46,532.65,384.81,538.73,389.15,544.80999999999995,393.49,550.89,397.84,556.97,402.18,563.05999999999995,406.53,569.14,410.87,575.22,415.22,581.29999999999995,419.56,587.39,423.91,593.47,428.25,599.54999999999995,432.59,605.63]
[null,null,null,null,null,null,null,null,null,null,null,null,116,313.64999999999998,439.11,null,null,null,117,null,null,null,null,null,null,null,116,309.27,432.97,313.64999999999998,439.11,318.02999999999997,445.24,322.41000000000003,451.38,326.79000000000002,457.51,331.18,463.65,335.56,469.78,339.94,475.92,344.32,482.05,348.71,488.19,353.09,494.32,357.47,500.46,361.85,506.59,366.23,512.73,370.62,518.86,375,525,379.38,531.13,383.76,537.27,388.15,543.4,392.53,549.54,396.91,555.66999999999996,401.29,561.80999999999995,405.67,567.94000000000005,410.06,574.08000000000004,414.44,580.21,418.82,586.29999999999995,423.2,592.48,427.59,598.62,431.97,604.75,436.35,610.89]
[null,null,null,null,null,null,null,null,null,null,null,null,117,316.32,442.85,null,null,null,118,null,null,null,null,null,null,null,117,311.89999999999998,436.66,316.32,442.85,320.74,449.03,325.16000000000003,455.22,329.58,461.41,334,467.6,338.42,473.79,342.84,479.97,347.26,486.16,351.68,492.35,356.1,498.54,360.52,504.73,364.94,510.91,369.36,517.1,373.78,523.29,378.2,529.48,382.62,535.66999999999996,387.04,541.85,391.46,548.04,395.88,554.23,400.3,560.41999999999996,404.72,566.61,409.14,572.79,413.56,578.98,417.98,585.16999999999996,422.4,591.36,426.82,597.54999999999995,431.24,603.73,435.66,609.91999999999996,440.08,616.11]
[null,null,null,null,null,null,null,null,null,null,null,null,118,319,446.6,null,null,null,119,null,null,null,null,null,null,null,118,314.54000000000002,440.36,319,446.6,323.45999999999998,452.84,327.92,459.08,332.37,465.32,336.83,471.57,341.29,477.81,345.75,484.05,350.21,490.29,354.66,496.53,359.12,502.77,363.58,509.01,368.04,515.25,372.49,521.49,376.95,527.73,381.41,533.97,385.87,540.22,390.33,546.46,394.78,552.70000000000005,399.24,558.94000000000005,403.7,565.17999999999995,408.16,571.41999999999996,412.61,577.66,417.07,583.9,421.53,590.14,425.99,596.38,430.45,602.62,434.9,608.87,439.36,615.11,443.82,621.35]
[null,null,null,null,null,null,null,null,null,null,null,null,119,321.7,450.38,null,null,null,120,null,null,null,null,null,null,null,119,317.2,444.08,321.7,450.38,326.19,456.67,330.69,462.96,335.18,469.26,339.68,475.55,344.18,481.85,348.67,488.14,353.17,494.43,357.66,500.73,362.16,507.02,366.65,513.30999999999995,371.15,519.61,375.64,525.9,380.14,532.20000000000005,384.64,538.49,389.13,544.78,393.63,551.08000000000004,398.12,557.37,402.62,563.66,407.11,569.96,411.61,576.25,416.1,582.54999999999995,420.6,588.84,425.1,595.13,429.59,601.42999999999995,434.09,607.72,438.58,614.01,443.08,620.30999999999995,447.57,626.6]
[null,null,null,null,null,null,null,null,null,null,null,null,120,324.41000000000003,454.17,null,null,null,121,null,null,null,null,null,null,null,120,319.87,447.82,324.41000000000003,454.17,328.94,460.52,333.47,466.86,338.01,473.21,342.54,479.56,347.07,485.9,351.61,492.25,356.14,498.6,360.67,504.94,365.21,511.29,369.74,517.64,374.27,523.98,378.81,530.33000000000004,383.34,536.67999999999995,387.87,543.02,392.41,549.37,396.94,555.72,401.47,562.05999999999995,406.01,568.41,410.54,574.76,415.07,581.1,419.61,587.45000000000005,424.14,593.79999999999995,428.67,600.14,433.21,606.49,437.74,612.84,442.27,619.17999999999995,446.81,625.53,451.34,631.88]
[null,null,null,null,null,null,null,null,null,null,null,null,121,327.08999999999997,457.92,null,null,null,122,null,null,null,null,null,null,null,121,322.52,451.52,327.08999999999997,457.92,331.66,464.32,336.23,470.72,340.8,477.12,345.37,483.52,349.94,489.92,354.51,496.32,359.08,502.72,363.66,509.12,368.23,515.52,372.8,521.91999999999996,377.37,528.32000000000005,381.94,534.72,386.51,541.12,391.08,547.52,395.65,553.91,400.22,560.30999999999995,404.8,566.71,409.37,573.11,413.94,579.51,418.51,585.91,423.08,592.30999999999995,427.65,598.71,432.22,605.11,436.79,611.51,441.36,617.91,445.94,624.30999999999995,450.51,630.71,455.08,637.11]
[null,null,null,null,null,null,null,null,null,null,null,null,122,329.78,461.69,null,null,null,123,null,null,null,null,null,null,null,122,325.17,455.24,329.78,461.69,334.39,468.14,339,474.6,343.61,481.05,348.21,487.5,352.82,493.95,357.43,500.41,362.04,506.86,366.65,513.30999999999995,371.26,519.76,375.87,526.22,380.48,532.66999999999996,385.09,539.12,389.69,545.57000000000005,394.3,552.02,398.91,558.48,403.52,564.92999999999995,408.13,571.38,412.74,577.83000000000004,417.35,584.29,421.96,590.74,426.57,597.19000000000005,431.17,603.64,435.78,610.1,440.39,616.54999999999995,445,623,449.61,629.45000000000005,454.22,635.91,458.83,642.36]
[null,null,null,null,null,null,null,null,null,null,null,null,123,332.44,465.42,null,null,null,124,null,null,null,null,null,null,null,123,327.79,458.91,332.44,465.42,337.09,471.92,341.73,478.43,346.38,484.93,351.03,491.44,355.67,497.94,360.32,504.45,364.97,510.95,369.61,517.46,374.26,523.96,378.91,530.47,383.55,536.98,388.2,543.48,392.85,549.99,397.49,556.49,402.14,563,406.79,569.5,411.43,576.01,416.08,582.51,420.73,589.02,425.37,595.52,430.02,602.03,434.67,608.53,439.31,615.04,443.96,621.54,448.61,628.04999999999995,453.25,634.55999999999995,457.9,641.05999999999995,462.55,647.57000000000005]
[null,null,null,null,null,null,null,null,null,null,null,null,124,335.16,469.22,null,null,null,125,null,null,null,null,null,null,null,124,330.47,462.66,335.16,469.22,339.84,475.78,344.53,482.34,349.21,488.9,353.9,495.45,358.58,502.01,363.26,508.57,367.95,515.13,372.63,521.69000000000005,377.32,528.24,382,534.79999999999995,386.69,541.36,391.37,547.91999999999996,396.06,554.48,400.74,561.04,405.42,567.59,410.11,574.15,414.79,580.71,419.48,587.27,424.16,593.83000000000004,428.85,600.39,433.53,606.94000000000005,438.22,613.5,442.9,620.05999999999995,447.58,626.62,452.27,633.17999999999995,456.95,639.73,461.64,646.29,466.32,652.85]
[null,null,null,null,null,null,null,null,null,null,null,null,125,337.84,472.98,null,null,null,126,null,null,null,null,null,null,null,125,333.12,466.37,337.84,472.98,342.57,479.59,347.29,486.2,352.01,492.81,356.73,499.42,361.45,506.04,366.18,512.65,370.9,519.26,375.62,525.87,380.34,532.48,385.07,539.09,389.79,545.70000000000005,394.51,552.30999999999995,399.23,558.91999999999996,403.95,565.54,408.68,572.15,413.4,578.76,418.12,585.37,422.84,591.98,427.57,598.59,432.29,605.20000000000005,437.01,611.80999999999995,441.73,618.41999999999996,446.45,625.04,451.18,631.65,455.9,638.26,460.62,644.87,465.34,651.48,470.07,658.09]
[null,null,null,null,null,null,null,null,null,null,null,null,126,340.54,476.76,null,null,null,127,null,null,null,null,null,null,null,126,335.78,470.09,340.54,476.76,345.3,483.42,350.06,490.08,354.82,496.75,359.58,503.41,364.34,510.08,369.1,516.74,373.86,523.4,378.62,530.07000000000005,383.38,536.73,388.14,543.4,392.9,550.05999999999995,397.66,556.72,402.42,563.39,407.18,570.04999999999995,411.94,576.72,416.7,583.38,421.46,590.04,426.22,596.71,430.98,603.37,435.74,610.04,440.5,616.70000000000005,445.26,623.36,450.02,630.03,454.78,636.69000000000005,459.54,643.36,464.3,650.02,469.06,656.68,473.82,663.35]
[null,null,null,null,null,null,null,null,null,null,null,null,127,343.2,480.49,null,null,null,128,null,null,null,null,null,null,null,127,338.41,473.77,343.2,480.49,348,487.2,352.8,493.92,357.6,500.64,362.4,507.35,367.19,514.07000000000005,371.99,520.79,376.79,527.5,381.59,534.22,386.38,540.94000000000005,391.18,547.65,395.98,554.37,400.78,561.09,405.58,567.80999999999995,410.37,574.52,415.17,581.24,419.97,587.96,424.77,594.66999999999996,429.56,601.39,434.36,608.11,439.16,614.82000000000005,443.96,621.54,448.76,628.26,453.55,634.97,458.35,641.69000000000005,463.15,648.41,467.95,655.12,472.74,661.84,477.54,668.56]
[null,null,null,null,null,null,null,null,null,null,null,null,128,345.88,484.23,null,null,null,129,null,null,null,null,null,null,null,128,341.04,477.46,345.88,484.23,350.71,491,355.55,497.77,360.39,504.54,365.22,511.31,370.06,518.08000000000004,374.89,524.85,379.73,531.62,384.56,538.39,389.4,545.16,394.23,551.92999999999995,399.07,558.70000000000005,403.91,565.47,408.74,572.24,413.58,579.01,418.41,585.78,423.25,592.54999999999995,428.08,599.32000000000005,432.92,606.09,437.75,612.86,442.59,619.63,447.43,626.4,452.26,633.16999999999996,457.1,639.94000000000005,461.93,646.70000000000005,466.77,653.47,471.6,660.24,476.44,667.01,481.27,673.78]
[null,null,null,null,null,null,null,null,null,null,null,null,129,348.56,487.99,null,null,null,130,null,null,null,null,null,null,null,129,343.69,481.17,348.56,487.99,353.44,494.81,358.31,501.64,363.18,508.46,368.06,515.28,372.93,522.1,377.8,528.92999999999995,382.68,535.75,387.55,542.57000000000005,392.42,549.39,397.3,556.22,402.17,563.04,407.04,569.86,411.92,576.69000000000005,416.79,583.51,421.66,590.33000000000004,426.54,597.15,431.41,603.98,436.28,610.79999999999995,441.16,617.62,446.03,624.44000000000005,450.9,631.27,455.78,638.09,460.65,644.91,465.52,641.73,470.4,658.56,475.27,665.38,480.14,672.2,485.02,679.03]
[null,null,null,null,null,null,null,null,null,null,null,null,{"$f":"M137+1","v":130},{"$f":"HLOOKUP($N$8,$AB$8:$CI$209,S138,FALSE)","v":351.26},{"$f":"HLOOKUP($O$8,$AB$8:$CI$209,S138,FALSE)","v":491.77},null,null,null,131,null,null,null,null,null,null,null,130,346.35,484.89,351.26,491.77,356.17,498.64,361.08,505.52,366,512.39,370.91,519.27,375.82,526.14,380.73,533.02,385.64,539.9,390.55,546.77,395.46,553.65,400.37,560.52,405.28,567.4,410.2,574.27,415.11,581.15,420.02,588.02,424.93,594.9,429.84,601.78,434.75,608.65,439.66,615.53,444.57,622.4,449.48,629.28,454.4,636.15,459.31,643.03,464.22,649.9,469.13,656.78,474.04,663.66,478.95,670.53,483.86,677.41,488.77,684.28]
[null,null,null,null,null,null,null,null,null,null,null,null,131,353.97,495.56,null,null,null,132,null,null,null,null,null,null,null,131,349.02,488.63,353.97,495.56,358.92,502.49,363.87,509.42,368.82,516.35,373.77,523.27,378.72,530.20000000000005,383.67,537.13,388.61,544.05999999999995,393.56,550.99,398.51,557.91999999999996,403.46,564.84,408.41,571.77,413.36,578.70000000000005,418.31,585.63,423.26,592.55999999999995,428.21,599.49,433.15,606.41999999999996,438.1,613.34,443.05,620.27,448,627.20000000000005,452.95,634.13,457.9,641.05999999999995,462.85,647.99,467.8,654.91,472.75,661.84,477.69,668.77,482.64,675.7,487.59,682.63,492.54,689.56]
[null,null,null,null,null,null,null,null,null,null,null,null,132,356.64,499.3,null,null,null,133,null,null,null,null,null,null,null,132,351.66,492.32,356.64,499.3,361.63,506.28,366.62,513.26,371.6,520.25,376.59,527.23,381.58,534.21,386.56,541.19000000000005,391.55,548.16999999999996,396.54,555.15,401.52,562.13,406.51,569.11,411.5,576.1,416.48,583.08000000000004,421.47,590.05999999999995,426.46,597.04,431.44,604.02,436.43,611,441.42,617.98,446.4,624.97,451.39,631.95000000000005,456.38,638.92999999999995,461.36,645.91,466.35,652.89,471.34,659.87,476.32,666.85,481.31,673.83,486.3,680.82,491.28,687.8,496.27,694.78]
[null,null,null,null,null,null,null,null,null,null,null,null,133,359.33,503.06,null,null,null,134,null,null,null,null,null,null,null,133,354.3,496.02,359.33,503.06,364.35,510.09,369.38,517.13,374.4,524.16,379.42,531.19000000000005,384.45,538.23,389.47,545.26,394.5,552.29999999999995,399.52,559.33000000000004,404.55,566.37,409.57,573.4,414.6,580.42999999999995,419.62,587.47,424.64,594.5,429.67,601.54,434.69,608.57000000000005,439.72,615.6,444.74,622.64,449.77,629.66999999999996,454.79,636.71,459.82,643.74,464.84,650.78,469.86,657.81,474.89,664.84,479.91,671.88,484.94,678.91,489.96,685.95,494.99,692.98,500.01,700.02]
[null,null,null,null,null,null,null,null,null,null,null,null,134,362.02,506.83,null,null,null,135,null,null,null,null,null,null,null,134,356.96,499.74,362.02,506.83,367.08,513.91999999999996,372.15,521,377.21,528.09,382.27,535.17999999999995,387.33,542.26,392.39,549.35,397.46,556.44000000000005,402.52,563.53,407.58,570.61,412.64,577.70000000000005,417.71,584.79,422.77,591.87,427.83,598.96,432.89,606.04999999999995,437.95,613.14,443.02,620.22,448.08,627.30999999999995,453.14,634.4,458.2,641.48,463.27,648.57000000000005,468.33,655.66,473.39,662.75,478.45,669.83,483.51,676.92,488.58,684.01,493.64,691.09,498.7,698.18,503.76,705.27]
[null,null,null,null,null,null,null,null,null,null,null,null,135,364.73,510.62,null,null,null,136,null,null,null,null,null,null,null,135,359.63,503.48,364.73,510.62,369.83,517.76,374.93,524.9,380.03,532.04,385.13,539.17999999999995,390.23,546.32000000000005,395.33,553.46,400.43,560.6,405.53,567.74,410.63,574.88,415.73,582.02,420.83,589.16,425.93,596.29999999999995,431.03,603.44000000000005,436.13,610.58000000000004,441.23,617.72,446.33,624.86,451.43,632,456.53,639.14,461.63,646.28,466.73,653.41999999999996,471.83,660.56,476.93,667.7,482.03,674.84,487.13,681.98,492.23,689.12,497.33,696.26,502.43,703.4,507.53,710.54]
[null,null,null,null,null,null,null,null,null,null,null,null,136,367.39,514.35,null,null,null,137,null,null,null,null,null,null,null,136,362.25,507.15,367.39,514.35,372.53,521.54,377.67,528.73,382.8,535.92999999999995,387.94,543.12,393.08,550.30999999999995,398.22,557.5,403.36,564.70000000000005,408.49,571.89,413.63,579.08000000000004,418.77,586.28,423.91,593.47,429.04,600.66,434.18,607.85,439.32,615.04999999999995,444.46,622.24,449.6,629.42999999999995,454.73,636.63,459.87,643.82000000000005,465.01,651.01,470.15,658.2,475.28,665.4,480.42,672.59,485.56,679.78,490.7,686.98,495.84,694.17,500.97,701.36,506.11,708.56,511.25,715.75]
[null,null,null,null,null,null,null,null,null,null,null,null,137,370.07,518.09,null,null,null,138,null,null,null,null,null,null,null,137,364.89,510.85,370.07,518.09,375.24,525.34,380.42,532.58000000000004,385.59,539.83000000000004,390.77,547.08000000000004,395.94,554.32000000000005,401.12,561.57000000000005,406.29,568.80999999999995,411.47,576.05999999999995,416.65,583.29999999999995,421.82,590.54999999999995,427,597.79999999999995,432.17,605.04,437.35,612.29,442.52,619.53,447.7,626.78,452.87,634.02,458.05,641.27,463.23,648.52,468.4,655.76,473.58,663.01,478.75,670.25,483.93,677.5,489.1,684.74,494.28,691.99,499.45,699.24,504.63,706.48,509.81,713.73,514.98,720.97]
[null,null,null,null,null,null,null,null,null,null,null,null,138,372.81,521.92999999999995,null,null,null,139,null,null,null,null,null,null,null,138,367.59,514.63,372.81,521.92999999999995,378.02,529.23,383.23,536.52,388.45,543.82000000000005,393.66,551.12,398.87,558.41999999999996,404.09,565.72,409.3,573.02,414.51,580.32000000000005,419.73,587.62,424.94,594.91,430.15,602.21,435.37,609.51,440.58,616.80999999999995,445.79,624.11,451.01,631.41,456.22,638.71,461.43,646,466.65,653.29999999999995,471.86,660.6,477.07,667.9,482.29,675.2,487.5,682.5,492.71,689.8,497.93,697.1,503.14,704.39,508.35,711.69,513.57000000000005,718.99,518.78,726.29]
[null,null,null,null,null,null,null,null,null,null,null,null,139,375.45,525.63,null,null,null,140,null,null,null,null,null,null,null,139,370.2,518.28,375.45,525.63,380.7,532.98,385.95,540.33000000000004,391.2,547.67999999999995,396.45,555.03,401.7,562.38,406.95,569.74,412.21,577.09,417.46,584.44000000000005,422.71,591.79,427.96,599.14,433.21,606.49,438.46,613.85,443.71,621.20000000000005,448.96,628.54999999999995,454.21,635.9,459.47,643.25,464.72,650.6,469.97,657.95,475.22,665.31,480.47,672.66,485.72,680.01,490.97,687.36,496.22,694.71,501.47,702.06,506.73,709.42,511.98,716.77,517.23,724.12,522.48,731.47]
[null,null,null,null,null,null,null,null,null,null,null,null,140,378.16,529.41999999999996,null,null,null,141,null,null,null,null,null,null,null,140,372.87,522.01,378.16,529.41999999999996,383.44,536.82000000000005,388.73,544.23,394.02,551.63,399.31,559.03,404.6,566.44000000000005,409.89,573.84,415.18,581.25,420.47,588.65,425.76,596.05999999999995,431.04,603.46,436.33,610.87,441.62,618.27,446.91,625.66999999999996,452.2,633.08000000000004,457.49,640.48,462.78,647.89,468.07,655.29,473.36,662.7,478.64,670.1,483.93,677.51,489.22,684.91,494.51,692.31,499.8,699.72,505.09,707.12,510.38,714.53,515.66999999999996,721.93,520.96,729.34,526.24,736.74]
[null,null,null,null,null,null,null,null,null,null,null,null,141,380.82,533.14,null,null,null,142,null,null,null,null,null,null,null,141,375.49,525.69000000000005,380.82,533.14,386.14,540.6,391.47,548.05999999999995,396.8,555.52,402.12,562.97,407.45,570.42999999999995,412.78,577.89,418.1,585.35,423.43,592.79999999999995,428.76,600.26,434.08,607.72,439.41,615.16999999999996,444.74,622.63,450.06,630.09,455.39,637.54999999999995,460.72,645,466.04,652.46,471.37,659.92,476.7,667.38,482.02,674.83,487.35,682.29,492.68,689.75,498,697.21,503.33,704.66,508.66,712.12,513.98,719.58,519.30999999999995,727.03,524.64,734.49,529.96,741.95]
[null,null,null,null,null,null,null,null,null,null,null,null,142,383.55,536.97,null,null,null,143,null,null,null,null,null,null,null,142,378.18,529.46,383.55,536.97,388.91,544.48,394.28,551.99,399.64,559.5,405,567.01,410.37,574.52,415.73,582.03,421.1,589.54,426.46,597.04999999999995,431.83,604.55999999999995,437.19,612.07000000000005,442.56,619.58000000000004,447.92,627.09,453.28,634.6,458.65,642.11,464.01,649.62,469.38,657.13,474.74,664.64,480.11,672.15,485.47,679.66,490.84,687.17,496.2,694.68,501.56,702.19,506.93,709.7,512.29,717.21,517.66,724.72,523.02,732.23,528.39,739.74,533.75,747.25]
[null,null,null,null,null,null,null,null,null,null,null,null,143,386.23,540.72,null,null,null,144,null,null,null,null,null,null,null,143,380.83,533.16,386.23,540.72,391.63,548.29,397.03,555.85,402.44,563.41,407.84,570.97,413.24,578.54,418.64,586.1,424.05,593.66,429.45,601.23,434.85,608.79,440.25,616.35,445.65,623.91999999999996,451.06,631.48,456.46,639.04,461.86,646.61,467.26,654.16999999999996,472.67,661.73,478.07,669.29,483.47,676.86,488.87,684.42,494.27,691.98,499.68,699.55,505.08,707.11,510.48,714.67,515.88,722.24,521.29,729.8,526.69000000000005,737.36,532.09,744.93,537.49,752.49]
[null,null,null,null,null,null,null,null,null,null,null,null,144,388.92,544.49,null,null,null,145,null,null,null,null,null,null,null,144,383.48,536.88,388.92,544.49,394.36,552.11,399.8,559.72,405.24,567.34,410.68,574.96,416.12,582.57000000000005,421.56,590.19000000000005,427,597.79999999999995,432.44,605.41999999999996,437.88,613.04,443.32,620.65,448.76,628.27,454.2,635.88,459.64,643.5,465.08,651.12,470.52,658.73,475.96,666.35,481.4,673.96,486.84,681.58,492.28,689.2,497.72,696.81,503.16,704.43,508.6,712.04,514.04,719.66,519.48,727.28,524.91999999999996,734.89,530.36,742.51,535.79999999999995,750.12,541.24,757.74]
[null,null,null,null,null,null,null,null,null,null,null,null,145,391.57,548.20000000000005,null,null,null,146,null,null,null,null,null,null,null,145,386.09,540.53,391.57,548.20000000000005,397.05,555.86,402.52,563.53,408,571.20000000000005,413.48,578.87,418.96,586.54,424.43,594.21,429.91,601.88,435.39,609.54999999999995,440.87,617.22,446.35,624.88,451.82,632.54999999999995,457.3,640.22,462.78,647.89,468.26,655.56,473.73,663.23,479.21,670.9,484.69,678.57,490.17,686.24,495.65,693.9,501.12,701.57,506.6,709.24,512.08000000000004,716.91,517.55999999999995,724.58,523.03,732.25,528.51,739.92,533.99,747.59,539.47,755.26,544.95000000000005,762.92]
[null,null,null,null,null,null,null,null,null,null,null,null,146,394.28,552,null,null,null,147,null,null,null,null,null,null,null,146,388.77,544.27,394.28,552,399.8,559.72,405.31,567.44000000000005,410.83,575.16,416.34,582.88,421.86,590.6,427.38,598.33000000000004,432.89,606.04999999999995,438.41,613.77,443.92,621.49,449.44,629.21,454.95,636.92999999999995,460.47,644.66,465.98,652.38,471.5,660.1,477.02,667.82,482.53,675.54,488.05,683.27,493.56,690.99,499.08,698.71,504.59,706.43,510.11,714.15,515.62,721.87,521.14,729.6,526.66,737.32,532.16999999999996,745.04,537.69000000000005,752.76,543.20000000000005,760.48,584.72,768.2]
[null,null,null,null,null,null,null,null,null,null,null,null,147,396.95,555.72,null,null,null,148,null,null,null,null,null,null,null,147,391.39,547.95000000000005,396.95,555.72,402.5,563.5,408.05,571.27,413.61,579.04999999999995,419.16,586.82000000000005,424.71,594.6,430.27,602.37,435.82,610.15,441.37,617.91999999999996,446.93,625.70000000000005,452.48,633.47,458.03,641.25,463.59,649.02,469.14,656.8,474.69,664.57,480.25,672.34,485.8,680.12,491.35,687.89,496.91,695.67,502.46,703.44,508.01,711.22,513.57000000000005,718.99,519.12,726.77,524.66999999999996,734.54,530.23,742.32,535.78,750.09,541.33000000000004,757.87,546.89,765.64,552.44000000000005,773.42]
[null,null,null,null,null,null,null,null,null,null,null,null,148,399.68,559.54999999999995,null,null,null,149,null,null,null,null,null,null,null,148,394.09,551.73,399.68,559.54999999999995,405.27,567.38,410.86,575.21,416.45,583.04,422.05,590.86,427.64,598.69000000000005,433.23,606.52,438.82,614.35,444.41,622.16999999999996,450,630,455.59,637.83000000000004,461.18,645.66,466.77,653.48,472.37,661.31,477.96,669.14,483.55,676.97,489.14,684.8,494.73,692.62,500.32,700.45,505.91,708.28,511.5,716.11,517.09,723.93,522.69000000000005,731.76,528.28,739.59,533.87,747.42,539.46,755.24,545.04999999999995,763.07,550.64,770.9,556.23,778.73]
[null,null,null,null,null,null,null,null,null,null,null,null,149,402.37,563.30999999999995,null,null,null,150,null,null,null,null,null,null,null,149,396.74,555.42999999999995,402.37,563.30999999999995,407.99,571.19000000000005,413.62,579.07000000000005,419.25,586.95000000000005,424.88,594.83000000000004,430.51,602.71,436.14,610.59,441.77,618.48,447.4,626.36,453.03,634.24,458.65,642.12,464.28,650,469.91,657.88,475.54,665.76,481.17,673.64,486.8,681.52,492.43,689.4,498.06,697.28,503.69,705.16,509.31,713.04,514.94000000000005,720.92,520.57000000000005,728.8,526.20000000000005,736.68,531.83000000000004,744.56,537.55999999999995,752.44,543.09,760.32,548.72,768.2,554.35,776.08,559.97,783.96]
[null,null,null,null,null,null,null,null,null,null,null,null,150,405.06,567.08000000000004,null,null,null,151,null,null,null,null,null,null,null,150,399.39,559.15,405.06,567.08000000000004,410.73,575.02,416.39,582.95000000000005,422.06,590.88,427.73,598.82000000000005,433.39,606.75,439.06,614.67999999999995,444.73,622.62,450.39,630.54999999999995,456.06,638.48,461.73,646.41999999999996,467.39,654.35,473.06,662.28,478.73,670.22,484.39,678.15,490.06,686.08,495.73,694.02,501.39,701.95,507.06,709.88,512.73,717.82,518.39,725.75,524.05999999999995,733.68,529.73,741.62,535.39,749.55,541.05999999999995,757.48,546.73,765.42,552.39,773.35,558.05999999999995,781.28,563.73,789.22]
[null,null,null,null,null,null,null,null,null,null,null,null,151,407.7,570.78,null,null,null,152,null,null,null,null,null,null,null,151,401.99,562.79,407.7,570.78,413.4,578.77,419.11,586.75,424.81,594.74,430.52,602.72,436.22,610.71,441.93,618.70000000000005,447.63,626.67999999999995,453.33,634.66999999999996,459.04,642.66,464.74,650.64,470.45,658.63,476.15,666.61,481.86,674.6,487.56,682.59,493.27,690.57,498.97,698.56,504.67,706.54,510.38,714.53,516.08000000000004,722.52,521.79,730.5,527.49,738.49,533.20000000000005,746.48,538.9,754.46,544.61,762.45,550.30999999999995,770.43,556.01,778.42,561.72,786.41,567.41999999999996,794.39]
[null,null,null,null,null,null,null,null,null,null,null,null,152,410.41,574.58000000000004,null,null,null,153,null,null,null,null,null,null,null,152,404.67,566.54,410.41,574.58000000000004,416.16,582.62,421.9,590.66,427.64,598.70000000000005,433.38,606.73,439.12,614.77,444.87,622.80999999999995,450.61,630.85,456.35,638.89,462.09,646.92999999999995,467.84,654.97,473.58,663.01,479.32,671.05,485.06,679.09,490.8,687.13,496.55,695.17,502.29,703.2,508.03,711.24,513.77,719.28,519.52,727.32,525.26,735.36,531,743.4,536.74,751.44,542.48,759.48,548.23,767.52,553.97,775.56,559.71,783.6,565.45000000000005,791.63,571.20000000000005,799.67]
[null,null,null,null,null,null,null,null,null,null,null,null,153,413.07,578.29999999999995,null,null,null,154,null,null,null,null,null,null,null,153,407.29,570.21,413.07,578.29999999999995,418.85,586.39,424.63,594.48,430.41,602.58000000000004,436.19,610.66999999999996,441.97,618.76,447.75,626.85,453.53,634.94000000000005,459.31,643.04,465.09,651.13,470.87,659.22,476.65,667.31,482.43,675.4,488.21,683.5,493.99,691.59,499.77,699.68,505.55,707.77,511.33,715.86,517.11,723.96,522.89,732.05,528.66999999999996,740.14,534.45000000000005,748.23,540.23,756.32,546.01,764.42,551.79,772.51,557.57000000000005,780.6,563.35,788.69,569.13,796.78,574.91,804.88]
[null,null,null,null,null,null,null,null,null,null,null,null,154,415.81,582.13,null,null,null,155,null,null,null,null,null,null,null,154,409.99,573.98,415.81,582.13,421.62,590.27,427.44,598.41999999999996,433.26,606.55999999999995,439.08,614.71,444.89,622.85,450.71,631,456.53,639.14,462.35,647.29,468.17,655.43,473.98,663.58,479.8,671.72,485.62,679.87,491.44,688.01,497.25,696.16,503.07,704.3,508.89,712.45,514.71,720.59,520.53,728.74,526.34,736.88,532.16,745.03,537.98,753.17,543.79999999999995,761.32,549.61,769.46,555.42999999999995,777.6,561.25,785.75,567.07000000000005,793.89,572.89,802.04,578.70000000000005,810.18]
[null,null,null,null,null,null,null,null,null,null,null,null,155,418.48,585.88,null,null,null,156,null,null,null,null,null,null,null,155,412.63,577.67999999999995,418.48,585.88,424.34,594.07000000000005,430.19,602.27,436.05,610.47,441.9,618.66999999999996,447.76,626.86,453.62,635.05999999999995,459.47,643.26,465.33,651.46,471.18,659.66,477.04,667.85,482.89,676.05,488.75,684.25,494.6,692.45,500.46,700.64,506.32,708.84,512.16999999999996,717.04,518.03,725.24,523.88,733.44,529.74,741.63,535.59,749.83,541.45000000000005,758.03,547.29999999999995,766.23,553.16,774.42,559.02,782.62,564.87,790.82,570.73,799.02,576.58000000000004,807.22,582.44000000000005,815.41]
[null,null,null,null,null,null,null,null,null,null,null,null,156,421.17,589.64,null,null,null,157,null,null,null,null,null,null,null,156,415.28,581.39,421.17,589.64,427.06,597.89,432.96,606.14,438.85,614.39,444.74,622.64,450.64,630.89,456.53,639.14,462.42,647.39,468.32,655.64,474.21,663.89,480.1,672.14,486,680.39,491.89,688.65,497.78,696.9,503.68,705.15,509.57,713.4,515.46,721.65,521.36,729.9,527.25,738.15,533.14,746.4,539.04,754.65,544.92999999999995,762.9,550.82000000000005,771.15,556.72,779.4,562.61,787.65,568.5,795.9,574.4,804.15,580.29,812.41,586.17999999999995,820.66]
[null,null,null,null,null,null,null,null,null,null,null,null,157,423.87,593.41,null,null,null,158,null,null,null,null,null,null,null,157,417.93,585.11,423.87,593.41,429.8,601.72,435.73,610.02,441.66,618.32000000000005,447.59,626.63,453.52,634.92999999999995,459.45,643.23,465.38,651.54,471.31,659.84,477.25,668.14,483.18,676.45,489.11,684.75,495.04,693.05,500.97,701.36,506.9,709.66,512.83000000000004,717.97,518.76,726.27,524.69000000000005,734.57,530.63,742.88,536.55999999999995,751.18,542.49,759.48,548.41999999999996,767.79,554.35,776.09,560.28,784.39,566.21,792.7,572.14,801,578.07000000000005,809.3,584.01,817.61,589.94000000000005,825.91]
[null,null,null,null,null,null,null,null,null,null,null,null,158,426.57,597.20000000000005,null,null,null,159,null,null,null,null,null,null,null,158,420.6,588.84,426.57,597.20000000000005,432.54,605.55999999999995,438.51,613.91,444.48,622.27,450.45,630.63,456.42,638.98,462.38,647.34,468.35,655.7,474.32,664.05,480.29,672.41,486.26,680.76,492.23,689.12,498.2,697.48,504.17,705.83,510.14,714.19,516.1,722.55,522.07000000000005,730.9,528.04,739.26,534.01,747.62,539.98,755.97,545.95000000000005,764.33,551.91999999999996,772.69,557.89,781.04,563.86,789.4,569.82000000000005,797.75,575.79,806.11,581.76,814.47,587.73,822.82,593.70000000000005,831.18]
[null,null,null,null,null,null,null,null,null,null,null,null,159,429.22,600.9,null,null,null,160,null,null,null,null,null,null,null,159,423.21,592.49,429.22,600.9,435.22,609.30999999999995,441.23,617.72,447.24,626.13,453.24,634.54,459.25,642.95000000000005,465.26,651.36,471.26,659.77,477.27,668.18,483.28,676.59,489.28,685,495.29,693.41,501.3,701.81,507.3,710.22,513.30999999999995,718.63,519.32000000000005,727.04,525.32000000000005,735.45,531.33000000000004,743.86,537.34,752.27,543.34,760.68,549.35,769.09,555.36,777.5,561.36,785.91,567.37,794.32,573.38,802.73,579.38,811.14,858.39,819.55,591.4,827.95,597.4,836.36]
[null,null,null,null,null,null,null,null,null,null,null,null,160,431.94,604.72,null,null,null,161,null,null,null,null,null,null,null,160,425.9,596.26,431.94,604.72,437.99,613.17999999999995,444.03,621.64,450.07,630.1,456.12,638.57000000000005,462.16,647.03,468.21,655.49,474.25,663.95,480.3,672.42,486.34,680.88,492.39,689.34,498.43,697.8,504.47,706.26,510.52,714.73,516.55999999999995,723.19,522.61,731.65,528.65,740.11,534.70000000000005,748.58,540.74,757.04,546.79,765.5,552.83000000000004,773.96,558.87,782.42,564.91999999999996,790.89,570.96,799.35,577.01,807.81,583.04999999999995,816.27,589.1,824.74,595.14,833.2,601.19000000000005,841.66]
[null,null,null,null,null,null,null,null,null,null,null,null,161,434.6,608.45000000000005,null,null,null,162,null,null,null,null,null,null,null,161,428.52,599.92999999999995,434.6,608.45000000000005,440.69,616.96,446.77,625.48,452.85,633.99,458.93,642.51,465.01,651.02,471.1,659.54,477.18,668.05,483.26,676.57,489.34,685.08,495.43,693.6,501.51,702.11,507.59,710.63,513.66999999999996,719.14,519.75,727.66,525.84,736.17,531.91999999999996,744.69,538,753.2,544.08000000000004,761.72,550.16999999999996,770.23,556.25,778.75,562.33000000000004,787.26,568.41,795.78,574.49,804.29,580.58000000000004,812.81,586.66,821.32,592.74,829.84,598.82000000000005,838.35,604.91,846.87]
[null,null,null,null,null,null,null,null,null,null,null,null,162,437.27,612.17999999999995,null,null,null,163,null,null,null,null,null,null,null,162,431.15,603.62,437.27,612.17999999999995,443.39,620.75,449.51,629.32000000000005,455.63,637.89,461.75,646.46,467.87,655.02,473.99,663.59,480.11,672.16,486.23,680.73,492.35,689.3,498.47,697.86,504.59,706.43,510.71,715,516.83000000000004,723.57,522.95000000000005,732.14,529.07000000000005,740.7,535.19000000000005,749.27,541.30999999999995,757.84,547.42999999999995,766.41,553.54999999999995,774.98,559.66999999999996,783.54,565.79,792.11,571.91,800.68,578.03,809.25,584.15,817.82,590.27,826.38,596.39,834.95,602.51,843.52,608.63,852.09]
[null,null,null,null,null,null,null,null,null,null,null,null,163,439.95,615.94000000000005,null,null,null,164,null,null,null,null,null,null,null,163,433.8,607.32000000000005,439.95,615.94000000000005,446.11,624.55999999999995,452.27,633.17999999999995,458.43,641.79999999999995,464.59,650.41999999999996,470.74,659.04,476.9,667.66,483.06,676.28,489.22,684.9,495.37,693.52,501.53,702.15,507.69,710.77,513.85,719.39,520.01,728.01,526.16,736.63,532.32000000000005,745.25,538.48,753.87,544.64,762.49,550.79,771.11,556.95000000000005,779.73,563.11,788.35,569.27,796.98,575.42999999999995,805.6,581.58000000000004,814.22,587.74,822.84,593.9,831.46,600.05999999999995,840.08,606.21,848.7,612.37,857.32]
[null,null,null,null,null,null,null,null,null,null,null,null,164,442.64,619.70000000000005,null,null,null,165,null,null,null,null,null,null,null,164,436.45,611.03,442.64,619.70000000000005,448.84,628.37,455.03,637.04999999999995,461.23,645.72,467.43,654.4,473.62,663.07,479.82,671.74,486.01,680.42,492.21,689.09,498.4,697.76,504.6,706.44,510.79,715.11,516.99,723.79,523.19000000000005,732.46,529.38,741.13,535.58000000000004,749.81,541.77,758.48,547.97,767.16,554.16,775.83,560.36,784.5,566.54999999999995,793.18,572.75,801.85,578.95000000000005,810.52,585.14,819.2,591.34,827.87,597.53,836.55,603.73,845.22,609.91999999999996,853.89,616.12,862.57]
[null,null,null,null,null,null,null,null,null,null,null,null,165,445.34,623.48,null,null,null,166,null,null,null,null,null,null,null,165,439.11,614.75,445.34,623.48,451.57,632.20000000000005,457.81,640.92999999999995,464.04,649.66,470.27,658.38,476.51,667.11,482.74,675.84,488.97,684.56,495.21,693.29,501.44,702.02,507.67,710.74,513.91,719.47,520.14,728.2,526.37,736.92,532.61,745.65,538.84,754.38,545.07000000000005,763.1,551.30999999999995,771.83,557.54,780.56,563.77,789.28,570.01,798.01,576.24,806.74,582.47,815.46,588.71,824.19,594.94000000000005,832.92,601.16999999999996,841.64,607.41,850.37,613.64,859.1,619.87,867.82]
[null,null,null,null,null,null,null,null,null,null,null,null,166,448.05,627.27,null,null,null,167,null,null,null,null,null,null,null,166,441.78,618.49,448.05,627.27,454.32,636.04999999999995,460.59,644.83000000000004,466.86,653.61,473.13,662.39,479.4,671.17,485.68,679.95,491.95,688.73,498.22,697.51,504.49,706.28,510.76,715.06,517.03,723.84,523.29999999999995,732.62,529.57000000000005,741.4,535.84,750.18,542.12,758.96,548.39,767.74,554.66,776.52,560.92999999999995,785.3,567.20000000000005,794.08,573.47,802.86,579.74,811.64,586.01,820.42,592.28,829.2,598.55999999999995,837.98,604.83000000000004,846.76,611.1,855.54,617.37,864.32,623.64,873.1]
[null,null,null,null,null,null,null,null,null,null,null,null,167,450.77,631.07000000000005,null,null,null,168,null,null,null,null,null,null,null,167,444.46,622.24,450.77,631.07000000000005,457.07,639.9,463.38,648.74,469.69,657.57,476,666.4,482.31,675.23,488.62,684.07,494.93,692.9,501.24,701.73,507.55,710.56,513.85,719.4,520.16,728.23,526.47,737.06,532.78,745.89,539.09,754.73,545.4,763.56,551.71,772.39,558.02,781.22,564.33000000000004,790.06,570.63,798.89,576.94000000000005,807.72,583.25,816.55,589.55999999999995,825.39,595.87,834.22,602.17999999999995,843.05,608.49,851.88,614.79999999999995,860.72,621.11,869.55,627.41,878.38]
[null,null,null,null,null,null,null,null,null,null,null,null,168,453.41,634.78,null,null,null,169,null,null,null,null,null,null,null,168,447.07,625.89,453.41,634.78,459.76,643.66,466.11,652.54999999999995,472.45,661.43,478.8,670.32,485.15,679.2,491.49,688.09,497.84,696.98,504.19,705.86,510.53,714.75,516.88,723.63,523.23,732.52,529.57000000000005,741.4,535.91999999999996,750.29,542.27,759.17,548.61,768.06,554.96,776.94,561.30999999999995,785.83,567.65,794.71,574,803.6,580.35,812.48,586.69000000000005,821.37,593.04,830.26,599.39,839.14,605.73,848.03,612.08000000000004,856.91,618.42999999999995,865.8,624.77,874.68,631.12,883.57]
[null,null,null,null,null,null,null,null,null,null,null,null,169,456.15,638.61,null,null,null,170,null,null,null,null,null,null,null,169,449.76,629.66999999999996,456.15,638.61,462.53,647.54999999999995,468.92,656.48,475.3,665.42,481.69,674.36,488.07,683.3,494.46,692.24,500.84,701.18,507.22,710.11,513.61,719.05,519.99,727.99,526.38,736.93,532.76,745.87,539.15,754.81,545.53,763.74,551.91999999999996,772.68,558.29999999999995,781.62,564.67999999999995,790.56,571.07000000000005,799.5,577.45000000000005,808.43,583.84,817.37,590.22,826.31,596.61,835.25,602.99,844.19,609.38,853.13,615.76,862.06,622.14,871,628.53,879.94,634.91,888.88]
[null,null,null,null,null,null,null,null,null,null,null,null,170,458.81,642.34,null,null,null,171,null,null,null,null,null,null,null,170,452.39,633.35,458.81,642.34,465.23,651.33000000000004,471.66,660.32,478.08,669.31,484.5,678.3,490.92,687.29,497.35,696.28,503.77,705.28,510.19,714.27,516.61,723.26,523.03,732.25,529.46,741.24,535.88,750.23,542.29999999999995,759.22,548.72,768.21,555.15,777.2,561.57000000000005,786.2,567.99,795.19,574.41,804.18,580.83000000000004,813.17,587.26,822.16,593.67999999999995,831.15,600.1,840.14,606.52,849.13,612.95000000000005,858.12,619.37,867.12,625.79,876.11,632.21,885.1,638.63,894.09]
[null,null,null,null,null,null,null,null,null,null,null,null,171,461.49,646.08000000000004,null,null,null,172,null,null,null,null,null,null,null,171,455.03,637.04,461.49,646.08000000000004,467.95,655.12,474.41,664.17,480.87,673.21,487.33,682.26,493.79,691.3,500.25,700.34,506.71,709.39,513.16999999999996,718.43,519.63,727.48,526.09,736.52,532.54999999999995,745.56,539.01,754.61,545.47,763.65,551.92999999999995,772.7,558.39,781.74,564.85,790.78,571.30999999999995,799.83,577.77,808.87,584.23,817.92,590.69000000000005,826.96,597.15,836,603.61,845.05,610.07000000000005,854.09,616.53,863.14,622.99,872.18,629.45000000000005,881.22,635.91,890.27,642.37,899.31]
[null,null,null,null,null,null,null,null,null,null,null,null,172,464.17,649.83000000000004,null,null,null,173,null,null,null,null,null,null,null,172,457.67,640.74,464.17,649.83000000000004,470.66,658.93,477.16,668.03,483.66,677.12,490.16,686.22,496.65,695.32,503.15,704.41,509.65,713.51,516.15,722.61,522.65,731.7,529.14,740.8,535.64,749.9,542.14,758.99,548.64,768.09,555.13,777.19,561.63,786.29,568.13,795.38,574.63,804.48,581.13,813.58,587.62,822.67,594.12,831.77,600.62,840.87,607.12,849.96,613.61,859.06,620.11,686.16,626.61,877.25,633.11,886.35,639.61,895.45,646.1,904.55]
[null,null,null,null,null,null,null,null,null,null,null,null,173,466.86,653.6,null,null,null,174,null,null,null,null,null,null,null,173,460.32,644.45000000000005,466.86,653.6,473.39,662.75,479.93,671.9,486.46,681.05,493,690.2,499.53,699.35,506.07,708.5,512.6,717.65,519.14,726.8,525.67999999999995,735.95,532.21,745.1,538.75,754.24,545.28,763.39,551.82000000000005,772.54,558.35,781.69,564.89,790.84,571.41999999999996,799.99,577.96,809.14,584.5,818.29,591.03,827.44,597.57000000000005,836.59,604.1,845.74,610.64,854.89,617.16999999999996,864.04,623.71,873.19,630.24,882.34,636.78,891.49,643.32000000000005,900.64,649.85,909.79]
[null,null,null,null,null,null,null,null,null,null,null,null,174,469.55,657.37,null,null,null,175,null,null,null,null,null,null,null,174,462.98,648.16999999999996,469.55,657.37,476.13,666.58,482.7,675.78,489.27,684.98,495.85,694.19,502.42,703.39,508.99,712.59,515.57000000000005,721.79,522.14,731,528.71,740.2,535.29,749.4,541.86,758.6,548.42999999999995,767.81,555.01,777.01,561.58000000000004,786.21,568.15,795.41,574.73,804.62,581.29999999999995,813.82,587.87,823.02,594.45000000000005,832.23,601.02,841.43,607.59,850.63,614.16999999999996,859.83,620.74,869.04,627.30999999999995,878.24,633.89,887.44,640.46,896.64,647.03,905.85,653.61,915.05]
[null,null,null,null,null,null,null,null,null,null,null,null,175,472.26,661.16,null,null,null,176,null,null,null,null,null,null,null,175,465.65,651.91,472.26,661.16,478.87,670.42,485.48,679.68,492.09,688.93,498.7,698.19,505.32,707.44,511.93,716.7,518.54,725.95,525.15,735.21,531.76,744.46,538.37,753.72,544.98,762.98,551.59,772.23,558.20000000000005,781.49,564.82000000000005,790.74,571.42999999999995,800,578.04,809.25,584.65,818.51,591.26,827.76,597.87,837.02,604.48,846.28,611.09,855.53,617.70000000000005,864.79,624.32000000000005,874.04,630.92999999999995,883.3,637.54,892.55,644.15,901.81,650.76,911.06,657.37,920.32]
[null,null,null,null,null,null,null,null,null,null,null,null,176,474.89,664.84,null,null,null,177,null,null,null,null,null,null,null,176,468.24,655.54,474.89,664.84,481.54,674.15,488.19,683.46,494.84,692.77,501.48,702.08,508.13,711.39,514.78,720.7,521.42999999999995,730,528.08000000000004,739.31,534.73,748.62,541.38,757.93,548.03,767.24,554.67999999999995,776.55,561.32000000000005,785.85,567.97,795.16,574.62,804.47,581.27,813.78,587.91999999999996,823.09,594.57000000000005,832.4,601.22,841.7,607.87,851.01,614.52,860.32,621.16,869.63,627.80999999999995,878.94,634.46,888.25,641.11,897.56,647.76,906.86,654.41,916.17,661.06,925.48]
[null,null,null,null,null,null,null,null,null,null,null,null,177,477.61,668.66,null,null,null,178,null,null,null,null,null,null,null,177,470.93,659.3,477.61,668.66,484.3,678.02,490.99,687.38,497.67,696.74,504.36,706.1,511.05,715.47,517.73,724.83,524.41999999999996,734.19,531.11,743.55,537.79,752.91,544.48,762.27,551.16999999999996,771.63,557.85,780.99,564.54,790.36,571.23,799.72,577.91,809.08,584.6,818.44,591.29,827.8,597.97,837.16,604.66,846.52,611.35,855.89,618.03,865.25,624.72,874.61,631.41,883.97,638.09,893.33,644.78,902.69,651.47,912.05,658.15,921.41,664.84,930.78]
[null,null,null,null,null,null,null,null,null,null,null,null,178,480.35,672.49,null,null,null,179,null,null,null,null,null,null,null,178,473.62,663.07,480.35,672.49,487.07,681.9,493.8,691.31,500.52,700.73,507.24,710.14,513.97,719.56,520.69000000000005,728.97,527.41999999999996,738.38,534.14,747.8,540.87,757.21,547.59,766.63,554.32000000000005,776.04,561.04,785.46,567.76,794.87,574.49,804.28,581.21,813.7,587.94000000000005,823.11,594.66,832.53,601.39,841.94,608.11,851.36,614.84,860.77,621.55999999999995,870.18,628.28,879.6,635.01,889.01,641.73,898.43,648.46,907.84,655.17999999999995,917.26,661.91,926.67,668.63,936.08]
[null,null,null,null,null,null,null,null,null,null,null,null,179,483,676.2,null,null,null,180,null,null,null,null,null,null,null,179,476.24,666.73,483,676.2,489.76,685.67,496.52,695.13,503.29,704.6,510.05,714.07,516.80999999999995,723.53,523.57000000000005,733,530.33000000000004,742.47,537.1,751.94,543.86,761.4,550.62,770.87,557.38,780.34,564.15,789.8,570.91,799.27,577.66999999999996,808.74,584.42999999999995,818.21,591.19000000000005,827.67,597.96,837.14,604.72,846.61,611.48,856.07,618.24,865.54,625.01,875.01,631.77,884.48,638.53,893.94,645.29,903.41,652.04999999999995,912.88,658.82,922.34,665.58,931.81,672.34,941.28]
[null,null,null,null,null,null,null,null,null,null,null,null,180,485.66,679.92,null,null,null,181,null,null,null,null,null,null,null,180,478.86,670.4,485.66,679.92,492.46,689.44,499.26,698.96,506.06,708.48,512.86,718,519.66,727.52,526.46,737.04,533.26,746.56,540.05999999999995,756.08,546.86,765.6,553.66,775.12,560.46,784.64,567.26,794.16,574.05999999999995,803.68,580.86,813.2,587.66,822.72,594.46,832.24,601.26,841.76,608.05999999999995,851.28,614.86,860.8,621.66,870.32,628.46,879.84,635.26,889.36,642.05999999999995,898.88,648.86,908.4,655.66,917.92,662.46,927.44,669.26,936.96,676.06,946.48]
[null,null,null,null,null,null,null,null,null,null,null,null,181,488.33,683.66,null,null,null,182,null,null,null,null,null,null,null,181,481.49,674.09,488.33,683.66,495.17,693.23,502,702.8,508.84,712.38,515.67999999999995,721.95,522.52,731.52,529.35,741.1,536.19000000000005,750.67,543.03,760.24,549.87,769.81,556.71,779.39,563.54,788.96,570.38,798.53,577.22,808.11,584.05999999999995,817.68,590.89,827.25,597.73,836.82,604.57000000000005,846.4,611.41,855.97,618.25,865.54,625.08000000000004,875.12,631.91999999999996,884.69,638.76,894.26,645.6,903.84,652.42999999999995,913.41,659.27,922.98,666.11,932.55,672.95,942.13,679.79,951.7]
[null,null,null,null,null,null,null,null,null,null,null,null,182,491.1,687.54,null,null,null,183,null,null,null,null,null,null,null,182,484.22,677.91,491.1,687.54,497.97,697.16,504.85,706.79,511.72,716.41,518.6,726.04,525.47,735.66,532.35,745.29,539.23,754.92,546.1,764.54,552.98,774.17,559.85,783.79,566.73,793.42,573.6,803.04,580.48,812.67,587.35,822.3,594.23,831.92,601.11,841.55,607.98,851.17,614.86,860.8,621.73,870.43,628.61,880.05,635.48,889.68,642.36,899.3,649.23,908.93,656.11,918.55,662.99,928.18,669.86,937.81,676.74,947.43,683.61,957.06]
[null,null,null,null,null,null,null,null,null,null,null,null,183,493.78,691.29,null,null,null,184,null,null,null,null,null,null,null,183,486.87,681.62,493.78,691.29,500.7,700.97,507.61,710.65,514.52,720.33,521.44000000000005,730.01,528.35,739.69,535.26,749.37,542.17999999999995,759.05,549.09,768.72,556,778.4,562.91999999999996,788.08,569.83000000000004,797.76,576.74,807.44,583.66,817.12,590.57000000000005,826.8,597.48,836.47,604.4,846.15,611.30999999999995,855.83,618.22,865.51,625.14,875.19,632.04999999999995,884.87,638.96,894.55,645.88,904.23,652.79,913.9,659.7,923.58,666.26,933.26,673.53,942.94,680.44,952.62,687.36,962.3]
[null,null,null,null,null,null,null,null,null,null,null,null,184,496.47,695.06,null,null,null,185,null,null,null,null,null,null,null,184,489.52,685.33,496.47,695.06,503.43,704.8,510.38,714.53,517.33000000000004,724.26,524.28,733.99,531.23,743.72,538.17999999999995,753.45,545.13,763.19,552.08000000000004,772.92,559.03,782.65,565.99,792.38,572.94000000000005,802.11,579.89,811.84,586.84,821.57,593.79,831.31,600.74,841.04,607.69000000000005,850.77,614.64,860.5,621.59,870.23,628.54999999999995,879.96,635.5,889.7,642.45000000000005,899.43,649.4,909.16,656.35,918.89,663.3,928.62,670.25,938.35,677.2,948.09,684.15,957.82,961.11,967.55]
[null,null,null,null,null,null,null,null,null,null,null,null,185,499.08,698.71,null,null,null,186,null,null,null,null,null,null,null,185,492.09,688.93,499.08,698.71,506.07,708.5,513.05999999999995,718.28,520.04999999999995,728.06,527.04,737.85,534.02,747.63,541.01,757.42,548,767.2,554.99,776.99,561.98,786.77,568.97,796.56,575.96,806.34,582.95000000000005,816.12,589.94000000000005,825.91,596.91999999999996,835.69,603.91,845.48,610.9,855.26,617.89,865.05,624.88,874.83,631.87,884.62,638.86,894.4,645.85,904.18,652.84,913.97,659.82,923.75,666.81,933.54,973.8,943.32,680.79,953.11,687.78,962.89,694.77,972.68]
[null,null,null,null,null,null,null,null,null,null,null,null,186,501.79,702.5,null,null,null,187,null,null,null,null,null,null,null,186,494.76,692.67,501.79,702.5,508.82,712.34,515.84,722.18,522.87,732.02,529.9,741.85,536.91999999999996,751.69,543.95000000000005,761.53,550.98,771.37,558,781.2,565.03,791.04,572.05999999999995,800.88,579.08000000000004,810.71,586.11,820.55,593.14,830.39,600.16,840.23,607.19000000000005,850.06,614.22,859.9,621.24,869.74,628.27,879.58,635.29999999999995,889.41,642.32000000000005,899.25,649.35,909.09,656.38,918.93,663.4,928.76,670.43,938.6,677.46,948.44,684.48,958.27,691.51,968.11,698.54,977.95]
[null,null,null,null,null,null,null,null,null,null,null,null,187,504.51,706.31,null,null,null,188,null,null,null,null,null,null,null,187,497.44,696.42,504.51,706.31,511.57,716.2,518.63,726.09,525.70000000000005,735.98,532.76,745.87,539.83000000000004,755.76,546.89,765.65,553.96,775.54,561.02,785.43,568.09,795.32,575.15,805.21,582.21,815.1,589.28,824.99,596.34,834.88,603.41,844.77,610.47,854.66,617.54,864.55,624.6,874.44,631.66999999999996,884.33,638.73,894.22,645.79,904.11,652.86,914,659.92,923.89,666.99,933.78,674.05,943.67,681.12,953.56,688.18,963.45,695.25,973.34,702.31,983.23]
[null,null,null,null,null,null,null,null,null,null,null,null,188,507.23,710.12,null,null,null,189,null,null,null,null,null,null,null,188,500.13,700.18,507.23,710.12,514.33000000000004,720.07,521.44000000000005,730.01,528.54,739.95,535.64,749.9,542.74,759.84,549.85,769.78,556.95000000000005,779.73,564.04999999999995,789.67,571.15,799.61,578.25,809.56,585.36,819.5,592.46,829.44,599.55999999999995,839.38,606.66,849.33,613.77,859.27,620.87,869.21,627.97,879.16,635.07000000000005,889.1,642.16999999999996,899.04,649.28,908.99,656.38,918.93,663.48,928.87,670.58,938.82,677.69,948.76,684.79,958.7,691.89,968.65,698.99,978.59,706.09,988.53]
[null,null,null,null,null,null,null,null,null,null,null,null,189,509.87,713.81,null,null,null,190,null,null,null,null,null,null,null,189,502.73,703.82,509.87,713.81,517.01,723.81,524.15,733.8,531.29,743.8,538.42999999999995,753.8,545.57000000000005,763.79,552.71,773.79,559.85,783.78,566.99,793.78,574.13,803.78,581.27,813.77,588.41,823.77,595.54999999999995,833.76,602.69000000000005,843.76,609.83000000000004,853.76,616.97,863.75,624.11,873.75,631.25,883.74,638.39,893.74,645.53,903.74,652.66999999999996,913.73,659.81,923.73,666.95,933.72,674.09,943.72,681.23,953.72,688.37,963.71,695.51,973.71,702.65,983.7,709.79,993.7]
[null,null,null,null,null,null,null,null,null,null,null,null,190,512.61,717.65,null,null,null,191,null,null,null,null,null,null,null,190,505.43,707.6,512.61,717.65,519.79,727.7,526.96,737.75,534.14,747.8,541.32000000000005,757.85,548.5,767.9,555.67999999999995,777.95,562.85,787.99,570.03,798.04,577.21,808.09,584.39,818.14,591.55999999999995,828.19,598.74,838.24,605.91999999999996,848.29,613.1,858.34,620.28,868.39,627.45000000000005,878.43,634.63,888.48,641.80999999999995,898.53,648.99,908.58,656.16,918.63,663.34,928.68,670.52,938.73,677.7,948.78,684.88,958.83,692.05,968.87,699.23,978.92,706.41,988.97,713.59,99.02]
[null,null,null,null,null,null,null,null,null,null,null,null,191,515.26,721.36,null,null,null,192,null,null,null,null,null,null,null,191,508.04,711.26,515.26,721.36,522.47,731.46,529.69000000000005,741.56,536.9,751.67,544.12,761.77,551.34,771.87,558.54999999999995,781.97,565.77,792.07,572.98,802.17,580.20000000000005,812.28,587.41,822.38,594.63,832.48,601.84,842.58,609.05999999999995,852.68,616.28,862.79,623.49,872.89,630.71,882.99,637.91999999999996,893.09,645.14,903.19,652.35,913.29,659.57,923.4,666.78,933.5,674,943.6,681.22,953.7,688.43,963.8,695.65,973.9,702.86,984.01,710.08,994.11,717.29,1004.21]
[null,null,null,null,null,null,null,null,null,null,null,null,192,517.91,725.08,null,null,null,193,null,null,null,null,null,null,null,192,510.66,714.92,517.91,725.08,525.16999999999996,735.23,532.41999999999996,745.39,539.66999999999996,755.54,546.92999999999995,765.7,554.17999999999995,775.85,561.42999999999995,786.01,568.69000000000005,796.16,575.94000000000005,806.32,583.19000000000005,816.47,590.45000000000005,826.63,597.70000000000005,836.78,604.95000000000005,846.94,612.21,857.09,619.46,867.24,626.71,877.4,633.97,887.55,641.22,897.71,648.47,907.86,655.73,918.02,662.98,928.17,670.23,938.33,677.49,948.48,684.74,958.64,691.99,968.79,699.25,978.95,706.5,989.1,713.75,999.26,721.01,1009.41]
[null,null,null,null,null,null,null,null,null,null,null,null,193,520.67999999999995,728.95,null,null,null,194,null,null,null,null,null,null,null,193,513.39,718.75,520.67999999999995,728.95,527.97,739.16,535.26,749.37,542.55999999999995,759.58,549.85,769.78,557.14,779.99,564.42999999999995,790.2,571.72,800.41,579.01,810.61,586.29999999999995,820.82,593.59,831.03,600.88,841.24,608.17999999999995,851.45,615.47,861.65,622.76,871.86,630.04999999999995,882.07,637.34,892.28,644.63,902.48,651.91999999999996,912.69,659.21,922.9,666.5,933.11,673.8,943.31,681.09,953.52,688.38,963.73,695.67,973.94,702.96,984.14,710.25,994.35,717.54,1004.56,724.83,1014.77]
[null,null,null,null,null,null,null,null,null,null,null,null,{"$f":"M201+1","v":194},{"$f":"HLOOKUP($N$8,$AB$8:$CI$209,S202,FALSE)","v":523.35},{"$f":"HLOOKUP($O$8,$AB$8:$CI$209,S202,FALSE)","v":732.69},null,null,null,195,null,null,null,null,null,null,null,194,516.02,722.43,523.35,732.69,530.67999999999995,742.96,538.01,753.22,545.34,763.48,552.66999999999996,773.74,560,784,567.33000000000004,794.26,574.66,804.52,581.98,814.78,589.30999999999995,825.04,596.64,835.3,603.97,845.56,611.29999999999995,855.82,618.63,866.08,625.96,876.34,633.29,886.6,640.62,896.86,647.94000000000005,907.12,655.27,917.38,662.6,927.64,669.93,937.9,677.26,948.16,684.59,958.42,691.92,968.68,699.25,978.95,706.58,989.21,713.9,999.47,721.23,1009.73,728.56,1019.99]
[null,null,null,null,null,null,null,null,null,null,null,null,195,526.03,736.45,null,null,null,196,null,null,null,null,null,null,null,195,518.66999999999996,726.13,526.03,736.45,533.4,746.76,540.77,757.07,548.13,767.39,555.5,777.7,562.87,788.01,570.23,798.33,577.6,808.64,584.97,818.95,592.33000000000004,829.27,599.70000000000005,839.58,607.07000000000005,849.89,614.42999999999995,860.21,621.79999999999995,870.52,629.16999999999996,880.83,636.53,891.15,643.9,901.46,651.27,911.77,658.63,922.09,666,932.4,673.37,942.71,680.73,953.03,688.1,963.34,695.47,973.65,702.83,983.97,710.2,994.28,717.57,1004.59,724.93,1014.91,732.3,1025.22]
[null,null,null,null,null,null,null,null,null,null,null,null,196,528.72,740.21,null,null,null,197,null,null,null,null,null,null,null,196,521.30999999999995,729.84,528.72,740.21,536.12,750.57,543.53,760.94,550.92999999999995,771.31,558.34,781.67,565.74,792.04,573.15,802.4,580.54999999999995,812.77,587.95000000000005,823.14,595.36,833.5,602.76,843.87,610.16999999999996,854.23,617.57000000000005,864.6,624.98,874.97,632.38,885.33,639.79,895.7,647.19000000000005,906.07,654.59,916.43,662,926.8,669.4,937.16,676.81,947.53,684.21,957.9,691.62,968.26,699.02,978.63,706.43,989,713.83,999.36,721.23,1009.73,728.64,1020.09,736.04,1030.46]
[null,null,null,null,null,null,null,null,null,null,null,null,197,531.41,743.98,null,null,null,198,null,null,null,null,null,null,null,197,523.97,733.56,531.41,743.98,538.86,754.4,546.29999999999995,764.82,553.74,775.24,561.17999999999995,785.65,568.62,796.07,576.07000000000005,806.49,583.51,816.91,590.95000000000005,827.33,598.39,837.75,605.84,848.17,613.28,858.59,620.72,869.01,628.16,879.43,635.6,889.85,643.04999999999995,900.27,650.49,910.68,657.93,921.1,665.37,931.52,672.82,941.94,680.26,952.36,687.7,962.78,695.14,973.2,702.58,983.62,710.03,994.04,717.47,1004.56,724.91,1014.88,732.35,1025.29,739.8,1035.71]
[null,null,null,null,null,null,null,null,null,null,null,null,198,534.12,747.76,null,null,null,199,null,null,null,null,null,null,null,198,526.64,737.29,534.12,747.76,541.6,758.23,549.08000000000004,768.71,556.55999999999995,779.18,564.04,789.65,571.52,800.12,579,810.59,586.48,821.07,593.96,831.54,601.44000000000005,842.01,608.91999999999996,852.48,616.4,862.95,623.88,873.43,631.36,883.9,638.84,894.37,646.32000000000005,904.84,653.79999999999995,915.31,661.28,925.79,668.76,936.26,676.24,946.73,683.72,957.2,691.2,967.67,698.68,978.15,706.16,988.62,713.64,999.09,721.12,1009.56,728.6,1020.03,736.08,1030.51,743.56,1040.98]
[null,null,null,null,null,null,null,null,null,null,null,null,199,536.71,751.4,null,null,null,200,null,null,null,null,null,null,null,199,529.20000000000005,740.87,536.71,751.4,544.23,761.92,551.75,772.45,559.27,782.97,566.78,793.5,574.29999999999995,804.02,581.82000000000005,814.55,589.34,825.07,596.86,835.6,604.37,846.12,611.89,856.65,619.41,867.17,626.92999999999995,877.7,634.44000000000005,888.22,641.96,898.75,649.48,909.27,657,919.8,664.52,930.32,672.03,940.85,679.55,951.37,687.07,961.9,694.59,972.42,702.1,982.95,709.62,993.47,717.14,1004,724.66,1014.52,732.18,1025.05,739.69,1035.57,747.21,1046.0999999999999]
[null,null,null,null,null,null,null,null,null,null,null,null,200,539.42999999999995,755.2,null,null,null,201,null,null,null,null,null,null,null,200,531.87,744.62,539.42999999999995,755.2,546.99,765.78,554.54,776.36,562.1,786.94,569.65,797.51,577.21,808.09,584.76,818.67,592.32000000000005,829.25,599.87,839.82,607.42999999999995,850.4,614.99,860.98,622.54,871.56,630.1,882.14,637.65,892.71,645.21,903.29,652.76,913.87,660.32,924.45,667.87,935.02,675.43,945.6,682.99,956.18,690.54,966.76,698.1,977.34,705.65,987.91,713.21,998.49,720.76,1009.07,728.32,1019.65,"735..87",1030.22,743.43,1040.8,750.99,1051.3800000000001]
[null,null,null,null,null,null,null,null,null,null,null,null,"กม. 201 - 1000",2.7,3.78,null,null,null,202,null,null,null,null,null,null,null,"กม. 201 - 1000",2.66,3.72,2.7,3.78,2.74,3.83,2.77,3.88,2.81,3.93,2.85,3.99,2.89,4.04,2.92,4.09,2.96,4.1500000000000004,3,4.2,3.04,4.25,3.08,4.3099999999999996,3.11,4.3600000000000003,3.15,4.41,3.19,4.46,3.23,4.5199999999999996,3.26,4.57,3.3,4.62,3.34,4.68,3.38,4.7300000000000004,3.42,4.78,3.45,4.83,3.49,4.8899999999999997,3.53,4.9400000000000004,3.57,4.99,3.6,5.05,3.64,5.0999999999999996,3.68,5.15,3.72,5.2,3.76,5.26]

{"sheet":"สิบล้อขนส่ง","index":27,"n_rows":209,"n_cols":87,"rows_kept":209,"cut":false,"hidden":false,"merged":[[69,4,70,4]]}
["ตารางขนส่งวัสดุก่อสร้าง รถบรรทุก 10 ล้อ"]
["ภูมิประเทศเป็นที่ราบ ทางผิวลาดยาง ปริมาณจราจรปกติ"]
[{"$f":"\"( น้ำมันโซล่า \"&ROUNDDOWN(P5,0)&\" - \"&P5+0.49&\" บาท/ลิตร เฉลี่ย \"&P5&\"0 บาท/ลิตร)\"","v":"( น้ำมันโซล่า 26 - 26.99 บาท/ลิตร เฉลี่ย 26.50 บาท/ลิตร)"}]
["ระยะ\nขนส่ง\n(กม.)","ค่าบรรทุก\nบาท/ตัน","ค่าบรรทุก\nบาท/ลบ.ม.",null,"ระยะ\nขนส่ง\n(กม.)","ค่าบรรทุก\nบาท/ตัน","ค่าบรรทุก\nบาท/ลบ.ม.",null,"ระยะ\nขนส่ง\n(กม.)","ค่าบรรทุก\nบาท/ตัน","ค่าบรรทุก\nบาท/ลบ.ม."]
[1,{"$f":"N9","v":7.99},{"$f":"O9","v":11.19},null,{"$f":"A31+1","v":28},{"$f":"N36","v":67.02},93.82,null,{"$f":"E31+1","v":55},{"$f":"N63","v":130.41},182.57,null,"ราคาน้ำมันโซล่าที่อำเภอเมือง เฉลี่ย ลิตรละ",null,null,{"$f":"ค่าเสื่อมราคา!D5","v":26.5},"บาท",null,null,null,null,null,null,null,null,null,null,"ค่าขนส่ง",null,"ค่าขนส่ง",null,"ค่าขนส่ง",null,"ค่าขนส่ง",null,"ค่าขนส่ง",null,"ค่าขนส่ง",null,"ค่าขนส่ง",null,"ค่าขนส่ง",null,"ค่าขนส่ง",null,"ค่าขนส่ง",null,"ค่าขนส่ง",null,"ค่าขนส่ง",null,"ค่าขนส่ง",null,"ค่าขนส่ง",null,"ค่าขนส่ง",null,"ค่าขนส่ง",null,"ค่าขนส่ง",null,"ค่าขนส่ง",null,"ค่าขนส่ง",null,"ค่าขนส่ง",null,"ค่าขนส่ง",null,"ค่าขนส่ง",null,"ค่าขนส่ง",null,"ค่าขนส่ง",null,"ค่าขนส่ง",null,"ค่าขนส่ง",null,"ค่าขนส่ง",null,"ค่าขนส่ง",null,"ค่าขนส่ง",null,"ค่าขนส่ง"]
[{"$f":"A5+1","v":2},9.68,13.55,null,{"$f":"E5+1","v":29},69.349999999999994,97.09,null,{"$f":"I5+1","v":56},132.75,185.85,null,null,null,null,null,null,null,null,null,null,null,null,null,null,null,null,25.5,null,26.5,null,27.5,null,28.5,null,29.5,null,30.5,null,31.5,null,32.5,null,33.5,null,34.5,null,35.5,null,36.5,null,37.5,null,38.5,null,39.5,null,40.5,null,41.5,null,42.5,null,43.5,null,44.5,null,45.5,null,46.5,null,47.5,null,48.5,null,49.5,null,50.5,null,51.5,null,52.5,null,53.5,null,54.5]
[3,11.37,15.92,null,30,71.709999999999994,100.39,null,57,135.11000000000001,189.15,null,"ระยะขนส่ง","บาท/ตัน","บาท/ลบ.ม.",null,null,null,null,null,null,null,null,null,null,null,"ระยะขนส่ง","บาท/ตัน","บาท/ลบ.ม.","บาท/ตัน","บาท/ลบ.ม.","บาท/ตัน","บาท/ลบ.ม.","บาท/ตัน","บาท/ลบ.ม.","บาท/ตัน","บาท/ลบ.ม.","บาท/ตัน","บาท/ลบ.ม.","บาท/ตัน","บาท/ลบ.ม.","บาท/ตัน","บาท/ลบ.ม.","บาท/ตัน","บาท/ลบ.ม.","บาท/ตัน","บาท/ลบ.ม.","บาท/ตัน","บาท/ลบ.ม.","บาท/ตัน","บาท/ลบ.ม.","บาท/ตัน","บาท/ลบ.ม.","บาท/ตัน","บาท/ลบ.ม.","บาท/ตัน","บาท/ลบ.ม.","บาท/ตัน","บาท/ลบ.ม.","บาท/ตัน","บาท/ลบ.ม.","บาท/ตัน","บาท/ลบ.ม.","บาท/ตัน","บาท/ลบ.ม.","บาท/ตัน","บาท/ลบ.ม.","บาท/ตัน","บาท/ลบ.ม.","บาท/ตัน","บาท/ลบ.ม.","บาท/ตัน","บาท/ลบ.ม.","บาท/ตัน","บาท/ลบ.ม.","บาท/ตัน","บาท/ลบ.ม.","บาท/ตัน","บาท/ลบ.ม.","บาท/ตัน","บาท/ลบ.ม.","บาท/ตัน","บาท/ลบ.ม.","บาท/ตัน","บาท/ลบ.ม.","บาท/ตัน","บาท/ลบ.ม."]
[4,13.06,18.28,null,31,74.05,103.66,null,58,137.47999999999999,192.48,null,null,{"$f":"HLOOKUP(P5,$AB$6:$BY$8,3,FALSE)","v":3},{"$f":"N8+1","v":4},null,null,null,1,null,null,null,null,null,null,null,null,1,2,3,4,5,6,7,8,9,10,11,12,13,14,15,16,17,18,19,20,21,22,23,24,25,26,27,28,29,30,31,32,33,34,35,36,37,38,39,40,41,42,43,44,45,46,47,48,49,50,51,52,53,54,55,56,57,58,59,60]
[5,14.75,20.64,null,32,76.41,106.97,null,59,139.82,195.74,null,1,{"$f":"HLOOKUP($N$8,$AB$8:$CI$209,S9,FALSE)","v":7.99},{"$f":"HLOOKUP($O$8,$AB$8:$CI$209,S9,FALSE)","v":11.19},null,null,null,2,null,null,null,null,null,null,null,1,7.96,11.14,7.99,11.19,8.0299999999999994,11.24,6.31,8.83,6.34,8.8800000000000008,6.38,8.93,6.42,8.98,6.45,9.0299999999999994,6.49,9.08,6.52,9.1300000000000008,6.56,9.19,6.6,9.24,6.63,9.2899999999999991,6.67,9.34,6.71,9.39,6.74,9.44,6.78,9.49,6.82,9.5399999999999991,6.85,9.59,6.89,9.64,6.93,9.6999999999999993,6.96,9.75,7,9.8000000000000007,7.03,9.85,7.07,9.9,7.11,9.9499999999999993,7.14,10,7.18,10.050000000000001,7.22,10.1,7.25,10.15]
[6,16.43,23,null,33,78.760000000000005,110.26,null,60,142.16,199.02,null,{"$f":"M9+1","v":2},{"$f":"HLOOKUP($N$8,$AB$8:$CI$209,S10,FALSE)","v":9.68},{"$f":"HLOOKUP($O$8,$AB$8:$CI$209,S10,FALSE)","v":13.55},null,null,null,3,null,null,null,null,null,null,null,2,9.61,13.45,9.68,13.55,9.75,13.66,7.88,11.03,7.95,11.13,8.0299999999999994,11.24,8.1,11.34,8.17,11.44,8.24,11.54,8.32,11.64,8.39,11.74,8.4600000000000009,11.85,8.5299999999999994,11.95,8.61,12.05,8.68,12.15,8.75,12.25,8.83,12.36,8.9,12.46,8.9700000000000006,12.56,9.0399999999999991,12.66,9.1199999999999992,12.76,9.19,12.87,9.26,12.97,9.34,13.07,9.41,13.17,9.48,13.27,9.5500000000000007,13.38,9.6300000000000008,13.48,9.6999999999999993,13.58,9.77,13.68]
[7,18.12,25.37,null,34,81.11,113.55,null,61,144.52000000000001,202.33,null,3,11.37,15.92,null,null,null,4,null,null,null,null,null,null,null,3,11.26,15.76,11.37,15.92,11.48,16.07,9.4499999999999993,13.24,9.56,13.39,9.67,13.54,9.7799999999999994,13.7,9.89,13.85,10,14,10.11,14.15,10.220000000000001,14.31,10.33,14.46,10.44,14.61,10.55,14.77,10.66,14.92,10.77,15.07,10.87,15.22,10.98,15.38,11.09,15.53,11.2,15.68,11.31,15.84,11.42,15.99,11.53,16.14,11.64,16.29,11.75,16.45,11.86,16.600000000000001,11.97,16.75,12.08,16.91,12.18,17.059999999999999,12.29,17.21]
[8,20.04,28.06,null,35,83.44,116.82,null,62,146.88999999999999,205.65,null,4,13.06,18.28,null,null,null,5,null,null,null,null,null,null,null,4,12.91,18.079999999999998,13.06,18.28,13.2,18.48,11.03,15.44,11.17,15.64,11.32,15.85,11.47,16.05,11.61,16.260000000000002,11.76,16.46,11.9,16.66,12.05,16.87,12.19,17.07,12.34,17.27,12.48,17.48,12.63,17.68,12.78,17.89,12.92,18.09,13.07,18.29,13.21,18.5,13.36,18.7,13.5,18.91,13.65,19.11,13.8,19.309999999999999,13.94,19.52,14.09,19.72,14.23,19.920000000000002,14.38,20.13,14.52,20.329999999999998,14.67,20.54,14.81,20.74]
[9,22.39,31.35,null,36,85.8,120.12,null,63,149.21,208.9,null,5,14.75,20.64,null,null,null,6,null,null,null,null,null,null,null,5,14.56,20.39,14.75,20.64,14.93,20.9,12.6,17.64,12.79,17.899999999999999,12.97,18.149999999999999,13.15,18.41,13.33,18.66,13.51,18.920000000000002,13.7,19.170000000000002,13.88,19.43,14.06,19.68,14.24,19.940000000000001,14.42,20.190000000000001,14.61,20.45,14.79,20.7,14.97,20.96,15.15,21.21,15.33,21.47,15.52,21.72,15.7,21.98,15.88,22.23,16.059999999999999,22.49,16.239999999999998,22.74,16.43,23,16.61,23.25,16.79,23.51,16.97,23.76,17.149999999999999,24.01,17.34,24.27]
[10,24.74,34.64,null,37,88.15,123.41,null,64,151.54,212.16,null,6,16.43,23,null,null,null,7,null,null,null,null,null,null,null,6,16.21,22.7,16.43,23,16.649999999999999,23.31,14.18,19.850000000000001,14.4,20.149999999999999,14.61,20.46,14.83,20.77,15.05,21.07,15.27,21.38,15.49,21.68,15.71,21.99,15.92,22.29,16.14,22.6,16.36,22.91,16.579999999999998,23.21,16.8,23.52,17.02,23.82,17.23,24.13,17.45,24.43,17.670000000000002,24.74,17.89,25.05,18.11,25.35,18.329999999999998,25.66,18.55,25.96,18.760000000000002,26.27,18.98,26.57,19.2,26.88,19.420000000000002,27.19,19.64,27.49,19.86,27.8]
[11,27.09,37.92,null,38,90.5,126.71,null,65,153.88999999999999,215.44,null,7,18.12,25.37,null,null,null,8,null,null,null,null,null,null,null,7,17.86,25.01,18.12,25.37,18.37,25.72,15.75,22.05,16.010000000000002,22.41,16.260000000000002,22.77,16.52,23.12,16.77,23.48,17.03,23.84,17.28,24.19,17.54,24.55,17.79,24.91,18.04,25.26,18.3,25.62,18.55,25.98,18.809999999999999,26.33,19.059999999999999,26.69,19.32,27.05,19.57,27.4,19.829999999999998,27.76,20.079999999999998,28.12,20.34,28.47,20.59,28.83,20.85,29.19,21.1,29.54,21.36,29.9,21.61,30.26,21.87,30.61,22.12,30.97,22.38,31.33]
[12,29.44,41.21,null,39,92.85,129.99,null,66,156.24,218.74,null,8,20.04,28.06,null,null,null,9,null,null,null,null,null,null,null,8,19.75,27.65,20.04,28.06,20.34,28.47,17.5,24.5,17.79,24.91,18.09,25.32,18.38,25.73,18.670000000000002,26.14,18.96,26.54,19.25,26.95,19.54,27.36,19.829999999999998,27.77,20.12,28.17,20.420000000000002,28.58,20.71,28.99,21,29.4,21.29,29.8,21.58,30.21,21.87,30.62,22.16,31.03,22.45,31.44,22.75,31.84,23.04,32.25,23.33,32.659999999999997,23.62,33.07,23.91,33.47,24.2,33.880000000000003,24.49,34.29,24.78,34.700000000000003,25.07,35.1]
[13,31.78,44.5,null,40,95.19,133.27000000000001,null,67,158.61000000000001,222.06,null,9,22.39,31.35,null,null,null,10,null,null,null,null,null,null,null,9,22.07,30.89,22.39,31.35,22.72,31.81,19.57,27.4,19.899999999999999,27.86,20.23,28.32,20.56,28.78,20.88,29.24,21.21,29.7,21.54,30.16,21.87,30.61,22.2,31.07,22.52,31.53,22.85,31.99,23.18,32.450000000000003,23.51,32.909999999999997,23.83,33.369999999999997,24.16,33.83,24.49,34.28,24.82,34.74,25.14,35.200000000000003,25.47,35.659999999999997,25.8,36.119999999999997,26.13,36.58,26.45,37.04,26.78,37.49,27.11,37.950000000000003,27.44,38.409999999999997,27.76,38.869999999999997,28.09,39.33]
[14,34.130000000000003,47.79,null,41,97.55,136.57,null,68,160.91999999999999,225.29,null,10,24.74,34.64,null,null,null,11,null,null,null,null,null,null,null,10,24.38,34.130000000000003,24.74,34.64,25.11,35.15,21.64,30.3,22.01,30.81,22.37,31.32,22.74,31.83,23.1,32.340000000000003,23.46,32.85,23.83,33.36,24.19,33.869999999999997,24.56,34.380000000000003,24.92,34.89,25.28,35.4,25.65,35.909999999999997,26.01,36.42,26.38,36.93,26.74,37.44,27.1,37.950000000000003,27.47,38.46,27.83,38.96,28.2,39.47,28.56,39.979999999999997,28.92,40.49,29.29,41,29.65,41.51,30.02,42.02,30.38,42.53,30.74,43.04,31.11,43.55]
[15,36.479999999999997,51.07,null,42,99.9,139.86000000000001,null,69,163.32,228.64,null,11,27.09,37.92,null,null,null,12,null,null,null,null,null,null,null,11,26.69,37.36,27.09,37.92,27.49,38.479999999999997,23.71,33.200000000000003,24.11,33.76,24.51,34.32,24.91,34.880000000000003,25.31,35.44,25.72,36,26.12,36.56,26.52,37.119999999999997,26.92,37.68,27.32,38.24,27.72,38.799999999999997,28.12,39.36,28.52,39.93,28.92,40.49,29.32,41.05,29.72,41.61,30.12,42.17,30.52,42.73,30.92,43.29,31.32,43.85,31.72,44.41,32.119999999999997,44.97,32.520000000000003,45.53,32.92,46.09,33.32,46.65,33.72,47.21,34.119999999999997,47.77]
[16,38.83,54.36,null,43,102.24,143.13,null,70,165.64,231.9,null,12,29.44,41.21,null,null,null,13,null,null,null,null,null,null,null,12,29,40.6,29.44,41.21,29.87,41.82,25.78,36.090000000000003,26.22,36.71,26.66,37.32,27.09,37.93,27.53,38.54,27.97,39.15,28.4,39.76,28.84,40.380000000000003,29.28,40.99,29.71,41.6,30.15,42.21,30.59,42.82,31.02,43.43,31.46,44.04,31.9,44.66,32.33,45.27,32.770000000000003,45.88,33.21,46.49,33.64,47.1,34.08,47.71,34.520000000000003,48.33,34.950000000000003,48.94,35.39,49.55,35.83,50.16,36.270000000000003,50.77,36.700000000000003,51.38,37.14,51.99]
[17,41.18,57.65,null,44,104.59,146.43,null,71,167.98,235.18,null,13,31.78,44.5,null,null,null,14,null,null,null,null,null,null,null,13,31.31,43.84,31.78,44.5,32.26,45.16,27.85,38.99,28.33,39.659999999999997,28.8,40.32,29.27,40.98,29.75,41.64,30.22,42.31,30.69,42.97,31.17,43.63,31.64,44.29,32.11,44.96,32.58,45.62,33.06,4628,33.53,46.94,34,47.61,34.479999999999997,48.27,34.950000000000003,48.93,35.42,49.59,35.9,50.26,36.369999999999997,50.92,36.840000000000003,51.58,37.32,52.24,37.79,52.91,38.26,53.57,38.74,54.23,39.21,54.89,39.68,55.56,40.159999999999997,56.22]
[18,43.52,60.93,null,45,106.93,149.71,null,72,170.33,238.47,null,14,34.130000000000003,47.79,null,null,null,15,null,null,null,null,null,null,null,14,33.619999999999997,47.07,34.130000000000003,47.79,34.64,48.5,29.92,41.89,30.43,42.61,30.94,43.32,31.45,44.03,31.96,44.75,32.47,45.46,32.979999999999997,46.17,33.49,46.89,34,47.6,34.51,48.31,35.020000000000003,49.03,35.53,49.74,36.04,50.45,36.549999999999997,51.17,37.06,51.88,37.57,52.59,38.08,53.31,38.590000000000003,54.02,39.1,54.73,39.61,55.45,40.119999999999997,56.16,40.619999999999997,56.87,41.13,57.59,41.64,58.3,42.15,59.02,42.66,59.73,43.17,60.44]
[19,45.88,64.23,null,46,109.29,153.01,null,73,172.7,241.78,null,15,36.479999999999997,51.07,null,null,null,16,null,null,null,null,null,null,null,15,35.93,50.31,36.479999999999997,51.07,37.03,51.84,31.99,44.79,32.54,45.55,33.08,46.32,33.630000000000003,47.08,34.18,47.85,34.72,48.61,35.270000000000003,49.38,35.81,50.14,36.36,50.9,36.909999999999997,51.67,37.450000000000003,52.43,38,53.2,38.54,53.96,39.090000000000003,54.73,39.64,55.49,40.18,56.25,40.729999999999997,57.02,41.27,57.78,41.82,58.55,42.37,59.31,42.91,60.08,43.46,60.84,44,61.61,44.55,62.37,45.1,63.12,45.64,63.9,46.19,64.66]
[20,48.22,67.510000000000005,null,47,111.63,156.28,null,74,175.07,245.1,null,16,38.83,54.36,null,null,null,17,null,null,null,null,null,null,null,16,38.25,53.55,38.83,54.36,39.409999999999997,55.18,34.06,47.69,34.65,48.5,35.229999999999997,49.32,35.81,50.14,36.39,50.95,36.979999999999997,51.77,37.56,52.58,38.14,53.4,38.72,54.21,39.31,55.03,39.89,55.84,40.47,56.66,41.05,57.47,41.63,58.29,42.22,59.1,42.8,59.92,43.38,60.73,43.96,61.55,44.55,62.37,45.13,63.18,45.71,64,46.29,64.81,46.88,65.63,47.46,66.44,48.04,67.260000000000005,48.62,68.069999999999993,49.21,68.89]
[21,50.57,70.8,null,48,113.98,159.58000000000001,null,75,177.37,248.31,null,17,41.18,57.65,null,null,null,18,null,null,null,null,null,null,null,17,40.56,56.78,41.18,57.65,41.8,58.51,36.130000000000003,50.58,36.75,51.45,37.369999999999997,52.32,37.99,53.18,38.61,54.05,39.229999999999997,54.92,39.840000000000003,55.78,40.46,56.65,41.08,57.52,41.7,58.38,42.32,59.25,42.94,60.11,43.56,60.98,44.18,61.85,44.79,62.71,45.41,63.58,46.03,64.45,46.65,65.31,47.27,66.180000000000007,47.89,67.040000000000006,48.51,67.91,49.13,68.78,49.75,69.64,50.36,70.510000000000005,50.98,71.38,51.6,72.239999999999995,52.22,73.11]
[22,52.92,74.09,null,49,116.31,162.84,null,76,179.77,251.67,null,18,43.52,60.93,null,null,null,19,null,null,null,null,null,null,null,18,42.87,60.01,43.52,60.93,44.18,61.85,38.200000000000003,53.48,38.85,54.4,39.51,55.31,40.17,56.23,40.82,57.15,41.48,58.07,42.13,58.98,42.79,59.9,43.44,60.82,44.1,61.74,44.75,62.65,45.41,63.57,46.06,64.489999999999995,46.72,65.400000000000006,47.37,66.319999999999993,48.03,67.239999999999995,48.68,68.16,49.34,69.069999999999993,49.99,69.989999999999995,50.65,70.91,51.3,71.83,51.96,72.739999999999995,52.61,73.66,53.27,74.58,53.92,75.489999999999995,54.58,76.41,55.23,77.33]
[23,55.26,77.37,null,50,118.66,166.13,null,77,182.08,254.91,null,19,45.88,64.23,null,null,null,20,null,null,null,null,null,null,null,19,45.18,63.26,45.88,64.23,46.57,65.19,40.270000000000003,56.38,40.97,57.35,41.66,58.32,42.35,59.29,43.04,60.26,43.73,61.22,44.42,62.19,45.11,63.16,45.81,64.13,46.5,65.099999999999994,47.19,66.069999999999993,47.88,67.03,48.57,68,49.26,68.97,49.96,69.94,50.65,70.91,51.34,71.87,52.03,72.84,52.72,73.81,53.41,74.78,54.11,75.75,54.8,76.72,55.49,77.680000000000007,56.18,78.650000000000006,56.87,79.62,57.56,80.59,58.26,81.56]
[24,57.62,80.66,null,51,121.03,169.44,null,78,184.4,258.16000000000003,null,20,48.22,67.510000000000005,null,null,null,21,null,null,null,null,null,null,null,20,47.5,66.489999999999995,48.22,67.510000000000005,48.95,68.53,42.34,59.28,43.07,60.3,43.8,61.32,44.53,62.34,45.26,63.36,45.98,64.38,46.71,65.400000000000006,47.44,66.42,48.17,67.430000000000007,48.9,68.45,49.62,69.47,50.35,70.489999999999995,51.08,71.510000000000005,51.81,72.53,52.54,73.55,53.26,74.569999999999993,53.99,75.59,54.72,76.61,55.45,77.63,56.18,78.650000000000006,56.9,79.66,57.63,80.680000000000007,58.36,81.7,59.09,82.72,59.82,83.74,60.54,84.76,61.27,85.78]
[25,59.97,83.96,null,52,123.36,172.7,null,79,186.84,261.57,null,21,50.57,70.8,null,null,null,22,null,null,null,null,null,null,null,21,49.8,69.73,50.57,70.8,51.33,71.87,44.41,62.18,45.18,63.25,45.94,64.319999999999993,46.7,65.39,47.47,66.459999999999994,48.23,67.53,49,68.599999999999994,49.76,69.67,50.53,70.739999999999995,51.29,71.81,52.05,72.88,52.82,73.95,53.58,75.02,54.35,76.09,55.11,77.16,55.88,78.23,56.64,79.3,57.41,80.37,58.17,81.44,58.93,82.51,59.7,83.58,60.46,84.65,61.23,85.72,61.99,86.79,62.76,87.86,63.52,88.93,64.290000000000006,90]
[26,62.31,87.24,null,53,125.71,175.99,null,80,189.18,264.86,null,22,52.92,74.09,null,null,null,23,null,null,null,null,null,null,null,22,52.12,72.97,52.92,74.09,53.72,75.209999999999994,46.49,65.08,47.29,66.2,48.09,67.319999999999993,48.89,68.44,49.69,69.56,50.49,70.69,51.29,71.81,52.09,72.930000000000007,52.89,74.05,53.69,75.17,54.49,76.290000000000006,55.29,77.41,56.1,78.53,56.9,79.650000000000006,57.7,80.78,58.5,81.900000000000006,59.3,83.02,60.1,84.14,60.9,85.26,61.7,86.38,62.5,87.5,63.3,88.62,64.099999999999994,89.74,64.900000000000006,90.87,65.7,91.99,66.510000000000005,93.11,67.31,94.23]
[27,64.66,90.53,null,54,128.08000000000001,179.31,null,81,191.54,268.14999999999998,null,23,55.26,77.37,null,null,null,24,null,null,null,null,null,null,null,23,54.43,76.2,55.26,77.37,56.1,78.540000000000006,48.55,67.97,49.39,69.14,50.22,70.31,51.06,71.489999999999995,51.9,72.66,52.74,73.83,53.57,75,54.41,76.17,55.25,77.349999999999994,56.08,78.52,56.92,79.69,57.76,80.86,58.6,82.03,59.43,83.21,60.27,84.38,61.11,85.55,61.94,86.72,62.78,87.89,63.62,89.07,64.459999999999994,90.24,65.290000000000006,91.41,66.13,92.58,66.97,93.76,67.81,94.93,68.64,96.1,69.48,97.27,70.319999999999993,98.44]
[{"$f":"I31+1","v":82},{"$f":"N90","v":193.79},271.3,null,{"$f":"A58+1","v":109},{"$f":"N117","v":257.33999999999997},360.28,null,{"$f":"E58+1","v":136},{"$f":"N144","v":320.58},448.81,null,24,57.62,80.66,null,null,null,25,null,null,null,null,null,null,null,24,56.74,79.44,57.62,80.66,58.49,81.89,50.62,70.87,51.5,72.099999999999994,52.37,73.319999999999993,53.24,74.540000000000006,54.12,75.760000000000005,54.99,76.989999999999995,55.86,78.209999999999994,56.74,79.430000000000007,57.61,80.66,58.49,81.88,59.36,83.1,60.23,84.33,61.11,85.55,61.98,86.77,62.85,87.99,63.73,89.22,64.599999999999994,90.44,65.47,91.66,66.349999999999994,92.89,67.22,94.11,68.099999999999994,95.33,68.97,96.56,69.84,97.78,70.72,99,71.59,100.23,72.459999999999994,101.45,73.34,102.67]
[{"$f":"A32+1","v":83},196.16,274.63,null,{"$f":"E32+1","v":110},259.66000000000003,363.52,null,{"$f":"I32+1","v":137},323.11,452.35,null,25,59.97,83.96,null,null,null,26,null,null,null,null,null,null,null,25,59.06,82.68,59.97,83.96,60.88,85.23,52.7,73.77,53.61,75.05,54.52,76.319999999999993,55.43,77.599999999999994,56.34,78.87,57.25,80.14,58.16,81.42,59.07,82.69,59.98,83.97,60.89,85.24,61.8,86.51,62.71,87.79,63.62,89.06,64.53,90.34,65.44,91.61,66.349999999999994,92.88,67.260000000000005,94.16,68.17,95.43,69.08,96.71,69.989999999999995,97.98,70.900000000000006,99.25,71.81,100.53,72.72,101.8,73.63,103.08,74.540000000000006,104.35,75.45,105.62,76.36,106.9]
[84,198.55,277.97000000000003,null,111,261.98,366.77,null,138,325.33,455.47,null,26,62.31,87.24,null,null,null,27,null,null,null,null,null,null,null,26,61.37,85.92,62.31,87.24,63.26,88.57,54.76,76.67,55.71,77.989999999999995,56.66,79.319999999999993,57.6,80.64,58.55,81.97,59.5,83.29,60.44,84.62,61.39,85.94,62.34,87.27,63.28,88.59,64.23,89.92,65.17,91.24,66.12,92.57,67.069999999999993,93.89,68.010000000000005,95.22,68.959999999999994,96.54,69.91,97.87,70.849999999999994,99.19,71.8,100.52,72.75,101.84,73.69,103.17,74.64,104.49,75.58,105.82,76.53,107.14,77.48,108.47,78.42,109.79,79.37,111.12]
[85,200.95,281.33,null,112,264.31,370.03,null,139,327.88,459.04,null,27,64.66,90.53,null,null,null,28,null,null,null,null,null,null,null,27,63.68,89.15,64.66,90.53,65.650000000000006,91.91,56.84,79.569999999999993,57.82,80.95,58.8,82.32,59.78,83.7,60.77,85.07,61.75,86.45,62.73,87.82,63.71,89.2,64.7,90.58,65.680000000000007,91.95,66.66,93.33,67.650000000000006,94.7,68.63,96.08,69.61,97.46,70.59,98.83,71.58,100.21,72.56,101.58,73.540000000000006,102.96,74.53,104.34,75.510000000000005,105.71,76.489999999999995,107.09,77.47,108.46,78.459999999999994,109.84,79.44,111.22,80.42,112.59,81.41,113.97,82.39,115.34]
[86,203.23,284.52999999999997,null,113,266.64,373.3,null,140,330.12,462.17,null,28,67.02,93.82,null,null,null,29,null,null,null,null,null,null,null,28,66,92.39,67.02,93.82,68.03,95.25,58.91,82.47,59.93,83.9,60.95,85.32,61.96,86.75,62.98,88.18,64,89.6,65.02,91.03,66.040000000000006,92.46,67.06,93.89,68.08,95.31,69.099999999999994,96.74,70.12,98.17,71.14,99.59,72.16,101.02,73.180000000000007,102.45,74.2,103.87,75.209999999999994,105.3,76.23,106.73,77.25,108.15,78.27,109.58,79.290000000000006,111.01,80.31,112.43,81.33,113.86,82.35,115.29,83.37,116.72,84.39,118.14,85.41,119.57]
[87,205.52,287.73,null,114,268.98,376.58,null,141,332.36,465.3,null,29,69.349999999999994,97.09,null,null,null,30,null,null,null,null,null,null,null,29,68.290000000000006,95.61,69.349999999999994,97.09,70.400000000000006,98.57,60.97,85.35,62.02,86.83,63.08,88.31,64.13,89.79,65.19,91.26,66.239999999999995,92.74,67.3,94.22,68.36,95.7,69.41,97.18,70.47,98.65,71.52,100.13,72.58,101.61,73.63,103.09,74.69,104.56,75.739999999999995,106.04,76.8,107.52,77.86,109,78.91,110.48,79.97,111.95,81.02,113.43,82.08,114.91,83.13,116.39,84.19,117.86,85.24,119.34,86.3,120.82,87.36,122.3,88.41,123.78]
[88,207.96,291.14,null,115,271.33,379.87,null,142,334.93,468.91,null,30,71.709999999999994,100.39,null,null,null,31,null,null,null,null,null,null,null,30,70.62,98.86,71.709999999999994,100.39,72.8,101.92,63.05,88.26,64.14,89.79,65.23,91.32,66.319999999999993,92.85,67.41,94.38,68.510000000000005,95.91,69.599999999999994,97.44,70.69,98.96,71.78,100.49,72.87,102.02,73.97,103.55,75.06,105.08,76.150000000000006,106.61,77.239999999999995,108.14,78.33,109.67,79.430000000000007,111.2,80.52,112.72,81.61,114.25,82.7,115.78,83.79,117.31,84.89,118.84,85.98,120.37,87.07,121.9,88.16,123.43,89.25,124.95,90.35,126.48,91.44,128.01]
[89,210.27,294.37,null,116,273.69,383.17,null,143,337.18,472.06,null,31,74.05,103.66,null,null,null,32,null,null,null,null,null,null,null,31,72.92,102.08,74.05,103.66,75.17,105.24,65.11,91.15,66.23,92.73,67.36,94.31,68.489999999999995,95.89,69.62,97.47,70.75,99.05,71.88,100.63,73,102.21,74.13,103.79,75.260000000000005,105.37,76.39,106.95,77.52,108.53,78.650000000000006,110.11,79.77,111.68,80.900000000000006,113.26,82.03,114.84,83.16,116.42,84.29,118,85.42,119.58,86.55,121.16,87.67,122.74,88.8,124.32,89.93,125.9,91.06,127.48,92.19,129.06,93.32,130.63999999999999,94.44,132.22]
[90,212.58,297.62,null,117,276.06,386.48,null,144,339.43,475.21,null,32,76.41,106.97,null,null,null,33,null,null,null,null,null,null,null,32,75.239999999999995,105.34,76.41,106.97,77.569999999999993,108.6,67.19,94.06,68.349999999999994,95.69,69.52,97.32,70.680000000000007,98.95,71.84,100.58,73.010000000000005,102.21,74.17,103.84,75.34,105.48,76.5,107.11,77.67,108.74,78.83,110.37,80,112,81.16,113.63,82.33,115.26,83.49,116.89,84.66,118.52,85.82,120.15,86.99,121.78,88.15,123.41,89.32,125.04,90.48,126.67,91.65,128.31,92.81,129.94,93.98,131.57,95.14,133.19999999999999,96.31,134.83000000000001,97.47,136.46]
[91,215.05,301.07,null,118,278.43,389.8,null,145,342.04,478.86,null,33,78.760000000000005,110.26,null,null,null,34,null,null,null,null,null,null,null,33,77.55,108.58,78.760000000000005,110.26,79.959999999999994,111.94,69.260000000000005,96.96,70.459999999999994,98.64,71.66,100.32,72.86,102,74.06,103.69,75.260000000000005,105.37,76.459999999999994,107.05,77.66,108.73,78.87,110.41,80.069999999999993,112.09,81.27,113.78,82.47,115.46,83.67,117.14,84.87,118.82,86.07,120.5,87.27,122.18,88.48,123.87,89.68,125.55,90.88,127.23,92.08,128.91,93.28,130.59,94.48,132.27000000000001,95.68,133.96,96.88,135.63999999999999,98.08,137.32,99.29,139,100.49,140.68]
[92,217.39,304.35000000000002,null,119,280.81,393.14,null,146,344.31,482.03,null,{"$f":"M41+1","v":34},81.11,113.55,null,null,null,35,null,null,null,null,null,null,null,34,79.87,111.82,81.11,113.55,82.35,115.28,71.33,99.86,72.569999999999993,101.59,73.8,103.33,75.040000000000006,105.06,76.28,106.79,77.52,108.52,78.760000000000005,110.26,79.989999999999995,111.99,81.23,113.72,82.47,115.46,83.71,117.19,84.94,118.92,86.18,120.65,87.42,122.39,88.66,124.12,89.89,125.85,91.13,127.58,92.37,129.32,93.61,131.05000000000001,94.84,132.78,96.08,134.51,97.32,136.25,98.56,137.97999999999999,99.79,139.71,101.03,141.44,102.27,143.18,103.51,144.91]
[93,219.74,307.63,null,120,283.2,396.48,null,147,346.57,485.2,null,35,83.44,116.82,null,null,null,36,null,null,null,null,null,null,null,35,82.17,115.03,83.44,116.82,84.72,118.6,73.39,102.74,74.66,104.53,75.94,106.31,77.209999999999994,108.09,78.48,109.88,79.760000000000005,111.66,81.03,113.44,82.31,115.23,83.58,117.01,84.85,118.8,86.13,120.58,87.4,122.36,88.68,124.15,89.95,125.93,91.22,127.71,92.5,129.5,93.77,131.28,95.05,133.06,96.32,134.85,97.59,136.63,98.87,138.41999999999999,100.14,140.19999999999999,101.42,141.97999999999999,102.69,143.77000000000001,103.96,145.55000000000001,105.24,147.33000000000001,106.51,149.12]
[94,222.09,310.93,null,121,285.35000000000002,399.49,null,148,348.84,488.38,null,36,85.8,120.12,null,null,null,37,null,null,null,null,null,null,null,36,84.49,118.28,85.8,120.12,87.11,121.95,75.459999999999994,105.65,76.77,107.48,78.08,109.32,79.39,111.15,80.709999999999994,112.99,82.02,114.82,83.33,116.66,84.64,118.49,85.95,120.33,87.26,122.16,88.57,123.99,89.88,125.83,91.19,127.66,92.5,129.5,93.81,131.33000000000001,95.12,133.16999999999999,96.43,135,97.74,136.84,99.05,138.66999999999999,100.36,140.51,101.67,142.34,102.98,144.16999999999999,104.29,146.01,105.6,147.84,106.91,149.68,108.22,151.51,109.53,153.35]
[95,224.31,314.02999999999997,null,122,287.76,402.86,null,149,351.12,491.57,null,37,88.15,123.41,null,null,null,38,null,null,null,null,null,null,null,37,86.81,121.53,88.15,123.41,89.5,125.3,77.540000000000006,108.55,78.89,110.44,80.23,112.33,81.58,114.21,82.93,116.1,84.27,117.98,85.62,119.87,86.97,121.75,88.31,123.64,89.66,125.52,91.01,127.41,92.35,129.29,93.7,131.18,95.05,133.07,96.39,134.94999999999999,97.74,136.84,99.09,138.72,100.43,140.61000000000001,101.78,142.49,103.13,144.38,104.47,146.26,105.82,148.15,107.17,150.04,108.52,151.91999999999999,109.86,153.81,111.21,155.69,112.56,157.58000000000001]
[96,226.68,317.35000000000002,null,123,290.17,406.24,null,150,353.77,495.28,null,38,90.5,126.71,null,null,null,39,null,null,null,null,null,null,null,38,89.12,124.77,90.5,126.71,91.89,128.63999999999999,79.61,111.46,80.989999999999995,113.39,82.38,115.33,83.76,117.27,85.14,119.2,86.53,121.14,87.91,123.08,89.29,125.01,90.68,126.95,92.06,128.88,93.44,130.82,94.83,132.76,96.21,134.69,97.59,136.63,98.98,138.57,100.36,140.5,101.74,142.44,103.13,144.38,104.51,146.31,105.89,148.25,107.28,150.19,108.66,152.12,110.04,154.06,111.43,156,112.81,157.93,114.19,159.87,115.57,161.80000000000001]
[97,229.06,320.68,null,124,292.58999999999997,409.63,null,151,356.06,498.49,null,39,92.85,129.99,null,null,null,40,null,null,null,null,null,null,null,39,91.43,128,92.85,129.99,94.27,131.97999999999999,81.680000000000007,114.35,83.1,116.34,84.52,118.33,85.94,120.32,87.36,122.3,88.78,124.29,90.2,126.28,91.62,128.26,93.04,130.25,94.46,132.24,95.88,134.22999999999999,97.3,136.21,98.72,138.19999999999999,100.14,140.19,101.55,142.18,102.97,144.16,104.39,146.15,105.81,148.13999999999999,107.23,150.13,108.65,152.11000000000001,110.07,154.1,111.49,156.09,112.91,158.08000000000001,114.33,160.06,115.75,162.05000000000001,117.17,164.04,118.59,166.03]
[98,231.45,324.04000000000002,null,125,294.76,412.66,null,152,358.35,501.69,null,40,95.19,133.27000000000001,null,null,null,41,null,null,null,null,null,null,null,40,93.73,131.22999999999999,95.19,133.27000000000001,96.65,135.31,83.74,117.24,85.2,119.28,86.66,121.32,88.11,123.36,89.57,125.4,91.02,127.43,92.48,129.47,93.94,131.51,95.39,133.55000000000001,96.85,135.59,98.3,137.63,99.76,139.66,101.22,141.69999999999999,102.67,143.74,104.13,145.78,105.58,147.82,107.04,149.86000000000001,108.5,151.88999999999999,109.95,153.93,111.41,155.97,112.86,158.01,114.32,160.05000000000001,115.78,162.09,117.23,164.12,118.69,166.16,120.14,168.2,121.6,170.24]
[99,233.86,327.39999999999998,null,126,297.2,416.07,null,153,360.65,504.91,null,41,97.55,136.57,null,null,null,42,null,null,null,null,null,null,null,41,96.06,134.47999999999999,97.55,136.57,99.04,138.66,85.82,120.15,87.32,122.24,88.81,124.33,90.3,126.42,91.79,128.51,93.28,130.6,94.78,132.69,96.27,134.78,97.76,136.87,99.25,138.96,100.75,141.05000000000001,102.24,143.13,103.73,145.22,105.22,147.31,106.72,149.4,108.21,151.49,109.7,153.58000000000001,111.19,155.66999999999999,112.69,157.76,114.18,159.85,115.67,161.94,117.16,164.03,118.66,166.12,120.15,168.21,121.64,170.3,123.13,172.39,124.63,174.48]
[100,236.1,330.54,null,127,299.64,419.5,null,154,362.95,508.13,null,42,99.9,139.86000000000001,null,null,null,43,null,null,null,null,null,null,null,42,98.37,137.72,99.9,139.86000000000001,101.43,142,87.89,123.05,89.42,125.19,90.95,127.33,92.48,129.47,94.01,131.61000000000001,95.54,133.75,97.07,135.88999999999999,98.6,138.03,100.12,140.16999999999999,101.65,142.31,103.18,144.44999999999999,104.71,146.6,106.24,148.74,107.77,150.88,109.3,153.02000000000001,110.83,155.16,112.35,157.30000000000001,113.88,159.44,115.41,161.58000000000001,116.94,163.72,118.47,165.86,120,168,121.53,170.14,123.06,172.28,124.59,174.42,126.11,176.56,127.64,178.7]
[101,238.53,333.94,null,128,301.82,422.55,null,155,365.26,511.36,null,43,102.24,143.13,null,null,null,44,null,null,null,null,null,null,null,43,100.67,140.94,102.24,143.13,103.8,145.32,89.96,125.94,91.52,128.13,93.09,130.32,94.65,132.51,96.22,134.69999999999999,97.78,136.88999999999999,99.35,139.09,100.91,141.28,102.48,143.47,104.04,145.66,105.61,147.85,107.17,150.04,108.74,152.22999999999999,110.3,154.41999999999999,111.87,156.62,113.43,158.81,115,161,116.56,163.19,118.13,165.38,119.69,167.57,121.26,169.76,122.82,171.95,124.39,174.15,125.96,176.34,127.52,178.53,129.09,180.72,130.65,182.91]
[102,240.78,337.1,null,129,304.27999999999997,426,null,156,367.57,514.59,null,44,104.59,146.43,null,null,null,45,null,null,null,null,null,null,null,44,102.99,144.19,104.59,146.43,106.2,148.66999999999999,92.03,128.84,93.63,131.09,95.23,133.33000000000001,96.84,135.57,98.44,137.81,100.04,140.05000000000001,101.64,142.30000000000001,103.24,144.54,104.84,146.78,106.45,149.02000000000001,108.05,151.27000000000001,109.65,153.51,111.25,155.75,112.85,157.99,114.45,160.24,116.06,162.47999999999999,117.66,164.72,119.26,166.96,120.86,169.2,122.46,171.45,124.06,173.69,125.66,175.93,127.27,178.17,128.87,180.42,130.47,182.66,132.07,184.9,133.66999999999999,187.14]
[103,243.23,340.52,null,130,306.76,429.46,null,157,369.88,517.83000000000004,null,45,106.93,149.71,null,null,null,46,null,null,null,null,null,null,null,45,105.3,147.41,106.93,149.71,108.57,152,94.09,131.72999999999999,95.73,134.03,97.37,136.32,99.01,138.61000000000001,100.65,140.91,102.28,143.19999999999999,103.92,145.49,105.56,147.78,107.2,150.08000000000001,108.84,152.37,110.47,154.66,112.11,156.96,113.75,159.25,115.39,161.54,117.03,163.84,118.66,166.13,120.3,168.42,121.94,170.72,123.58,173.01,125.22,175.3,126.85,177.6,128.49,179.89,130.13,182.18,131.77000000000001,184.48,133.41,186.77,135.04,189.06,136.68,191.36]
[104,245.5,343.7,null,131,308.95,432.53,null,158,372.62,521.66,null,46,109.29,153.01,null,null,null,47,null,null,null,null,null,null,null,46,107.62,150.66,109.29,153.01,110.97,155.35,96.17,134.63999999999999,97.85,136.97999999999999,99.52,139.33000000000001,101.2,141.66999999999999,102.87,144.02000000000001,104.54,146.36000000000001,106.22,148.71,107.89,151.05000000000001,109.57,153.38999999999999,111.24,155.74,112.92,158.08000000000001,114.59,160.43,116.26,162.77000000000001,117.94,165.11,119.61,167.46,121.29,169.8,122.96,172.15,124.64,174.49,126.31,176.84,127.99,179.18,129.66,181.52,131.33000000000001,183.87,133.01,186.21,134.68,188.56,136.36000000000001,190.9,138.03,193.24,139.71,195.59]
[105,247.96,347.15,null,132,311.44,436.02,null,159,374.94,524.91999999999996,null,47,111.63,156.28,null,null,null,48,null,null,null,null,null,null,null,47,109.92,153.88999999999999,111.63,156.28,113.34,158.68,98.23,137.53,99.94,139.91999999999999,101.66,142.32,103.37,144.71,105.08,147.11000000000001,106.79,149.5,108.5,151.9,110.21,154.29,111.92,156.69,113.63,159.08000000000001,115.34,161.47999999999999,117.05,163.87,118.76,166.27,120.47,168.66,122.19,171.06,123.9,173.45,125.61,175.85,127.32,178.24,129.03,180.64,130.74,183.03,132.44999999999999,185.43,134.16,187.82,135.87,190.22,137.58000000000001,192.62,139.29,195.01,141,197.41,142.71,199.8]
[106,250.25,350.35,null,133,313.64,439.1,null,160,377.28,528.19000000000005,null,48,113.98,159.58000000000001,null,null,null,49,null,null,null,null,null,null,null,48,112.24,157.13,113.98,159.58000000000001,115.73,162.02000000000001,100.31,140.43,102.06,142.88,103.8,145.32,105.55,147.77000000000001,107.3,150.22,109.04,152.66,110.79,155.11000000000001,112.54,157.56,114.29,160,116.03,162.44999999999999,117.78,164.89,119.53,167.34,121.28,169.79,123.02,172.23,124.77,174.68,126.52,177.12,128.26,179.57,130.01,182.02,131.76,184.46,133.51,186.91,135.25,189.35,137,191.8,138.75,194.25,140.49,196.69,142.24,199.14,143.99,201.58,145.74,204.03]
[107,252.54,353.55,null,134,316.14999999999998,442.61,null,161,379.62,531.46,null,49,116.31,162.84,null,null,null,50,null,null,null,null,null,null,null,49,114.53,160.34,116.31,162.84,118.1,165.34,102.37,143.31,104.15,145.81,105.93,148.31,107.72,150.80000000000001,109.5,153.30000000000001,111.28,155.80000000000001,113.07,158.29,114.85,160.79,116.63,163.29,118.42,165.79,120.2,168.28,121.99,170.78,123.77,173.28,125.55,175.77,127.34,178.27,129.12,180.77,130.9,183.26,132.69,185.76,134.47,188.26,136.25,190.76,138.04,193.25,139.82,195.75,141.6,198.25,143.38999999999999,200.74,145.16999999999999,203.24,146.96,205.74,148.74,208.23]
[108,254.84,356.77,null,135,318.36,445.71,null,162,381.96,534.75,null,50,118.66,166.13,null,null,null,51,null,null,null,null,null,null,null,50,116.84,163.58000000000001,118.66,166.13,120.48,168.67,104.43,146.21,106.25,148.76,108.07,151.30000000000001,109.89,153.85,111.71,156.4,113.53,158.94999999999999,115.35,161.5,117.17,164.04,118.99,166.59,120.81,169.14,122.63,171.69,124.45,174.24,126.27,176.78,128.09,179.33,129.91,181.88,131.72999999999999,184.43,133.55000000000001,186.98,135.37,189.52,137.19,192.07,139.01,194.62,140.83000000000001,197.17,142.65,199.72,144.47,202.26,146.29,204.81,148.11000000000001,207.36,149.93,209.91,151.75,212.46]
[{"$f":"I58+1","v":163},{"$f":"N171","v":384.31},538.04,null,{"$f":"A85+1","v":190},{"$f":"N198","v":447.7},626.78,null,null,null,null,null,51,121.03,169.44,null,null,null,52,null,null,null,null,null,null,null,51,119.17,166.84,121.03,169.44,122.88,172.04,106.52,149.12,108.37,151.72,110.23,154.32,112.09,156.91999999999999,113.94,159.52000000000001,115.8,162.12,117.65,164.72,119.51,167.32,121.37,169.91,123.22,172.51,125.08,175.11,126.94,177.71,128.79,180.31,130.65,182.91,132.51,185.51,134.36000000000001,188.11,136.22,190.71,138.08000000000001,193.31,139.93,195.9,141.79,198.5,143.63999999999999,201.1,145.5,203.7,147.36000000000001,206.3,149.21,208.9,151.07,211.5,152.93,214.1,154.78,216.7]
[{"$f":"A59+1","v":164},386.67,541.33000000000004,null,{"$f":"E59+1","v":191},450.21,630.29999999999995,null,null,null,null,null,52,123.36,172.7,null,null,null,53,null,null,null,null,null,null,null,52,121.47,170.05,123.36,172.7,125.25,175.35,108.58,152.01,110.47,154.66,112.36,157.31,114.25,159.96,116.15,162.61000000000001,118.04,165.26,119.93,167.91,121.83,170.56,123.72,173.21,125.61,175.86,127.5,178.51,129.4,181.16,131.29,183.81,133.18,186.45,135.07,189.1,136.97,191.75,138.86000000000001,194.4,140.75,197.05,142.65,199.7,144.54,202.35,146.43,205,148.32,207.65,150.22,210.3,152.11000000000001,212.95,154,215.6,155.9,218.25,157.79,220.9]
[165,389.03,544.64,null,192,452.12,632.97,null,null,null,null,null,53,125.71,175.99,null,null,null,54,null,null,null,null,null,null,null,53,123.78,173.29,125.71,175.99,127.64,178.69,110.65,154.91,112.58,157.61000000000001,114.51,160.31,116.43,163.01,118.36,165.71,120.29,168.41,122.22,171.11,124.15,173.81,126.08,176.51,128.01,179.21,129.94,181.91,131.87,184.62,133.80000000000001,187.32,135.72999999999999,190.02,137.66,192.72,139.58000000000001,195.42,141.51,198.12,143.44,200.82,145.37,203.52,147.30000000000001,206.22,149.22999999999999,208.92,151.16,211.62,153.09,214.32,155.02000000000001,217.03,156.94999999999999,219.73,158.88,222.43,160.81,225.13]
[166,391.39,547.95000000000005,null,193,454.64,636.5,null,null,null,null,null,54,128.08000000000001,179.31,null,null,null,55,null,null,null,null,null,null,null,54,126.11,176.55,128.08000000000001,179.31,130.04,182.06,112.73,157.82,114.7,160.57,116.66,163.33000000000001,118.63,166.08,120.59,168.83,122.56,171.58,124.52,174.33,126.49,177.08,128.44999999999999,179.84,130.41999999999999,182.59,132.38999999999999,185.34,134.35,188.09,136.32,190.84,138.28,193.6,140.25,196.35,142.21,199.1,144.18,201.85,146.15,204.6,148.11000000000001,207.36,150.08000000000001,210.11,152.04,212.86,154.01,215.61,155.97,218.36,157.94,221.11,159.9,223.87,161.87,226.62,163.84,229.37]
[167,393.76,551.27,null,194,457.17,640.04,null,null,null,null,null,55,130.41,182.57,null,null,null,56,null,null,null,null,null,null,null,55,128.4,179.76,130.41,182.57,132.41,185.37,114.79,160.69999999999999,116.79,163.5,118.79,166.31,120.79,169.11,122.79,171.91,124.8,174.71,126.8,177.52,128.80000000000001,180.32,130.80000000000001,183.12,132.80000000000001,185.93,134.81,188.73,136.81,191.53,138.81,194.33,140.81,197.14,142.81,199.94,144.82,202.74,146.82,205.55,148.82,208.35,150.82,211.15,152.82,213.95,154.83000000000001,216.76,156.83000000000001,219.56,158.83000000000001,222.36,160.83000000000001,225.16,162.83000000000001,227.97,164.84,230.77,166.84,233.57]
[168,396.14,554.6,null,195,459.71,643.59,null,null,null,null,null,56,132.75,185.85,null,null,null,57,null,null,null,null,null,null,null,56,130.71,183,132.75,185.85,134.79,188.7,116.85,163.59,118.89,166.45,120.93,169.3,122.97,172.16,125.01,175.01,127.05,177.86,129.08000000000001,180.72,131.12,183.57,133.16,186.42,135.19999999999999,189.28,137.24,192.13,139.28,194.99,141.31,197.84,143.35,200.69,145.38999999999999,203.55,147.43,206.4,149.47,209.25,151.51,212.11,153.54,214.96,155.58000000000001,217.82,157.62,220.67,159.66,223.52,161.69999999999999,226.38,163.74,229.23,165.77,232.08,167.81,234.94,169.85,237.79]
[169,398.05,557.27,null,196,461.62,646.26,null,null,null,null,null,57,135.11000000000001,189.15,null,null,null,58,null,null,null,null,null,null,null,57,133.03,186.25,135.11000000000001,189.15,137.18,192.06,118.93,166.5,121.01,169.41,123.08,172.31,125.16,175.22,127.23,178.12,129.31,181.03,131.38,183.93,133.44999999999999,186.84,135.53,189.74,137.6,192.65,139.68,195.55,141.75,198.46,143.83000000000001,201.36,145.9,204.27,147.97999999999999,207.17,150.05000000000001,210.07,152.13,212.98,154.19999999999999,215.88,156.28,218.79,158.35,221.69,160.43,224.6,162.5,227.5,164.58,230.41,166.65,233.31,168.73,236.22,170.8,239.12,172.88,242.03]
[170,400.43,560.61,null,197,464.17,649.83000000000004,null,null,null,null,null,58,137.47999999999999,192.48,null,null,null,59,null,null,null,null,null,null,null,58,135.37,189.52,137.47999999999999,192.48,139.6,195.43,121.02,169.43,123.13,172.39,125.24,175.34,127.36,178.3,129.47,181.25,131.58000000000001,184.21,133.69,187.16,135.80000000000001,190.12,137.91,193.08,140.02000000000001,196.03,142.13,198.99,144.24,201.94,146.36000000000001,204.9,148.47,207.85,150.58000000000001,210.81,152.69,213.77,154.80000000000001,216.72,156.91,219.68,159.02000000000001,222.63,161.13,225.59,163.25,228.54,165.36,231.5,167.47,234.46,169.58,237.41,171.69,240.37,173.8,243.32,175.91,246.28]
[171,402.82,563.95000000000005,null,198,466.72,653.41,null,null,null,null,null,59,139.82,195.74,null,null,null,60,null,null,null,null,null,null,null,59,137.66999999999999,192.73,139.82,195.74,141.96,198.75,123.08,172.31,125.23,175.32,127.37,178.32,129.52000000000001,181.33,131.66999999999999,184.34,133.82,187.34,135.96,190.35,138.11000000000001,193.36,140.26,196.36,142.41,199.37,144.55000000000001,202.38,146.69999999999999,205.38,148.85,208.39,151,211.4,153.13999999999999,214.4,155.29,217.41,157.44,220.42,159.59,223.42,161.74,226.43,163.88,229.44,166.03,232.44,168.18,235.45,170.33,238.46,172.47,241.46,174.62,244.47,176.77,247.48,178.92,250.48]
[172,405.22,567.30999999999995,null,199,468.63,656.08,null,null,null,null,null,60,142.16,199.02,null,null,null,61,null,null,null,null,null,null,null,60,139.97999999999999,195.97,142.16,199.02,144.34,202.08,125.15,175.2,127.33,178.26,129.51,181.32,131.69999999999999,184.38,133.88,187.43,136.07,190.49,138.25,193.55,140.43,196.61,142.62,199.66,144.80000000000001,202.72,146.99,205.78,149.16999999999999,208.84,151.35,211.9,153.54,214.95,155.72,218.01,157.91,221.07,160.09,224.13,162.27000000000001,227.18,164.46,230.24,166.64,233.3,168.83,236.36,171.01,239.41,173.19,242.47,175.38,245.53,177.56,248.59,179.75,251.64,181.93,254.7]
[173,407.62,570.66999999999996,null,200,471.2,659.68,null,null,null,null,null,61,144.52000000000001,202.33,null,null,null,62,null,null,null,null,null,null,null,61,142.30000000000001,199.22,144.52000000000001,202.33,146.74,205.43,127.22,178.11,129.44,181.22,131.66,184.33,133.88,187.44,136.1,190.55,138.33000000000001,193.66,140.55000000000001,196.76,142.77000000000001,199.87,144.99,202.98,147.21,206.09,149.43,209.2,151.65,212.31,153.87,215.42,156.09,218.52,158.31,221.63,160.53,224.74,162.75,227.85,164.97,230.96,167.19,234.07,169.41,237.18,171.63,240.28,173.85,243.39,176.07,246.5,178.29,249.61,180.51,252.72,182.73,255.83,184.95,258.94]
[174,410.03,574.04,null,"200 -\n1000",{"$f":"\"เพิ่ม  \"&ROUND(N209,2)","v":"เพิ่ม  2.36"},{"$f":"\"เพิ่ม  \"&ROUND(O209,2)","v":"เพิ่ม  3.3"},null,null,null,null,null,62,146.88999999999999,205.65,null,null,null,63,null,null,null,null,null,null,null,62,144.63,202.49,146.88999999999999,205.65,149.15,208.81,129.31,181.04,131.57,184.2,133.83000000000001,187.36,136.08000000000001,190.52,138.34,193.68,140.6,196.83,142.85,199.99,145.11000000000001,203.15,147.37,206.31,149.62,209.47,151.88,212.63,154.13999999999999,215.79,156.38999999999999,218.95,158.65,222.11,160.91,225.27,163.16,228.43,165.42,231.59,167.68,234.75,169.93,237.91,172.19,241.07,174.45,244.23,176.71,247.39,178.96,250.55,181.22,253.71,183.48,256.87,185.73,260.02999999999997,187.99,263.18]
[175,412.44,577.41999999999996,null,null,"ต่อ กม.","ต่อ กม.",null,null,null,null,null,63,149.21,208.9,null,null,null,64,null,null,null,null,null,null,null,63,146.91999999999999,205.68,149.21,208.9,151.5,212.11,131.36000000000001,183.9,133.65,187.12,135.94999999999999,190.33,138.24,193.54,140.53,196.75,142.83000000000001,199.96,145.12,203.17,147.41,206.38,149.71,209.59,152,212.8,154.29,216.01,156.59,219.22,158.88,222.43,161.16999999999999,225.64,163.47,228.85,165.76,232.06,168.05,235.27,170.34,238.48,172.64,241.69,174.93,244.9,177.22,248.11,179.52,251.32,181.81,254.54,184.1,257.75,186.4,260.95999999999998,188.69,264.17,190.98,267.38]
[176,414.86,580.80999999999995,null,null,null,null,null,null,null,null,null,64,151.54,212.16,null,null,null,65,null,null,null,null,null,null,null,64,149.21,208.9,151.54,212.16,153.87,215.42,133.41999999999999,186.78,135.75,190.05,138.08000000000001,193.31,140.41,196.57,142.74,199.83,145.07,203.09,147.4,206.35,149.72999999999999,209.62,152.05000000000001,212.88,154.38,216.14,156.71,219.4,159.04,222.66,161.37,225.92,163.69999999999999,229.18,166.03,232.45,168.36,235.71,170.69,238.97,173.02,242.23,175.35,245.49,177.68,248.75,180.01,252.01,182.34,255.28,184.67,258.54000000000002,187,261.8,189.33,265.06,191.66,268.32,193.99,271.58]
[177,417.29,584.21,null,null,null,null,null,null,null,null,null,65,153.88999999999999,215.44,null,null,null,66,null,null,null,null,null,null,null,65,151.52000000000001,212.13,153.88999999999999,215.44,156.25,218.75,135.47999999999999,189.68,137.85,192.99,140.22,196.3,142.58000000000001,199.62,144.94999999999999,202.93,147.31,206.24,149.68,209.55,152.05000000000001,212.87,154.41,216.18,156.78,219.49,159.13999999999999,222.8,161.51,226.11,163.88,229.43,166.24,232.74,168.61,236.05,170.97,239.36,173.34,242.68,175.71,245.99,178.07,249.3,180.44,252.61,182.8,255.93,185.17,259.24,187.54,262.55,189.9,265.86,192.27,269.18,194.63,272.49,197,275.8]
[178,419.2,586.88,null,null,null,null,null,null,null,null,null,{"$f":"M73+1","v":66},{"$f":"HLOOKUP($N$8,$AB$8:$CI$209,S74,FALSE)","v":156.24},{"$f":"HLOOKUP($O$8,$AB$8:$CI$209,S74,FALSE)","v":218.74},null,null,null,67,null,null,null,null,null,null,null,66,153.84,215.38,156.24,218.74,158.65,222.1,137.56,192.59,139.96,195.95,142.37,199.31,144.77000000000001,202.68,147.16999999999999,206.04,149.57,209.4,151.97999999999999,212.77,154.38,216.13,156.78,219.49,159.18,222.86,161.59,226.22,163.99,229.58,166.39,232.95,168.79,236.31,171.19,239.67,173.6,243.04,176,246.4,178.4,249.76,180.8,253.13,183.21,256.49,185.61,259.85000000000002,188.01,263.22000000000003,190.41,266.58,192.82,269.94,195.22,273.31,197.62,276.67,200.02,280.02999999999997]
[179,421.64,590.29,null,null,null,null,null,null,null,null,null,67,158.61000000000001,222.06,null,null,null,68,null,null,null,null,null,null,null,67,156.18,218.65,158.61000000000001,222.06,161.05000000000001,225.47,139.65,195.51,142.09,198.92,144.53,202.34,146.96,205.75,149.4,209.16,151.84,212.58,154.28,215.99,156.72,219.41,159.16,222.82,161.6,226.24,164.04,229.65,166.47,233.06,168.91,236.48,171.35,239.89,173.79,243.31,176.23,246.72,178.67,250.14,181.11,253.55,183.55,256.97000000000003,185.99,260.38,188.42,263.79000000000002,190.86,267.20999999999998,193.3,270.62,195.74,274.04000000000002,198.18,277.45,200.62,280.87,203.36,284.27999999999997]
[180,424.08,593.71,null,null,null,null,null,null,null,null,null,68,160.91999999999999,225.29,null,null,null,69,null,null,null,null,null,null,null,68,158.44,221.82,160.91999999999999,225.29,163.38999999999999,228.75,141.69,198.36,144.16,201.82,146.63999999999999,205.29,149.11000000000001,208.76,151.59,212.22,154.06,215.69,156.54,219.15,159.01,222.62,161.49,226.08,163.96,229.55,166.44,233.01,168.91,236.48,171.39,239.94,173.86,243.41,176.34,246.87,178.81,250.34,181.29,253.8,183.76,257.27,186.24,260.73,188.71,264.2,191.19,267.66000000000003,193.66,271.13,196.14,274.60000000000002,198.61,278.06,201.09,281.52999999999997,203.57,284.99,206.04,288.45999999999998]
[181,426.53,597.14,null,null,null,null,null,null,null,null,null,69,163.32,228.64,null,null,null,70,null,null,null,null,null,null,null,69,160.81,225.13,163.32,228.64,165.83,232.16,143.79,201.31,146.30000000000001,204.83,148.82,208.34,151.33000000000001,211.86,153.84,215.37,156.35,218.89,158.86000000000001,222.41,161.37,225.92,163.89,229.44,166.4,232.96,168.91,236.47,171.42,239.99,173.93,243.5,176.44,247.02,178.95,250.54,181.47,254.05,183.98,257.57,186.49,261.08999999999997,189,264.60000000000002,191.51,268.12,194.02,271.63,196.54,275.14999999999998,199.05,278.67,201.56,282.18,204.07,285.7,206.58,289.22000000000003,209.09,292.73]
[182,428.98,600.58000000000004,null,null,null,null,null,null,null,null,null,70,165.64,231.9,null,null,null,71,null,null,null,null,null,null,null,70,163.1,228.34,165.64,231.9,168.19,235.45,145.85,204.19,148.38999999999999,207.75,150.94,211.32,153.49,214.89,156.04,218.45,158.59,222.02,161.13,225.59,163.68,229.16,166.23,232.72,168.78,236.29,171.33,239.86,173.87,243.42,176.42,246.99,178.97,250.56,181.52,254.13,184.07,257.69,186.61,261.26,189.16,264.83,191.71,268.39999999999998,194.26,271.95999999999998,196.81,275.52999999999997,199.35,279.10000000000002,201.9,282.66000000000003,204.45,286.23,207,289.8,209.55,293.37,212.09,296.93]
[183,431.45,604.03,null,null,null,null,null,null,null,null,null,71,167.98,235.18,null,null,null,72,null,null,null,null,null,null,null,71,165.4,231.56,167.98,235.18,170.57,238.8,147.91,207.07,150.49,210.69,153.08000000000001,214.31,155.66,217.93,158.25,221.55,160.83000000000001,225.17,163.41999999999999,228.78,166,232.4,168.59,236.02,171.17,239.64,173.75,243.26,176.34,246.87,178.92,250.49,181.51,254.11,184.09,257.73,186.68,261.35000000000002,189.26,264.95999999999998,191.84,268.58,194.43,272.2,197.01,275.82,199.6,279.44,202.18,283.06,204.77,286.67,207.35,290.29000000000002,209.94,293.91000000000003,212.52,297.52999999999997,215.1,301.14999999999998]
[184,433.36,606.70000000000005,null,null,null,null,null,null,null,null,null,72,170.33,238.47,null,null,null,73,null,null,null,null,null,null,null,72,167.71,234.8,170.33,238.47,172.96,242.14,149.97999999999999,209.98,152.6,213.64,155.22,217.31,157.84,220.98,160.47,224.65,163.09,228.32,165.71,231.99,168.33,235.66,170.95,239.33,173.57,243,176.19,246.67,178.81,250.34,181.43,254,184.05,257.67,186.67,261.33999999999997,189.29,265.01,191.91,268.68,194.54,272.35000000000002,197.16,276.02,199.78,279.69,202.4,283.36,205.02,287.02999999999997,207.64,290.7,210.26,294.36,212.88,298.02999999999997,215.5,301.7,218.12,305.37]
[185,435.83,610.16,null,null,null,null,null,null,null,null,null,73,172.7,241.78,null,null,null,74,null,null,null,null,null,null,null,73,170.04,238.06,172.7,241.78,175.36,245.5,152.06,212.89,154.72,216.61,157.38,220.33,160.03,224.05,162.69,227.77,165.35,231.49,168.01,235.21,170.66,238.93,173.32,242.65,175.98,246.37,178.64,250.09,181.29,253.81,183.95,257.52999999999997,186.61,261.25,189.26,264.97000000000003,191.92,268.69,194.58,272.41000000000003,197.24,276.13,199.89,279.85000000000002,202.55,283.57,205.21,287.29000000000002,207.86,291.01,210.52,294.73,213.18,298.45,215.84,302.17,218.49,305.89,221.15,309.61]
[186,438.31,613.63,null,null,null,null,null,null,null,null,null,74,175.07,245.1,null,null,null,75,null,null,null,null,null,null,null,74,172.38,241.33,175.07,245.1,177.77,248.87,154.15,215.82,156.85,219.59,159.54,223.36,162.22999999999999,227.13,164.93,230.9,167.62,234.67,170.32,238.44,173.01,242.21,175.7,245.98,178.4,249.76,181.09,253.53,183.78,257.3,186.48,261.07,189.17,264.83999999999997,191.86,268.61,194.56,272.38,197.25,276.14999999999998,199.95,279.92,202.64,283.69,205.33,287.47000000000003,208.03,291.24,210.72,295.01,213.41,298.77999999999997,216.11,302.55,218.8,306.32,221.49,310.08999999999997,224.19,313.86]
[187,440.79,617.11,null,null,null,null,null,null,null,null,null,75,177.37,248.31,null,null,null,76,null,null,null,null,null,null,null,75,174.64,244.49,177.37,248.31,180.1,252.13,156.18,218.65,158.91,222.48,161.63999999999999,226.3,164.37,230.12,167.1,233.94,169.83,237.76,172.56,241.59,175.29,245.41,178.02,249.23,180.75,253.05,183.48,256.87,186.21,260.7,188.94,264.52,191.67,268.33999999999997,194.4,272.16000000000003,197.13,275.98,199.86,279.81,202.59,283.63,205.32,287.45,208.05,291.27,210.78,295.08999999999997,213.51,298.92,216.24,302.74,218.97,306.56,221.7,310.38,224.43,314.2,227.16,318.02999999999997]
[188,442.7,619.78,null,null,null,null,null,null,null,null,null,76,179.77,251.67,null,null,null,77,null,null,null,null,null,null,null,76,177,247.8,179.77,251.67,182.53,255.55,158.29,221.61,161.06,225.48,163.82,229.35,166.59,233.23,169.36,237.1,172.12,240.97,174.89,244.84,177.66,248.72,180.42,252.59,183.19,256.45999999999998,185.95,260.33999999999997,188.72,264.20999999999998,191.49,268.08,194.25,271.95999999999998,197.02,275.83,199.79,279.7,202.55,283.57,205.32,287.45,208.09,291.32,210.85,295.19,213.62,299.07,216.39,302.94,219.15,306.81,221.92,310.69,224.68,314.56,227.45,318.43,230.22,322.3]
[189,445.2,623.28,null,null,null,null,null,null,null,null,null,77,182.08,254.91,null,null,null,78,null,null,null,null,null,null,null,77,179.28,250.99,182.08,254.91,184.88,258.83,160.33000000000001,224.47,163.13999999999999,228.39,165.94,232.31,168.74,236.24,171.54,240.16,174.35,244.09,177.15,248.01,179.95,251.93,182.76,255.86,185.56,259.77999999999997,188.36,263.70999999999998,191.16,267.63,193.97,271.55,196.77,275.48,199.57,279.39999999999998,202.38,283.33,205.18,287.25,207.98,291.17,210.78,295.10000000000002,213.59,299.02,216.39,302.95,219.19,306.87,222,310.79000000000002,224.8,314.72000000000003,227.6,318.64,230.4,322.57,233.21,326.49]
[null,null,null,null,null,null,null,null,null,null,null,null,78,184.4,258.16000000000003,null,null,null,79,null,null,null,null,null,null,null,78,181.56,254.19,184.4,258.16000000000003,187.24,262.13,162.38,227.34,165.22,231.31,168.06,235.29,170.9,239.26,173.74,243.24,176.58,247.21,179.42,251.19,182.26,255.16,185.1,259.14,187.94,263.11,190.78,267.08999999999997,193.61,271.06,196.45,275.04000000000002,199.29,279.01,202.13,282.99,204.97,286.95999999999998,207.81,290.94,210.65,294.91000000000003,213.49,298.88,216.33,302.86,219.17,306.83,222.01,310.81,224.85,314.77999999999997,227.69,318.76,230.52,322.73,233.36,326.70999999999998,236.2,330.68]
[null,null,null,null,null,null,null,null,null,null,null,null,79,186.84,261.57,null,null,null,80,null,null,null,null,null,null,null,79,183.96,257.55,186.84,261.57,189.71,265.60000000000002,164.52,230.33,167.4,234.36,170.27,238.38,173.15,242.41,176.02,246.43,178.9,250.46,181.78,254.49,184.65,258.51,187.53,262.54000000000002,190.4,266.56,193.28,270.58999999999997,196.15,274.61,199.03,278.64,201.9,282.67,204.78,286.69,207.66,290.72000000000003,210.53,294.74,213.41,298.77,216.28,302.8,219.16,306.82,222.03,310.85000000000002,224.91,314.87,227.78,318.89999999999998,230.66,322.92,233.54,326.95,236.41,330.98,239.29,335]
[null,null,null,null,null,null,null,null,null,null,null,null,80,189.18,264.86,null,null,null,81,null,null,null,null,null,null,null,80,186.27,260.77999999999997,189.18,264.86,192.1,268.93,166.59,233.22,169.5,237.3,172.41,241.38,175.32,245.45,178.24,249.53,181.15,253.61,184.06,257.68,186.97,261.76,189.88,265.83999999999997,192.8,269.92,195.71,273.99,198.62,278.07,201.53,282.14999999999998,204.44,286.22000000000003,207.36,290.3,210.27,294.38,213.18,298.45,216.09,302.52999999999997,219,306.61,221.92,310.68,224.83,314.76,227.74,318.83999999999997,230.65,322.91000000000003,233.56,326.99,236.48,331.07,239.39,335.14,242.3,339.22]
[null,null,null,null,null,null,null,null,null,null,null,null,81,191.54,268.14999999999998,null,null,null,82,null,null,null,null,null,null,null,81,188.59,264.02999999999997,191.54,268.14999999999998,194.49,272.27999999999997,168.66,236.13,171.61,240.26,174.56,244.38,177.51,248.51,180.46,252.64,183.41,256.77,186.35,260.89999999999998,189.3,265.02,192.25,269.14999999999998,195.2,273.27999999999997,198.15,277.41000000000003,201.1,281.52999999999997,204.04,285.66000000000003,206.99,289.79000000000002,209.94,293.92,212.89,298.05,215.84,302.17,218.79,306.3,221.73,310.43,224.68,314.56,227.63,318.68,230.58,322.81,233.53,326.94,236.48,331.07,239.43,335.2,242.37,339.32,245.32,343.45]
[null,null,null,null,null,null,null,null,null,null,null,null,82,193.79,271.3,null,null,null,83,null,null,null,null,null,null,null,82,190.8,267.13,193.79,271.3,196.77,275.48,170.66,238.92,173.65,243.1,176.63,247.28,179.61,251.46,182.6,255.64,185.58,259.82,188.57,264,191.55,268.18,194.54,272.35000000000002,197.52,276.52999999999997,200.51,280.70999999999998,203.49,284.89,206.48,289.07,209.46,293.25,212.45,297.43,215.43,301.61,218.42,305.77999999999997,221.4,309.95999999999998,224.39,314.14,227.37,318.32,230.36,322.5,233.34,326.68,236.33,330.86,239.31,335.03,242.3,339.21,245.28,343.39,248.27,347.57]
[null,null,null,null,null,null,null,null,null,null,null,null,83,196.16,274.63,null,null,null,84,null,null,null,null,null,null,null,83,193.14,270.39999999999998,196.16,274.63,199.18,278.86,172.75,241.85,175.77,246.08,178.79,250.31,181.81,254.54,184.83,258.77,187.86,263,190.88,267.23,193.9,271.45999999999998,196.92,275.69,199.94,279.92,202.96,284.14999999999998,205.98,288.38,209,292.61,212.03,296.83999999999997,215.05,301.07,218.07,305.3,221.09,309.52,224.11,313.75,227.13,317.98,230.15,322.20999999999998,233.17,326.44,236.2,330.67,239.22,334.9,242.24,339.13,245.26,343.36,248.28,347.59,251.3,351.82]
[null,null,null,null,null,null,null,null,null,null,null,null,84,198.55,277.97000000000003,null,null,null,85,null,null,null,null,null,null,null,84,195.49,273.69,198.55,277.97000000000003,201.61,282.25,174.85,244.79,177.91,249.07,180.96,253.35,184.02,257.63,187.08,261.91000000000003,190.14,266.19,193.19,270.47000000000003,196.25,274.75,199.31,279.02999999999997,202.37,283.31,205.42,287.58999999999997,208.48,291.88,211.54,296.16000000000003,214.6,300.44,217.66,304.72000000000003,220.71,309,223.77,313.27999999999997,226.83,317.56,229.89,321.83999999999997,232.94,326.12,236,330.4,239.06,334.68,242.12,338.86,245.17,343.24,248.23,347.52,251.29,351.8,254.35,356.08]
[null,null,null,null,null,null,null,null,null,null,null,null,85,200.95,281.33,null,null,null,86,null,null,null,null,null,null,null,85,197.85,277,200.95,281.33,204.04,285.66000000000003,176.96,247.74,180.05,252.07,183.14,256.39999999999998,186.24,260.73,189.33,265.07,192.43,269.39999999999998,195.52,273.73,198.61,278.06,201.71,282.39,204.8,286.72000000000003,207.9,291.06,210.99,295.39,214.08,299.72000000000003,217.18,304.05,220.27,308.38,223.37,312.70999999999998,226.46,317.04000000000002,229.55,321.38,232.65,325.70999999999998,235.74,330.04,238.84,334.37,241.93,338.7,245.02,343.03,248.12,347.37,251.21,351.7,254.31,356.03,257.39999999999998,360.36]
[null,null,null,null,null,null,null,null,null,null,null,null,86,203.23,284.52999999999997,null,null,null,87,null,null,null,null,null,null,null,86,200.1,280.14,203.23,284.52999999999997,206.36,288.91000000000003,178.98,250.57,182.11,254.95,185.24,259.33,188.37,263.72000000000003,191.5,268.10000000000002,194.63,272.48,197.76,276.87,200.89,281.25,204.02,285.63,207.15,290.01,210.28,294.39999999999998,213.41,298.77999999999997,216.54,303.16000000000003,219.67,307.54000000000002,222.8,311.93,225.93,316.31,229.06,320.69,232.2,325.07,235.33,329.46,238.46,333.84,241.59,338.22,244.72,342.6,247.85,346.99,250.98,351.37,254.11,355.75,257.24,360.13,260.37,364.52]
[null,null,null,null,null,null,null,null,null,null,null,null,87,205.52,287.73,null,null,null,88,null,null,null,null,null,null,null,87,202.36,283.3,205.52,287.73,208.69,292.17,181.01,253.41,184.17,257.83999999999997,187.34,262.27999999999997,190.51,266.70999999999998,193.67,271.14,196.84,275.58,200.01,280.01,203.17,284.44,206.34,288.88,209.51,293.31,212.67,297.74,215.84,302.18,219.01,306.61,222.17,311.04000000000002,225.34,315.48,228.51,319.91000000000003,231.67,324.33999999999997,234.84,328.78,238.01,333.21,241.18,337.65,244.34,342.08,247.51,346.51,250.68,350.95,253.84,355.38,257.01,359.81,260.18,364.25,263.33999999999997,368.68]
[null,null,null,null,null,null,null,null,null,null,null,null,88,207.96,291.14,null,null,null,89,null,null,null,null,null,null,null,88,204.75,286.64999999999998,207.96,291.14,211.16,295.62,183.14,256.39,186.34,260.88,189.54,265.36,192.75,269.85000000000002,195.95,274.33,199.15,278.82,202.36,283.3,205.56,287.79000000000002,208.76,292.27,211.97,296.75,215.17,301.24,218.37,305.72000000000003,221.58,310.20999999999998,224.78,314.69,227.98,319.18,231.19,323.66000000000003,234.39,328.15,237.59,332.63,240.8,337.11,244,341.6,247.2,346.08,250.41,350.57,253.61,355.05,256.81,359.54,260.02,364.02,263.22000000000003,368.51,266.42,372.99]
[null,null,null,null,null,null,null,null,null,null,null,null,89,210.27,294.37,null,null,null,90,null,null,null,null,null,null,null,89,207.03,289.83999999999997,210.27,294.37,213.51,298.91000000000003,185.18,259.25,188.42,263.79000000000002,191.66,268.32,194.9,272.86,198.14,277.39,201.38,281.93,204.62,286.45999999999998,207.86,291,211.1,295.52999999999997,214.34,300.07,217.58,304.61,220.82,309.14,224.05,313.68,227.29,318.20999999999998,230.53,322.75,233.77,327.27999999999997,237.01,331.82,240.25,336.35,243.49,340.89,246.73,345.42,249.97,349.96,253.21,354.5,256.45,359.03,259.69,363.57,262.93,368.1,266.17,372.64,269.41000000000003,377.17]
[null,null,null,null,null,null,null,null,null,null,null,null,90,212.58,297.62,null,null,null,91,null,null,null,null,null,null,null,90,209.31,293.02999999999997,212.58,297.62,215.86,302.2,187.23,262.12,190.5,266.7,193.78,271.29000000000002,197.05,275.88,200.33,280.45999999999998,203.61,285.05,206.88,289.64,210.16,294.22000000000003,213.43,298.81,216.71,303.39999999999998,219.99,307.98,223.26,312.57,226.54,317.14999999999998,229.81,321.74,233.09,326.33,236.37,330.91,239.64,335.5,242.92,340.09,246.19,344.67,249.47,349.26,252.75,353.85,256.02,358.43,259.3,363.02,262.57,367.6,265.85000000000002,372.19,269.13,376.78,272.39999999999998,381.36]
[null,null,null,null,null,null,null,null,null,null,null,null,91,215.05,301.07,null,null,null,92,null,null,null,null,null,null,null,91,211.74,296.44,215.05,301.07,218.36,305.70999999999998,189.39,265.14,192.7,269.77999999999997,196.01,274.42,199.32,279.05,202.64,283.69,205.95,288.33,209.26,292.97000000000003,212.57,297.60000000000002,215.89,302.24,219.2,306.88,222.51,311.51,225.82,316.14999999999998,229.14,320.79000000000002,232.45,325.43,235.76,330.06,239.07,334.7,242.38,339.34,245.7,343.98,249.01,348.61,252.32,353.25,255.63,357.89,258.95,362.53,262.26,367.16,265.57,371.8,268.88,376.44,272.2,381.08,275.51,385.71]
[null,null,null,null,null,null,null,null,null,null,null,null,92,217.39,304.35000000000002,null,null,null,93,null,null,null,null,null,null,null,92,214.04,299.66000000000003,217.39,304.35000000000002,220.74,309.02999999999997,191.45,268.02999999999997,194.8,272.72000000000003,198.15,277.39999999999998,201.5,282.08999999999997,204.84,286.77999999999997,208.19,291.47000000000003,211.54,296.16000000000003,214.89,300.85000000000002,218.24,305.52999999999997,221.59,310.22000000000003,224.94,314.91000000000003,228.29,319.60000000000002,231.63,324.29000000000002,234.98,328.98,238.33,333.66,241.68,338.35,245.03,343.04,248.38,347.73,251.73,352.42,255.08,357.11,258.42,361.79,261.77,366.48,265.12,371.17,268.47000000000003,375.86,271.82,380.55,275.17,385.24,278.52,389.92]
[null,null,null,null,null,null,null,null,null,null,null,null,93,219.74,307.63,null,null,null,94,null,null,null,null,null,null,null,93,216.35,302.89,219.74,307.63,223.12,312.37,193.52,270.92,196.9,275.66000000000003,200.29,280.39999999999998,203.67,285.14,207.06,289.88,210.44,294.62,213.83,299.36,217.21,304.10000000000002,220.6,308.83999999999997,223.98,313.58,227.37,318.32,230.76,323.06,234.14,327.8,237.53,332.54,240.91,337.27,244.3,342.01,247.68,346.75,251.07,351.49,254.45,356.23,257.83999999999997,360.97,261.22000000000003,365.71,264.61,370.45,267.99,375.19,271.38,379.93,274.76,384.67,278.14999999999998,389.41,281.52999999999997,394.15]
[null,null,null,null,null,null,null,null,null,null,null,null,94,222.09,310.93,null,null,null,95,null,null,null,null,null,null,null,94,218.67,306.14,222.09,310.93,225.51,315.72000000000003,195.59,273.83,199.02,278.62,202.44,283.41000000000003,205.86,288.2,209.28,292.99,212.7,297.77999999999997,216.12,302.57,219.55,307.36,222.97,312.14999999999998,226.39,316.94,229.81,321.73,233.23,326.52,236.65,331.31,240.07,336.1,243.5,340.89,246.92,345.68,250.34,350.48,253.76,355.27,257.18,360.06,260.60000000000002,364.85,264.02999999999997,369.64,267.45,374.43,270.87,379.22,274.29000000000002,384.01,277.70999999999998,388.8,281.13,393.59,284.56,398.38]
[null,null,null,null,null,null,null,null,null,null,null,null,95,224.31,314.02999999999997,null,null,null,96,null,null,null,null,null,null,null,95,220.85,309.19,224.31,314.02999999999997,227.76,318.87,197.56,276.58999999999997,201.02,281.43,204.48,286.27,207.94,291.11,211.39,295.95,214.85,300.79000000000002,218.31,305.63,221.77,310.47000000000003,225.23,315.32,228.68,320.16000000000003,232.14,325,235.6,329.84,239.06,334.68,242.52,339.52,245.97,344.36,249.43,349.2,252.89,354.05,256.35000000000002,358.89,259.81,363.73,263.26,368.57,266.72000000000003,373.41,270.18,378.25,273.64,383.09,277.10000000000002,387.93,280.55,392.78,284.01,397.62,287.47000000000003,402.46]
[null,null,null,null,null,null,null,null,null,null,null,null,96,226.68,317.35000000000002,null,null,null,97,null,null,null,null,null,null,null,96,223.18,312.45999999999998,226.68,317.35000000000002,230.17,322.24,199.65,279.51,203.14,284.39999999999998,206.64,289.29000000000002,210.13,294.19,213.63,299.08,217.12,303.97000000000003,220.62,308.86,224.11,313.75,227.6,318.64999999999998,231.1,323.54000000000002,234.59,328.43,238.09,333.32,241.58,338.22,245.08,343.11,248.57,348,252.07,352.89,255.56,357.78,259.05,362.68,262.55,367.57,266.04000000000002,372.46,269.54000000000002,377.35,273.02999999999997,382.25,276.52999999999997,387.14,280.02,392.03,283.52,396.92,287.01,401.81,290.5,406.71]
[null,null,null,null,null,null,null,null,null,null,null,null,97,229.06,320.68,null,null,null,98,null,null,null,null,null,null,null,97,225.53,315.74,229.06,320.68,232.59,325.63,201.75,282.44,205.28,287.39,208.81,292.33,212.34,297.27,215.87,302.22000000000003,219.4,307.16000000000003,222.93,312.10000000000002,226.46,317.05,229.99,321.99,233.52,326.93,237.05,331.87,240.58,336.82,244.12,341.76,247.65,346.7,251.18,351.65,254.71,356.59,258.24,361.53,261.77,366.48,265.3,371.42,268.83,376.36,272.36,381.31,275.89,386.25,279.42,391.19,282.95,396.14,286.48,401.08,290.02,406.02,293.55,410.96]
[null,null,null,null,null,null,null,null,null,null,null,null,{"$f":"M105+1","v":98},231.45,324.04000000000002,null,null,null,99,null,null,null,null,null,null,null,98,227.89,319.04000000000002,231.45,324.04000000000002,235.02,329.03,203.85,285.39,207.42,290.38,210.98,295.38,214.55,300.37,218.12,305.37,221.69,310.36,225.25,315.35000000000002,228.82,320.35000000000002,232.39,325.33999999999997,235.95,330.34,239.52,335.33,243.09,340.32,246.66,345.32,250.22,350.31,253.79,355.31,257.36,360.3,260.92,365.29,264.49,370.29,268.06,375.28,271.63,380.28,275.19,385.27,278.76,390.26,282.33,395.26,285.89,400.25,289.45999999999998,405.25,293.02999999999997,410.24,296.60000000000002,415.23]
[null,null,null,null,null,null,null,null,null,null,null,null,99,233.86,327.39999999999998,null,null,null,100,null,null,null,null,null,null,null,99,230.25,322.36,233.86,327.39999999999998,237.46,332.45,205.96,288.35000000000002,209.56,293.39,213.17,298.44,216.77,303.48,220.38,308.52999999999997,223.98,313.57,227.58,318.62,231.19,323.66000000000003,234.79,328.71,238.39,333.75,242,338.8,245.6,343.84,249.2,348.89,252.81,353.93,256.41000000000003,358.98,260.01,364.02,263.62,369.07,267.22000000000003,374.11,270.83,379.16,274.43,384.2,278.02999999999997,389.25,281.64,394.29,285.24,399.34,288.83999999999997,404.38,292.45,409.43,296.05,414.47,299.64999999999998,419.52]
[null,null,null,null,null,null,null,null,null,null,null,null,100,236.1,330.54,null,null,null,101,null,null,null,null,null,null,null,100,232.46,325.45,236.1,330.54,239.74,335.64,207.95,291.13,211.59,296.23,215.23,301.33,218.87,306.42,222.51,311.52,226.15,316.61,229.79,321.70999999999998,233.43,326.81,237.07,331.9,240.71,337,244.35,342.09,247.99,347.19,251.63,352.29,255.27,357.38,258.91000000000003,362.48,262.55,367.57,266.19,372.67,269.83,377.77,273.47000000000003,382.86,277.11,387.96,280.75,393.05,284.39,398.15,288.02999999999997,403.25,291.67,408.34,295.31,413.44,298.95,418.53,302.58999999999997,423.63]
[null,null,null,null,null,null,null,null,null,null,null,null,101,238.53,333.94,null,null,null,102,null,null,null,null,null,null,null,101,234.85,328.79,238.53,333.94,242.2,339.08,210.08,294.11,213.76,299.26,217.43,304.39999999999998,221.11,309.55,224.78,314.7,228.46,319.85000000000002,232.14,324.99,235.81,330.14,239.49,335.29,243.17,340.43,246.84,345.58,250.52,350.73,254.2,355.87,257.87,361.02,261.55,366.17,265.23,371.32,268.89999999999998,376.46,272.58,381.61,276.25,386.76,279.93,391.9,283.61,397.05,287.27999999999997,402.2,290.95999999999998,407.34,294.64,412.49,298.31,417.64,301.99,422.78,305.67,427.93]
[null,null,null,null,null,null,null,null,null,null,null,null,102,240.78,337.1,null,null,null,103,null,null,null,null,null,null,null,102,237.07,331.9,240.78,337.1,244.5,342.29,212.08,296.91000000000003,215.79,302.11,219.51,307.31,223.22,312.51,226.93,317.70999999999998,230.65,322.89999999999998,234.36,328.1,238.07,333.3,241.78,338.5,245.5,343.69,249.21,348.89,252.92,354.09,256.63,359.29,260.35000000000002,364.49,264.06,369.68,267.77,374.88,271.49,380.08,275.2,385.28,278.91000000000003,390.48,282.62,395.67,286.33999999999997,400.87,290.05,406.07,293.76,411.27,297.48,416.47,301.19,421.66,304.89999999999998,426.86,308.61,432.06]
[null,null,null,null,null,null,null,null,null,null,null,null,103,243.23,340.52,null,null,null,104,null,null,null,null,null,null,null,103,239.48,335.27,243.23,340.52,246.98,345.77,214.22,299.91000000000003,217.97,305.16000000000003,221.72,310.41000000000003,225.47,315.66000000000003,229.22,320.91000000000003,232.97,326.16000000000003,236.72,331.4,240.47,336.65,244.22,341.9,247.96,347.15,251.71,352.4,255.46,357.65,259.20999999999998,362.9,262.95999999999998,368.15,266.70999999999998,373.4,270.45999999999998,378.64,274.20999999999998,383.89,277.95999999999998,389.14,281.70999999999998,394.39,285.45999999999998,399.64,289.20999999999998,404.89,292.95999999999998,410.14,296.7,415.39,300.45,420.64,304.2,425.88,307.95,431.13,311.7,436.38]
[null,null,null,null,null,null,null,null,null,null,null,null,104,245.5,343.7,null,null,null,105,null,null,null,null,null,null,null,104,241.71,338.4,245.5,343.7,249.28,349,216.23,302.73,220.02,308.02999999999997,223.81,313.33,227.59,318.63,231.38,323.93,235.16,329.23,238.95,334.53,242.73,339.83,246.52,345.13,250.3,350.43,254.09,355.73,257.88,361.03,261.66000000000003,366.33,265.45,371.63,269.23,376.93,273.02,382.23,276.8,387.53,280.58999999999997,392.83,284.38,398.13,288.16000000000003,403.42,291.95,408.72,295.73,414.02,299.52,419.32,303.3,424.62,307.08999999999997,429.92,310.87,435.22,314.66000000000003,440.52]
[null,null,null,null,null,null,null,null,null,null,null,null,105,247.96,347.15,null,null,null,106,null,null,null,null,null,null,null,105,244.14,341.79,247.96,347.15,251.78,352.5,218.39,305.75,222.21,311.10000000000002,226.04,316.45,229.86,321.8,233.68,327.14999999999998,237.5,332.5,241.32,337.85,245.15,343.2,248.97,348.55,252.79,353.9,256.61,359.26,260.43,364.61,264.26,369.96,268.08,375.31,271.89999999999998,380.66,275.72000000000003,386.01,279.54000000000002,391.36,283.37,396.71,287.19,402.06,291.01,407.41,294.83,412.76,298.64999999999998,418.11,302.48,423.47,306.3,428.82,310.12,434.17,313.95,439.52,317.76,444.87]
[null,null,null,null,null,null,null,null,null,null,null,null,106,250.25,350.35,null,null,null,107,null,null,null,null,null,null,null,106,246.39,344.94,250.25,350.35,254.11,355.75,220.41,308.58,224.27,313.98,228.13,319.38,231.99,324.79000000000002,235.85,330.19,239.71,335.59,243.56,340.99,247.42,346.39,251.28,351.79,255.14,357.2,259,362.6,262.86,368,266.70999999999998,373.4,270.57,378.8,274.43,384.2,278.29000000000002,389.61,282.14999999999998,395.01,286.01,400.41,289.87,405.81,293.72000000000003,411.21,297.58,416.62,301.44,422.02,305.3,427.42,309.16000000000003,432.82,313.02,438.22,316.87,443.62,320.73,449.03]
[null,null,null,null,null,null,null,null,null,null,null,null,107,252.54,353.55,null,null,null,108,null,null,null,null,null,null,null,107,248.64,348.1,252.54,353.55,256.43,359.01,222.44,311.42,226.34,316.87,230.23,322.32,234.13,327.78,238.02,333.23,241.92,338.68,245.81,344.13,249.71,349.59,253.6,355.04,257.5,360.49,261.39,365.95,265.27999999999997,371.4,269.18,376.85,273.07,382.3,276.97000000000003,387.76,280.86,393.21,284.76,398.66,288.64999999999998,404.11,292.55,409.57,296.44,415.02,300.33999999999997,420.47,304.23,425.93,308.13,431.38,312.02,436.83,315.92,442.28,319.81,447.74,323.70999999999998,453.19]
[null,null,null,null,null,null,null,null,null,null,null,null,108,254.84,356.77,null,null,null,109,null,null,null,null,null,null,null,108,250.91,351.27,254.84,356.77,258.77,362.28,224.47,314.26,228.41,319.77,232.34,325.27,236.27,330.77,240.2,336.28,244.13,341.78,248.06,347.29,251.99,352.79,255.92,358.29,259.86,363.8,263.79000000000002,369.3,267.72000000000003,374.8,271.64999999999998,380.31,275.58,385.81,279.51,391.32,283.44,396.82,287.37,402.32,291.3,407.83,295.24,413.33,299.17,418.83,303.10000000000002,424.34,307.02999999999997,429.84,310.95999999999998,435.34,314.89,440.85,318.82,446.35,322.75,451.86,326.69,457.36]
[null,null,null,null,null,null,null,null,null,null,null,null,109,257.33999999999997,360.28,null,null,null,110,null,null,null,null,null,null,null,109,253.37,354.72,257.33999999999997,360.28,261.31,365.83,226.66,317.33,230.63,322.88,234.6,328.44,238.56,333.99,242.53,339.55,246.5,345.1,250.47,350.65,254.44,356.21,258.39999999999998,361.76,262.37,367.32,266.33999999999997,372.87,270.31,378.43,274.27,383.98,278.24,389.54,282.20999999999998,395.09,286.18,400.65,290.14,406.2,294.11,411.76,298.08,417.31,302.05,422.87,306.01,428.42,309.98,433.97,313.95,439.53,317.92,445.08,321.88,450.64,325.85000000000002,456.19,329.82,461.75]
[null,null,null,null,null,null,null,null,null,null,null,null,110,259.66000000000003,363.52,null,null,null,111,null,null,null,null,null,null,null,110,255.65,357.91,259.66000000000003,363.52,263.66000000000003,369.13,228.71,320.19,232.71,325.79000000000002,236.71,331.4,240.72,337.01,244.72,342.61,248.73,348.22,252.73,353.82,256.73,359.43,260.74,365.03,264.74,370.64,268.75,376.25,272.75,381.85,276.75,387.46,280.76,393.06,284.76,398.67,288.77,404.27,292.77,409.88,296.77,415.48,300.77999999999997,421.09,304.77999999999997,426.7,308.79000000000002,432.3,312.79000000000002,437.91,316.79000000000002,443.51,320.8,449.12,324.8,454.72,328.81,460.33,332.81,465.93]
[null,null,null,null,null,null,null,null,null,null,null,null,111,261.98,366.77,null,null,null,112,null,null,null,null,null,null,null,111,257.94,361.11,261.98,366.77,266.02,372.43,230.76,323.06,234.8,328.72,238.84,334.37,242.88,340.03,246.92,345.68,250.96,351.34,255,357,259.04000000000002,362.65,263.08,368.31,267.12,373.97,271.16000000000003,379.62,275.2,385.28,279.24,390.94,283.27999999999997,396.59,287.32,402.25,291.36,407.91,295.39999999999998,413.56,299.44,419.22,303.48,424.88,307.52,430.53,311.56,436.19,315.60000000000002,441.85,319.64,447.5,323.69,453.16,327.73,458.82,331.77,464.47,335.81,470.13]
[null,null,null,null,null,null,null,null,null,null,null,null,112,264.31,370.03,null,null,null,113,null,null,null,null,null,null,null,112,260.23,364.32,264.31,370.03,268.38,375.74,232.81,325.94,236.89,331.64,240.96,337.35,245.04,343.06,249.12,348.77,253.19,354.47,257.27,360.18,261.35000000000002,365.89,265.43,371.6,269.5,377.3,273.58,383.01,277.66000000000003,388.72,281.73,394.43,285.81,400.13,289.89,405.84,293.95999999999998,411.55,298.04000000000002,417.26,302.12,422.96,306.19,428.67,310.27,434.38,314.35000000000002,440.09,318.42,445.79,322.5,451.5,326.58,457.21,330.65,462.92,334.73,468.62,338.81,474.33]
[null,null,null,null,null,null,null,null,null,null,null,null,113,266.64,373.3,null,null,null,114,null,null,null,null,null,null,null,113,262.52999999999997,367.54,266.64,373.3,270.75,379.06,234.87,328.82,238.98,334.58,243.1,340.34,247.21,346.09,251.32,351.85,255.44,357.61,259.55,363.37,263.66000000000003,369.13,267.77999999999997,374.89,271.89,380.65,276,386.4,280.12,392.16,284.23,397.92,288.33999999999997,403.68,292.45999999999998,409.44,296.57,415.2,300.68,420.95,304.8,426.71,308.91000000000003,432.47,313.02,438.23,317.13,443.99,321.25,449.75,325.36,455.51,329.47,461.26,333.59,467.02,337.7,472.78,341.81,478.54]
[null,null,null,null,null,null,null,null,null,null,null,null,114,268.98,376.58,null,null,null,115,null,null,null,null,null,null,null,114,264.83999999999997,370.77,268.98,376.58,273.13,382.39,236.94,331.71,241.09,337.52,245.24,343.33,249.39,349.14,253.53,354.95,257.68,360.76,261.83,366.57,265.98,372.38,270.13,378.19,274.27999999999997,384,278.43,389.81,282.58,395.61,286.73,401.42,290.88,407.23,295.02999999999997,413.04,299.18,418.85,303.33,424.66,307.48,430.47,311.63,436.28,315.77999999999997,442.09,319.93,447.9,324.08,453.71,328.23,459.52,332.38,465.33,336.53,471.14,340.68,476.95,344.83,482.76]
[null,null,null,null,null,null,null,null,null,null,null,null,115,271.33,379.87,null,null,null,116,null,null,null,null,null,null,null,115,267.14999999999998,374.01,271.33,379.87,275.52,385.73,239.01,334.61,243.19,340.47,247.38,346.33,251.57,352.19,255.75,358.05,259.94,363.91,264.12,369.77,268.31,375.63,272.5,381.49,276.68,387.35,280.87,393.21,285.05,399.07,289.24,404.94,293.43,410.8,297.61,416.66,301.8,422.52,305.98,428.38,310.17,434.24,314.36,440.1,318.54000000000002,445.96,322.73,451.82,326.91000000000003,457.68,331.1,463.54,335.29,469.4,339.47,475.26,343.66,481.12,347.84,486.98]
[null,null,null,null,null,null,null,null,null,null,null,null,116,273.69,383.17,null,null,null,117,null,null,null,null,null,null,null,116,269.47000000000003,377.26,273.69,383.17,277.91000000000003,389.08,241.08,337.52,245.31,343.43,249.53,349.34,253.75,355.25,257.97000000000003,361.16,262.2,367.07,266.42,372.99,270.64,378.9,274.86,384.81,279.08999999999997,390.72,283.31,396.63,287.52999999999997,402.54,291.75,408.45,295.98,414.37,300.2,420.28,304.42,426.19,308.64,432.1,312.87,438.01,317.08999999999997,443.92,321.31,449.83,325.52999999999997,455.75,329.75,461.66,333.98,467.57,338.2,473.48,342.42,479.39,346.64,485.3,350.87,491.21]
[null,null,null,null,null,null,null,null,null,null,null,null,117,276.06,386.48,null,null,null,118,null,null,null,null,null,null,null,117,271.8,380.52,276.06,386.48,280.31,392.44,243.17,340.43,247.43,246.4,251.68,352.36,255.94,358.32,260.2,364.28,264.45999999999998,370.25,268.72000000000003,376.21,272.98,282.17,277.24,388.13,281.5,394.09,285.76,400.06,290.01,406.02,294.27,411.98,298.52999999999997,417.94,302.79000000000002,423.91,307.05,429.87,311.31,435.83,315.57,441.79,319.83,447.76,324.08,453.72,328.34,459.68,332.6,465.64,336.86,471.6,341.12,477.57,345.38,483.53,349.64,489.49,353.9,495.45]
[null,null,null,null,null,null,null,null,null,null,null,null,118,278.43,389.8,null,null,null,119,null,null,null,null,null,null,null,118,274.13,383.79,278.43,389.8,282.72000000000003,395.81,245.26,343.36,249.55,349.37,253.85,355.38,258.14,361.4,262.44,367.41,266.73,373.42,271.02999999999997,379.44,275.32,385.45,279.62,391.46,283.91000000000003,397.48,288.20999999999998,403.49,292.5,409.5,296.8,415.52,301.08999999999997,421.53,305.39,427.54,309.68,433.56,313.98,439.57,318.27,445.58,322.57,451.6,326.86,457.61,331.16,463.62,335.46,469.64,339.75,475.65,344.05,481.66,348.34,487.68,352.64,493.69,356.93,499.7]
[null,null,null,null,null,null,null,null,null,null,null,null,119,280.81,393.14,null,null,null,120,null,null,null,null,null,null,null,119,276.48,387.07,280.81,393.14,285.14,399.2,247.35,346.29,251.68,252.36,256.01,358.42,260.35000000000002,264.48,264.68,370.55,269.01,376.61,273.33999999999997,382.68,277.67,388.74,282,394.81,286.33999999999997,400.87,290.67,496.93,295,413,299.33,419.06,303.66000000000003,425.13,307.99,431.19,312.32,437.25,316.66000000000003,443.32,320.99,449.38,325.32,455.45,329.65,461.51,333.98,467.58,338.31,473.64,342.65,479.7,346.98,485.77,351.31,491.83,355.64,497.9,359.97,503.96]
[null,null,null,null,null,null,null,null,null,null,null,null,120,283.2,396.48,null,null,null,121,null,null,null,null,null,null,null,120,278.83,390.37,283.2,396.48,287.57,402.6,249.45,349.23,253.82,355.35,258.19,361.46,262.56,367.58,266.92,373.69,271.29000000000002,379.81,275.66000000000003,385.92,280.02999999999997,392.04,284.39999999999998,398.15,288.76,494.27,293.13,410.39,297.5,416.5,301.87,422.62,306.24,428.73,310.60000000000002,434.85,314.97000000000003,440.96,319.33999999999997,447.08,323.70999999999998,453.19,328.08,459.31,332.44,465.42,336.81,471.54,341.18,477.66,345.55,481.77,349.92,489.88,354.28,496,358.65,502.11,363.02,508.23]
[null,null,null,null,null,null,null,null,null,null,null,null,121,285.35000000000002,399.49,null,null,null,122,null,null,null,null,null,null,null,121,280.95,393.33,285.35000000000002,399.49,289.76,405.66,251.38,351.93,255.78,358.09,260.18,364.26,264.58999999999997,370.42,268.99,376.59,273.39999999999998,382.76,277.8,388.92,282.20999999999998,395.09,286.61,401.25,291.01,407.42,295.42,413.59,299.82,419.75,304.23,425.92,308.63,432.09,313.04000000000002,438.25,317.44,444.42,321.85000000000002,450.58,326.25,456.75,330.65,462.92,335.06,469.08,339.46,475.25,343.87,481.41,348.27,487.58,352.68,493.75,574.08000000000004,499.91,361.49,506.08,365.89,512.25]
[null,null,null,null,null,null,null,null,null,null,null,null,122,287.76,402.86,null,{"$f":"เปรียบเทียบราคา!$P$17","v":29.5},"(ราคาน้ำมัน กทม.)",123,null,null,null,null,null,null,null,122,283.32,396.64,287.76,402.86,292.2,409.08,253.49,354.88,257.93,361.1,262.37,367.32,266.81,373.53,271.25,379.75,275.69,385.97,280.13,392.18,284.57,398.4,289.01,404.62,293.45,410.84,297.89,417.05,302.33999999999997,423.27,306.77999999999997,429.49,311.22000000000003,435.7,315.66000000000003,441.92,320.10000000000002,448.14,324.54000000000002,454.35,328.98,460.57,333.42,466.79,337.86,473.01,342.3,479.22,346.74,485.44,351.18,491.66,355.62,497.87,360.07,504.09,364.51,510.31,368.95,516.53]
[null,null,null,null,null,null,null,null,null,null,null,null,123,290.17,406.24,null,{"$f":"HLOOKUP(Q130,$AB$6:$BY$8,3,FALSE)","v":9},null,124,null,null,null,null,null,null,null,123,285.69,399.97,290.17,406.24,294.64999999999998,412.5,255.6,357.85,260.08,364.11,264.56,370.38,269.04000000000002,376.65,273.51,382.92,277.99,389.19,282.47000000000003,395.45,286.94,401.72,291.42,407.99,295.89999999999998,414.26,300.38,420.53,304.85000000000002,426.8,309.33,433.06,313.81,439.33,318.29000000000002,445.6,322.76,451.87,327.24,458.14,331.72,464.4,336.19,470.67,340.67,476.94,345.15,483.21,349.63,489.48,354.1,495.74,358.58,502.01,363.06,508.28,367.53,514.54999999999995,372.01,520.82000000000005]
[null,null,null,null,null,null,null,null,null,null,null,null,124,292.58999999999997,409.63,null,{"$f":"HLOOKUP(Q131,$AB$8:$CI$209,S132,FALSE)","v":262.24},null,125,null,null,null,null,null,null,null,124,288.08,403.31,292.58999999999997,409.63,297.10000000000002,415.95,257.73,360.82,262.24,367.14,266.76,373.46,271.27,379.78,275.77999999999997,386.1,280.3,392.42,284.81,398.74,289.32,405.05,293.83999999999997,411.37,298.35000000000002,417.69,302.87,424.01,307.38,430.33,311.89,436.65,316.41000000000003,442.97,320.92,449.29,325.43,455.61,329.95,461.93,334.46,468.25,338.97,474.56,343.49,480.88,348,487.2,352.52,493.52,357.03,499.84,361.54,506.16,366.06,512.48,370.57,518.79999999999995,375.08,525.12]
[null,null,null,null,null,null,null,null,null,null,null,null,125,294.76,412.66,null,null,null,126,null,null,null,null,null,null,null,125,290.20999999999998,406.29,294.76,412.66,299.31,419.03,259.66000000000003,363.53,264.20999999999998,369.9,268.76,376.27,273.31,382.64,277.86,389.01,282.41000000000003,395.38,286.95999999999998,401.75,291.51,408.12,296.06,414.49,300.61,420.86,305.16000000000003,427.23,309.70999999999998,433.6,314.26,439.97,318.81,446.34,323.36,452.71,327.91,459.08,332.46,465.45,337.01,471.82,341.56,478.19,346.11,484.56,350.66,490.93,355.21,497.3,359.76,503.67,364.31,510.04,368.86,516.41,373.41,522.78,377.96,529.15]
[null,null,null,null,null,null,null,null,null,null,null,null,126,297.2,416.07,null,null,null,127,null,null,null,null,null,null,null,126,292.61,409.65,297.2,416.07,301.77999999999997,422.49,261.8,366.52,266.39,372.94,270.97000000000003,379.36,275.56,385.78,280.14999999999998,392.2,284.73,398.63,289.32,405.05,293.91000000000003,411.47,298.49,417.89,303.08,424.31,307.66000000000003,430.73,312.25,437.15,316.83999999999997,443.57,321.42,449.99,326.01,456.41,330.6,462.84,335.18,469.26,339.77,475.68,344.36,482.1,348.94,488.52,353.53,494.94,358.12,501.36,362.7,507.78,367.29,514.20000000000005,371.87,520.62,376.46,527.04,381.05,533.47]
[null,null,null,null,null,null,null,null,null,null,null,null,127,299.64,419.5,null,null,null,128,null,null,null,null,null,null,null,127,295.02,413.03,299.64,419.5,304.26,425.97,263.94,369.52,268.57,375.99,273.19,382.47,277.81,388.94,282.44,395.41,287.06,401.88,291.68,408.35,296.3,414.83,300.93,421.3,305.55,427.77,310.17,434.24,314.79000000000002,440.71,319.42,447.18,324.04000000000002,453.66,328.66,460.13,333.29,466.6,337.91,473.07,342.53,479.54,347.15,486.02,351.78,492.49,356.4,498.96,361.02,505.43,365.65,511.9,370.27,518.38,374.89,524.85,379.51,531.32000000000005,384.14,537.79]
[null,null,null,null,null,null,null,null,null,null,null,null,128,301.82,422.55,null,null,null,129,null,null,null,null,null,null,null,128,297.16000000000003,416.03,301.82,422.55,306.48,429.07,265.89,372.24,270.55,378.77,275.20999999999998,385.29,279.87,391.81,284.52999999999997,398.34,289.18,404.86,293.83999999999997,411.38,298.5,417.9,303.16000000000003,424.43,307.82,430.95,312.48,437.47,317.14,444,321.8,450.52,326.45999999999998,457.04,331.12,463.56,335.78,470.09,340.44,476.61,345.09,483.13,349.75,489.66,354.41,496.18,359.07,502.7,363.73,509.22,368.39,515.75,373.05,522.27,377.71,528.79,382.37,535.32000000000005,387.03,541.84]
[null,null,null,null,null,null,null,null,null,null,null,null,129,304.27999999999997,426,null,null,null,130,null,null,null,null,null,null,null,129,299.58999999999997,419.42,304.27999999999997,426,308.98,432.57,268.04000000000002,375.26,272.74,381.84,277.43,388.41,282.13,394.98,286.83,401.56,291.52,408.13,296.22000000000003,414.7,300.91000000000003,421.28,305.61,427.85,310.3,434.43,315,441,319.7,447.57,324.39,454.15,329.09,460.72,333.78,467.29,338.48,473.87,343.17,480.44,347.87,487.02,352.56,493.59,357.26,500.16,361.96,506.74,366.65,513.30999999999995,371.35,519.89,376.04,526.46,380.74,533.03,385.43,539.61,390.13,546.17999999999995]
[null,null,null,null,null,null,null,null,null,null,null,null,{"$f":"M137+1","v":130},{"$f":"HLOOKUP($N$8,$AB$8:$CI$209,S138,FALSE)","v":306.76},{"$f":"HLOOKUP($O$8,$AB$8:$CI$209,S138,FALSE)","v":429.46},null,null,null,131,null,null,null,null,null,null,null,130,302.02999999999997,422.84,306.76,429.46,311.49,436.08,270.20999999999998,378.29,274.94,384.91,279.67,391.54,284.39999999999998,398.16,289.14,404.79,293.87,411.41,298.60000000000002,418.04,303.33,424.66,308.06,431.29,312.8,437.91,317.52999999999997,444.54,322.26,451.16,326.99,457.79,331.72,464.41,336.46,471.04,341.19,477.66,345.92,484.29,350.65,490.91,355.38,497.54,360.12,504.16,364.85,510.79,369.58,517.41,374.31,524.04,379.04,530.66,383.78,537.29,388.51,543.91,393.24,550.53]
[null,null,null,null,null,null,null,null,null,null,null,null,131,308.95,432.53,null,null,null,132,null,null,null,null,null,null,null,131,304.18,425.86,308.95,432.53,313.72000000000003,439.21,272.16000000000003,381.03,276.93,387.7,281.7,394.38,286.47000000000003,401.05,291.24,407.73,296,414.4,300.77,421.08,305.54000000000002,427.76,310.31,434.43,315.08,441.11,319.85000000000002,447.78,324.61,454.46,329.38,461.14,334.15,467.81,338.92,474.49,343.69,481.16,348.46,487.84,353.22,494.51,357.99,501.19,362.76,507.87,367.53,514.54,372.3,521.22,377.07,527.89,381.83,534.57000000000005,386.6,541.24,391.37,547.91999999999996,396.14,554.6]
[null,null,null,null,null,null,null,null,null,null,null,null,132,311.44,436.02,null,null,null,133,null,null,null,null,null,null,null,132,306.64,429.29,311.44,436.02,316.25,442.74,274.33999999999997,384.07,279.14,390.8,283.95,397.53,288.75,404.25,293.56,410.98,298.36,417.71,303.17,424.43,307.97000000000003,431.16,312.77999999999997,437.89,317.58,444.61,322.39,451.34,327.19,458.07,331.99,464.79,336.8,471.52,341.6,478.25,346.41,484.97,351.21,491.7,356.02,498.43,360.82,505.15,365.63,511.88,370.43,518.61,375.24,525.33000000000004,380.04,532.05999999999995,384.85,538.79,389.65,545.51,394.46,552.24,399.26,558.97]
[null,null,null,null,null,null,null,null,null,null,null,null,133,313.64,439.1,null,null,null,134,null,null,null,null,null,null,null,133,308.8,432.32,313.64,439.1,318.48,445.88,276.3,386.82,281.14,393.6,285.98,400.37,290.82,407.15,295.66000000000003,413.93,300.5,420.71,305.35000000000002,427.48,310.19,434.26,315.02999999999997,441.04,319.87,447.82,324.70999999999998,454.59,329.55,461.37,334.39,468.15,339.23,474.93,344.07,481.7,348.92,488.48,353.76,495.26,358.6,502.04,363.44,508.82,368.28,515.59,373.12,522.37,377.96,529.15,382.8,535.92999999999995,387.65,542.70000000000005,392.49,549.48,397.33,556.26,402.17,563.04]
[null,null,null,null,null,null,null,null,null,null,null,null,134,316.14999999999998,442.61,null,null,null,135,null,null,null,null,null,null,null,134,311.27,435.78,316.14999999999998,442.61,321.02999999999997,449.44,278.49,389.88,283.36,396.71,288.24,403.54,293.12,410.37,298,417.2,302.88,424.03,307.75,430.85,312.63,437.68,317.51,444.51,322.39,451.34,327.26,458.17,332.14,465,337.02,471.83,341.9,478.65,346.77,485.48,351.65,492.31,356.53,499.14,361.41,505.97,366.28,512.79999999999995,371.16,519.63,376.04,526.45000000000005,380.92,533.28,385.79,540.11,390.67,546.94000000000005,395.55,553.77,400.43,560.6,405.3,567.42999999999995]
[null,null,null,null,null,null,null,null,null,null,null,null,135,318.36,445.71,null,null,null,136,null,null,null,null,null,null,null,135,313.45,438.83,318.36,445.71,323.27999999999997,452.59,280.45,392.64,285.37,399.52,290.27999999999997,406.4,295.2,413.28,300.11,420.16,305.02,427.03,309.94,433.91,314.85000000000002,440.79,319.77,447.67,324.68,454.55,329.59,461.43,334.51,468.31,339.42,475.19,344.34,482.07,349.25,488.95,354.16,495.83,359.08,502.71,363.99,509.59,368.91,516.47,373.82,523.35,378.73,530.23,383.65,537.11,388.56,543.99,393.48,550.87,398.39,557.75,403.3,564.63,408.22,571.51]
[null,null,null,null,null,null,null,null,null,null,null,null,136,320.58,448.81,null,null,null,137,null,null,null,null,null,null,null,136,315.63,441.88,320.58,448.81,325.52999999999997,455.74,282.42,395.39,287.37,402.32,292.33,409.26,297.27999999999997,416.19,302.23,423.12,307.18,430.05,312.13,436.98,317.08,443.91,322.02999999999997,450.84,326.98,457.77,331.93,464.7,336.88,471.63,341.83,478.56,346.78,485.49,351.73,492.42,356.68,499.35,361.63,506.28,366.58,513.21,371.53,520.14,376.48,527.08000000000004,381.43,534.01,386.38,540.94000000000005,391.33,547.87,396.28,554.79999999999995,401.23,561.73,406.18,568.66,411.13,575.59]
[null,null,null,null,null,null,null,null,null,null,null,null,137,323.11,452.35,null,null,null,138,null,null,null,null,null,null,null,137,318.12,445.37,323.11,452.35,328.1,459.33,284.63,398.48,289.62,405.47,294.61,412.45,299.58999999999997,419.43,304.58,426.41,309.57,433.39,314.55,440.37,319.54000000000002,447.36,324.52999999999997,454.34,329.51,461.32,334.5,468.3,339.49,475.28,344.47,482.26,349.46,489.24,354.45,496.23,359.43,503.21,364.42,510.19,369.41,517.16999999999996,374.39,524.15,379.38,531.13,384.37,538.12,389.35,545.1,394.34,552.08000000000004,399.33,559.05999999999995,404.32,566.04,409.3,573.02,414.29,580]
[null,null,null,null,null,null,null,null,null,null,null,null,138,325.33,455.47,null,null,null,139,null,null,null,null,null,null,null,138,320.31,448.43,325.33,455.47,330.36,462.5,286.61,401.25,291.63,408.29,296.66000000000003,415.32,301.68,422.35,306.7,429.38,311.73,436.42,316.75,443.45,321.77,450.48,326.79000000000002,457.51,331.82,464.54,336.84,471.58,341.86,478.61,346.89,485.64,351.91,492.67,356.93,499.71,361.96,506.74,366.98,513.77,372,520.79999999999995,377.03,527.84,382.05,534.87,387.07,541.9,392.1,548.92999999999995,397.12,555.97,402.14,563,407.17,570.03,412.19,577.05999999999995,417.21,584.1]
[null,null,null,null,null,null,null,null,null,null,null,null,139,327.88,459.04,null,null,null,140,null,null,null,null,null,null,null,139,322.82,451.95,327.88,459.04,332.94,466.12,288.83,404.36,293.89,411.45,298.95,418.53,304.01,425.61,309.07,432.7,314.13,439.78,319.19,446.86,324.25,453.95,329.31,461.03,334.37,468.11,339.43,475.2,344.49,482.28,349.55,489.36,354.61,496.45,359.67,503.53,364.73,510.62,369.78,517.70000000000005,374.84,524.78,379.9,531.87,384.96,538.95000000000005,390.02,546.03,395.08,553.12,400.14,560.20000000000005,405.2,567.28,410.26,574.37,415.32,581.45000000000005,420.38,588.53]
[null,null,null,null,null,null,null,null,null,null,null,null,140,330.12,462.17,null,null,null,141,null,null,null,null,null,null,null,140,325.02,455.03,330.12,462.17,335.21,469.3,290.82,407.14,295.91000000000003,414.28,301.01,421.41,306.10000000000002,428.54,311.2,435.68,316.3,442.81,321.39,449.95,326.49,457.08,331.58,464.22,336.68,471.35,341.78,478.49,346.87,485.62,351.97,492.75,357.06,499.89,362.16,507.02,367.26,514.16,372.35,521.29,377.45,528.42999999999995,382.54,535.55999999999995,387.64,542.70000000000005,392.74,549.83000000000004,397.83,556.96,402.93,564.1,408.02,571.23,413.12,578.37,418.22,585.5,423.31,592.64]
[null,null,null,null,null,null,null,null,null,null,null,null,141,332.36,465.3,null,null,null,142,null,null,null,null,null,null,null,141,327.22000000000003,458.11,332.36,465.3,337.49,472.48,292.8,409.92,297.93,417.11,303.07,424.29,308.2,431.48,313.33,438.66,318.45999999999998,445.85,323.60000000000002,453.04,328.73,460.22,333.86,467.41,338.99,474.59,344.13,481.78,349.26,488.96,354.39,496.15,359.52,503.33,364.66,510.52,369.79,517.70000000000005,374.92,524.89,380.05,532.07000000000005,385.19,539.26,390.32,546.45000000000005,395.45,553.63,400.58,560.82000000000005,405.72,568,410.85,575.19000000000005,415.98,582.37,421.11,589.55999999999995,426.24,596.74]
[null,null,null,null,null,null,null,null,null,null,null,null,142,334.93,468.91,null,null,null,143,null,null,null,null,null,null,null,142,329.77,461.67,334.93,468.91,340.1,476.14,295.05,413.06,300.20999999999998,420.3,305.38,427.54,310.55,434.77,315.72000000000003,442.01,320.89,449.24,326.06,456.48,331.23,463.72,336.4,470.95,341.56,478.19,346.73,485.43,351.9,492.66,357.07,499.9,362.24,507.14,367.41,514.37,372.58,521.61,377.75,528.84,382.91,536.08000000000004,388.08,543.32000000000005,393.25,550.54999999999995,398.42,557.79,403.59,565.03,408.76,572.26,413.93,579.5,419.1,586.73,424.27,593.97,429.43,601.21]
[null,null,null,null,null,null,null,null,null,null,null,null,143,337.18,472.06,null,null,null,144,null,null,null,null,null,null,null,143,331.98,464.77,337.18,472.06,342.39,479.34,297.04000000000002,415.86,302.25,423.14,307.45,430.43,312.66000000000003,437.72,317.86,445.01,323.07,452.29,328.27,459.58,333.48,466.87,338.68,474.15,343.89,481.44,349.09,488.73,354.3,496.02,359.5,503.3,364.71,510.59,369.91,517.88,375.12,525.16999999999996,380.32,532.45000000000005,385.53,539.74,390.73,547.03,395.94,554.30999999999995,401.14,561.6,406.35,568.89,411.55,576.17999999999995,416.76,583.46,421.96,590.75,427.17,598.04,432.38,605.33000000000004]
[null,null,null,null,null,null,null,null,null,null,null,null,144,339.43,475.21,null,null,null,145,null,null,null,null,null,null,null,144,334.19,467.87,339.43,475.21,344.68,482.55,299.04000000000002,418.65,304.27999999999997,425.99,309.52,433.33,314.76,440.67,320,448.01,325.25,455.34,330.49,462.68,335.73,470.02,340.97,477.36,346.21,484.7,351.45,492.04,356.7,499.37,361.94,506.71,367.18,514.04999999999995,372.42,521.39,377.66,528.73,382.9,536.05999999999995,388.14,543.4,393.39,550.74,398.63,558.08000000000004,403.87,565.41999999999996,409.11,572.76,414.35,580.09,419.59,587.42999999999995,424.84,594.77,430.08,602.11,435.32,609.45000000000005]
[null,null,null,null,null,null,null,null,null,null,null,null,145,342.04,478.86,null,null,null,146,null,null,null,null,null,null,null,145,336.76,471.47,342.04,478.86,347.32,486.25,301.3,421.82,306.58,429.21,311.86,436.6,317.14,443.99,322.41000000000003,451.38,327.69,458.77,332.97,466.16,338.25,473.55,343.53,480.94,348.8,488.33,354.08,495.72,359.36,503.1,364.64,510.49,369.92,517.88,375.19,525.27,380.47,532.66,385.75,540.04999999999995,391.03,547.44000000000005,396.31,554.83000000000004,401.58,562.22,406.86,569.61,412.14,577,417.42,584.39,422.7,591.77,427.97,599.16,433.25,606.54999999999995,438.53,613.95000000000005]
[null,null,null,null,null,null,null,null,null,null,null,null,146,344.31,482.03,null,null,null,147,null,null,null,null,null,null,null,146,338.99,474.59,344.31,482.03,349.62,489.47,303.31,424.63,308.62,432.07,313.94,439.51,319.25,446.95,324.57,454.39,329.88,461.83,335.19,469.27,340.51,476.71,345.82,484.15,351.14,491.59,356.45,499.03,361.77,506.47,367.08,513.91,372.4,521.35,377.71,528.79,383.02,536.23,388.34,543.66999999999996,393.65,551.11,398.97,558.54999999999995,404.28,565.99,409.6,573.44000000000005,414.91,580.88,420.23,588.32000000000005,425.54,595.76,430.85,603.20000000000005,436.17,610.64,441.48,618.08000000000004]
[null,null,null,null,null,null,null,null,null,null,null,null,147,346.57,485.2,null,null,null,148,null,null,null,null,null,null,null,147,341.22,477.71,346.57,485.2,351.92,492.69,305.32,427.44,310.67,434.94,316.02,442.43,321.37,449.92,326.72000000000003,457.41,332.07,464.9,337.42,472.39,342.77,479.88,348.12,487.37,353.47,494.86,358.83,502.36,364.18,509.85,369.53,517.34,374.88,524.83000000000004,380.23,532.32000000000005,385.58,539.80999999999995,390.93,547.29999999999995,396.28,554.79,401.63,562.28,406.98,569.78,412.33,577.27,417.68,584.76,423.04,592.25,428.39,599.74,433.74,607.23,439.09,614.72,444.44,622.21]
[null,null,null,null,null,null,null,null,null,null,null,null,148,348.84,488.38,null,null,null,149,null,null,null,null,null,null,null,148,343.46,480.84,348.84,488.38,354.23,495.92,307.33,430.26,312.72000000000003,437.8,318.10000000000002,445.35,323.49,452.89,328.88,460.43,334.27,467.97,339.65,475.51,345.04,483.06,350.43,490.6,355.81,498.14,361.2,505.68,366.59,513.22,371.98,520.77,377.36,528.30999999999995,382.75,535.85,388.14,543.39,393.52,550.92999999999995,398.91,558.48,404.3,566.02,409.69,573.55999999999995,415.07,581.1,420.46,588.65,425.85,596.19000000000005,431.24,603.73,436.62,611.27,442.01,618.80999999999995,447.4,626.36]
[null,null,null,null,null,null,null,null,null,null,null,null,149,351.12,491.57,null,null,null,150,null,null,null,null,null,null,null,149,345.7,483.97,351.12,491.57,356.54,499.16,309.33999999999997,433.08,314.77,440.68,320.19,448.27,325.62,455.86,331.04,463.45,336.46,471.05,341.89,478.64,347.31,486.23,352.73,493.83,358.16,501.42,363.58,509.01,369,516.61,374.43,524.20000000000005,379.85,531.79,385.28,539.39,390.7,546.98,396.12,554.57000000000005,401.55,562.16,406.97,569.76,412.39,577.35,417.82,584.94000000000005,423.24,592.54,428.66,600.13,343.09,607.72,439.51,615.32000000000005,444.93,622.91,450.36,630.5]
[null,null,null,null,null,null,null,null,null,null,null,null,150,353.77,495.28,null,null,null,151,null,null,null,null,null,null,null,150,348.31,487.64,353.77,495.28,359.23,502.93,311.64,436.3,317.10000000000002,443.95,322.56,451.59,328.02,459.23,333.48,466.88,338.94,474.52,344.4,482.17,349.86,489.81,355.32,497.45,360.78,505.1,366.24,512.74,371.7,520.39,377.16,528.03,382.62,535.66999999999996,388.08,543.32000000000005,393.54,550.96,399,558.61,404.46,566.25,409.92,573.89,415.38,581.54,420.84,589.17999999999995,426.3,596.83000000000004,431.76,604.47,437.22,612.11,442.68,619.76,448.14,627.4,453.6,635.04999999999995]
[null,null,null,null,null,null,null,null,null,null,null,null,151,356.06,498.49,null,null,null,152,null,null,null,null,null,null,null,151,352.82,490.79,356.06,498.49,361.56,506.18,313.67,439.14,319.17,446.83,324.66000000000003,454.53,330.16,462.22,335.65,469.92,341.15,477.61,346.65,485.31,352.14,493,357.64,500.7,363.14,508.39,368.63,516.09,374.13,523.78,379.63,531.48,385.12,539.16999999999996,390.62,546.87,396.12,554.55999999999995,401.61,562.26,407.11,569.95000000000005,412.6,577.65,418.1,585.34,423.6,593.04,429.09,600.73,434.59,608.42999999999995,440.09,616.12,445.58,623.82000000000005,451.08,631.51,456.58,639.21]
[null,null,null,null,null,null,null,null,null,null,null,null,152,358.35,501.69,null,null,null,153,null,null,null,null,null,null,null,152,355.08,493.95,358.35,501.69,363.89,509.44,315.7,441.98,321.23,449.72,326.76,457.47,332.3,465.21,337.83,472.96,343.36,480.71,348.89,488.45,354.43,496.2,359.96,503.94,365.49,511.69,371.02,519.42999999999995,376.56,527.17999999999995,382.09,534.92999999999995,387.62,542.66999999999996,393.16,550.41999999999996,398.69,558.16,404.22,565.91,409.75,573.66,415.29,581.4,420.82,589.15,426.35,596.89,431.89,604.64,437.42,612.39,442.95,620.13,448.48,627.88,454.02,635.62,459.55,643.37]
[null,null,null,null,null,null,null,null,null,null,null,null,153,360.65,504.91,null,null,null,154,null,null,null,null,null,null,null,153,357.34,497.11,360.65,504.91,366.22,512.71,317.73,444.82,323.3,452.62,328.87,460.41,334.44,468.21,340,476.01,345.57,483.8,351.14,491.6,356.71,499.4,362.28,507.19,367.85,514.99,373.42,522.79,378.99,530.58000000000004,384.56,538.38,390.13,546.17999999999995,395.7,553.98,401.27,561.77,406.83,569.57000000000005,412.4,577.37,417.97,585.16,423.54,592.96,429.11,600.76,434.68,608.54999999999995,440.25,616.35,445.82,624.15,451.94,631.94000000000005,456.96,639.74,462.53,647.54]
[null,null,null,null,null,null,null,null,null,null,null,null,154,362.95,508.13,null,null,null,155,null,null,null,null,null,null,null,154,359.61,500.28,362.95,508.13,368.56,515.98,319.76,447.67,325.37,455.51,330.97,463.36,336.58,471.21,342.18,479.06,347.79,486.91,353.4,494.75,359,502.6,364.61,510.45,370.21,518.29999999999995,375.82,526.15,381.42,533.99,387.03,541.84,392.63,549.69000000000005,398.24,557.54,403.85,565.38,409.45,573.23,415.06,581.08000000000004,420.66,588.92999999999995,426.27,596.78,431.87,604.62,437.48,612.47,443.09,620.32000000000005,448.69,628.16999999999996,454.3,636.01,459.9,643.86,465.51,651.71]
[null,null,null,null,null,null,null,null,null,null,null,null,155,365.26,511.36,null,null,null,156,null,null,null,null,null,null,null,155,361.89,503.46,365.26,511.36,370.9,519.26,321.8,450.52,327.44,458.42,333.08,466.32,338.73,474.22,344.37,482.11,350.01,490.01,355.65,497.91,361.29,505.81,366.94,513.71,372.58,521.61,378.22,529.51,383.86,537.41,389.5,545.29999999999995,395.15,553.20000000000005,400.79,561.1,406.43,569,412.07,576.9,417.71,584.79999999999995,423.36,592.70000000000005,429,600.6,434.64,608.5,440.28,616.39,445.92,624.29,451.57,632.19000000000005,457.21,640.09,462.85,647.99,468.49,655.89]
[null,null,null,null,null,null,null,null,null,null,null,null,156,367.57,514.59,null,null,null,157,null,null,null,null,null,null,null,156,362.61,506.64,367.57,514.59,373.24,522.54,323.83999999999997,453.38,329.52,461.33,335.2,469.28,340.88,477.23,346.55,485.18,352.23,493.13,357.91,501.08,363.59,509.03,369.27,516.97,374.95,524.91999999999996,380.62,532.87,386.3,540.82000000000005,391.98,548.77,397.66,556.72,403.34,564.66999999999996,409.02,572.62,414.7,580.57000000000005,420.37,588.52,426.05,596.47,431.73,604.41999999999996,437.41,612.37,443.09,620.32000000000005,448.77,628.27,454.44,636.22,460.12,644.16999999999996,465.8,652.12,471.48,660.07]
[null,null,null,null,null,null,null,null,null,null,null,null,157,369.88,517.83000000000004,null,null,null,158,null,null,null,null,null,null,null,157,364.16,509.83,369.88,517.83000000000004,375.59,525.83000000000004,325.89,456.24,331.6,464.24,337.31,472.24,343.03,480.24,348.74,488.24,354.46,496.24,360.17,504.24,365.89,512.24,371.6,520.25,377.32,528.25,383.03,536.25,388.75,544.25,394.46,552.25,400.18,560.25,405.89,568.25,411.61,576.25,417.32,584.25,423.04,592.25,428.75,600.25,434.47,608.25,440.18,616.25,445.9,624.25,451.61,632.26,457.33,640.26,463.04,648.26,468.76,656.26,474.47,664.26]
[null,null,null,null,null,null,null,null,null,null,null,null,158,372.62,521.66,null,null,null,159,null,null,null,null,null,null,null,158,366.86,513.61,372.62,521.66,378.37,529.71,328.25,459.54,334,467.6,339.75,475.65,345.5,483.7,351.25,491.75,357,499.8,362.75,507.85,368.5,515.91,374.26,523.96,380.01,532.01,385.76,540.05999999999995,391.51,548.11,397.26,556.16,403.01,564.22,408.76,572.27,414.51,580.32000000000005,420.27,588.37,426.02,596.41999999999996,431.77,604.47,437.52,612.53,443.27,620.58000000000004,449.02,628.63,454.77,636.67999999999995,460.52,644.73,466.27,652.78,472.03,660.84,477.78,668.89]
[null,null,null,null,null,null,null,null,null,null,null,null,159,374.94,524.91999999999996,null,null,null,160,null,null,null,null,null,null,null,159,369.16,516.82000000000005,374.94,524.91999999999996,380.73,533.02,330.3,462.42,336.09,470.52,341.88,478.63,347.66,486.73,353.45,494.83,359.24,502.94,365.03,511.04,370.81,519.14,376.6,527.24,382.39,535.35,388.18,543.45000000000005,393.96,551.54999999999995,399.75,559.65,405.54,567.76,411.33,575.86,417.12,583.96,422.9,592.05999999999995,428.69,600.16999999999996,434.48,608.27,440.27,616.37,446.05,624.47,451.84,632.58000000000004,457.63,640.67999999999995,463.42,648.78,469.2,656.89,474.99,664.99,480.78,673.09]
[null,null,null,null,null,null,null,null,null,null,null,null,160,377.28,528.19000000000005,null,null,null,161,null,null,null,null,null,null,null,160,371.45,520.04,377.28,528.19000000000005,383.1,536.34,332.36,465.3,338.18,473.46,344.01,481.61,349.83,489.77,355.66,497.92,361.48,506.07,367.3,514.23,373.13,522.38,378.95,530.53,384.78,538.69000000000005,390.6,546.84,396.42,554.99,402.25,563.15,408.07,571.29999999999995,413.9,579.46,419.72,587.61,425.54,595.76,431.37,603.91999999999996,437.19,612.07000000000005,443.02,620.22,448.84,628.38,454.66,636.53,460.49,644.67999999999995,466.31,652.84,472.14,660.99,477.96,669.14,483.78,677.3]
[null,null,null,null,null,null,null,null,null,null,null,null,161,379.62,531.46,null,null,null,162,null,null,null,null,null,null,null,161,373.76,523.26,379.62,531.46,385.48,539.66999999999996,334.42,468.19,340.28,476.4,346.14,484.6,352,492.81,357.87,501.01,363.73,509.22,369.59,517.41999999999996,375.45,525.63,381.31,533.83000000000004,387.17,542.03,393.03,550.24,398.89,558.44000000000005,404.75,566.65,410.61,574.85,416.47,583.05999999999995,422.33,591.26,428.19,599.47,434.05,607.66999999999996,439.91,615.88,445.77,624.08000000000004,451.63,632.28,457.49,640.49,463.35,648.69000000000005,469.21,656.9,475.07,665.1,480.93,673.31,486.79,681.51]
[null,null,null,null,null,null,null,null,null,null,null,null,{"$f":"M169+1","v":162},381.96,534.75,null,null,null,163,null,null,null,null,null,null,null,162,376.06,526.49,381.96,534.75,387.86,543,336.49,471.09,342.39,479.34,348.28,487.6,354.18,495.85,360.08,504.11,365.97,512.36,371.87,520.62,377.77,528.88,383.67,537.13,389.56,545.39,395.46,553.64,401.36,561.9,407.25,570.15,413.15,578.41,419.05,586.66,424.94,594.91999999999996,430.84,603.17999999999995,436.74,611.42999999999995,442.63,619.69000000000005,448.53,627.94000000000005,454.43,636.20000000000005,460.32,644.45000000000005,466.22,652.71,472.12,660.96,478.01,669.22,483.91,677.47,489.81,685.73]
[null,null,null,null,null,null,null,null,null,null,null,null,163,384.31,538.04,null,null,null,164,null,null,null,null,null,null,null,163,378.38,529.73,384.31,538.04,390.24,546.34,338.56,473.99,344.49,482.29,350.43,490.6,356.36,498.91,362.29,507.21,368.23,515.52,374.16,523.83000000000004,380.09,532.13,386.03,540.44000000000005,391.96,548.74,397.89,557.04999999999995,403.83,565.36,409.76,573.66,415.69,581.97,421.63,590.28,427.56,598.58000000000004,433.49,606.89,439.43,615.20000000000005,445.36,623.5,451.29,631.80999999999995,457.23,640.12,463.16,648.41999999999996,469.09,656.73,475.03,665.04,480.96,673.34,486.89,681.65,492.82,689.95]
[null,null,null,null,null,null,null,null,null,null,null,null,164,386.67,541.33000000000004,null,null,null,165,null,null,null,null,null,null,null,164,380.7,532.98,386.67,541.33000000000004,392.64,549.69000000000005,340.64,476.89,346.61,485.25,352.58,493.61,358.55,501.96,364.52,510.32,370.48,518.67999999999995,376.45,527.04,382.42,535.39,388.39,543.75,394.36,552.11,400.33,560.47,406.3,568.82000000000005,412.27,577.17999999999995,418.24,585.54,424.21,593.9,430.18,602.25,436.15,610.61,442.12,618.97,448.09,627.33000000000004,454.06,635.67999999999995,460.03,644.04,466,652.4,471.97,660.75,477.94,669.11,483.91,677.47,489.88,685.83,495.85,694.18]
[null,null,null,null,null,null,null,null,null,null,null,null,165,389.03,544.64,null,null,null,166,null,null,null,null,null,null,null,165,383.02,536.23,389.03,544.64,395.03,553.04999999999995,342.72,479.8,348.72,488.21,354.73,496.62,360.73,505.03,366.74,513.44000000000005,372.75,521.84,378.75,530.25,384.76,538.66,390.76,547.07000000000005,396.77,555.48,402.78,563.89,408.78,572.29,414.79,580.70000000000005,420.79,589.11,426.8,597.52,432.81,605.92999999999995,438.81,614.34,444.82,622.74,450.82,631.15,456.83,639.55999999999995,462.84,647.97,468.84,656.38,474.85,664.79,480.85,673.2,486.86,681.6,492.87,690.01,498.87,698.42]
[null,null,null,null,null,null,null,null,null,null,null,null,166,391.39,547.95000000000005,null,null,null,167,null,null,null,null,null,null,null,166,385.35,539.49,391.39,547.95000000000005,397.44,556.41,344.8,482.72,350.84,491.18,356.88,499.64,362.93,508.1,368.97,516.55999999999995,375.01,525.02,381.05,533.47,387.1,541.92999999999995,393.14,550.39,399.18,558.85,405.22,567.30999999999995,411.27,575.77,417.31,584.23,423.35,592.69000000000005,429.39,601.15,435.44,609.61,441.48,618.07000000000005,447.52,626.53,453.56,634.99,459.6,643.45000000000005,465.65,651.91,471.69,660.37,477.73,668.82,483.77,677.28,489.82,685.74,495.86,694.2,501.9,702.66]
[null,null,null,null,null,null,null,null,null,null,null,null,167,393.76,551.27,null,null,null,168,null,null,null,null,null,null,null,167,387.69,542.76,393.76,551.27,399.84,559.78,346.89,485.64,352.97,494.15,359.04,502.66,365.12,511.17,371.2,519.67999999999995,377.28,528.19000000000005,383.36,536.70000000000005,389.44,545.21,395.52,553.72,401.6,562.23,407.67,570.74,413.75,579.25,419.83,587.77,425.91,596.28,431.99,604.79,438.07,613.29999999999995,444.15,621.80999999999995,450.23,630.32000000000005,456.31,638.83000000000004,462.38,647.34,468.46,655.85,474.54,664.36,480.62,672.87,486.7,681.38,492.78,689.89,498.86,698.4,504.94,706.91]
[null,null,null,null,null,null,null,null,null,null,null,null,168,396.14,554.6,null,null,null,169,null,null,null,null,null,null,null,168,390.03,546.04,396.14,554.6,402.26,563.16,348.98,488.57,355.09,497.13,361.21,505.69,367.32,514.25,373.44,522.82000000000005,379.55,531.38,385.67,539.94000000000005,391.79,548.5,397.9,557.05999999999995,404.02,565.62,410.13,574.17999999999995,416.25,582.74,422.36,591.30999999999995,428.48,599.87,434.59,608.42999999999995,440.71,616.99,446.82,625.54999999999995,452.94,634.11,459.05,642.66999999999996,465.17,651.23,471.28,659.8,477.4,668.36,483.51,676.92,489.63,685.48,495.74,694.04,501.86,702.6,507.97,711.16]
[null,null,null,null,null,null,null,null,null,null,null,null,169,398.05,557.27,null,null,null,170,null,null,null,null,null,null,null,169,391.9,548.66,398.05,557.27,404.2,565.88,350.72,491.01,356.87,499.62,363.02,508.23,369.17,516.84,375.32,525.45000000000005,381.48,534.07000000000005,387.63,542.67999999999995,393.78,551.29,399.93,559.9,406.08,568.52,412.23,577.13,418.39,585.74,424.54,594.35,430.69,602.96,436.84,611.58000000000004,442.99,620.19000000000005,449.14,628.79999999999995,455.3,637.41,461.45,646.03,467.6,654.64,473.75,663.25,479.9,671.86,486.05,680.47,492.2,689.09,498.36,697.7,504.51,706.31,510.66,714.92]
[null,null,null,null,null,null,null,null,null,null,null,null,170,400.43,560.61,null,null,null,171,null,null,null,null,null,null,null,170,394.25,551.94000000000005,400.43,560.61,406.62,569.27,352.81,493.94,359,502.6,365.19,511.27,371.38,519.92999999999995,377.57,528.59,383.75,537.26,389.94,545.91999999999996,396.13,554.58000000000004,402.32,563.25,408.51,571.91,414.69,580.57000000000005,420.88,589.24,427.07,597.9,433.26,606.55999999999995,439.45,615.22,445.63,623.89,451.82,632.54999999999995,458.01,641.21,464.2,649.88,470.39,658.54,476.57,667.2,482.76,675.87,488.95,684.53,495.14,693.19,501.33,701.86,507.51,710.52,513.70000000000005,719.18]
[null,null,null,null,null,null,null,null,null,null,null,null,171,402.82,563.95000000000005,null,null,null,172,null,null,null,null,null,null,null,171,396.6,555.24,402.82,563.95000000000005,409.05,572.66999999999996,354.92,496.88,361.14,505.6,367.36,514.30999999999995,373.59,523.02,379.81,531.74,386.04,540.45000000000005,392.26,549.16999999999996,398.49,557.88,404.71,566.59,410.93,575.30999999999995,417.16,584.02,423.38,592.74,429.61,601.45000000000005,435.83,610.16999999999996,442.06,618.88,448.28,627.59,454.51,636.30999999999995,460.73,645.02,466.95,653.74,473.18,662.45,479.4,671.16,485.63,679.88,491.85,688.59,498.08,697.31,504.3,706.02,510.53,714.74,516.75,723.45]
[null,null,null,null,null,null,null,null,null,null,null,null,172,405.22,567.30999999999995,null,null,null,173,null,null,null,null,null,null,null,172,398.96,558.54,405.22,567.30999999999995,411.48,576.07000000000005,357.02,499.83,363.28,508.59,369.54,517.36,375.8,526.12,382.06,534.89,388.32,543.65,394.59,552.41999999999996,400.85,561.17999999999995,407.11,569.95000000000005,413.37,578.72,419.63,587.48,425.89,596.25,432.15,605.01,438.41,613.78,444.67,622.54,450.93,631.30999999999995,457.19,640.07000000000005,463.45,648.84,469.72,657.6,475.98,666.37,482.24,675.13,488.5,683.9,494.76,692.66,501.02,701.43,507.28,710.19,513.54,718.96,519.79999999999995,727.72]
[null,null,null,null,null,null,null,null,null,null,null,null,173,407.62,570.66999999999996,null,null,null,174,null,null,null,null,null,null,null,173,401.32,561.85,407.62,570.66999999999996,413.92,579.48,359.13,502.78,365.43,511.6,371.73,520.41999999999996,378.02,529.23,384.32,538.04999999999995,390.62,546.86,396.91,555.67999999999995,403.21,564.5,409.51,573.30999999999995,415.81,582.13,422.1,590.94000000000005,428.4,599.76,434.7,608.58000000000004,440.99,617.39,447.29,626.21,453.59,635.02,459.89,643.84,466.18,652.66,472.48,661.47,478.78,670.29,485.07,679.1,491.37,687.92,497.67,696.74,503.97,705.55,510.26,714.37,516.55999999999995,723.19,522.86,732]
[null,null,null,null,null,null,null,null,null,null,null,null,174,410.03,574.04,null,null,null,175,null,null,null,null,null,null,null,174,403.69,565.16999999999996,410.03,574.04,416.36,582.91,361.25,505.74,367.58,514.61,373.91,523.48,380.25,532.35,386.58,541.21,392.91,550.08000000000004,399.25,558.95000000000005,405.58,567.80999999999995,411.91,576.67999999999995,418.25,585.54999999999995,424.58,594.41,430.92,603.28,437.25,612.15,443.58,621.02,449.92,629.88,456.25,638.75,462.58,647.62,468.92,656.48,475.25,665.35,481.58,674.22,487.92,683.09,494.25,691.95,500.59,700.82,506.92,709.69,513.25,718.55,519.59,727.42,525.91999999999996,736.29]
[null,null,null,null,null,null,null,null,null,null,null,null,175,412.44,577.41999999999996,null,null,null,176,null,null,null,null,null,null,null,175,406.07,568.5,412.44,577.41999999999996,418.81,586.34,363.37,508.71,369.74,517.63,376.11,526.54999999999995,382.48,535.47,388.85,544.38,395.22,553.29999999999995,401.59,562.22,407.96,571.14,414.33,580.05999999999995,420.7,588.97,427.07,597.89,433.44,606.80999999999995,439.81,615.73,446.18,624.65,452.55,633.55999999999995,458.92,642.48,465.29,651.4,471.66,660.32,478.03,669.24,484.4,678.15,490.77,687.07,497.14,695.99,503.51,704.91,509.88,713.83,516.25,722.74,522.62,731.66,528.99,740.58]
[null,null,null,null,null,null,null,null,null,null,null,null,176,414.86,580.80999999999995,null,null,null,177,null,null,null,null,null,null,null,176,408.46,571.84,414.86,580.80999999999995,421.27,589.78,365.49,511.69,371.9,520.66,378.3,529.62,384.71,538.59,391.12,547.55999999999995,397.52,556.53,403.93,565.5,410.34,574.47,416.74,583.44000000000005,423.15,592.41,429.55,601.38,435.96,610.35,442.37,619.30999999999995,448.77,628.28,455.18,637.25,461.59,646.22,467.99,655.19000000000005,474.4,664.16,480.81,673.13,487.21,682.1,493.62,691.07,500.03,700.04,506.43,709,512.84,717.97,519.24,726.94,525.65,735.91,532.05999999999995,744.88]
[null,null,null,null,null,null,null,null,null,null,null,null,177,417.29,584.21,null,null,null,178,null,null,null,null,null,null,null,177,410.85,575.19000000000005,417.29,584.21,423.74,593.23,367.62,514.66999999999996,374.06,523.69000000000005,380.51,532.71,386.95,541.73,393.39,550.75,399.83,559.77,406.28,568.79,412.72,577.80999999999995,419.16,586.83000000000004,425.61,595.85,432.05,604.87,438.49,613.89,444.93,622.91,451.38,631.92999999999995,457.82,640.95000000000005,464.26,649.97,470.71,658.99,477.15,668.01,483.59,677.03,490.03,686.05,496.48,695.07,502.92,704.09,509.36,713.11,515.79999999999995,722.13,522.26,731.15,528.69000000000005,740.17,535.13,749.19]
[null,null,null,null,null,null,null,null,null,null,null,null,178,419.2,586.88,null,null,null,179,null,null,null,null,null,null,null,178,412.72,577.80999999999995,419.2,586.88,425.68,595.95000000000005,369.36,517.1,375.84,526.16999999999996,382.32,535.25,388.8,544.32000000000005,395.28,553.39,401.76,562.46,408.24,571.53,414.71,580.6,421.19,589.66999999999996,427.67,598.74,434.15,607.80999999999995,440.63,616.88,447.11,625.95000000000005,453.59,635.03,460.07,644.1,466.55,653.16999999999996,473.03,662.24,479.51,671.31,485.99,680.38,492.46,689.45,498.94,698.52,505.42,707.59,511.9,716.66,518.38,725.73,524.86,734.8,531.34,743.88,537.82000000000005,752.95]
[null,null,null,null,null,null,null,null,null,null,null,null,179,421.64,590.29,null,null,null,180,null,null,null,null,null,null,null,179,415.12,581.16999999999996,421.64,590.29,428.15,599.41,371.49,520.09,378.01,529.21,384.53,538.34,391.04,547.46,397.56,556.58000000000004,404.07,565.70000000000005,410.59,574.82000000000005,417.1,583.95000000000005,423.62,593.07000000000005,430.14,602.19000000000005,436.65,611.30999999999995,443.17,620.42999999999995,449.68,629.55999999999995,456.2,638.67999999999995,462.71,647.79999999999995,469.23,656.92,475.74,666.04,482.26,675.16,488.78,684.29,495.29,693.41,501.81,702.53,508.32,711.65,514.84,720.77,521.35,729.9,527.87,739.02,534.38,748.14,540.9,757.26]
[null,null,null,null,null,null,null,null,null,null,null,null,180,424.08,593.71,null,null,null,181,null,null,null,null,null,null,null,180,417.53,584.54,424.08,593.71,430.63,602.88,373.64,523.09,380.19,532.26,386.74,541.44000000000005,393.29,550.61,399.84,559.78,406.4,568.95000000000005,412.95,578.13,419.5,587.29999999999995,426.05,596.47,432.6,605.64,439.16,614.82000000000005,445.71,623.99,452.26,633.16,458.81,642.34,465.36,651.51,471.92,660.68,478.47,669.85,485.02,679.03,491.57,688.2,498.12,697.37,504.68,706.55,511.23,715.72,517.78,724.89,524.33000000000004,734.06,530.88,743.24,537.44000000000005,752.41,543.99,761.58]
[null,null,null,null,null,null,null,null,null,null,null,null,181,426.53,597.14,null,null,null,182,null,null,null,null,null,null,null,181,419.94,587.91,426.53,597.14,433.12,606.36,375.78,526.09,382.37,535.32000000000005,388.96,544.54,395.55,553.76,402.13,562.99,408.72,572.21,415.31,581.44000000000005,421.9,590.66,428.49,599.88,435.08,609.11,441.67,618.33000000000004,448.25,627.54999999999995,454.84,636.78,461.43,646,468.02,655.23,474.61,664.45,481.2,673.67,487.78,682.9,494.37,692.12,500.96,701.34,507.55,710.57,514.14,719.79,520.73,729.02,527.30999999999995,738.24,533.9,747.46,540.49,756.69,547.08000000000004,765.91]
[null,null,null,null,null,null,null,null,null,null,null,null,182,428.98,600.58000000000004,null,null,null,183,null,null,null,null,null,null,null,182,422.36,591.29999999999995,428.98,600.58000000000004,435.61,609.85,377.93,529.11,384.56,538.38,391.18,547.65,397.81,556.92999999999995,404.43,566.20000000000005,411.06,575.48,417.68,584.75,424.31,594.03,430.93,603.29999999999995,437.56,612.58000000000004,444.18,621.85,450.81,631.13,457.43,640.4,464.05,649.67999999999995,470.68,658.95,477.3,668.23,483.93,677.5,490.55,686.78,497.18,696.05,503.8,705.32,510.43,714.6,517.04999999999995,723.87,523.67999999999995,733.15,530.29999999999995,742.42,536.92999999999995,751.7,543.54999999999995,760.97,550.17999999999995,770.25]
[null,null,null,null,null,null,null,null,null,null,null,null,183,431.45,604.03,null,null,null,184,null,null,null,null,null,null,null,183,424.79,594.70000000000005,431.45,604.03,438.11,613.35,380.09,532.12,386.75,541.45000000000005,393.41,550.78,400.07,560.1,406.73,569.42999999999995,413.4,578.75,420.06,588.08000000000004,426.72,597.4,433.38,606.73,440.04,616.05999999999995,446.7,625.38,453.36,634.71,460.02,644.03,466.68,653.36,473.35,662.68,480.01,672.01,486.67,681.34,493.33,690.66,499.99,699.99,506.65,709.31,513.30999999999995,718.64,519.97,727.96,526.64,737.29,533.29999999999995,746.62,539.96,755.94,546.62,765.27,553.28,774.59]
[null,null,null,null,null,null,null,null,null,null,null,null,184,433.36,606.70000000000005,null,null,null,185,null,null,null,null,null,null,null,184,426.66,597.32000000000005,433.36,606.70000000000005,440.05,616.07000000000005,381.83,534.55999999999995,388.53,543.94000000000005,395.22,553.30999999999995,401.92,562.69000000000005,408.62,572.07000000000005,415.32,581.44000000000005,422.01,590.82000000000005,428.71,600.20000000000005,435.41,609.57000000000005,442.11,618.95000000000005,448.8,628.33000000000004,455.5,637.70000000000005,462.2,647.08000000000004,468.9,656.46,475.59,665.83,482.29,675.21,488.99,684.59,495.69,693.96,502.39,703.34,509.08,712.72,515.78,722.09,522.48,731.47,529.17999999999995,740.85,535.87,750.22,542.57000000000005,759.6,549.27,768.98,555.97,778.35]
[null,null,null,null,null,null,null,null,null,null,null,null,185,435.83,610.16,null,null,null,186,null,null,null,null,null,null,null,185,429.09,600.73,435.83,610.16,442.56,619.59,383.99,537.59,390.73,547.02,397.46,556.44000000000005,404.19,565.87,410.93,575.29999999999995,417.66,584.73,424.4,594.15,431.13,603.58000000000004,437.86,613.01,444.6,622.44000000000005,451.33,631.86,458.07,641.29,464.8,650.72,471.53,660.15,478.27,669.57,485,679,491.74,688.43,498.47,697.86,505.2,707.28,511.94,716.71,518.66999999999996,726.14,525.41,735.57,532.14,744.99,538.87,754.42,545.61,763.85,552.34,773.28,559.08000000000004,782.71]
[null,null,null,null,null,null,null,null,null,null,null,null,186,438.31,613.63,null,null,null,187,null,null,null,null,null,null,null,186,431.54,604.15,438.31,613.63,445.08,623.11,386.16,540.62,392.93,550.1,399.7,559.58000000000004,406.47,569.05999999999995,413.24,578.54,420.01,588.02,426.78,597.49,433.55,606.97,440.32,616.45000000000005,447.09,625.92999999999995,453.86,635.41,460.63,644.89,467.4,654.37,474.17,663.84,480.95,673.32,487.72,682.8,494.49,692.28,501.26,701.76,508.03,711.24,514.79999999999995,720.72,521.57000000000005,730.19,528.34,739.67,535.11,749.15,541.88,758.63,548.65,768.11,555.41999999999996,777.59,562.19000000000005,787.07]
[null,null,null,null,null,null,null,null,null,null,null,null,187,440.79,617.11,null,null,null,188,null,null,null,null,null,null,null,187,433.99,607.58000000000004,440.79,617.11,447.6,626.64,388.33,543.66999999999996,395.14,553.20000000000005,401.95,562.73,408.75,572.26,415.56,581.79,422.37,591.30999999999995,429.17,600.84,435.98,610.37,442.79,619.9,449.6,629.42999999999995,456.4,638.96,463.21,648.49,470.02,658.02,476.82,667.55,483.63,677.08,490.44,686.61,497.24,696.14,504.05,705.67,510.86,715.2,517.66,724.73,524.47,734.26,531.28,743.79,538.08000000000004,753.32,544.89,762.85,551.70000000000005,772.38,558.5,781.91,565.30999999999995,791.43]
[null,null,null,null,null,null,null,null,null,null,null,null,188,442.7,619.78,null,null,null,189,null,null,null,null,null,null,null,188,435.86,610.20000000000005,442.7,619.78,449.54,629.36,390.07,546.1,396.92,555.67999999999995,403.76,565.26,410.6,574.84,417.45,584.41999999999996,424.29,594,431.13,603.59,437.98,613.16999999999996,444.82,622.75,451.66,632.33000000000004,458.51,641.91,465.35,651.49,472.19,661.07,479.03,670.65,485.88,680.23,492.72,689.81,499.56,699.39,506.41,708.97,513.25,718.55,520.09,728.13,526.94000000000005,737.71,533.78,747.29,540.62,756.87,547.47,766.45,554.30999999999995,776.03,561.15,785.61,568,795.19]
[null,null,null,null,null,null,null,null,null,null,null,null,189,445.2,623.28,null,null,null,190,null,null,null,null,null,null,null,189,438.32,613.64,445.2,623.28,452.08,632.91,392.25,549.15,399.13,558.79,406.01,568.41999999999996,412.89,578.04999999999995,419.77,587.67999999999995,426.65,597.30999999999995,433.53,606.94000000000005,440.41,616.58000000000004,447.29,626.21,454.17,635.84,461.05,645.47,467.93,655.1,474.81,664.73,481.69,674.36,488.57,684,495.45,693.63,502.33,703.26,509.21,712.89,516.09,722.52,522.97,732.15,529.85,741.78,536.73,751.42,543.6,761.05,550.48,770.68,557.36,780.31,564.24,789.94,571.12,799.57]
[null,null,null,null,null,null,null,null,null,null,null,null,190,447.7,626.78,null,null,null,191,null,null,null,null,null,null,null,190,440.78,617.1,447.7,626.78,454.62,636.46,394.44,552.22,401.36,561.9,408.27,571.58000000000004,415.19,581.26,422.1,590.95000000000005,429.02,600.63,435.94,610.30999999999995,442.85,619.99,449.77,629.67999999999995,456.68,639.36,463.6,649.04,470.52,658.72,477.43,668.41,484.35,678.09,491.26,687.77,498.18,697.45,505.1,707.13,512.01,716.82,518.92999999999995,726.5,525.84,736.18,532.76,745.86,539.67999999999995,755.55,546.59,765.23,553.51,774.91,560.41999999999996,784.59,567.34,794.28,574.26,803.96]
[null,null,null,null,null,null,null,null,null,null,null,null,191,450.21,630.29999999999995,null,null,null,192,null,null,null,null,null,null,null,191,443.26,620.55999999999995,450.21,630.29999999999995,457.17,640.03,396.63,555.29,403.59,565.02,410.54,574.75,417.49,584.49,424.44,594.22,431.4,603.95000000000005,438.35,613.69000000000005,445.3,623.41999999999996,452.25,633.15,459.2,642.89,466.16,652.62,473.11,662.35,480.06,672.09,487.01,681.82,493.97,691.55,500.92,701.29,507.87,711.02,514.82000000000005,720.75,521.78,730.49,528.73,740.22,535.67999999999995,749.95,542.63,759.69,549.59,769.42,556.54,779.15,563.49,788.89,570.44000000000005,798.62,577.4,808.35]
[null,null,null,null,null,null,null,null,null,null,null,null,192,452.12,632.97,null,null,null,193,null,null,null,null,null,null,null,192,445.13,623.17999999999995,452.12,632.97,459.11,642.75,398.37,557.72,405.36,567.51,412.35,577.29,419.34,587.07000000000005,426.33,596.86,433.32,606.64,440.31,616.42999999999995,447.29,626.21,454.28,636,461.27,645.78,468.26,655.56,475.25,665.35,482.24,675.13,489.23,684.92,496.22,694.7,503.2,704.49,510.19,714.27,517.17999999999995,724.06,524.16999999999996,733.84,531.16,743.62,538.15,753.41,545.14,763.19,552.13,772.98,559.11,782.76,566.1,792.55,573.09,802.33,580.08000000000004,812.11]
[null,null,null,null,null,null,null,null,null,null,null,null,193,454.64,636.5,null,null,null,194,null,null,null,null,null,null,null,193,447.62,626.66,454.64,636.5,461.67,646.33000000000004,400.57,560.79999999999995,407.6,570.64,414.62,580.47,421.65,590.30999999999995,428.67,600.14,435.7,609.98,442.72,619.80999999999995,449.75,629.65,456.77,639.48,463.8,649.32000000000005,470.82,659.15,477.85,668.99,484.87,678.82,491.9,688.66,498.92,698.49,505.95,708.33,512.98,718.17,520,728,527.03,737.84,534.04999999999995,747.67,541.08000000000004,757.51,548.1,767.34,555.13,777.18,562.15,787.01,569.17999999999995,796.85,576.20000000000005,806.68,583.23,816.52]
[null,null,null,null,null,null,null,null,null,null,null,null,{"$f":"M201+1","v":194},{"$f":"HLOOKUP($N$8,$AB$8:$CI$209,S202,FALSE)","v":457.17},{"$f":"HLOOKUP($O$8,$AB$8:$CI$209,S202,FALSE)","v":640.04},null,null,null,195,null,null,null,null,null,null,null,194,450.11,630.15,457.17,640.04,464.23,649.92999999999995,402.78,563.89,409.84,573.78,416.9,583.66,423.96,593.54999999999995,431.02,603.42999999999995,438.09,613.32000000000005,445.15,623.21,452.21,633.09,459.27,642.98,466.33,652.87,473.39,662.75,480.46,672.64,487.52,682.52,494.58,692.41,501.64,702.3,508.7,712.18,515.76,722.07,522.83000000000004,731.96,529.89,741.84,536.95000000000005,751.73,544.01,761.61,551.07000000000005,771.5,558.13,781.39,565.19000000000005,791.27,572.26,801.16,579.32000000000005,811.05,586.38,820.93]
[null,null,null,null,null,null,null,null,null,null,null,null,195,459.71,643.59,null,null,null,196,null,null,null,null,null,null,null,195,452.61,633.66,459.71,643.59,466.81,653.53,404.99,566.99,412.09,576.91999999999996,419.19,586.86,426.29,596.79999999999995,433.38,606.74,440.48,616.66999999999996,447.58,626.61,454.68,636.54999999999995,461.78,646.49,468.87,656.42,475.97,666.36,483.07,676.3,490.17,686.23,497.27,696.17,504.36,706.11,511.46,716.05,518.55999999999995,725.98,525.66,735.92,532.76,745.86,539.85,755.79,546.95000000000005,765.73,554.04999999999995,775.67,561.15,785.61,568.25,795.54,575.34,805.48,582.44000000000005,815.42,589.54,825.35]
[null,null,null,null,null,null,null,null,null,null,null,null,196,461.62,646.26,null,null,null,197,null,null,null,null,null,null,null,196,454.48,636.28,461.62,646.26,468.75,656.25,406.73,569.41999999999996,413.86,579.41,421,589.4,428.13,599.39,435.27,609.38,442.4,619.36,449.54,629.35,456.67,639.34,463.81,649.33000000000004,470.94,659.32,478.07,669.3,485.21,679.29,492.34,689.28,499.48,699.27,506.61,709.26,513.75,719.24,520.88,729.23,528.02,739.22,535.15,749.21,542.28,759.2,549.41999999999996,769.19,556.54999999999995,779.17,563.69000000000005,789.16,570.82000000000005,799.15,577.96,809.14,585.09,819.13,592.22,829.11]
[null,null,null,null,null,null,null,null,null,null,null,null,197,464.17,649.83000000000004,null,null,null,198,null,null,null,null,null,null,null,197,456.99,639.79,464.17,649.83000000000004,471.34,659.87,408.95,572.53,416.12,582.57000000000005,423.29,592.61,430.46,602.65,437.63,612.69000000000005,444.8,622.73,451.97,632.76,459.15,642.79999999999995,466.32,652.84,473.49,662.88,480.66,672.92,487.83,682.96,495,693,502.17,703.04,509.34,713.08,516.51,723.12,523.67999999999995,733.16,530.85,743.2,538.02,753.23,545.20000000000005,763.27,552.37,773.31,559.54,783.35,566.71,793.39,573.88,803.43,581.04999999999995,813.47,588.22,823.51,595.39,833.55]
[null,null,null,null,null,null,null,null,null,null,null,null,198,466.72,653.41,null,null,null,199,null,null,null,null,null,null,null,198,459.52,643.32000000000005,466.72,653.41,473.93,663.5,411.18,575.65,418.38,585.74,425.59,595.83000000000004,432.8,605.91999999999996,440.01,616.01,447.21,626.1,454.42,636.19000000000005,461.63,646.28,468.83,656.37,476.04,666.46,483.25,676.55,490.46,686.64,497.66,696.73,504.87,706.82,512.08000000000004,716.91,519.28,727,526.49,737.09,533.70000000000005,747.18,540.91,757.27,548.11,767.36,555.32000000000005,777.45,562.53,787.54,569.74,797.63,576.94000000000005,807.72,584.15,817.81,591.36,827.9,598.55999999999995,837.99]
[null,null,null,null,null,null,null,null,null,null,null,null,199,468.63,656.08,null,null,null,200,null,null,null,null,null,null,null,199,461.39,645.94000000000005,468.63,656.08,475.87,666.22,412.92,578.08000000000004,420.16,588.22,427.4,598.36,434.65,608.51,441.89,618.65,449.13,628.79,456.38,638.92999999999995,463.62,649.07000000000005,470.87,659.21,478.11,669.35,485.35,679.49,492.6,689.63,499.84,699.78,507.08,709.92,514.33000000000004,720.06,521.57000000000005,730.2,528.80999999999995,740.34,536.05999999999995,750.48,543.29999999999995,760.62,550.54,770.76,557.79,780.9,565.03,791.04,572.28,801.19,579.52,811.33,586.76,821.47,594.01,831.61,601.25,841.75]
[null,null,null,null,null,null,null,null,null,null,null,null,200,471.2,659.68,null,null,null,201,null,null,null,null,null,null,null,200,463.92,649.48,471.2,659.68,478.48,669.87,415.15,581.21,422.43,591.4,429.71,601.59,436.99,611.79,444.27,621.98,451.55,632.16999999999996,458.83,642.36,466.11,652.54999999999995,473.39,662.75,480.67,672.94,487.95,683.13,495.23,693.32,502.51,703.51,509.79,713.71,517.07000000000005,723.9,524.35,734.09,531.63,744.28,538.91,754.47,546.19000000000005,764.67,553.47,774.86,560.75,785.05,568.03,795.24,575.30999999999995,805.43,582.59,815.63,589.87,825.82,597.15,836.01,604.42999999999995,846.2]
[null,null,null,null,null,null,null,null,null,null,null,null,"กม. 201 - 1000",2.36,3.3,null,null,null,202,null,null,null,null,null,null,null,"กม. 201 - 1000",2.3199999999999998,3.25,2.36,3.3,2.39,3.35,2.08,2.91,2.11,2.96,2.15,3.01,2.19,3.06,2.2200000000000002,3.11,2.2599999999999998,3.16,2.29,3.21,2.33,3.26,2.37,3.31,2.4,3.37,2.44,3.42,2.48,3.47,2.5099999999999998,3.52,2.5499999999999998,3.57,2.59,3.62,2.62,3.67,2.66,3.72,2.7,3.77,2.73,3.82,2.77,3.88,2.8,3.93,2.84,3.98,2.88,4.03,2.91,4.08,2.95,4.13,2.99,4.18,3.02,4.2300000000000004]

{"sheet":"รถพ่วงขนส่ง","index":28,"n_rows":209,"n_cols":87,"rows_kept":209,"cut":false,"hidden":false,"merged":[[69,4,70,4]]}
["ตารางขนส่งวัสดุก่อสร้าง รถบรรทุก 10 ล้อ + ลากพ่วง"]
["ภูมิประเทศเป็นที่ราบ ทางผิวลาดยาง ปริมาณจราจรปกติ"]
[{"$f":"\"( น้ำมันโซล่า \"&ROUNDDOWN(P5,0)&\" - \"&P5+0.49&\" บาท/ลิตร เฉลี่ย \"&P5&\"0 บาท/ลิตร)\"","v":"( น้ำมันโซล่า 26 - 26.99 บาท/ลิตร เฉลี่ย 26.50 บาท/ลิตร)"}]
["ระยะ\nขนส่ง\n(กม.)","ค่าบรรทุก\nบาท/ตัน","ค่าบรรทุก\nบาท/ลบ.ม.",null,"ระยะ\nขนส่ง\n(กม.)","ค่าบรรทุก\nบาท/ตัน","ค่าบรรทุก\nบาท/ลบ.ม.",null,"ระยะ\nขนส่ง\n(กม.)","ค่าบรรทุก\nบาท/ตัน","ค่าบรรทุก\nบาท/ลบ.ม."]
[1,{"$f":"N9","v":4.4000000000000004},6.16,null,{"$f":"A31+1","v":28},{"$f":"N36","v":41.29},57.81,null,{"$f":"E31+1","v":55},{"$f":"N63","v":80.5},112.71,null,"ราคาน้ำมันโซล่า ที่ อ.เมือง เฉลี่ยลิตร ละ",null,null,{"$f":"ค่าเสื่อมราคา!D5","v":26.5},"บาท",null,null,null,null,null,null,null,null,null,null,"ค่าขนส่ง",null,"ค่าขนส่ง",null,"ค่าขนส่ง",null,"ค่าขนส่ง",null,"ค่าขนส่ง",null,"ค่าขนส่ง",null,"ค่าขนส่ง",null,"ค่าขนส่ง",null,"ค่าขนส่ง",null,"ค่าขนส่ง",null,"ค่าขนส่ง",null,"ค่าขนส่ง",null,"ค่าขนส่ง",null,"ค่าขนส่ง",null,"ค่าขนส่ง",null,"ค่าขนส่ง",null,"ค่าขนส่ง",null,"ค่าขนส่ง",null,"ค่าขนส่ง",null,"ค่าขนส่ง",null,"ค่าขนส่ง",null,"ค่าขนส่ง",null,"ค่าขนส่ง",null,"ค่าขนส่ง",null,"ค่าขนส่ง",null,"ค่าขนส่ง",null,"ค่าขนส่ง",null,"ค่าขนส่ง",null,"ค่าขนส่ง",null,"ค่าขนส่ง"]
[{"$f":"A5+1","v":2},5.68,7.95,null,{"$f":"E5+1","v":29},42.74,59.83,null,{"$f":"I5+1","v":56},81.95,114.73,null,null,null,null,null,null,null,null,null,null,null,null,null,null,null,null,25.5,null,26.5,null,27.5,null,28.5,null,29.5,null,30.5,null,31.5,null,32.5,null,33.5,null,34.5,null,35.5,null,36.5,null,37.5,null,38.5,null,39.5,null,40.5,null,41.5,null,42.5,null,43.5,null,44.5,null,45.5,null,46.5,null,47.5,null,48.5,null,49.5,null,50.5,null,51.5,null,52.5,null,53.5,null,54.5]
[3,6.96,9.75,null,30,44.19,61.87,null,57,83.4,116.76,null,"ระยะขนส่ง","บาท/ตัน","บาท/ลบ.ม.",null,null,null,"แถว,Vlookup",null,null,null,null,null,null,null,"ระยะขนส่ง","บาท/ตัน","บาท/ลบ.ม.","บาท/ตัน","บาท/ลบ.ม.","บาท/ตัน","บาท/ลบ.ม.","บาท/ตัน","บาท/ลบ.ม.","บาท/ตัน","บาท/ลบ.ม.","บาท/ตัน","บาท/ลบ.ม.","บาท/ตัน","บาท/ลบ.ม.","บาท/ตัน","บาท/ลบ.ม.","บาท/ตัน","บาท/ลบ.ม.","บาท/ตัน","บาท/ลบ.ม.","บาท/ตัน","บาท/ลบ.ม.","บาท/ตัน","บาท/ลบ.ม.","บาท/ตัน","บาท/ลบ.ม.","บาท/ตัน","บาท/ลบ.ม.","บาท/ตัน","บาท/ลบ.ม.","บาท/ตัน","บาท/ลบ.ม.","บาท/ตัน","บาท/ลบ.ม.","บาท/ตัน","บาท/ลบ.ม.","บาท/ตัน","บาท/ลบ.ม.","บาท/ตัน","บาท/ลบ.ม.","บาท/ตัน","บาท/ลบ.ม.","บาท/ตัน","บาท/ลบ.ม.","บาท/ตัน","บาท/ลบ.ม.","บาท/ตัน","บาท/ลบ.ม.","บาท/ตัน","บาท/ลบ.ม.","บาท/ตัน","บาท/ลบ.ม.","บาท/ตัน","บาท/ลบ.ม.","บาท/ตัน","บาท/ลบ.ม.","บาท/ตัน","บาท/ลบ.ม.","บาท/ตัน","บาท/ลบ.ม."]
[4,8.24,11.54,null,31,45.64,63.9,null,58,84.85,118.8,null,null,{"$f":"HLOOKUP(P5,$AB$6:$BY$8,3,FALSE)","v":3},{"$f":"N8+1","v":4},null,null,null,1,null,null,null,null,null,null,null,null,1,2,3,4,5,6,7,8,9,10,11,12,13,14,15,16,17,18,19,20,21,22,23,24,25,26,27,28,29,30,31,32,33,34,35,36,37,38,39,40,41,42,43,44,45,46,47,48,49,50,51,52,53,54,55,56,57,58,59,60]
[5,9.5299999999999994,13.34,null,32,47.1,65.94,null,59,86.31,120.84,null,1,{"$f":"HLOOKUP($N$8,$AB$8:$CI209,S9,FALSE)","v":4.4000000000000004},{"$f":"HLOOKUP($O$8,$AB$8:$CI$209,S9,FALSE)","v":6.16},null,null,null,2,null,null,null,null,null,null,null,1,4.37,6.12,4.4000000000000004,6.16,4.42,6.19,3.92,5.49,3.95,5.53,3.97,5.56,4,5.6,4.03,5.64,4.05,5.67,4.08,5.71,4.0999999999999996,5.74,4.13,5.78,4.1500000000000004,5.82,4.18,5.85,4.21,5.89,4.2300000000000004,5.92,4.26,5.96,4.28,6,4.3099999999999996,6.03,4.33,6.07,4.3600000000000003,6.1,4.3899999999999997,6.14,4.41,6.18,4.4400000000000004,6.21,4.46,6.25,4.49,6.28,4.51,6.32,4.54,6.36,4.57,6.39,4.59,6.43]
[6,10.81,15.13,null,33,48.55,67.97,null,60,87.77,122.88,null,{"$f":"M9+1","v":2},{"$f":"HLOOKUP($N$8,$AB$8:$CI210,S10,FALSE)","v":5.68},{"$f":"HLOOKUP($O$8,$AB$8:$CI$209,S10,FALSE)","v":7.95},null,null,null,3,null,null,null,null,null,null,null,2,5.63,7.88,5.68,7.95,5.73,8.0299999999999994,5.13,7.18,5.18,7.25,5.23,7.33,5.28,7.4,5.34,7.47,5.39,7.54,5.44,7.61,5.49,7.69,5.54,7.76,5.59,7.83,5.64,7.9,5.7,7.97,5.75,8.0500000000000007,5.8,8.1199999999999992,5.85,8.19,5.9,8.26,5.95,8.33,6,8.41,6.06,8.48,6.11,8.5500000000000007,6.16,8.6199999999999992,6.21,8.69,6.26,8.76,6.31,8.84,6.36,8.91,6.41,8.98,6.47,9.0500000000000007]
[7,12.09,16.93,null,34,50,70,null,61,89.22,124.91,null,3,{"$f":"HLOOKUP($N$8,$AB$8:$CI211,S11,FALSE)","v":6.96},9.75,null,null,null,4,null,null,null,null,null,null,null,3,6.89,9.64,6.96,9.75,7.04,9.86,6.34,8.8699999999999992,6.41,8.98,6.49,9.09,6.57,9.19,6.64,9.3000000000000007,6.72,9.41,6.8,9.52,6.88,9.6300000000000008,6.95,9.73,7.03,9.84,7.11,9.9499999999999993,7.18,10.06,7.26,10.17,7.34,10.27,7.42,10.38,7.49,10.49,7.57,10.6,7.65,10.71,7.72,10.81,7.8,10.92,7.88,11.03,7.96,11.14,8.0299999999999994,11.24,8.11,11.35,8.19,11.46,8.26,11.57,8.34,11.68]
[8,13.37,18.72,null,35,51.45,72.03,null,62,90.67,126.94,null,4,{"$f":"HLOOKUP($N$8,$AB$8:$CI212,S12,FALSE)","v":8.24},11.54,null,null,null,5,null,null,null,null,null,null,null,4,8.14,11.4,8.24,11.54,8.35,11.69,7.54,10.56,7.64,10.7,7.75,10.85,7.85,10.99,7.95,11.13,8.06,11.28,8.16,11.42,8.26,11.57,8.36,11.71,8.4700000000000006,11.85,8.57,12,8.67,12.14,8.7799999999999994,12.29,8.8800000000000008,12.43,8.98,12.57,9.08,12.72,9.19,12.86,9.2899999999999991,13,9.39,13.15,9.49,13.29,9.6,13.44,9.6999999999999993,13.58,9.8000000000000007,13.72,9.91,13.87,10.01,14.01,10.11,14.16,10.210000000000001,14.3]
[9,14.66,20.52,null,36,52.91,74.069999999999993,null,63,92.12,128.97,null,5,{"$f":"HLOOKUP($N$8,$AB$8:$CI213,S13,FALSE)","v":9.5299999999999994},13.34,null,null,null,6,null,null,null,null,null,null,null,5,9.4,13.16,9.5299999999999994,13.34,9.65,13.52,8.75,12.25,8.8800000000000008,12.43,9,12.61,9.1300000000000008,12.79,9.26,12.96,9.39,13.14,9.52,13.32,9.65,13.5,9.77,13.68,9.9,13.86,10.029999999999999,14.04,10.16,14.22,10.29,14.4,10.42,14.58,10.55,14.76,10.67,14.94,10.8,15.12,10.93,15.3,11.06,15.48,11.19,15.66,11.32,15.84,11.45,16.02,11.57,16.2,11.7,16.38,11.83,16.559999999999999,11.96,16.739999999999998,12.09,16.920000000000002]
[10,15.94,22.31,null,37,54.36,76.099999999999994,null,64,93.58,131.01,null,6,{"$f":"HLOOKUP($N$8,$AB$8:$CI214,S14,FALSE)","v":10.81},15.13,null,null,null,7,null,null,null,null,null,null,null,6,10.66,14.92,10.81,15.13,10.96,15.35,9.9499999999999993,13.94,10.11,14.15,10.26,14.37,10.42,14.58,10.57,14.8,10.72,15.01,10.88,15.23,11.03,15.45,11.19,15.66,11.34,15.88,11.5,16.09,11.65,16.309999999999999,11.8,16.53,11.96,16.739999999999998,12.11,16.96,12.27,17.170000000000002,12.42,17.39,12.58,17.61,12.73,17.82,12.88,18.04,13.04,18.25,13.19,18.47,13.35,18.68,13.5,18.899999999999999,13.65,19.12,13.81,19.329999999999998,13.96,19.55]
[11,17.22,24.11,null,38,55.81,78.13,null,65,95.02,133.03,null,7,{"$f":"HLOOKUP($N$8,$AB$8:$CI215,S15,FALSE)","v":12.09},16.93,null,null,null,8,null,null,null,null,null,null,null,7,11.91,16.68,12.09,16.93,12.27,17.18,11.16,15.63,11.34,15.88,11.52,16.13,11.7,16.38,11.88,16.63,12.06,16.88,12.24,17.14,12.42,17.39,12.6,17.64,12.78,17.89,12.96,18.14,13.14,18.399999999999999,13.32,18.649999999999999,13.5,18.899999999999999,13.68,19.149999999999999,13.86,19.399999999999999,14.04,19.649999999999999,14.22,19.91,14.4,20.16,14.58,20.41,14.76,20.66,14.94,20.91,15.12,21.17,15.3,21.42,15.48,21.67,15.66,21.92,15.84,22.17]
[12,18.5,25.9,null,39,57.27,80.180000000000007,null,66,96.48,135.08000000000001,null,8,{"$f":"HLOOKUP($N$8,$AB$8:$CI216,S16,FALSE)","v":13.37},18.72,null,null,null,9,null,null,null,null,null,null,null,8,13.17,18.440000000000001,13.37,18.72,13.58,19.010000000000002,12.37,17.309999999999999,12.57,17.600000000000001,12.78,17.89,12.98,18.18,13.19,18.46,13.39,18.75,13.6,19.04,13.8,19.329999999999998,14.01,19.61,14.22,19.899999999999999,14.42,20.190000000000001,14.63,20.48,14.83,20.77,15.04,21.05,15.24,21.34,15.45,21.63,15.66,21.92,15.86,22.21,16.07,22.49,16.27,22.78,16.48,23.07,16.68,23.36,16.89,23.64,17.09,23.93,17.3,24.22,17.510000000000002,24.51,17.71,24.8]
[13,19.79,27.7,null,40,58.72,82.2,null,67,97.93,137.1,null,9,{"$f":"HLOOKUP($N$8,$AB$8:$CI217,S17,FALSE)","v":14.66},20.52,null,null,null,10,null,null,null,null,null,null,null,9,14.43,20.2,14.66,20.52,14.89,20.84,13.57,19,13.8,19.329999999999998,14.04,19.649999999999999,14.27,19.97,14.5,20.3,14.73,20.62,14.96,20.94,15.19,21.27,15.42,21.59,15.65,21.92,15.89,22.24,16.12,22.56,16.350000000000001,22.89,16.579999999999998,23.21,16.809999999999999,23.54,17.04,23.86,17.27,24.18,17.5,24.51,17.739999999999998,24.83,17.97,25.15,18.2,25.48,18.43,25.8,18.66,26.13,18.89,26.45,19.12,24.66,19.36,27.1,19.59,27.42]
[14,21.07,29.5,null,41,60.17,84.24,null,68,99.38,139.13,null,10,{"$f":"HLOOKUP($N$8,$AB$8:$CI218,S18,FALSE)","v":15.94},22.31,null,null,null,11,null,null,null,null,null,null,null,10,15.68,21.95,15.94,22.31,16.2,22.67,14.78,20.69,15.04,21.05,15.29,21.41,15.55,21.77,15.81,22.13,16.059999999999999,22.49,16.32,22.85,16.579999999999998,23.21,16.829999999999998,23.57,17.09,23.93,17.350000000000001,24.29,17.61,24.65,17.86,25.01,18.12,25.37,18.38,25.73,18.63,26.09,18.89,26.45,19.149999999999999,26.81,19.399999999999999,27.17,19.66,27.53,19.920000000000002,27.89,20.18,28.25,20.43,28.61,20.69,28.96,20.95,29.32,21.2,29.68,21.46,30.04]
[15,22.41,31.37,null,42,61.63,86.28,null,69,100.83,141.16,null,11,{"$f":"HLOOKUP($N$8,$AB$8:$CI219,S19,FALSE)","v":17.22},24.11,null,null,null,12,null,null,null,null,null,null,null,11,16.940000000000001,23.71,17.22,24.11,17.5,24.5,15.98,22.38,16.27,22.77,16.55,23.17,16.829999999999998,23.56,17.11,23.96,17.399999999999999,24.36,17.68,24.75,17.96,25.15,18.25,25.54,18.53,25.94,18.809999999999999,26.34,19.09,26.73,19.38,27.13,19.66,27.52,19.940000000000001,27.92,20.22,28.31,20.51,28.71,20.79,29.11,21.07,29.5,21.36,29.9,21.64,30.29,21.92,30.69,22.2,31.08,22.49,31.48,22.77,31.88,23.05,32.270000000000003,23.33,32.67]
[16,23.86,33.4,null,43,63.07,88.3,null,70,102.29,143.19999999999999,null,12,{"$f":"HLOOKUP($N$8,$AB$8:$CI220,S20,FALSE)","v":18.5},25.9,null,null,null,13,null,null,null,null,null,null,null,12,18.190000000000001,25.47,18.5,25.9,18.809999999999999,26.34,17.190000000000001,24.07,17.5,24.5,17.809999999999999,24.93,18.12,25.36,18.420000000000002,25.79,18.73,26.23,19.04,26.66,19.350000000000001,27.09,19.66,27.52,19.97,27.95,20.27,28.38,20.58,28.82,20.89,29.25,21.2,29.68,21.51,30.11,21.82,30.54,22.12,30.97,22.43,31.41,22.74,31.84,23.05,32.270000000000003,23.36,32.700000000000003,23.67,33.130000000000003,23.98,33.57,24.28,34,24.59,34.43,24.9,34.86,25.21,35.29]
[17,25.31,35.44,null,44,64.53,90.34,null,71,103.74,145.24,null,13,{"$f":"HLOOKUP($N$8,$AB$8:$CI221,S21,FALSE)","v":19.79},27.7,null,null,null,14,null,null,null,null,null,null,null,13,19.45,27.23,19.79,27.7,20.12,28.17,18.399999999999999,25.76,18.73,26.22,19.07,26.69,19.399999999999999,27.16,19.73,27.63,20.07,28.09,20.399999999999999,28.56,20.74,29.03,21.07,29.5,21.4,29.97,21.74,30.43,22.07,30.9,22.41,31.37,22.74,31.84,23.07,32.299999999999997,23.41,32.770000000000003,23.74,33.24,24.08,33.71,24.41,34.18,24.75,34.64,25.08,35.11,25.41,35.58,25.75,36.049999999999997,26.08,36.51,26.42,36.979999999999997,26.75,37.450000000000003,27.08,37.92]
[18,26.76,37.47,null,45,65.98,92.37,null,72,105.21,147.29,null,14,{"$f":"HLOOKUP($N$8,$AB$8:$CI222,S22,FALSE)","v":21.07},29.5,null,null,null,15,null,null,null,null,null,null,null,14,20.71,28.99,21.07,29.5,21.43,30,19.600000000000001,27.44,19.96,27.95,20.32,28.45,20.68,28.96,21.04,29.46,21.4,29.96,21.76,30.47,22.12,30.97,22.48,31.47,22.84,31.98,23.2,32.479999999999997,23.56,32.99,23.92,33.49,24.28,33.99,24.64,34.5,25,35,25.36,35.5,25.72,36.01,26.08,36.51,26.44,37.020000000000003,26.8,37.520000000000003,27.16,38.020000000000003,27.52,38.53,27.88,39.03,28.24,39.53,28.6,40.04,28.96,40.54]
[19,28.22,39.5,null,46,67.44,94.41,null,73,106.64,149.30000000000001,null,15,{"$f":"HLOOKUP($N$8,$AB$8:$CI223,S23,FALSE)","v":22.41},31.37,null,null,null,16,null,null,null,null,null,null,null,15,22.02,30.83,22.41,31.37,22.79,31.91,20.86,29.2,21.24,29.74,21.63,30.28,22.02,30.82,22.4,31.36,22.79,31.9,23.17,32.44,23.56,32.979999999999997,23.94,33.520000000000003,24.33,34.06,24.71,34.6,25.1,35.14,25.48,35.68,25.87,36.22,26.26,36.76,26.64,37.299999999999997,27.03,37.840000000000003,27.41,38.380000000000003,27.8,38.92,28.18,39.46,28.57,40,28.95,40.54,29.34,41.08,29.73,41.62,30.11,42.16,305,42.7,30.88,43.23]
[20,29.67,41.54,null,47,68.89,96.44,null,74,108.11,151.36000000000001,null,16,{"$f":"HLOOKUP($N$8,$AB$8:$CI224,S24,FALSE)","v":23.86},33.4,null,null,null,17,null,null,null,null,null,null,null,16,23.45,32.83,23.86,33.4,24.27,33.979999999999997,22.21,31.1,22.62,31.67,23.04,32.25,23.45,32.82,23.86,33.4,24.27,33.979999999999997,24.68,34.549999999999997,25.09,35.130000000000003,25.5,35.700000000000003,25.91,36.28,26.32,36.85,26.74,37.43,27.15,38.01,27.56,38.58,27.97,39.159999999999997,28.38,39.729999999999997,28.79,40.31,29.2,40.880000000000003,29.61,41.46,30.03,42.04,30.44,42.61,30.85,43.19,31.26,43.76,31.67,44.34,32.08,44.91,32.49,45.49,32.9,46.07]
[21,31.12,43.57,null,48,70.33,98.46,null,75,109.56,153.38,null,17,{"$f":"HLOOKUP($N$8,$AB$8:$CI225,S25,FALSE)","v":25.31},35.44,null,null,null,18,null,null,null,null,null,null,null,17,24.87,34.82,25.31,35.44,25.75,36.049999999999997,23.57,32.99,24,33.61,24.44,34.22,24.88,34.83,25.31,35.44,25.75,36.049999999999997,26.19,36.659999999999997,26.63,37.28,27.06,37.89,27.5,38.5,27.94,39.11,28.37,39.72,28.81,40.33,29.25,40.950000000000003,29.68,41.56,30.12,42.17,30.56,42.78,30.99,43.39,31.43,44,31.87,44.62,32.31,45.23,32.74,45.84,33.18,46.45,33.619999999999997,47.06,34.049999999999997,47.67,34.49,48.29,34.93,48.9]
[22,32.57,45.6,null,49,71.790000000000006,100.51,null,76,111,155.41,null,18,{"$f":"HLOOKUP($N$8,$AB$8:$CI226,S26,FALSE)","v":26.76},37.47,null,null,null,19,null,null,null,null,null,null,null,18,26.3,36.82,26.76,37.47,27.23,38.119999999999997,24.92,34.89,25.38,35.54,25.85,36.19,26.31,36.83,26.77,37.479999999999997,27.23,38.130000000000003,27.7,38.78,28.16,39.42,28.62,40.07,29.09,40.72,29.55,41.37,30.01,42.01,30.47,42.66,30.94,43.31,31.4,43.96,31.86,44.6,32.32,45.25,32.79,45.9,33.25,46.55,33.71,47.2,34.17,47.84,34.64,48.49,35.1,49.14,35.56,49.79,36.020000000000003,50.43,36.49,51.08,36.950000000000003,51.73]
[23,34.03,47.64,null,50,73.239999999999995,102.54,null,77,112.45,157.44,null,19,{"$f":"HLOOKUP($N$8,$AB$8:$CI227,S27,FALSE)","v":28.22},39.5,null,null,null,20,null,null,null,null,null,null,null,19,27.73,38.82,28.22,39.5,28.7,40.19,26.28,36.79,26.76,37.47,27.25,38.15,27.74,38.840000000000003,28.23,39.520000000000003,28.72,40.21,29.21,40.89,29.69,41.57,30.18,42.26,30.67,42.94,31.16,43.62,31.65,44.31,32.14,44.99,32.619999999999997,45.67,33.11,46.36,33.6,47.04,34.090000000000003,47.73,34.58,48.41,35.07,49.09,35.549999999999997,49.78,36.04,50.46,36.53,51.14,37.020000000000003,51.83,37.51,52.51,38,53.19,38.479999999999997,53.88,38.97,54.56]
[24,35.479999999999997,49.67,null,51,74.7,104.58,null,78,113.91,159.47,null,20,{"$f":"HLOOKUP($N$8,$AB$8:$CI228,S28,FALSE)","v":29.67},41.54,null,null,null,21,null,null,null,null,null,null,null,20,29.15,40.82,29.67,41.54,30.18,42.26,27.63,38.68,28.14,39.4,28.66,40.119999999999997,29.17,40.840000000000003,29.69,41.56,30.2,42.28,30.71,43,31.23,43.72,31.74,44.44,32.26,45.16,32.770000000000003,45.88,33.28,46.6,33.799999999999997,47.32,34.31,48.04,34.83,48.76,35.340000000000003,49.48,35.85,50.2,36.369999999999997,50.92,36.880000000000003,51.64,37.4,52.36,37.909999999999997,53.08,38.42,53.79,38.94,54.51,39.450000000000003,55.23,39.97,55.95,40.479999999999997,56.67,40.99,57.39]
[25,36.93,51.7,null,52,76.14,106.6,null,79,115.36,161.51,null,21,{"$f":"HLOOKUP($N$8,$AB$8:$CI229,S29,FALSE)","v":31.12},43.57,null,null,null,22,null,null,null,null,null,null,null,21,30.58,42.82,31.12,43.57,31.66,44.33,28.99,40.58,29.53,41.34,30.07,42.09,30.61,42.85,31.14,43.6,31.68,44.36,32.22,45.11,32.76,45.87,33.299999999999997,46.63,33.840000000000003,47.38,34.380000000000003,48.14,34.92,48.89,35.46,49.65,36,50.4,36.54,51.16,37.08,51.91,37.619999999999997,52.67,38.159999999999997,53.43,38.700000000000003,54.18,39.24,54.94,39.78,55.69,40.32,56.45,40.86,57.2,41.4,57.96,41.94,58.71,42.48,59.47,43.02,60.23]
[26,38.380000000000003,53.73,null,53,77.59,108.63,null,80,116.82,163.55000000000001,null,22,{"$f":"HLOOKUP($N$8,$AB$8:$CI230,S30,FALSE)","v":32.57},45.6,null,null,null,23,null,null,null,null,null,null,null,22,32.01,44.81,32.57,45.6,33.14,46.39,30.34,42.47,30.9,43.27,31.47,44.06,32.03,44.85,32.6,45.64,33.17,46.43,33.729999999999997,47.22,34.299999999999997,48.02,34.86,48.81,35.43,49.6,35.99,50.39,36.56,51.18,37.119999999999997,51.97,37.69,52.76,38.25,53.56,38.82,54.35,39.39,55.14,39.950000000000003,55.93,40.520000000000003,56.72,41.08,57.51,41.65,58.31,42.21,59.1,42.78,59.89,43.34,60.68,43.91,61.47,44.47,62.26,45.04,63.05]
[27,39.83,55.77,null,54,79.05,110.67,null,81,118.28,165.6,null,23,{"$f":"HLOOKUP($N$8,$AB$8:$CI231,S31,FALSE)","v":34.03},47.64,null,null,null,24,null,null,null,null,null,null,null,23,33.44,46.81,34.03,47.64,34.619999999999997,48.47,31.7,44.37,32.29,45.2,32.880000000000003,46.03,33.47,46.86,34.06,47.68,34.65,48.51,35.24,49.34,35.83,50.17,36.42,50.99,37.020000000000003,51.82,37.61,52.65,38.200000000000003,53.48,38.79,54.3,39.380000000000003,55.13,39.97,55.96,40.56,56.79,41.15,57.61,41.74,58.44,42.34,59.27,42.93,60.1,43.52,60.92,44.11,61.75,44.7,62.58,45.29,63.41,45.88,46.23,46.47,65.06,47.06,65.89]
[{"$f":"I31+1","v":82},{"$f":"N90","v":119.72},167.6,null,{"$f":"A58+1","v":109},{"$f":"N117","v":158.93},222.5,null,{"$f":"E58+1","v":136},{"$f":"N144","v":198.16},277.42,null,24,{"$f":"HLOOKUP($N$8,$AB$8:$CI232,S32,FALSE)","v":35.479999999999997},49.67,null,null,null,25,null,null,null,null,null,null,null,24,34.86,48.8,35.479999999999997,49.67,36.090000000000003,50.53,33.049999999999997,46.27,33.659999999999997,47.13,34.28,47.99,34.9,48.86,35.520000000000003,49.72,36.130000000000003,50.58,36.75,51.45,37.369999999999997,52.31,37.979999999999997,53.18,38.6,54.04,39.22,54.9,39.83,55.77,40.450000000000003,56.63,41.07,57.49,41.68,58.36,42.3,59.22,42.92,60.08,43.53,60.95,44.15,61.81,44.77,62.67,45.38,63.54,46,64.400000000000006,46.62,65.260000000000005,47.23,66.13,47.85,66.989999999999995,48.47,67.86,49.08,68.72]
[{"$f":"A32+1","v":83},121.18,169.66,null,{"$f":"E32+1","v":110},160.37,224.52,null,{"$f":"I32+1","v":137},199.66,279.52999999999997,null,25,{"$f":"HLOOKUP($N$8,$AB$8:$CI233,S33,FALSE)","v":36.93},51.7,null,null,null,26,null,null,null,null,null,null,null,25,36.29,50.8,36.93,51.7,37.57,52.6,34.4,48.17,35.049999999999997,49.06,35.69,49.96,36.33,50.86,36.97,51.76,37.619999999999997,52.66,38.26,53.56,38.9,54.46,39.54,55.36,40.19,56.26,40.83,57.16,41.47,58.06,42.11,58.96,42.76,59.86,43.4,60.76,44.04,61.66,44.68,62.56,45.33,63.46,45.97,64.36,46.61,65.260000000000005,47.25,66.16,47.9,67.05,48.54,67.95,49.18,68.849999999999994,49.82,69.75,50.47,70.650000000000006,51.11,71.55]
[84,122.62,171.67,null,111,161.82,226.55,null,138,201.09,281.52,null,26,{"$f":"HLOOKUP($N$8,$AB$8:$CI234,S34,FALSE)","v":38.380000000000003},53.73,null,null,null,27,null,null,null,null,null,null,null,26,37.71,52.8,38.380000000000003,53.73,39.049999999999997,54.67,35.76,50.06,36.42,50.99,37.090000000000003,51.93,37.76,52.86,38.43,53.8,39.1,54.74,39.770000000000003,55.67,40.43,56.61,41.1,57.54,41.77,58.48,42.44,59.41,43.11,60.35,43.77,61.28,44.44,62.22,45.11,63.16,45.78,64.09,46.45,65.03,47.12,65.959999999999994,47.78,66.900000000000006,48.45,67.83,49.12,68.77,49.79,69.7,50.46,70.64,51.12,71.569999999999993,51.79,72.510000000000005,52.46,73.45,53.13,74.38]
[85,124.09,173.73,null,112,163.28,228.59,null,139,202.51,283.52,null,27,{"$f":"HLOOKUP($N$8,$AB$8:$CI235,S35,FALSE)","v":39.83},55.77,null,null,null,28,null,null,null,null,null,null,null,27,39.14,54.8,39.83,55.77,40.53,56.74,37.11,51.96,37.799999999999997,52.93,38.5,53.9,39.19,54.87,39.89,55.84,40.58,56.81,41.27,57.78,41.97,58.76,42.66,59.73,43.36,60.7,44.05,61.67,44.74,62.64,45.44,63.61,46.13,64.58,46.83,65.56,47.52,66.53,48.21,67.5,48.91,68.47,49.6,69.44,50.3,70.41,50.99,71.38,51.68,72.36,52.38,73.33,53.07,74.3,53.76,75.27,54.46,76.239999999999995,55.15,77.209999999999994]
[86,125.53,175.75,null,113,164.73,230.62,null,140,203.94,285.51,null,28,{"$f":"HLOOKUP($N$8,$AB$8:$CI236,S36,FALSE)","v":41.29},57.81,null,null,null,29,null,null,null,null,null,null,null,28,40.57,56.8,41.29,57.81,42.48,58.81,38.47,53.86,39.19,54.86,39.909999999999997,55.87,40.630000000000003,56.88,41.35,57.89,42.07,58.89,42.79,59.9,43.51,60.91,44.23,61.92,44.94,62.92,45.66,63.93,46.38,64.94,47.1,65.94,47.82,66.95,48.54,67.959999999999994,49.26,68.97,49.98,69.97,50.7,70.98,51.42,71.989999999999995,52.14,73,52.86,74,53.58,75.010000000000005,54.3,76.02,55.02,77.03,55.74,78.03,56.46,79.040000000000006,57.18,80.05]
[87,126.98,177.77,null,114,166.19,232.66,null,141,205.45,287.63,null,29,{"$f":"HLOOKUP($N$8,$AB$8:$CI237,S37,FALSE)","v":42.74},59.83,null,null,null,30,null,null,null,null,null,null,null,29,41.99,58.79,42.74,59.83,43.48,60.88,39.82,55.75,40.56,56.79,41.31,57.83,42.06,58.88,42.8,59.92,43.55,60.96,44.29,62.01,45.04,63.05,45.78,64.09,46.53,65.14,47.27,66.180000000000007,48.02,67.22,48.76,68.27,49.51,69.31,50.25,70.36,51,71.400000000000006,51.74,72.44,52.49,73.489999999999995,53.23,74.53,53.98,75.569999999999993,54.73,76.62,55.47,77.66,56.22,78.7,56.96,79.75,57.71,80.790000000000006,58.45,81.83,59.2,82.88]
[88,128.41999999999999,179.79,null,115,167.64,234.7,null,142,206.88,289.63,null,30,{"$f":"HLOOKUP($N$8,$AB$8:$CI238,S38,FALSE)","v":44.19},61.87,null,null,null,31,null,null,null,null,null,null,null,30,43.42,60.79,44.19,61.87,44.96,62.95,41.18,57.65,41.95,58.73,42.72,59.81,43.49,60.89,44.26,61.96,45.03,63.04,45.8,64.12,46.57,65.2,47.34,66.28,48.12,67.36,48.89,68.44,49.66,69.52,50.43,70.599999999999994,51.2,71.680000000000007,51.97,72.760000000000005,52.74,73.84,53.51,74.92,54.28,76,55.05,77.08,55.83,78.16,56.6,79.23,57.37,80.31,58.14,81.39,58.91,82.47,59.68,83.55,60.45,84.63,61.22,85.71]
[89,129.87,181.82,null,116,169.1,236.74,null,143,208.31,291.63,null,31,{"$f":"HLOOKUP($N$8,$AB$8:$CI239,S39,FALSE)","v":45.64},63.9,null,null,null,32,null,null,null,null,null,null,null,31,44.85,62.79,45.64,63.9,46.44,65.02,42.53,59.54,43.33,60.66,44.12,61.77,44.92,62.89,45.72,64,46.51,65.12,47.31,66.23,48.11,67.349999999999994,48.9,68.459999999999994,49.7,69.58,50.5,70.7,51.29,71.81,52.09,72.930000000000007,52.89,74.040000000000006,53.68,75.16,54.48,76.27,55.28,77.39,56.07,78.5,56.87,79.62,57.67,80.73,58.46,81.849999999999994,59.26,82.96,60.06,84.08,60.85,85.2,61.65,86.31,62.45,87.43,63.24,88.54]
[90,131.36000000000001,183.9,null,117,170.57,238.79,null,144,209.83,293.77,null,32,{"$f":"HLOOKUP($N$8,$AB$8:$CI240,S40,FALSE)","v":47.1},65.94,null,null,null,33,null,null,null,null,null,null,null,32,46.27,64.78,47.1,65.94,47.92,67.09,43.88,61.44,44.71,62.59,45.53,63.74,46.35,64.89,47.17,66.040000000000006,48,67.19,48.82,68.349999999999994,49.64,69.5,50.46,70.650000000000006,51.29,71.8,52.11,72.95,52.93,74.099999999999994,53.75,75.25,54.57,76.400000000000006,55.4,77.56,56.22,78.709999999999994,57.04,79.86,57.86,81.010000000000005,58.69,82.16,59.51,83.31,60.33,84.46,61.15,85.62,61.98,86.77,62.8,87.92,63.62,89.07,64.44,90.22,65.27,91.37]
[91,132.81,185.94,null,118,172.07,240.84,null,145,211.27,295.77,null,33,{"$f":"HLOOKUP($N$8,$AB$8:$CI241,S41,FALSE)","v":48.55},67.97,null,null,null,34,null,null,null,null,null,null,null,33,47.7,66.78,48.55,67.97,49.4,69.16,45.24,63.33,46.09,64.52,46.93,65.709999999999994,47.78,66.900000000000006,48.63,68.08,49.48,69.27,50.33,70.459999999999994,51.17,71.64,52.02,72.83,52.87,74.02,53.72,75.209999999999994,54.57,76.39,55.42,77.58,56.26,78.77,57.11,79.959999999999994,57.96,81.14,58.81,82.33,59.66,83.52,60.5,84.71,61.35,85.89,62.2,87.08,63.05,88.27,60.9,89.45,64.739999999999995,90.64,65.59,91.83,66.44,93.02,67.290000000000006,94.2]
[92,134.22999999999999,187.92,null,119,173.5,242.89,null,146,212.7,297.77999999999997,null,34,{"$f":"HLOOKUP($N$8,$AB$8:$CI242,S42,FALSE)","v":50},70,null,null,null,35,null,null,null,null,null,null,null,34,49.13,68.78,50,70,50.87,71.22,46.59,65.23,47.47,66.45,48.34,67.680000000000007,49.21,68.900000000000006,50.09,70.12,50.96,71.349999999999994,51.83,72.569999999999993,52.71,73.790000000000006,53.58,75.02,54.46,76.239999999999995,55.33,77.459999999999994,56.2,78.69,57.08,79.91,57.95,81.13,58.83,82.36,59.7,83.58,60.57,84.8,61.45,86.03,62.32,87.25,63.19,88.47,64.069999999999993,89.7,64.94,90.92,65.819999999999993,92.14,66.69,93.63,67.56,94.59,68.44,95.81,69.31,97.03]
[93,135.69,189.96,null,120,174.9,244.66,null,147,214.13,299.79000000000002,null,35,{"$f":"HLOOKUP($N$8,$AB$8:$CI243,S43,FALSE)","v":51.45},72.03,null,null,null,36,null,null,null,null,null,null,null,35,50.55,70.77,51.45,72.03,52.35,73.290000000000006,47.95,67.12,48.84,68.38,49.74,69.64,50.64,70.900000000000006,51.54,72.16,52.44,73.42,53.34,74.680000000000007,54.24,75.94,55.14,77.2,56.04,78.459999999999994,56.94,79.72,57.84,80.98,58.74,82.23,59.64,83.49,60.54,84.75,61.44,86.01,62.34,87.27,63.24,88.53,64.14,89.79,65.040000000000006,91.05,65.94,92.31,66.83,93.57,67.73,94.83,68.63,96.09,69.53,97.35,70.430000000000007,98.61,71.33,99.87]
[94,137.15,192.01,null,121,176.37,246.92,null,148,215.57,301.8,null,36,{"$f":"HLOOKUP($N$8,$AB$8:$CI244,S44,FALSE)","v":52.91},74.069999999999993,null,null,null,37,null,null,null,null,null,null,null,36,51.98,72.78,52.91,74.069999999999993,53.83,75.37,49.3,69.02,50.23,70.319999999999993,51.15,71.62,52.08,72.91,53,74.209999999999994,53.93,75.5,54.85,76.8,55.78,78.09,56.71,79.39,57.63,80.680000000000007,58.56,81.98,59.48,83.27,60.41,84.57,61.33,85.86,62.26,87.16,63.18,88.45,64.11,89.75,65.03,91.04,65.959999999999994,92.34,66.88,93.64,67.81,94.93,68.73,96.23,69.66,97.52,70.58,98.82,71.510000000000005,100.11,72.430000000000007,101.41,73.36,102.7]
[95,138.61000000000001,194.06,null,122,177.84,248.98,null,149,217.11,303.95,null,37,{"$f":"HLOOKUP($N$8,$AB$8:$CI245,S45,FALSE)","v":54.36},76.099999999999994,null,null,null,38,null,null,null,null,null,null,null,37,53.41,74.77,54.36,76.099999999999994,55.31,77.430000000000007,50.65,70.92,51.61,72.25,52.56,73.58,53.51,74.91,54.46,76.239999999999995,55.41,77.569999999999993,56.36,78.900000000000006,57.31,80.23,58.26,81.569999999999993,59.21,82.9,60.16,84.23,61.1,85.56,62.06,86.89,63.02,88.22,63.97,89.55,64.92,90.88,65.87,92.22,66.819999999999993,93.55,67.77,94.88,68.72,96.21,69.67,97.54,70.62,98.87,71.569999999999993,100.2,72.52,101.53,73.48,102.48,74.430000000000007,104.2,75.38,105.53]
[96,140.08000000000001,196.11,null,123,179.25,250.95,null,150,218.54,305.95999999999998,null,38,{"$f":"HLOOKUP($N$8,$AB$8:$CI246,S46,FALSE)","v":55.81},78.13,null,null,null,39,null,null,null,null,null,null,null,38,54.83,76.77,55.81,78.13,56.79,79.5,52.01,72.81,52.99,74.180000000000007,53.96,75.55,54.94,76.91,55.92,78.28,56.89,79.650000000000006,57.87,81.02,58.85,82.38,59.82,83.75,60.8,85.12,61.78,86.49,62.75,87.85,63.73,89.22,64.709999999999994,90.59,65.680000000000007,91.95,66.66,93.32,67.63,94.69,68.61,96.06,69.59,97.42,70.56,98.79,71.540000000000006,100.16,72.52,101.53,73.489999999999995,102.89,74.47,104.26,75.45,105.63,76.42,106.99,77.400000000000006,108.36]
[97,141.5,198.1,null,124,180.73,253.02,null,151,219.98,307.98,null,39,{"$f":"HLOOKUP($N$8,$AB$8:$CI247,S47,FALSE)","v":57.27},80.180000000000007,null,null,null,40,null,null,null,null,null,null,null,39,56.27,78.77,57.27,80.180000000000007,58.27,81.58,53.37,74.72,54.37,76.12,55.37,77.52,56.38,78.930000000000007,57.38,80.33,58.38,81.73,59.38,83.14,60.39,84.54,61.39,85.94,62.39,87.35,63.39,88.75,64.39,90.15,65.400000000000006,91.56,66.400000000000006,92.96,67.400000000000006,94.36,68.400000000000006,95.77,69.41,97.17,70.41,98.57,71.41,99.98,72.41,101.38,73.42,102.78,74.42,104.18,75.42,105.59,76.42,106.99,77.42,108.39,78.430000000000007,109.8,79.430000000000007,111.2]
[98,142.97,200.16,null,125,182.2,255.09,null,152,221.43,310,null,40,{"$f":"HLOOKUP($N$8,$AB$8:$CI248,S48,FALSE)","v":58.72},82.2,null,null,null,41,null,null,null,null,null,null,null,40,57.69,80.760000000000005,58.72,82.2,59.74,83.64,54.72,76.61,55.75,78.05,56.78,79.489999999999995,57.8,80.930000000000007,58.83,82.36,59.86,83.8,60.89,85.24,61.92,86.68,62.94,88.12,63.97,89.56,65,91,66.03,92.44,67.06,93.88,68.08,95.32,69.11,96.76,70.14,98.2,71.17,99.63,72.2,101.07,73.22,102.51,74.25,103.95,75.28,105.39,76.31,106.83,77.34,108.27,78.36,109.71,79.39,111.15,80.42,112.59,81.45,114.03]
[99,144.4,202.16,null,126,183.61,257.06,null,153,222.87,312.02,null,41,{"$f":"HLOOKUP($N$8,$AB$8:$CI249,S49,FALSE)","v":60.17},84.24,null,null,null,42,null,null,null,null,null,null,null,41,59.11,82.76,60.17,84.24,61.22,85.71,56.07,78.5,57.13,79.98,58.18,81.45,59.24,82.93,60.29,84.4,61.34,85.88,62.4,87.35,63.45,88.83,64.5,90.31,65.56,91.78,66.61,93.26,67.66,94.73,68.72,96.21,69.77,97.68,70.83,99.16,71.88,100.63,72.930000000000007,102.11,73.989999999999995,103.58,75.040000000000006,105.06,76.09,106.53,77.150000000000006,108.01,78.2,109.48,79.260000000000005,110.96,80.31,112.43,81.36,113.91,82.42,115.38,83.47,116.86]
[100,145.88,204.23,null,127,185.1,259.14,null,154,224.31,314.04000000000002,null,42,{"$f":"HLOOKUP($N$8,$AB$8:$CI250,S50,FALSE)","v":61.63},86.28,null,null,null,43,null,null,null,null,null,null,null,42,60.55,84.76,61.63,86.28,62.71,87.79,57.43,80.41,58.51,81.92,59.59,83.43,60.67,84.94,61.75,86.45,62.83,87.96,63.91,89.47,64.989999999999995,90.98,66.069999999999993,92.5,67.150000000000006,94.01,68.23,95.52,69.31,97.03,70.39,98.54,71.47,100.05,72.540000000000006,101.56,73.62,103.07,74.7,104.58,75.78,106.1,76.86,107.61,77.94,109.12,79.02,110.63,80.099999999999994,112.14,81.180000000000007,113.65,82.26,115.16,83.34,116.67,84.42,118.19,85.5,119.7]
[101,147.31,206.23,null,128,186.58,261.22000000000003,null,155,225.76,316.06,null,43,{"$f":"HLOOKUP($N$8,$AB$8:$CI251,S51,FALSE)","v":63.07},88.3,null,null,null,44,null,null,null,null,null,null,null,43,61.96,86.75,63.07,88.3,64.17,89.84,58.78,82.29,59.89,83.84,60.99,85.39,62.1,86.93,63.2,88.48,64.31,90.03,65.41,91.57,66.52,93.12,67.62,94.67,68.73,96.22,69.83,97.76,70.94,99.31,72.040000000000006,100.86,73.150000000000006,102.4,74.25,103.95,75.36,105.5,76.459999999999994,107.05,77.569999999999993,108.59,78.67,110.14,79.78,111.69,80.88,113.23,81.99,114.78,83.09,116.33,84.2,117.88,85.3,119.42,86.41,120.97,87.51,122.52]
[102,148.79,208.31,null,129,188,263.2,null,156,227.2,318.08,null,44,{"$f":"HLOOKUP($N$8,$AB$8:$CI252,S52,FALSE)","v":64.53},90.34,null,null,null,45,null,null,null,null,null,null,null,44,63.4,88.75,64.53,90.34,65.66,91.92,60.14,84.19,61.27,85.78,62.4,87.36,63.53,88.94,64.66,90.53,65.790000000000006,92.11,66.92,93.69,68.05,95.28,69.19,96.86,70.319999999999993,98.44,71.45,100.03,72.58,101.61,73.709999999999994,103.19,74.84,104.78,75.97,106.36,77.099999999999994,107.94,78.23,109.52,79.36,111.11,80.489999999999995,112.69,81.62,114.27,82.76,115.86,83.89,117.44,85.02,119.02,86.15,120.61,87.28,122.19,88.41,123.77,89.54,125.36]
[103,150.22999999999999,210.32,null,130,189.49,265.27999999999997,null,157,228.65,320.11,null,45,{"$f":"HLOOKUP($N$8,$AB$8:$CI253,S53,FALSE)","v":65.98},92.37,null,null,null,46,null,null,null,null,null,null,null,45,64.819999999999993,90.75,65.98,92.37,67.14,93.99,61.49,86.09,62.65,87.71,63.81,89.33,64.959999999999994,90.95,66.12,92.57,67.28,94.19,68.430000000000007,95.81,69.59,97.42,70.75,99.04,71.900000000000006,100.66,73.06,102.28,74.22,103.9,75.37,105.52,76.53,107.14,77.680000000000007,108.76,78.84,110.38,80,112,81.150000000000006,113.62,82.31,115.23,83.47,116.85,84.62,118.47,85.78,120.09,86.94,121.71,88.09,123.33,89.25,124.95,90.41,126.57,91.56,128.19]
[104,151.66,212.33,null,131,190.9,267.26,null,158,230.1,322.14,null,46,{"$f":"HLOOKUP($N$8,$AB$8:$CI254,S54,FALSE)","v":67.44},94.41,null,null,null,47,null,null,null,null,null,null,null,46,66.25,92.76,67.44,94.41,68.62,96.07,62.85,87.99,64.03,89.65,65.22,91.3,66.400000000000006,92.96,67.58,94.61,68.760000000000005,96.27,69.95,97.92,71.13,99.58,72.31,101.23,73.489999999999995,102.89,74.67,104.54,75.86,106.2,77.040000000000006,107.85,78.22,109.51,79.400000000000006,111.16,80.59,112.82,81.77,114.47,82.95,116.13,84.13,117.78,85.31,119.44,86.5,121.09,87.68,122.75,88.86,124.4,90.04,126.06,91.22,127.71,82.41,129.37,93.59,131.03]
[105,153.15,214.41,null,132,192.32,269.25,null,159,231.55,324.17,null,47,{"$f":"HLOOKUP($N$8,$AB$8:$CI255,S55,FALSE)","v":68.89},96.44,null,null,null,48,null,null,null,null,null,null,null,47,67.680000000000007,94.75,68.89,96.44,70.099999999999994,98.13,64.209999999999994,89.89,65.41,91.58,66.62,93.27,67.83,94.96,69.040000000000006,96.65,70.239999999999995,98.34,71.45,100.03,72.66,101.72,73.87,103.42,75.08,105.11,76.28,106.8,77.489999999999995,108.49,78.7,110.18,79.91,111.87,81.12,113.56,82.32,115.25,83.53,116.94,84.74,118.64,85.95,120.33,87.16,122.02,88.36,123.71,89.57,125.4,90.78,127.09,91.99,128.78,93.19,130.47,94.4,132.16,95.61,133.85]
[106,154.59,216.43,null,133,193.82,271.33999999999997,null,160,233,326.2,null,48,{"$f":"HLOOKUP($N$8,$AB$8:$CI256,S56,FALSE)","v":70.33},98.46,null,null,null,49,null,null,null,null,null,null,null,48,69.099999999999994,96.74,70.33,98.46,71.56,100.19,65.55,91.77,66.790000000000006,93.5,68.02,95.23,69.25,96.95,70.489999999999995,98.68,71.72,100.41,72.95,102.13,74.19,103.86,75.42,105.59,76.650000000000006,107.32,77.89,109.04,79.12,110.77,80.349999999999994,112.5,81.59,114.22,82.82,115.95,84.06,117.68,85.29,119.41,86.52,121.13,87.76,122.86,88.99,124.59,90.22,126.31,91.46,128.04,92.69,129.77000000000001,93.92,131.49,95.16,133.22,96.39,134.94999999999999,97.63,136.68]
[107,156.04,218.45,null,134,195.23,273.33,null,161,234.45,328.23,null,49,{"$f":"HLOOKUP($N$8,$AB$8:$CI257,S57,FALSE)","v":71.790000000000006},100.51,null,null,null,50,null,null,null,null,null,null,null,49,70.53,98.74,71.790000000000006,100.51,73.05,102.27,66.91,93.68,68.17,95.44,69.430000000000007,97.2,70.69,98.97,71.95,100.73,73.209999999999994,102.49,74.47,104.26,75.73,106.02,76.989999999999995,107.78,78.25,109.54,79.510000000000005,111.31,80.760000000000005,113.07,82.02,114.83,83.28,116.6,84.54,118.36,85.8,120.12,87.06,121.89,88.32,123.65,89.58,125.41,90.84,127.17,92.1,128.94,93.36,130.69999999999999,94.62,132.46,95.88,134.22999999999999,97.14,135.99,98.39,137.75,99.65,139.52000000000001]
[108,157.47999999999999,220.47,null,135,196.74,275.43,null,162,235.91,330.27,null,50,{"$f":"HLOOKUP($N$8,$AB$8:$CI258,S58,FALSE)","v":73.239999999999995},102.54,null,null,null,51,null,null,null,null,null,null,null,50,71.959999999999994,100.74,73.239999999999995,102.54,74.53,104.34,68.27,95.57,69.55,97.37,70.84,99.17,72.12,100.97,73.41,102.77,74.69,104.57,75.98,106.37,77.260000000000005,108.16,78.55,109.96,79.83,111.76,81.12,113.56,82.4,115.36,83.69,117.16,84.97,118.96,86.26,120.76,87.54,122.56,88.83,124.36,90.11,126.15,91.4,127.95,92.68,129.75,93.97,131.55000000000001,95.25,133.35,96.54,135.15,97.82,136.94999999999999,99.11,138.75,100.39,140.55000000000001,101.68,142.35]
[{"$f":"I58+1","v":163},{"$f":"N171","v":237.36},332.31,null,{"$f":"A85+1","v":190},{"$f":"N198","v":276.64999999999998},387.32,null,null,null,null,null,51,{"$f":"HLOOKUP($N$8,$AB$8:$CI259,S59,FALSE)","v":74.7},104.58,null,null,null,52,null,null,null,null,null,null,null,51,73.39,102.74,74.7,104.58,76.010000000000005,106.41,69.62,97.47,70.930000000000007,99.31,72.239999999999995,101.14,73.55,102.98,74.87,104.81,76.180000000000007,106.65,77.489999999999995,108.48,78.8,110.32,80.11,112.15,81.42,113.99,82.73,115.82,84.04,117.66,85.35,119.49,86.66,121.33,87.97,123.16,89.28,125,90.59,126.83,91.9,128.66999999999999,93.22,130.5,94.53,132.34,95.84,134.16999999999999,97.15,136.01,98.46,137.84,99.77,139.68,101.08,141.51,102.39,143.35,103.7,145.18]
[{"$f":"A59+1","v":164},238.82,334.35,null,{"$f":"E59+1","v":191},278.14999999999998,389.41,null,null,null,null,null,52,{"$f":"HLOOKUP($N$8,$AB$8:$CI260,S60,FALSE)","v":76.14},106.6,null,null,null,53,null,null,null,null,null,null,null,52,74.81,104.73,76.14,106.6,77.48,108.47,70.97,99.36,72.31,101.23,73.64,103.1,74.98,104.97,76.319999999999993,106.84,77.650000000000006,108.72,78.989999999999995,110.59,80.33,112.46,81.66,114.33,83,116.2,84.34,118.07,85.67,119.94,87.01,121.81,88.35,123.68,89.68,125.55,91.02,127.43,92.35,129.30000000000001,93.69,131.16999999999999,95.03,133.04,96.36,134.91,97.7,136.78,99.04,138.65,100.37,140.52000000000001,101.71,142.38999999999999,103.05,144.26,104.38,146.13,105.72,148.01]
[165,240.28,336.39,null,192,279.49,391.29,null,null,null,null,null,53,{"$f":"HLOOKUP($N$8,$AB$8:$CI261,S61,FALSE)","v":77.59},108.63,null,null,null,54,null,null,null,null,null,null,null,53,76.23,106.72,77.59,108.63,78.95,110.54,72.319999999999993,101.25,73.69,103.16,75.05,105.07,76.41,106.97,77.77,108.88,79.13,110.79,80.5,112.7,81.86,114.6,83.22,116.51,84.58,118.42,85.95,120.32,87.31,122.23,88.67,124.14,90.03,126.04,91.39,127.95,92.76,129.86000000000001,94.12,131.77000000000001,95.48,133.66999999999999,96.84,135.58000000000001,98.2,137.49,99.57,139.38999999999999,100.93,141.30000000000001,102.29,143.21,103.65,145.11000000000001,105.01,147.02000000000001,106.38,148.93,107.74,150.83000000000001]
[166,241.74,338.43,null,193,280.99,393.39,null,null,null,null,null,54,{"$f":"HLOOKUP($N$8,$AB$8:$CI262,S62,FALSE)","v":79.05},110.67,null,null,null,55,null,null,null,null,null,null,null,54,77.66,108.72,79.05,110.67,80.430000000000007,112.61,73.680000000000007,103.15,75.069999999999993,105.09,76.459999999999994,107.04,77.84,108.98,79.23,110.92,80.62,112.87,82.01,114.81,83.39,116.75,84.78,118.7,86.17,120.64,87.56,122.58,88.95,124.52,90.33,126.47,91.72,128.41,93.11,130.35,94.5,132.30000000000001,95.88,134.24,97.27,136.18,98.66,138.12,100.05,140.07,101.44,142.01,102.82,143.94999999999999,104.21,145.9,105.6,147.84,106.99,149.78,108.37,151.72,109.76,153.66999999999999]
[167,243.2,340.48,null,194,282.5,395.5,null,null,null,null,null,55,{"$f":"HLOOKUP($N$8,$AB$8:$CI263,S63,FALSE)","v":80.5},112.71,null,null,null,56,null,null,null,null,null,null,null,55,79.09,110.73,80.5,112.71,81.92,114.68,75.040000000000006,105.05,76.45,107.03,77.87,109.01,79.28,110.99,80.69,112.97,82.11,114.95,83.52,116.93,84.93,118.91,86.35,120.89,87.76,122.86,89.17,124.84,90.59,126.82,92,128.80000000000001,93.41,130.78,94.83,132.76,96.24,134.74,97.66,136.72,99.07,138.69999999999999,100.48,140.66999999999999,101.9,142.65,103.31,144.63,104.72,146.61000000000001,106.14,148.59,107.55,150.57,108.96,152.55000000000001,110.38,154.53,111.79,156.51]
[168,244.66,342.53,null,195,283.83999999999997,397.37,null,null,null,null,null,56,{"$f":"HLOOKUP($N$8,$AB$8:$CI264,S64,FALSE)","v":81.95},114.73,null,null,null,57,null,null,null,null,null,null,null,56,80.510000000000005,112.72,81.95,114.73,83.39,116.75,76.39,106.94,77.83,108.96,79.27,110.97,80.709999999999994,112.99,82.15,115,83.58,117.02,85.02,119.03,86.46,121.05,87.9,123.06,89.34,125.08,90.78,127.09,92.22,129.11000000000001,93.66,131.12,95.1,133.13999999999999,96.54,135.15,97.98,137.16999999999999,99.42,139.18,100.85,141.19999999999999,102.29,143.21,103.73,145.22999999999999,105.17,147.24,106.61,149.26,108.05,151.27000000000001,109.49,153.29,110.93,155.30000000000001,112.37,157.32,113.81,159.33000000000001]
[169,246.13,344.58,null,196,285.33999999999997,399.48,null,null,null,null,null,57,{"$f":"HLOOKUP($N$8,$AB$8:$CI265,S65,FALSE)","v":83.4},116.76,null,null,null,58,null,null,null,null,null,null,null,57,81.94,114.71,83.4,116.76,84.87,118.81,77.739999999999995,108.84,79.209999999999994,110.89,80.67,112.94,82.14,114.99,83.6,117.04,85.07,119.09,86.53,121.14,87.99,123.19,89.46,125.24,90.92,127.29,92.39,129.35,93.85,131.4,95.32,133.44999999999999,96.78,135.5,98.25,137.55000000000001,99.71,139.6,101.18,141.65,102.64,143.69999999999999,104.11,145.75,105.57,147.80000000000001,107.04,149.85,108.5,151.9,109.97,153.96,111.43,156.01,112.9,158.06,114.36,160.11000000000001,115.83,162.16]
[170,247.59,346.63,null,197,286.85000000000002,401.59,null,null,null,null,null,58,{"$f":"HLOOKUP($N$8,$AB$8:$CI266,S66,FALSE)","v":84.85},118.8,null,null,null,59,null,null,null,null,null,null,null,58,83.36,116.71,84.85,118.8,86.34,120.88,79.099999999999994,110.73,80.59,112.82,82.08,114.91,83.57,116.99,85.06,119.08,86.55,121.17,88.04,123.26,89.53,125.34,91.02,127.43,92.51,129.52000000000001,94,131.6,95.49,133.69,96.98,135.78,98.47,137.86000000000001,99.96,139.94999999999999,101.45,142.04,102.95,144.12,104.44,146.21,105.93,148.30000000000001,107.42,150.38,108.91,152.47,110.4,154.56,111.89,156.63999999999999,113.38,158.72999999999999,114.87,160.82,116.36,162.91,117.85,164.99]
[171,249.06,348.68,null,198,288.19,403.47,null,null,null,null,null,59,{"$f":"HLOOKUP($N$8,$AB$8:$CI267,S67,FALSE)","v":86.31},120.84,null,null,null,60,null,null,null,null,null,null,null,59,84.79,118.71,86.31,120.84,87.83,122.96,80.45,112.64,81.97,114.76,83.49,116.88,85,119,86.52,121.13,88.04,123.25,89.55,125.37,91.07,127.5,92.59,129.62,94.1,131.74,95.62,133.86000000000001,97.13,135.99,98.65,138.11000000000001,100.17,140.22999999999999,101.68,142.36000000000001,103.2,144.47999999999999,104.72,146.6,106.23,148.72,107.75,150.85,109.26,152.97,110.78,155.09,112.3,157.22,113.81,159.34,115.33,161.46,116.85,163.58000000000001,118.36,165.71,119.88,167.83]
[172,250.53,350.74,null,199,289.7,405.58,null,null,null,null,null,60,{"$f":"HLOOKUP($N$8,$AB$8:$CI268,S68,FALSE)","v":87.77},122.88,null,null,null,61,null,null,null,null,null,null,null,60,86.23,120.72,87.77,122.88,89.31,125.04,81.819999999999993,114.54,83.36,116.7,84.9,118.86,86.44,121.02,87.98,123.18,89.53,125.34,91.07,127.5,92.61,129.65,94.15,131.81,95.69,133.97,97.24,136.13,98.78,138.29,100.32,140.44999999999999,101.86,142.61000000000001,103.4,144.77000000000001,104.95,146.93,106.49,149.08000000000001,108.03,151.24,109.57,153.4,111.11,155.56,112.66,157.72,114.2,159.88,115.74,162.04,117.28,164.2,118.82,166.35,120.37,168.51,121.91,170.67]
[173,251.87,352.62,null,200,291.20999999999998,407.7,null,null,null,null,null,61,{"$f":"HLOOKUP($N$8,$AB$8:$CI269,S69,FALSE)","v":89.22},124.91,null,null,null,62,null,null,null,null,null,null,null,61,87.65,122.71,89.22,124.91,90.79,127.1,83.17,116.43,84.73,118.63,86.3,120.82,87.87,123.02,89.44,125.21,91,127.41,92.57,129.6,94.14,131.80000000000001,95.71,133.99,97.28,136.19,98.84,138.38,100.41,140.58000000000001,101.98,142.77000000000001,103.55,144.97,105.11,147.16,106.68,149.35,108.25,151.55000000000001,109.82,153.74,111.39,155.94,112.95,158.13,114.52,160.33000000000001,116.09,162.52000000000001,117.66,164.72,119.22,166.91,120.79,169.11,122.36,171.3,123.93,173.5]
[174,253.34,354.68,null,"200 -\n1000",{"$f":"\"เพิ่ม  \"&ROUND(N209,2)","v":"เพิ่ม  1.46"},{"$f":"\"เพิ่ม  \"&ROUND(O209,2)","v":"เพิ่ม  2.04"},null,null,null,null,null,62,{"$f":"HLOOKUP($N$8,$AB$8:$CI270,S70,FALSE)","v":90.67},126.94,null,null,null,63,null,null,null,null,null,null,null,62,89.08,124.71,90.67,126.94,92.26,129.16999999999999,84.52,118.33,86.11,120.56,87.71,122.79,89.3,125.02,90.89,127.25,92.49,129.47999999999999,94.08,131.71,95.67,133.94,97.27,136.16999999999999,98.86,138.4,100.45,140.63,102.05,142.86000000000001,103.64,145.1,105.23,147.33000000000001,106.83,149.56,108.42,151.79,110.01,154.02000000000001,111.61,156.25,113.2,158.47999999999999,114.79,160.71,116.39,162.94,117.98,165.17,119.57,167.4,121.17,169.63,122.76,171.86,124.35,174.1,125.95,176.33]
[175,254.81,356.74,null,null,"ต่อ กม.","ต่อ กม.",null,null,null,null,null,63,{"$f":"HLOOKUP($N$8,$AB$8:$CI271,S71,FALSE)","v":92.12},128.97,null,null,null,64,null,null,null,null,null,null,null,63,90.5,126.71,92.12,128.97,93.74,131.24,85.87,120.22,87.49,122.49,89.11,124.76,90.73,127.02,92.35,129.29,93.97,131.56,95.59,133.82,97.21,136.09,98.83,138.36000000000001,100.45,140.62,102.07,142.88999999999999,103.68,145.16,105.3,147.43,106.92,149.69,108.54,151.96,110.16,154.22999999999999,111.78,156.49,113.4,158.76,115.02,161.03,116.64,163.29,118.26,165.56,119.88,167.83,121.49,170.09,123.11,172.36,124.73,174.63,126.35,176.89,127.97,179.16]
[176,256.29000000000002,358.8,null,null,null,null,null,null,null,null,null,64,{"$f":"HLOOKUP($N$8,$AB$8:$CI272,S72,FALSE)","v":93.58},131.01,null,null,null,65,null,null,null,null,null,null,null,64,91.94,128.71,93.58,131.01,95.22,133.31,87.23,122.13,88.88,124.43,90.52,126.73,92.17,129.03,93.81,131.34,95.46,133.63999999999999,97.1,135.94,98.75,138.25,100.39,140.55000000000001,102.04,142.85,103.68,145.15,105.33,147.46,106.97,149.76,108.62,152.06,110.26,154.36000000000001,111.9,156.66999999999999,113.55,158.97,115.19,161.27000000000001,116.84,163.57,118.48,165.88,120.13,168.18,121.77,170.48,123.42,172.79,125.06,175.09,126.71,177.39,128.35,179.69,130,182]
[177,257.76,360.87,null,null,null,null,null,null,null,null,null,65,{"$f":"HLOOKUP($N$8,$AB$8:$CI273,S73,FALSE)","v":95.02},133.03,null,null,null,66,null,null,null,null,null,null,null,65,93.35,130.69,95.02,133.03,96.69,135.37,88.58,124.01,90.25,126.35,91.92,128.68,93.59,131.02000000000001,95.26,133.36000000000001,96.93,135.69999999999999,98.6,138.04,100.27,140.38,101.94,142.72,103.61,145.06,105.28,147.38999999999999,106.95,149.72999999999999,108.62,152.07,110.29,154.41,111.96,156.75,113.63,159.09,115.3,161.43,116.98,163.77000000000001,118.65,166.1,120.32,168.44,121.99,170.78,123.66,173.12,125.33,175.46,127,177.8,128.66999999999999,180.14,130.34,182.47,132.01,184.81]
[178,259.24,362.87,null,null,null,null,null,null,null,null,null,{"$f":"M73+1","v":66},{"$f":"HLOOKUP($N$8,$AB$8:$CI274,S74,FALSE)","v":96.48},{"$f":"HLOOKUP($O$8,$AB$8:$CI$209,S74,FALSE)","v":135.08000000000001},null,null,null,67,null,null,null,null,null,null,null,66,94.79,132.69999999999999,96.48,135.08000000000001,98.18,137.44999999999999,89.94,125.92,91.64,128.29,93.33,130.66999999999999,95.03,133.04,96.73,135.41999999999999,98.42,137.79,100.12,140.16999999999999,101.81,142.54,103.51,144.91,105.21,147.29,106.9,149.66,108.6,152.04,110.3,154.41,111.99,156.79,113.69,159.16,115.38,161.54,117.08,163.91,118.78,166.29,120.47,168.66,122.17,171.04,123.86,173.41,125.56,175.79,127.26,178.16,128.94999999999999,180.54,130.65,182.91,132.35,185.28,134.04,187.66]
[179,260.58,364.81,null,null,null,null,null,null,null,null,null,67,{"$f":"HLOOKUP($N$8,$AB$8:$CI275,S75,FALSE)","v":97.93},137.1,null,null,null,68,null,null,null,null,null,null,null,67,96.21,134.69,97.93,137.1,99.65,139.51,91.29,127.81,93.01,130.22,94.73,132.63,96.46,135.04,98.18,137.44999999999999,99.9,139.86000000000001,101.62,142.27000000000001,103.34,144.68,105.07,147.09,106.79,149.5,108.51,151.91,110.23,154.32,111.95,156.72999999999999,113.67,159.13999999999999,115.4,161.56,117.12,163.97,118.84,166.38,120.56,168.79,122.28,171.2,124.01,173.61,125.73,176.02,127.45,178.43,129.16999999999999,180.84,130.88999999999999,183.25,132.62,185.66,134.34,188.07,136.06,190.48]
[180,262.06,366.89,null,null,null,null,null,null,null,null,null,68,{"$f":"HLOOKUP($N$8,$AB$8:$CI276,S76,FALSE)","v":99.38},139.13,null,null,null,69,null,null,null,null,null,null,null,68,97.63,136.68,99.38,139.13,101.13,141.58000000000001,92.64,129.69999999999999,94.39,132.13999999999999,96.14,134.59,97.88,137.04,99.63,139.47999999999999,101.38,141.93,103.13,144.38,104.87,146.82,106.62,149.27000000000001,108.37,151.72,110.12,154.16,111.86,156.61000000000001,113.61,159.06,115.36,161.5,117.11,163.95,118.86,166.4,120.6,168.84,122.35,171.29,124.1,173.74,125.85,176.18,127.59,178.63,129.34,181.08,131.09,183.52,132.84,185.97,134.58000000000001,188.42,136.33000000000001,190.86,138.08000000000001,193.31]
[181,263.02999999999997,368.96,null,null,null,null,null,null,null,null,null,69,{"$f":"HLOOKUP($N$8,$AB$8:$CI277,S77,FALSE)","v":100.83},141.16,null,null,null,70,null,null,null,null,null,null,null,69,99.06,138.68,100.83,141.16,102.6,143.65,94,131.59,95.77,134.08000000000001,97.54,136.56,99.32,139.04,101.09,141.52000000000001,102.86,144.01,104.64,146.49,106.41,148.97,108.18,151.44999999999999,109.95,153.94,111.73,156.41999999999999,113.5,158.9,115.27,161.38,117.05,163.87,118.82,166.35,120.59,168.83,122.37,171.32,124.14,173.8,125.91,176.28,127.69,178.76,129.46,181.25,131.22999999999999,183.73,133.01,186.21,134.78,188.69,136.55000000000001,191.18,138.33000000000001,193.66,140.1,196.14]
[182,265.02999999999997,371.04,null,null,null,null,null,null,null,null,null,70,{"$f":"HLOOKUP($N$8,$AB$8:$CI278,S78,FALSE)","v":102.29},143.19999999999999,null,null,null,71,null,null,null,null,null,null,null,70,100.49,140.68,102.29,143.19999999999999,104.08,145.72,95.35,133.49,97.15,136.01,98.95,138.53,100.75,141.05000000000001,102.55,143.57,104.35,146.09,106.15,148.6,107.94,151.12,109.74,153.63999999999999,111.54,156.16,113.34,158.68,115.14,161.19999999999999,116.94,163.72,118.74,166.23,120.54,168.75,122.34,171.27,124.14,173.79,125.93,176.31,127.73,178.83,129.53,181.35,131.33000000000001,183.86,133.13,186.38,134.93,188.9,136.72999999999999,191.42,138.53,193.94,140.33000000000001,196.46,142.13,198.98]
[183,266.51,373.12,null,null,null,null,null,null,null,null,null,71,{"$f":"HLOOKUP($N$8,$AB$8:$CI279,S79,FALSE)","v":103.74},145.24,null,null,null,72,null,null,null,null,null,null,null,71,101.92,142.69,103.74,145.24,105.57,147.80000000000001,96.71,135.4,98.54,137.94999999999999,100.36,140.51,102.19,143.06,104.01,145.61000000000001,105.83,148.16999999999999,107.66,150.72,109.48,153.28,111.31,155.83000000000001,113.13,158.38999999999999,114.96,160.94,116.78,163.5,118.61,166.05,120.43,168.61,122.26,171.16,124.08,173.71,125.91,176.27,127.73,178.82,129.56,181.38,131.38,183.93,133.21,186.49,135.03,189.04,136.85,191.6,138.68,194.15,140.5,196.71,142.33000000000001,199.26,144.15,201.82]
[184,267.85000000000002,374.99,null,null,null,null,null,null,null,null,null,72,{"$f":"HLOOKUP($N$8,$AB$8:$CI280,S80,FALSE)","v":105.21},147.29,null,null,null,73,null,null,null,null,null,null,null,72,103.35,144.68,105.21,147.29,107.06,149.88,98.07,137.30000000000001,99.92,139.88999999999999,101.77,142.47999999999999,103.63,145.08000000000001,105.48,147.66999999999999,107.33,150.26,109.18,152.85,111.03,155.44,112.88,158.03,114.73,160.62,116.58,163.21,118.43,165.8,120.28,168.39,122.13,170.98,123.98,173.57,125.83,176.16,127.68,178.75,129.53,181.34,131.38,183.93,133.22999999999999,186.52,135.08000000000001,189.11,136.93,191.71,138.78,194.3,140.63,196.89,142.47999999999999,199.48,144.33000000000001,202.07,146.18,204.66]
[185,269.33999999999997,377.08,null,null,null,null,null,null,null,null,null,73,{"$f":"HLOOKUP($N$8,$AB$8:$CI281,S81,FALSE)","v":106.64},149.30000000000001,null,null,null,74,null,null,null,null,null,null,null,73,104.77,146.68,106.64,149.30000000000001,108.52,151.93,99.42,139.18,101.29,141.81,103.17,144.44,105.05,147.06,106.92,149.69,108.8,152.32,110.67,154.941,112.55,157.57,114.43,160.19999999999999,116.3,162.82,118.18,165.45,120.05,168.08,121.93,170.7,123.81,173.33,125.68,175.96,127.56,178.58,129.43,181.21,131.31,183.84,133.19,186.46,135.06,189.09,136.94,191.71,138.82,194.34,140.69,196.97,142.57,199.59,144.44,202.22,146.32,204.85,148.19999999999999,207.47]
[186,270.83,379.16,null,null,null,null,null,null,null,null,null,74,{"$f":"HLOOKUP($N$8,$AB$8:$CI282,S82,FALSE)","v":108.11},151.36000000000001,null,null,null,75,null,null,null,null,null,null,null,74,106.21,148.69999999999999,108.11,151.36000000000001,110.01,154.02000000000001,100.79,141.1,102.69,143.76,104.59,146.41999999999999,106.49,149.09,108.39,151.75,110.29,154.41,112.2,157.07,114.1,159.74,116,162.4,117.9,165.06,119.8,167.72,121.7,170.39,123.61,173.05,125.51,175.71,127.41,178.37,129.31,181.04,131.21,183.7,133.12,186.36,135.02000000000001,189.02,136.91999999999999,191.69,138.82,194.35,140.72,197.01,142.62,199.67,144.53,202.34,146.43,205,148.33000000000001,207.66,150.22999999999999,210.32]
[187,272.32,381.25,null,null,null,null,null,null,null,null,null,75,{"$f":"HLOOKUP($N$8,$AB$8:$CI283,S83,FALSE)","v":109.56},153.38,null,null,null,76,null,null,null,null,null,null,null,75,107.63,150.68,109.56,153.38,111.48,156.08000000000001,102.13,142.99,104.06,145.68,105.99,148.38,107.92,151.08000000000001,109.84,153.78,111.77,156.47999999999999,113.7,159.18,115.63,161.88,117.55,164.57,119.48,167.27,121.41,169.97,123.34,172.67,125.26,175.37,127.19,178.07,129.12,180.77,131.05000000000001,183.46,132.97,186.16,134.9,188.86,136.83000000000001,191.56,138.76,194.26,140.68,196.96,142.61000000000001,199.65,144.54,202.35,146.47,205.05,148.38999999999999,207.75,150.32,210.45,152.25,213.15]
[188,273.66000000000003,383.13,null,null,null,null,null,null,null,null,null,76,{"$f":"HLOOKUP($N$8,$AB$8:$CI284,S84,FALSE)","v":111},155.41,null,null,null,77,null,null,null,null,null,null,null,76,109.05,152.66999999999999,111,155.41,112.96,158.13999999999999,103.48,144.88,105.44,147.61000000000001,107.39,150.35,109.34,153.08000000000001,111.3,155.81,113.25,158.55000000000001,115.2,161.28,117.16,164.02,119.11,166.75,121.06,169.49,123.02,172.22,124.97,174.96,126.92,177.69,128.87,180.42,130.83000000000001,183.16,132.78,185.89,134.72999999999999,188.63,136.69,191.36,138.63999999999999,194.1,140.59,196.83,142.55000000000001,199.57,144.5,202.3,146.44999999999999,205.04,148.41,207.77,150.36000000000001,210.5,152.31,213.24,154.27000000000001,215.97]
[189,275.16000000000003,385.22,null,null,null,null,null,null,null,null,null,77,{"$f":"HLOOKUP($N$8,$AB$8:$CI285,S85,FALSE)","v":112.45},157.44,null,null,null,78,null,null,null,null,null,null,null,77,110.48,154.66999999999999,112.45,157.44,114.43,160.21,104.84,146.77000000000001,106.81,149.54,108.79,152.31,110.77,155.08000000000001,112.75,157.85,114.73,160.62,116.71,163.38999999999999,118.69,166.16,120.67,168.93,122.65,171.7,124.62,174.47,126.6,177.24,128.58000000000001,180.02,130.56,182.79,132.54,185.56,134.52000000000001,188.33,136.5,191.1,138.47999999999999,193.87,140.46,196.64,142.43,199.41,144.41,202.18,146.38999999999999,204.95,148.37,207.72,150.35,210.49,152.33000000000001,213.26,154.31,216.03,156.29,218.8]
[null,null,null,null,null,null,null,null,null,null,null,null,78,{"$f":"HLOOKUP($N$8,$AB$8:$CI286,S86,FALSE)","v":113.91},159.47,null,null,null,79,null,null,null,null,null,null,null,78,111.9,156.66,113.91,159.47,115.91,162.28,106.19,148.66999999999999,108.19,151.47,110.2,154.28,112.2,157.09,114.21,159.88999999999999,116.21,162.69999999999999,118.22,165.51,120.22,168.31,122.23,171.12,124.23,173.92,126.24,176.73,128.24,179.54,130.25,182.34,132.25,185.15,134.25,187.96,136.26,190.76,138.26,193.57,140.27000000000001,196.38,142.27000000000001,199.18,144.28,201.99,146.28,204.8,148.29,207.6,150.29,210.41,152.30000000000001,213.21,154.30000000000001,216.02,156.31,218.83,158.31,221.63]
[null,null,null,null,null,null,null,null,null,null,null,null,79,{"$f":"HLOOKUP($N$8,$AB$8:$CI287,S87,FALSE)","v":115.36},161.51,null,null,null,80,null,null,null,null,null,null,null,79,113.33,158.66999999999999,115.36,161.51,117.39,164.35,107.55,150.57,109.58,153.41,111.61,156.25,113.64,159.09,115.67,161.94,117.7,164.78,119.73,167.62,121.76,170.46,123.79,173.31,125.82,176.15,127.85,178.99,129.88,181.83,131.91,184.68,133.94,187.52,135.97,190.36,138,193.2,140.03,196.05,142.06,198.89,144.09,201.73,146.12,204.57,148.15,207.41,150.18,210.26,152.21,213.1,154.24,215.94,156.27000000000001,218.78,158.31,221.63,160.34,224.47]
[null,null,null,null,null,null,null,null,null,null,null,null,80,{"$f":"HLOOKUP($N$8,$AB$8:$CI288,S88,FALSE)","v":116.82},163.55000000000001,null,null,null,81,null,null,null,null,null,null,null,80,114.77,160.66999999999999,116.82,163.55000000000001,118.88,166.43,108.91,152.47,110.96,155.35,113.02,158.22999999999999,115.08,161.11000000000001,117.13,163.98,119.19,166.86,121.24,169.74,123.3,172.62,125.36,175.5,127.41,178.38,129.47,181.25,131.52000000000001,184.13,133.58000000000001,187.01,135.63999999999999,189.89,137.69,192.77,139.75,195.65,141.80000000000001,198.52,143.86000000000001,201.4,145.91999999999999,204.28,147.97,207.16,150.03,210.04,152.08000000000001,212.92,154.13999999999999,215.79,156.19999999999999,218.67,158.25,221.55,160.31,224.43,162.36000000000001,227.31]
[null,null,null,null,null,null,null,null,null,null,null,null,81,{"$f":"HLOOKUP($N$8,$AB$8:$CI289,S89,FALSE)","v":118.28},165.6,null,null,null,82,null,null,null,null,null,null,null,81,116.2,162.68,118.28,165.6,120.36,168.51,110.27,154.38,112.35,157.29,114.43,160.21,116.51,163.12,118.6,166.03,120.68,168.95,122.76,171.86,124.84,174.78,126.92,177.69,129,180.61,131.09,183.52,133.16999999999999,186.44,135.25,189.35,137.33000000000001,192.26,139.41,195.18,141.5,198.09,143.58000000000001,201.01,145.66,203.92,147.74,206.84,149.82,209.75,151.9,212.66,153.99,215.58,156.07,218.49,158.15,221.41,160.22999999999999,224.32,162.31,227.24,164.39,230.15]
[null,null,null,null,null,null,null,null,null,null,null,null,82,{"$f":"HLOOKUP($N$8,$AB$8:$CI290,S90,FALSE)","v":119.72},167.6,null,null,null,83,null,null,null,null,null,null,null,82,117.61,164.65,119.72,167.6,121.82,170.55,111.61,156.25,113.71,159.19999999999999,115.82,162.15,117.93,165.1,120.04,168.05,122.14,171,124.25,173.95,126.36,176.9,128.47,179.85,130.57,182.8,132.68,185.75,134.79,188.7,136.9,191.65,139,194.6,141.11000000000001,197.55,143.22,200.51,145.33000000000001,203.46,147.43,206.41,149.54,209.36,151.65,212.31,153.76,215.26,155.86000000000001,218.21,157.97,221.16,160.08000000000001,224.11,162.18,227.06,164.29,230.01,166.4,232.96]
[null,null,null,null,null,null,null,null,null,null,null,null,83,{"$f":"HLOOKUP($N$8,$AB$8:$CI291,S91,FALSE)","v":121.18},169.66,null,null,null,84,null,null,null,null,null,null,null,83,119.05,166.67,121.18,169.66,123.32,172.64,112.97,158.16,115.11,161.15,117.24,164.14,119.37,167.12,121.51,170.11,123.64,173.1,125.77,176.08,127.91,179.07,130.04,182.05,132.16999999999999,185.04,134.31,188.03,136.44,191.01,138.57,194,140.69999999999999,196.99,142.84,199.97,144.97,202.96,147.1,205.95,149.24,208.93,151.37,211.92,153.5,214.9,155.63999999999999,217.89,157.77000000000001,220.88,159.9,223.86,162.04,226.85,164.17,229.84,166.3,232.82,168.43,235.81]
[null,null,null,null,null,null,null,null,null,null,null,null,84,{"$f":"HLOOKUP($N$8,$AB$8:$CI292,S92,FALSE)","v":122.62},171.67,null,null,null,85,null,null,null,null,null,null,null,84,120.46,168.65,122.62,171.67,124.78,174.69,114.32,160.04,116.47,163.06,118.63,166.09,120.79,169.11,122.95,172.13,125.11,175.15,127.27,178.18,129.43,181.2,131.59,184.22,133.74,187.24,135.9,190.26,138.06,193.29,140.22,196.31,142.38,199.33,144.54,202.35,146.69999999999999,205.38,148.86000000000001,208.4,151.01,211.42,153.16999999999999,214.44,155.33000000000001,217.47,157.49,220.49,159.65,223.51,161.81,226.53,163.97,229.55,166.13,232.58,168.29,235.6,170.44,238.62]
[null,null,null,null,null,null,null,null,null,null,null,null,85,{"$f":"HLOOKUP($N$8,$AB$8:$CI293,S93,FALSE)","v":124.09},173.73,null,null,null,86,null,null,null,null,null,null,null,85,121.91,170.67,124.09,173.73,126.28,176.79,115.69,161.96,117.87,165.02,120.06,168.08,122.24,171.14,124.43,174.2,126.61,177.25,128.79,180.31,130.97999999999999,183.37,133.16,186.43,135.35,189.49,137.53,192.55,139.72,195.6,141.9,198.66,144.09,201.72,146.27000000000001,204.78,148.46,207.84,150.63999999999999,210.9,152.82,213.95,155.01,217.01,157.19,220.07,159.38,223.13,161.56,226.19,163.75,229.25,165.93,232.3,168.12,235.36,170.3,238.42,172.48,341.48]
[null,null,null,null,null,null,null,null,null,null,null,null,86,{"$f":"HLOOKUP($N$8,$AB$8:$CI294,S94,FALSE)","v":125.53},175.75,null,null,null,87,null,null,null,null,null,null,null,86,123.32,172.65,125.53,175.75,127.74,178.84,117.03,163.85,119.24,166.94,121.45,170.03,123.66,173.13,125.87,176.22,128.08000000000001,179.32,130.29,182.41,132.5,185.51,134.71,188.6,136.91999999999999,191.69,139.13,194.79,141.35,197.88,143.56,200.98,145.77000000000001,204.07,147.97999999999999,207.17,150.19,210.26,152.4,213.35,154.61000000000001,216.45,156.82,219.54,159.03,222.64,161.24,225.73,163.44999999999999,228.83,165.66,231.92,167.87,235.01,170.08,238.11,172.29,241.2,174.5,244.3]
[null,null,null,null,null,null,null,null,null,null,null,null,87,{"$f":"HLOOKUP($N$8,$AB$8:$CI295,S95,FALSE)","v":126.98},177.77,null,null,null,88,null,null,null,null,null,null,null,87,124.74,174.64,126.98,177.77,129.21,180.9,118.38,165.73,120.62,168.86,122.85,171.99,125.09,175.12,127.32,178.25,129.56,181.38,131.80000000000001,184.51,134.03,187.64,136.27000000000001,190.77,138.5,193.9,140.74,197.03,142.97,200.16,145.21,203.3,147.44999999999999,206.43,149.68,209.56,151.91999999999999,212.69,154.15,215.82,156.38999999999999,218.95,158.63,222.08,160.86000000000001,225.21,163.1,228.34,165.33,231.47,167.57,234.6,169.81,237.73,172.04,240.86,174.28,243.99,176.51,247.12]
[null,null,null,null,null,null,null,null,null,null,null,null,88,{"$f":"HLOOKUP($N$8,$AB$8:$CI296,S96,FALSE)","v":128.41999999999999},179.79,null,null,null,89,null,null,null,null,null,null,null,88,126.16,176.63,128.41999999999999,179.79,130.69,182.96,119.73,167.62,121.99,170.79,124.25,173.95,126.51,177.12,128.78,180.29,131.04,183.45,133.30000000000001,186.62,135.56,189.78,137.82,192.95,140.08000000000001,196.12,142.34,199.28,144.61000000000001,202.45,146.87,205.62,149.13,208.78,151.38999999999999,211.95,153.65,215.11,155.91,218.28,158.18,221.45,160.44,224.61,162.69999999999999,227.78,164.96,230.95,167.22,234.11,169.48,237.28,171.75,240.44,174.01,243.61,176.27,246.78,178.53,249.94]
[null,null,null,null,null,null,null,null,null,null,null,null,89,{"$f":"HLOOKUP($N$8,$AB$8:$CI297,S97,FALSE)","v":129.87},181.82,null,null,null,90,null,null,null,null,null,null,null,89,127.59,178.62,129.87,181.82,132.16,185.02,121.08,169.51,123.37,172.71,125.65,175.92,127.94,179.12,130.22999999999999,182.32,132.52000000000001,185.52,134.80000000000001,188.72,137.09,191.93,139.38,195.13,141.66999999999999,198.33,143.94999999999999,201.53,146.24,204.74,148.53,207.94,150.81,211.14,153.1,214.34,155.38999999999999,217.54,157.68,220.75,159.96,223.95,162.25,227.15,164.54,230.35,166.83,233.56,169.11,236.76,171.4,239.96,173.69,243.16,175.97,246.36,178.26,249.57,180.55,252.77]
[null,null,null,null,null,null,null,null,null,null,null,null,90,{"$f":"HLOOKUP($N$8,$AB$8:$CI298,S98,FALSE)","v":131.36000000000001},183.9,null,null,null,91,null,null,null,null,null,null,null,90,129.05000000000001,180.67,131.36000000000001,183.9,133.66999999999999,187.14,122.47,171.45,124.78,174.69,127.09,177.93,129.4,181.17,131.72,184.4,134.03,187.64,136.34,190.88,138.66,194.12,140.97,197.36,143.28,200.6,145.6,203.83,147.91,207.07,150.22,210.31,152.53,213.55,154.85,216.79,157.16,220.02,159.47,223.26,161.79,226.5,164.1,229.74,166.41,232.98,168.73,236.22,171.04,239.45,173.35,242.69,175.66,245.93,177.98,249.17,180.29,252.41,182.6,255.64]
[null,null,null,null,null,null,null,null,null,null,null,null,91,{"$f":"HLOOKUP($N$8,$AB$8:$CI299,S99,FALSE)","v":132.81},185.94,null,null,null,92,null,null,null,null,null,null,null,91,130.47999999999999,182.67,132.81,185.94,135.15,189.21,123.82,173.35,126.16,176.62,128.5,179.9,130.84,183.17,133.18,186.45,135.51,189.72,137.85,192.99,140.19,196.27,142.53,199.54,144.87,202.82,147.21,206.09,149.55000000000001,209.37,151.88999999999999,212.64,154.22,215.91,156.56,219.19,158.9,222.46,161.24,225.74,163.58000000000001,229.01,165.92,232.28,168.26,235.56,170.59,238.83,172.93,242.11,175.27,245.38,177.61,248.66,179.95,251.93,182.29,255.2,184.63,258.48]
[null,null,null,null,null,null,null,null,null,null,null,null,92,{"$f":"HLOOKUP($N$8,$AB$8:$CI300,S100,FALSE)","v":134.22999999999999},187.92,null,null,null,93,null,null,null,null,null,null,null,92,131.87,184.61,134.22999999999999,187.92,136.6,191.23,125.14,175.2,127.51,178.51,129.87,181.82,132.24,185.13,134.6,188.44,136.97,191.75,139.33000000000001,195.06,141.69999999999999,198.37,144.06,201.68,146.41999999999999,204.99,148.79,208.3,151.15,211.61,153.52000000000001,214.92,155.88,218.23,158.25,221.54,160.61000000000001,224.85,162.97,228.16,165.34,231.47,167.7,234.78,170.07,238.1,172.43,241.41,174.8,244.72,177.16,248.03,179.53,251.34,181.89,254.65,184.25,257.95999999999998,186.62,261.27]
[null,null,null,null,null,null,null,null,null,null,null,null,93,{"$f":"HLOOKUP($N$8,$AB$8:$CI301,S101,FALSE)","v":135.69},189.96,null,null,null,94,null,null,null,null,null,null,null,93,133.30000000000001,186.62,135.69,189.96,138.08000000000001,193.31,126.5,177.1,128.88999999999999,180.45,131.28,183.8,133.66999999999999,187.14,136.06,190.49,138.44999999999999,193.84,140.84,197.18,143.22999999999999,200.53,145.62,203.87,148.01,207.22,150.4,210.57,152.79,213.91,155.18,217.26,157.57,220.6,159.96,223.95,162.35,227.3,164.75,230.64,167.14,233.99,169.53,237.34,171.92,240.68,174.31,244.03,176.7,247.37,179.09,250.72,181.48,254.07,183.87,257.41000000000003,186.26,260.76,188.65,264.10000000000002]
[null,null,null,null,null,null,null,null,null,null,null,null,94,{"$f":"HLOOKUP($N$8,$AB$8:$CI302,S102,FALSE)","v":137.15},192.01,null,null,null,95,null,null,null,null,null,null,null,94,134.72999999999999,188.63,137.15,192.01,139.56,195.39,127.86,179.01,130.28,182.39,132.69999999999999,185.78,135.11000000000001,189.16,137.53,192.54,139.94,195.92,142.36000000000001,199.3,144.78,202.69,147.19,206.07,149.61000000000001,209.45,152.02000000000001,212.83,154.44,216.21,156.85,219.6,159.27000000000001,222.98,161.69,226.36,164.1,229.74,166.52,233.12,168.93,236.51,171.35,239.89,173.77,243.27,176.18,246.65,178.6,250.04,181.01,253.42,183.43,256.8,185.84,260.18,188.26,263.56,190.68,266.95]
[null,null,null,null,null,null,null,null,null,null,null,null,95,{"$f":"HLOOKUP($N$8,$AB$8:$CI303,S103,FALSE)","v":138.61000000000001},194.06,null,null,null,96,null,null,null,null,null,null,null,95,136.16999999999999,190.64,138.61000000000001,194.06,141.05000000000001,197.48,129.22999999999999,180.92,131.66999999999999,184.34,134.11000000000001,187.76,136.55000000000001,191.17,138.99,194.59,141.44,198.01,143.88,201.43,146.32,204.85,148.76,208.26,151.19999999999999,211.68,153.63999999999999,215.1,156.09,218.52,158.53,221.94,160.97,225.36,163.41,228.77,165.85,232.19,168.29,235.61,170.73,239.03,173.18,242.45,175.62,245.86,178.06,249.28,180.5,252.7,182.94,256.12,185.38,259.54000000000002,187.82,262.95,190.27,266.37,192.71,269.79000000000002]
[null,null,null,null,null,null,null,null,null,null,null,null,96,{"$f":"HLOOKUP($N$8,$AB$8:$CI304,S104,FALSE)","v":140.08000000000001},196.11,null,null,null,97,null,null,null,null,null,null,null,96,137.61000000000001,192.65,140.08000000000001,196.11,142.55000000000001,199.56,130.59,182.83,133.06,186.29,135.53,189.74,138,193.19,140.46,196.65,142.93,200.1,145.4,203.56,147.87,207.01,150.33000000000001,210.47,152.80000000000001,213.92,155.27000000000001,217.37,157.72999999999999,220.83,160.19999999999999,224.28,162.66999999999999,227.74,165.14,231.19,167.6,234.64,170.07,238.1,172.54,241.55,175,245.01,177.47,248.46,179.94,251.91,182.41,255.37,184.87,258.82,187.34,262.27999999999997,189.81,265.73,192.27,369.18,194.74,272.64]
[null,null,null,null,null,null,null,null,null,null,null,null,97,{"$f":"HLOOKUP($N$8,$AB$8:$CI305,S105,FALSE)","v":141.5},198.1,null,null,null,98,null,null,null,null,null,null,null,97,139.01,194.61,141.5,198.1,144,201.59,131.93,184.7,134.41999999999999,188.19,136.91,191.68,139.4,195.17,141.9,198.66,144.38999999999999,202.15,146.88,205.64,149.38,209.13,151.87,212.62,154.36000000000001,216.11,156.85,219.6,159.35,223.09,161.84,226.58,164.33,230.07,166.83,233.56,169.32,237.05,171.81,240.54,174.3,244.03,176.8,247.52,179.29,251.01,181.78,254.5,184.28,257.99,186.77,261.48,189.26,264.97000000000003,191.75,268.45999999999998,194.25,271.95,196.74,275.44]
[null,null,null,null,null,null,null,null,null,null,null,null,98,{"$f":"HLOOKUP($N$8,$AB$8:$CI306,S106,FALSE)","v":142.97},200.16,null,null,null,99,null,null,null,null,null,null,null,98,140.44999999999999,196.64,142.97,200.16,145.49,203.69,133.30000000000001,186.61,135.81,190.14,138.33000000000001,193.67,140.85,197.19,143.37,200.72,145.88999999999999,204.24,148.41,207.77,150.93,211.3,153.44,214.82,155.96,218.35,158.47999999999999,221.87,161,225.4,163.52000000000001,228.93,166.04,232.45,168.56,235.98,171.07,239.5,173.59,243.03,176.11,246.56,178.63,250.08,181.15,253.61,183.67,257.13,186.19,260.66000000000003,188.7,264.19,191.22,267.70999999999998,193.74,271.24,196.26,274.76,198.78,278.29000000000002]
[null,null,null,null,null,null,null,null,null,null,null,null,99,{"$f":"HLOOKUP($N$8,$AB$8:$CI307,S107,FALSE)","v":144.4},202.16,null,null,null,100,null,null,null,null,null,null,null,99,141.86000000000001,198.6,144.4,202.16,146.94999999999999,205.72,134.63,188.48,137.16999999999999,192.04,139.72,195.6,142.26,199.17,144.81,202.73,147.35,206.29,149.88999999999999,209.85,152.44,213.41,154.97999999999999,216.98,157.53,220.54,160.07,224.1,162.62,227.66,165.16,231.23,167.71,234.79,170.25,238.35,172.79,241.91,175.34,245.47,177.88,249.04,180.43,252.6,182.97,256.16000000000003,185.52,259.72000000000003,188.06,263.27999999999997,190.6,266.85000000000002,193.15,270.41000000000003,195.69,273.97000000000003,198.24,277.52999999999997,200.78,281.08999999999997]
[null,null,null,null,null,null,null,null,null,null,null,null,100,{"$f":"HLOOKUP($N$8,$AB$8:$CI308,S108,FALSE)","v":145.88},204.23,null,null,null,101,null,null,null,null,null,null,null,100,143.31,200.63,145.88,204.23,148.44999999999999,207.83,136,190.41,138.57,194,141.13999999999999,197.6,143.71,201.2,146.28,204.8,148.85,208.4,151.41999999999999,211.99,153.99,215.59,156.56,219.19,159.13,222.79,161.69999999999999,226.39,164.27,229.98,166.84,233.58,169.41,237.18,171.98,240.78,174.55,244.38,177.12,247.97,179.69,251.57,182.26,255.17,184.83,258.77,187.4,262.37,189.97,265.95999999999998,192.54,269.56,195.11,273.16000000000003,197.68,276.76,200.25,280.36,202.82,283.95]
[null,null,null,null,null,null,null,null,null,null,null,null,101,{"$f":"HLOOKUP($N$8,$AB$8:$CI309,S109,FALSE)","v":147.31},206.23,null,null,null,102,null,null,null,null,null,null,null,101,144.71,202.6,147.31,206.23,149.91,209.87,137.34,192.28,139.94,195.91,142.53,199.54,145.13,203.18,147.72,206.81,150.32,210.45,152.91,214.08,155.51,217.71,158.11000000000001,221.35,160.69999999999999,224.98,163.30000000000001,228.62,165.89,232.25,168.49,235.88,171.08,239.52,173.68,243.15,176.28,246.79,178.87,250.42,181.47,254.05,184.06,257.69,186.66,261.32,189.25,264.95999999999998,191.85,268.58999999999997,194.45,272.22000000000003,197.04,275.86,199.64,279.49,202.23,283.13,204.83,286.76]
[null,null,null,null,null,null,null,null,null,null,null,null,102,{"$f":"HLOOKUP($N$8,$AB$8:$CI310,S110,FALSE)","v":148.79},208.31,null,null,null,103,null,null,null,null,null,null,null,102,146.16999999999999,204.64,148.79,208.31,151.41,211.98,138.72,194.21,141.34,197.88,143.96,201.55,146.58000000000001,205.22,149.21,208.89,151.83000000000001,212.56,154.44999999999999,216.23,157.07,219.9,159.69,223.57,162.31,227.24,164.93,230.91,167.56,234.58,170.18,238.25,172.8,241.92,175.42,245.59,178.04,249.26,180.66,252.93,183.28,256.60000000000002,185.91,260.27,188.53,263.94,191.15,267.61,193.77,271.27999999999997,196.39,274.95,199.01,278.62,201.63,282.29000000000002,204.25,285.95999999999998,206.88,289.63]
[null,null,null,null,null,null,null,null,null,null,null,null,103,{"$f":"HLOOKUP($N$8,$AB$8:$CI311,S111,FALSE)","v":150.22999999999999},210.32,null,null,null,104,null,null,null,null,null,null,null,103,147.58000000000001,206.61,150.22999999999999,210.32,152.87,214.02,140.06,196.08,142.71,199.79,145.35,203.5,148,207.2,150.65,210.91,153.30000000000001,214.61,155.94,218.32,158.59,222.03,161.24,225.73,163.88,229.44,166.53,233.14,169.18,236.85,171.82,240.55,174.47,244.26,177.12,247.97,179.77,251.67,182.41,255.38,185.06,259.08,187.71,262.79000000000002,190.35,266.5,193,270.2,195.65,273.91000000000003,198.3,277.61,200.94,281.32,203.59,285.02999999999997,206.24,288.73,208.88,292.44]
[null,null,null,null,null,null,null,null,null,null,null,null,104,{"$f":"HLOOKUP($N$8,$AB$8:$CI312,S112,FALSE)","v":151.66},212.33,null,null,null,105,null,null,null,null,null,null,null,104,148.99,208.59,151.66,212.33,154.34,216.07,141.4,197.96,144.07,201.7,146.75,205.44,149.41999999999999,209.19,152.09,212.93,154.76,216.67,157.44,220.41,160.11000000000001,224.15,162.78,227.9,165.46,231.64,168.13,235.38,170.8,239.12,173.47,242.86,176.15,246.61,178.82,250.35,181.49,254.09,184.17,257.83,186.84,261.57,189.51,265.32,192.18,269.06,194.86,272.8,197.53,276.54000000000002,200.2,280.27999999999997,202.88,284.02999999999997,205.55,287.77,208.22,291.51,210.89,295.25]
[null,null,null,null,null,null,null,null,null,null,null,null,105,{"$f":"HLOOKUP($N$8,$AB$8:$CI313,S113,FALSE)","v":153.15},214.41,null,null,null,106,null,null,null,null,null,null,null,105,150.44999999999999,210.62,153.15,214.41,155.85,218.19,142.79,199.9,145.49,203.68,148.18,207.46,150.88,211.24,153.58000000000001,215.01,156.28,218.79,158.97999999999999,222.57,161.68,226.35,164.38,230.13,167.07,233.9,169.77,237.68,172.47,241.46,175.17,245.24,177.87,249.01,180.57,252.79,183.26,256.57,185.96,260.35000000000002,188.66,264.13,191.36,267.89999999999998,194.06,271.68,196.76,275.45999999999998,199.46,279.24,202.15,283.02,204.85,286.79000000000002,207.55,290.57,210.25,294.35000000000002,212.95,298.13]
[null,null,null,null,null,null,null,null,null,null,null,null,106,{"$f":"HLOOKUP($N$8,$AB$8:$CI314,S114,FALSE)","v":154.59},216.43,null,null,null,107,null,null,null,null,null,null,null,106,151.87,212.62,154.59,216.43,157.32,220.24,144.13,201.78,146.86000000000001,205.6,149.58000000000001,209.41,152.30000000000001,213.23,155.03,217.04,157.75,220.85,160.47999999999999,224.67,163.19999999999999,228.48,165.93,232.3,168.65,236.11,171.37,239.92,174.1,243.74,176.82,247.55,179.55,251.37,182.27,255.18,184.99,258.99,187.72,262.81,190.44,266.62,193.17,270.43,195.89,274.25,198.62,278.06,201.34,281.88,204.06,285.69,206.79,289.5,209.51,293.32,212.24,297.13,214.96,300.95]
[null,null,null,null,null,null,null,null,null,null,null,null,107,{"$f":"HLOOKUP($N$8,$AB$8:$CI315,S115,FALSE)","v":156.04},218.45,null,null,null,108,null,null,null,null,null,null,null,107,153.29,214.6,156.04,218.45,158.79,222.3,145.47999999999999,203.67,148.22999999999999,207.52,150.97999999999999,211.37,153.72999999999999,215.22,156.47999999999999,219.07,159.22999999999999,222.92,161.97999999999999,226.77,164.73,230.62,167.48,234.47,170.23,238.32,172.98,242.17,175.73,246.02,178.48,249.87,181.23,253.72,183.98,257.57,186.73,261.42,189.48,265.27,192.23,269.12,194.98,272.97000000000003,197.73,276.82,200.48,280.67,203.23,284.52,205.98,288.37,208.73,292.22000000000003,211.48,296.07,214.23,299.92,216.98,303.77]
[null,null,null,null,null,null,null,null,null,null,null,null,108,{"$f":"HLOOKUP($N$8,$AB$8:$CI316,S116,FALSE)","v":157.47999999999999},220.47,null,null,null,109,null,null,null,null,null,null,null,108,154.69999999999999,216.59,157.47999999999999,220.47,160.26,224.36,146.83000000000001,205.56,149.6,209.44,152.38,213.33,155.15,217.21,157.93,221.1,160.69999999999999,224.98,163.47999999999999,228.87,166.25,232.76,169.03,236.64,171.81,240.53,174.58,244.41,177.36,248.3,180.13,252.19,182.91,256.07,185.68,259.95999999999998,188.46,263.83999999999997,191.24,267.73,194.01,271.61,196.79,275.5,199.56,279.39,202.34,283.27,205.11,287.16000000000003,207.89,291.04000000000002,210.66,294.93,213.44,298.82,216.22,302.7,218.99,306.58999999999997]
[null,null,null,null,null,null,null,null,null,null,null,null,109,{"$f":"HLOOKUP($N$8,$AB$8:$CI317,S117,FALSE)","v":158.93},222.5,null,null,null,110,null,null,null,null,null,null,null,109,156.13,218.58,158.93,222.5,161.72999999999999,226.42,148.16999999999999,207.44,150.97999999999999,211.37,153.78,215.29,156.58000000000001,219.21,159.38,223.13,162.18,227.05,164.98,230.98,167.78,234.9,170.58,238.82,173.39,242.74,176.19,246.66,178.99,250.58,181.79,254.51,184.59,258.43,187.39,262.35000000000002,190.19,266.27,193,270.19,195.8,274.12,198.6,278.04000000000002,201.4,281.95999999999998,204.2,285.88,207,289.8,209.8,293.72000000000003,212.6,297.64999999999998,215.41,301.57,218.21,305.49,221.01,309.41000000000003]
[null,null,null,null,null,null,null,null,null,null,null,null,110,{"$f":"HLOOKUP($N$8,$AB$8:$CI318,S118,FALSE)","v":160.37},224.52,null,null,null,111,null,null,null,null,null,null,null,110,157.13,220.57,160.37,224.52,163.19999999999999,228.48,149.53,209.34,152.35,213.29,155.18,217.25,158.01,221.21,160.83000000000001,225.17,163.66,229.12,166.49,233.08,169.31,237.04,172.14,241,174.97,244.96,177.8,248.91,180.62,252.87,183.45,256.83,186.28,260.79000000000002,189.1,264.74,191.93,268.7,194.76,272.66000000000003,197.58,276.62,200.41,280.58,203.24,284.52999999999997,206.07,288.49,208.89,292.45,211.72,296.41000000000003,214.55,300.36,217.37,304.32,220.2,308.27999999999997,223.03,312.24]
[null,null,null,null,null,null,null,null,null,null,null,null,111,{"$f":"HLOOKUP($N$8,$AB$8:$CI319,S119,FALSE)","v":161.82},226.55,null,null,null,112,null,null,null,null,null,null,null,111,158.97,222.56,161.82,226.55,164.68,230.55,150.88,211.23,153.72999999999999,215.22,156.58000000000001,219.22,159.44,223.21,162.29,227.2,165.14,231.2,167.99,235.19,170.85,239.19,173.7,243.18,176.55,247.17,179.4,251.17,182.26,255.16,185.11,259.14999999999998,187.96,263.14999999999998,190.82,267.14,193.67,271.14,196.52,275.13,199.37,279.12,202.23,283.12,205.08,287.11,207.93,291.10000000000002,210.78,295.10000000000002,213.64,299.08999999999997,216.49,303.08999999999997,219.34,307.08,222.2,311.07,225.05,315.07]
[null,null,null,null,null,null,null,null,null,null,null,null,112,{"$f":"HLOOKUP($N$8,$AB$8:$CI320,S120,FALSE)","v":163.28},228.59,null,null,null,113,null,null,null,null,null,null,null,112,160.4,224.56,163.28,228.59,166.15,232.62,152.22999999999999,213.12,155.11000000000001,217.15,157.99,221.18,160.87,225.21,163.75,229.24,166.62,233.27,169.5,237.3,172.38,241.33,175.26,245.36,178.14,249.39,181.02,253.42,183.89,257.45,186.77,261.48,189.65,265.51,192.53,269.54000000000002,195.41,273.57,198.29,277.60000000000002,201.16,281.63,204.04,285.66000000000003,206.92,289.69,209.8,293.72000000000003,212.68,297.75,215.56,301.77999999999997,218.43,305.81,221.31,309.83999999999997,224.19,313.87,227.07,317.89999999999998]
[null,null,null,null,null,null,null,null,null,null,null,null,113,{"$f":"HLOOKUP($N$8,$AB$8:$CI321,S121,FALSE)","v":164.73},230.62,null,null,null,114,null,null,null,null,null,null,null,113,161.83000000000001,226.56,164.73,230.62,167.63,234.69,153.59,215.02,156.49,219.09,159.4,223.15,162.30000000000001,227.22,165.2,231.28,168.11,235.35,171.01,239.42,173.92,243.48,176.82,247.55,179.72,251.61,182.63,255.68,185.53,259.75,188.44,263.81,191.34,267.88,194.24,271.94,197.15,276.01,200.05,280.07,202.96,284.14,205.86,288.20999999999998,208.77,292.27,211.67,296.33999999999997,214.57,300.39999999999998,217.48,304.47000000000003,220.38,308.52999999999997,223.29,312.60000000000002,226.19,316.67,229.09,320.73]
[null,null,null,null,null,null,null,null,null,null,null,null,114,{"$f":"HLOOKUP($N$8,$AB$8:$CI322,S122,FALSE)","v":166.19},232.66,null,null,null,115,null,null,null,null,null,null,null,114,163.26,228.56,166.19,232.66,169.12,236.76,154.94,216.92,157.87,221.02,160.80000000000001,225.13,163.72999999999999,229.23,166.66,233.33,169.59,237.43,172.52,241.53,175.45,245.63,178.38,249.74,181.31,253.84,184.24,257.94,187.17,262.04000000000002,190.1,266.14,193.03,270.24,195.96,274.35000000000002,198.89,278.45,201.82,282.55,204.75,286.64999999999998,207.68,290.75,210.61,294.86,213.54,298.95999999999998,216.47,303.06,219.4,307.16000000000003,222.33,311.26,225.26,315.36,228.19,319.47000000000003,231.12,323.57]
[null,null,null,null,null,null,null,null,null,null,null,null,115,{"$f":"HLOOKUP($N$8,$AB$8:$CI323,S123,FALSE)","v":167.64},234.7,null,null,null,116,null,null,null,null,null,null,null,115,164.69,230.56,167.64,234.7,170.6,238.84,156.30000000000001,218.83,159.26,222.96,162.21,227.1,165.17,231.24,168.13,235.38,171.08,239.51,174.04,243.65,176.99,247.79,179.95,251.93,182.9,256.06,185.86,260.2,188.81,264.33999999999997,191.77,268.48,194.73,272.62,197.68,276.75,200.64,280.89,203.59,285.02999999999997,206.55,289.17,209.5,293.3,212.46,297.44,215.41,301.58,218.37,305.72000000000003,221.32,309.85000000000002,224.28,313.99,227.24,318.13,230.19,322.27,233.15,326.41000000000003]
[null,null,null,null,null,null,null,null,null,null,null,null,116,{"$f":"HLOOKUP($N$8,$AB$8:$CI324,S124,FALSE)","v":169.1},236.74,null,null,null,117,null,null,null,null,null,null,null,116,166.69,232.58,169.1,236.74,172.57,240.92,157.66,220.73,160.65,224.9,163.63,229.08,166.61,233.25,169.59,237.43,172.57,241.6,175.55,245.77,178.53,249.95,181.51,254.12,184.5,258.29000000000002,187.48,262.47000000000003,190.46,266.64,193.44,270.81,196.42,274.99,199.4,279.16000000000003,202.38,283.33999999999997,205.36,287.51,208.35,291.68,211.33,295.86,214.31,300.02999999999997,217.29,304.2,220.27,308.38,223.25,312.55,226.23,316.73,229.21,320.89999999999998,232.19,325.07,235.18,329.25]
[null,null,null,null,null,null,null,null,null,null,null,null,117,{"$f":"HLOOKUP($N$8,$AB$8:$CI325,S125,FALSE)","v":170.57},238.79,null,null,null,118,null,null,null,null,null,null,null,117,167.56,234.58,170.57,238.79,173.57,243,159.03,222.64,162.03,226.85,165.04,231.06,168.05,235.27,171.06,239.48,174.06,243.69,177.07,247.9,180.08,252.11,183.08,256.32,186.09,260.52999999999997,189.1,264.74,192.1,268.94,195.11,273.14999999999998,198.12,277.36,201.12,281.57,204.13,285.77999999999997,207.14,289.99,210.14,294.2,213.15,298.41000000000003,216.16,302.62,219.17,306.83,222.17,311.04000000000002,225.18,315.25,228.19,319.45999999999998,231.19,323.67,234.2,327.88,237.21,332.09]
[null,null,null,null,null,null,null,null,null,null,null,null,118,{"$f":"HLOOKUP($N$8,$AB$8:$CI326,S126,FALSE)","v":172.07},240.84,null,null,null,119,null,null,null,null,null,null,null,118,169,236.61,172.07,240.84,175.86,245.09,160.38999999999999,224.55,163.41999999999999,228.79,166.46,233.04,169.49,237.29,172.52,241.53,175.56,245.78,178.59,250.02,181.62,254.27,184.65,258.51,187.69,262.76,190.72,267.01,193.75,271.25,196.78,275.5,199.82,279.74,202.85,283.99,205.88,288.23,208.91,292.48,211.95,296.73,214.98,300.97000000000003,218.01,305.22000000000003,221.04,309.45999999999998,224.08,313.70999999999998,227.11,317.95,230.14,322.2,233.17,326.44,236.21,330.69,239.24,334.94]
[null,null,null,null,null,null,null,null,null,null,null,null,119,{"$f":"HLOOKUP($N$8,$AB$8:$CI327,S127,FALSE)","v":173.5},242.89,null,null,null,120,null,null,null,null,null,null,null,119,170.44,238.61,173.5,242.89,176.55,247.18,161.76,226.46,164.82,230.74,167.88,235.03,170.93,239.31,173.99,243.59,177.05,247.87,180.11,252.15,183.17,256.43,186.23,260.72000000000003,189.28,265,192.34,269.27999999999997,196.4,273.56,198.46,277.83999999999997,201.52,282.12,204.58,286.41000000000003,207.63,290.69,210.69,294.97000000000003,213.75,299.25,216.81,303.52999999999997,219.87,307.81,222.93,312.10000000000002,225.98,316.38,229.04,320.66000000000003,232.1,324.94,235.16,329.22,238.21,333.5,241.27,337.78]
[null,null,null,null,null,null,null,null,null,null,null,null,120,{"$f":"HLOOKUP($N$8,$AB$8:$CI328,S128,FALSE)","v":174.9},244.66,null,null,null,121,null,null,null,null,null,null,null,120,171.82,240.54,174.9,244.66,177.98,249.18,163.07,228.3,166.16,232.62,169.24,236.93,172.32,241.25,175.41,245.57,178.49,249.89,181.58,254.21,184.66,258.52,187.74,262.83999999999997,190.83,267.16000000000003,193.91,271.48,197,275.79000000000002,200.08,280.11,203.16,284.43,206.25,288.75,209.33,293.06,212.42,297.38,215.5,301.7,218.58,306.02,221.67,310.33,224.75,314.64999999999998,227.84,318.97000000000003,230.92,323.29000000000002,234,327.67,237.09,331.99,240.17,336.24,243.26,340.56]
[null,null,null,null,null,null,null,null,null,null,null,null,121,{"$f":"HLOOKUP($N$8,$AB$8:$CI329,S129,FALSE)","v":176.37},246.92,null,null,null,122,null,null,null,null,null,null,null,121,173.26,242.56,176.37,246.92,179.48,251.27,164.44,230.22,167.55,234.57,170.66,238.92,173.77,243.28,176.88,247.63,179.99,251.99,183.1,256.33999999999997,186.21,260.69,189.32,265.05,192.43,269.39999999999998,195.54,273.75,198.65,278.11,201.76,282.45999999999998,204.87,286.81,207.98,291.17,211.09,295.52,214.2,299.87,217.31,304.23,220.42,308.58,223.53,312.94,226.63,317.29000000000002,229.74,321.64,232.85,326,235.96,330.35,239.07,334.7,242.18,339.06,245.29,343.41]
[null,null,null,null,null,null,null,null,null,null,null,null,122,{"$f":"HLOOKUP($N$8,$AB$8:$CI330,S130,FALSE)","v":177.84},248.98,null,{"$f":"เปรียบเทียบราคา!$P$17","v":29.5},"(ราคาน้ำมัน กทม.)",123,null,null,null,null,null,null,null,122,174.71,244.59,177.84,248.98,180.98,253.37,165.81,232.14,168.95,236.53,172.08,240.92,175.22,245.31,178.35,249.7,181.49,254.09,184.63,258.48,187.76,262.87,190.9,267.25,194.03,271.64,197.17,276.02999999999997,200.3,280.42,203.44,284.81,206.57,289.2,209.71,293.58999999999997,212.84,297.98,215.98,302.37,219.11,306.76,222.25,311.14999999999998,225.39,315.54000000000002,228.52,319.93,231.66,324.32,234.79,328.71,237.93,333.1,241.06,337.49,244.2,341.88,247.33,346.27]
[null,null,null,null,null,null,null,null,null,null,null,null,123,{"$f":"HLOOKUP($N$8,$AB$8:$CI331,S131,FALSE)","v":179.25},250.95,null,{"$f":"HLOOKUP(Q130,$AB$6:$BY$8,3,FALSE)","v":9},null,124,null,null,null,null,null,null,null,123,176.09,246.52,179.25,250.95,182.41,255.37,167.13,233.98,170.29,238.4,173.45,242.83,176.61,247.26,179.77,251.68,182.93,256.11,186.09,260.52999999999997,189.26,264.95999999999998,192.42,269.38,195.58,273.81,198.74,278.23,201.9,282.66000000000003,205.06,287.08999999999997,208.22,291.51,211.38,295.94,214.54,300.36,217.71,304.79000000000002,220.87,309.20999999999998,224.03,313.64,227.19,318.06,230.35,322.49,233.51,326.91000000000003,236.67,331.34,239.83,335.77,242.99,340.19,246.16,344.62,249.32,349.04]
[null,null,null,null,null,null,null,null,null,null,null,null,124,{"$f":"HLOOKUP($N$8,$AB$8:$CI332,S132,FALSE)","v":180.73},{"$f":"HLOOKUP($O$8,$AB$8:$CI$209,S132,FALSE)","v":253.02},null,{"$f":"HLOOKUP(Q131,$AB$8:$CI$209,S132,FALSE)","v":171.69},null,125,null,null,null,null,null,null,null,124,177.54,248.55,180.73,253.02,183.91,257.48,168.5,235.9,171.69,240.37,174.88,244.83,178.06,249.29,181.25,253.75,184.44,258.20999999999998,187.62,262.67,190.81,267.13,194,271.60000000000002,197.18,276.06,200.37,280.52,203.56,284.98,206.74,289.44,209.93,293.89999999999998,213.12,298.37,216.3,302.83,219.49,307.29000000000002,222.68,311.75,225.87,316.20999999999998,229.05,320.67,232.24,325.13,235.43,329.6,238.61,334.06,241.8,338.52,244.99,342.98,248.17,347.44,251.36,351.9]
[null,null,null,null,null,null,null,null,null,null,null,null,125,{"$f":"HLOOKUP($N$8,$AB$8:$CI333,S133,FALSE)","v":182.2},255.09,null,null,null,126,null,null,null,null,null,null,null,125,178.99,250.59,182.2,255.09,185.42,259.58,169.88,237.83,173.09,242.33,176.31,246.83,179.52,251.33,182.73,255.82,185.94,260.32,189.16,264.82,192.37,269.32,195.58,273.81,198.79,278.31,202.01,282.81,205.22,287.31,208.43,291.8,211.64,296.3,214.86,300.8,218.07,305.3,221.28,309.79000000000002,224.49,314.29000000000002,227.71,318.79000000000002,230.92,323.29000000000002,234.13,327.78,237.34,332.28,240.56,336.78,243.77,341.28,246.98,345.77,250.19,350.27,253.41,354.77]
[null,null,null,null,null,null,null,null,null,null,null,null,126,{"$f":"HLOOKUP($N$8,$AB$8:$CI334,S134,FALSE)","v":183.61},257.06,null,null,null,127,null,null,null,null,null,null,null,126,180.38,252.53,183.61,257.06,186.85,261.58999999999997,171.2,239.68,174.44,244.21,177.67,248.74,180.91,253.28,184.15,257.81,187.39,262.33999999999997,190.63,266.88,193.87,271.41000000000003,197.1,275.95,200.34,280.48,203.58,285.01,206.82,289.55,210.06,294.08,213.29,298.61,216.53,303.14999999999998,219.77,307.68,223.01,312.20999999999998,226.25,316.75,229.49,321.27999999999997,232.72,325.81,235.96,330.35,239.2,334.88,242.44,339.41,245.68,343.95,248.91,348.48,252.15,353.01,255.39,357.55]
[null,null,null,null,null,null,null,null,null,null,null,null,127,{"$f":"HLOOKUP($N$8,$AB$8:$CI335,S135,FALSE)","v":185.1},259.14,null,null,null,128,null,null,null,null,null,null,null,127,181.83,254.57,185.1,259.14,188.36,263.70999999999998,172.58,241.61,175.84,246.18,179.11,250.75,182.37,255.32,185.63,259.89,188.9,264.45999999999998,192.16,269.02999999999997,195.43,273.60000000000002,198.69,278.17,201.95,282.74,205.22,287.31,208.48,291.87,211.75,296.44,215.01,301.01,218.27,305.58,221.54,310.14999999999998,224.8,314.72000000000003,228.07,319.29000000000002,231.33,323.86,234.59,328.43,237.86,333,241.12,337.57,244.38,342.14,247.65,346.71,250.91,351.28,254.18,355.85,257.44,360.42]
[null,null,null,null,null,null,null,null,null,null,null,null,128,{"$f":"HLOOKUP($N$8,$AB$8:$CI336,S136,FALSE)","v":186.58},261.22000000000003,null,null,null,129,null,null,null,null,null,null,null,128,183.29,256.61,186.58,261.22000000000003,189.87,265.82,173.96,243.55,177.25,248.15,180.54,252.76,183.83,257.36,187.12,261.97000000000003,190.41,266.57,193.7,271.18,196.99,275.79000000000002,200.28,280.39,203.57,285,206.86,289.60000000000002,210.15,294.20999999999998,213.44,298.81,216.73,303.42,220.02,308.02,223.31,312.63,226.6,317.23,229.89,321.83999999999997,233.18,326.45,236.47,331.05,239.75,335.66,243.04,340.26,246.33,344.87,249.62,349.47,252.91,354.08,256.2,358.68,259.49,363.29]
[null,null,null,null,null,null,null,null,null,null,null,null,129,{"$f":"HLOOKUP($N$8,$AB$8:$CI337,S137,FALSE)","v":188},263.2,null,null,null,130,null,null,null,null,null,null,null,129,184.68,258.55,188,263.2,191.31,267.83999999999997,175.28,245.4,178.6,250.04,181.91,254.68,185.23,259.32,188.54,263.95999999999998,191.86,268.60000000000002,195.18,273.25,198.49,277.89,201.81,282.52999999999997,205.12,287.17,208.44,291.81,211.75,296.45,215.07,301.08999999999997,218.38,305.73,221.7,310.38,225.01,315.02,228.33,319.66000000000003,231.64,324.3,234.96,328.94,238.27,333.58,241.59,338.22,244.9,342.87,248.22,347.51,251.54,352.15,254.85,356.79,258.17,361.43,261.48,366.07]
[null,null,null,null,null,null,null,null,null,null,null,null,{"$f":"M137+1","v":130},{"$f":"HLOOKUP($N$8,$AB$8:$CI338,S138,FALSE)","v":189.49},{"$f":"HLOOKUP($O$8,$AB$8:$CI$209,S138,FALSE)","v":265.27999999999997},null,null,null,131,null,null,null,null,null,null,null,130,186.15,260.60000000000002,189.49,265.27999999999997,192.83,269.95999999999998,176.67,247.34,180.01,252.02,183.35,256.69,186.69,261.37,190.03,266.05,193.38,270.73,196.72,275.39999999999998,200.06,280.08,203.4,284.76,206.74,289.44,210.08,294.11,213.42,298.79000000000002,216.76,303.47000000000003,220.1,308.14999999999998,223.44,312.82,226.79,317.5,230.13,322.18,233.47,326.85000000000002,236.81,331.53,240.15,336.21,243.49,340.89,246.83,345.56,250.17,350.24,253.51,354.92,256.85000000000002,359.6,260.2,364.27,263.54000000000002,368.95]
[null,null,null,null,null,null,null,null,null,null,null,null,131,{"$f":"HLOOKUP($N$8,$AB$8:$CI339,S139,FALSE)","v":190.9},267.26,null,null,null,132,null,null,null,null,null,null,null,131,187.54,262.55,190.9,267.26,194.27,271.98,177.99,249.19,181.36,253.9,184.73,258.62,188.09,263.33,191.46,268.04000000000002,194.83,272.76,198.19,277.47000000000003,201.56,282.18,204.93,286.89999999999998,208.29,291.61,211.66,296.32,215.03,301.04000000000002,218.39,305.75,221.76,310.45999999999998,225.13,315.18,228.49,319.89,231.86,324.60000000000002,235.23,329.32,238.59,334.03,241.96,338.74,245.33,343.46,248.69,348.17,252.06,352.88,255.43,357.6,258.79000000000002,362.31,262.16000000000003,367.02,265.52999999999997,371.74]
[null,null,null,null,null,null,null,null,null,null,null,null,132,{"$f":"HLOOKUP($N$8,$AB$8:$CI340,S140,FALSE)","v":192.32},269.25,null,null,null,133,null,null,null,null,null,null,null,132,188.93,264.5,192.32,269.25,195.71,274,179.32,251.04,182.71,255.79,186.1,260.54000000000002,189.49,265.29000000000002,192.89,270.04000000000002,196.28,274.79000000000002,199.67,279.54000000000002,203.06,284.29000000000002,206.46,289.04000000000002,209.85,293.79000000000002,213.24,298.54000000000002,216.63,303.29000000000002,220.03,308.04000000000002,223.42,312.77999999999997,226.81,317.52999999999997,230.2,322.27999999999997,233.59,327.02999999999997,236.99,331.78,240.38,336.53,243.77,341.28,247.16,346.03,250.56,350.78,253.95,355.53,257.33999999999997,360.28,260.73,365.03,264.13,369.78,267.52,374.53]
[null,null,null,null,null,null,null,null,null,null,null,null,133,{"$f":"HLOOKUP($N$8,$AB$8:$CI341,S141,FALSE)","v":193.82},271.33999999999997,null,null,null,134,null,null,null,null,null,null,null,133,190.4,266.56,193.82,271.33999999999997,197.23,276.13,180.71,252.99,184.13,257.77999999999997,187.55,262.56,190.96,267.35000000000002,194.38,272.13,197.8,276.92,201.22,281.7,204.64,286.49,208.05,291.27999999999997,211.47,296.06,214.89,300.85000000000002,218.31,305.63,221.73,310.42,225.14,315.2,228.56,319.99,231.98,324.77,235.4,329.56,238.82,334.34,242.23,339.13,245.65,343.91,249.07,348.7,252.49,353.48,255.91,358.27,259.33,363.06,262.74,367.84,266.16000000000003,372.63,269.58,377.41]
[null,null,null,null,null,null,null,null,null,null,null,null,134,{"$f":"HLOOKUP($N$8,$AB$8:$CI342,S142,FALSE)","v":195.23},273.33,null,null,null,135,null,null,null,null,null,null,null,134,191.79,268.51,195.23,273.33,198.68,278.14999999999998,182.03,254.85,185.48,259.67,188.92,264.49099999999999,192.37,269.31,195.81,274.13,199.25,278.95,202.7,283.77999999999997,206.14,288.60000000000002,209.58,293.42,213.03,298.24,216.47,303.06,219.92,307.88,223.36,312.7,226.8,317.52999999999997,230.25,322.35000000000002,233.69,327.17,237.13,331.99,240.58,336.81,244.02,341.63,247.47,346.45,250.91,351.27,254.35,356.1,257.8,360.92,261.24,365.74,264.69,370.56,268.13,375.38,271.57,380.2]
[null,null,null,null,null,null,null,null,null,null,null,null,135,{"$f":"HLOOKUP($N$8,$AB$8:$CI343,S143,FALSE)","v":196.74},275.43,null,null,null,136,null,null,null,null,null,null,null,135,193.27,270.57,196.74,275.43,200.2,280.29000000000002,183.43,256.8,186.9,261.66000000000003,190.37,266.52,193.84,271.38,197.31,276.23,200.78,281.08999999999997,204.25,285.95,207.72,290.8,211.19,295.66000000000003,214.66,300.52,218.13,305.38,221.6,310.23,225.07,315.08999999999997,228.53,319.95,232,324.81,235.47,329.66,238.94,334.52,242.41,339.38,245.88,344.24,249.35,349.09,252.82,353.95,256.29000000000002,358.81,259.76,363.66,263.23,368.52,266.7,373.38,270.17,378.24,273.64,383.09]
[null,null,null,null,null,null,null,null,null,null,null,null,136,{"$f":"HLOOKUP($N$8,$AB$8:$CI344,S144,FALSE)","v":198.16},277.42,null,null,null,137,null,null,null,null,null,null,null,136,194.66,272.52999999999997,198.16,277.42,201.65,282.31,184.76,258.66000000000003,188.25,263.56,191.75,268.45,195.24,273.33999999999997,198.74,278.24,202.23,283.13,205.73,288.02,209.22,292.91000000000003,212.72,297.81,216.22,302.7,219.71,307.58999999999997,223.21,312.49,226.7,317.38,230.2,322.27,233.69,327.17,237.19,332.06,240.68,336.95,244.18,341.85,247.67,346.74,251.17,351.63,254.66,356.53,258.16000000000003,361.42,261.64999999999998,366.31,265.14999999999998,371.21,268.64,376.1,272.14,380.99,275.63,385.89]
[null,null,null,null,null,null,null,null,null,null,null,null,137,{"$f":"HLOOKUP($N$8,$AB$8:$CI345,S145,FALSE)","v":199.66},279.52999999999997,null,null,null,138,null,null,null,null,null,null,null,137,196.14,274.60000000000002,199.66,279.52999999999997,203.18,284.45999999999998,186.16,260.62,189.68,265.55,193.2,270.48,196.72,275.41000000000003,200.24,280.33999999999997,203.76,285.27,207.29,290.2,210.81,295.13,214.33,300.06,217.85,304.99,221.37,309.92,224.89,314.85000000000002,228.41,319.77999999999997,231.93,324.7,235.45,329.63,238.97,334.56,242.49,339.49,246.02,344.42,249.54,349.35,253.06,354.28,256.58,359.21,260.10000000000002,364.14,263.62,369.07,267.14,374,270.66000000000003,378.93,274.18,383.86,277.7,388.78]
[null,null,null,null,null,null,null,null,null,null,null,null,138,{"$f":"HLOOKUP($N$8,$AB$8:$CI346,S146,FALSE)","v":201.09},281.52,null,null,null,139,null,null,null,null,null,null,null,138,197.54,276.56,201.09,281.52,204.63,286.49,187.49,262.49,191.04,267.45,194.58,272.42,198.13,277.38,201.68,282.35000000000002,205.22,287.31,208.77,292.27999999999997,212.32,297.24,215.86,302.20999999999998,219.41,307.17,222.96,312.14,226.5,317.10000000000002,230.05,322.07,233.6,327.02999999999997,237.14,332,240.69,336.96,244.24,341.93,247.78,346.89,251.33,351.86,254.87,356.82,258.42,361.79,261.97000000000003,366.76,265.51,371.72,269.06,376.69,272.61,381.65,276.14999999999998,386.62,279.7,391.58]
[null,null,null,null,null,null,null,null,null,null,null,null,139,{"$f":"HLOOKUP($N$8,$AB$8:$CI347,S147,FALSE)","v":202.51},283.52,null,null,null,140,null,null,null,null,null,null,null,139,198.94,278.51,202.51,283.52,206.08,288.52,188.82,264.35000000000002,192.39,269.35000000000002,195.96,274.35000000000002,199.54,279.35000000000002,203.11,284.35000000000002,206.68,289.35000000000002,210.25,294.36,213.83,299.36,217.4,304.36099999999999,220.97,309.36,224.54,314.36,228.12,319.36,231.69,324.36,235.26,329.36,238.83,334.37,242.4,339.37,245.98,344.37,249.55,349.37,253.12,354.37,256.69,359.37,260.27,364.37,263.83999999999997,369.37,267.41000000000003,374.37,270.98,379.38,274.56,384.38,278.13,389.38,281.7,394.38]
[null,null,null,null,null,null,null,null,null,null,null,null,140,{"$f":"HLOOKUP($N$8,$AB$8:$CI348,S148,FALSE)","v":203.94},285.51,null,null,null,141,null,null,null,null,null,null,null,140,200.34,280.47000000000003,203.94,285.51,207.54,290.55,190.15,266.20999999999998,193.75,271.25,197.35,276.29000000000002,200.95,281.32,204.54,286.36,208.14,291.39999999999998,211.74,296.43,215.34,301.47000000000003,218.94,306.51,222.53,311.55,226.13,316.58,229.73,321.62,233.33,326.66000000000003,236.93,331.7,240.52,336.73,244.12,341.77,247.72,346.81,251.32,351.84,254.92,356.88,258.51,361.92,262.11,366.96,265.70999999999998,371.99,269.31,377.03,272.91000000000003,382.07,276.5,387.1,280.10000000000002,392.14,283.7,397.18]
[null,null,null,null,null,null,null,null,null,null,null,null,141,{"$f":"HLOOKUP($N$8,$AB$8:$CI349,S149,FALSE)","v":205.45},287.63,null,null,null,142,null,null,null,null,null,null,null,141,201.83,282.56,205.45,287.63,209.08,292.70999999999998,191.56,268.18,195.18,273.26,198.81,278.33,202.43,283.39999999999998,206.06,288.48,209.68,293.55,213.3,298.62,216.93,303.7,220.55,308.77,224.17,313.83999999999997,227.8,318.92,231.42,323.99,235.04,329.06,238.67,334.14,242.29,339.21,245.92,344.28,249.54,349.36,253.16,354.43,256.79000000000002,359.5,260.41000000000003,364.58,264.02999999999997,369.65,267.66000000000003,374.72,271.27999999999997,379.79,274.91000000000003,384.87,278.52999999999997,389.94,282.14999999999998,395.01,285.77999999999997,400.09]
[null,null,null,null,null,null,null,null,null,null,null,null,142,{"$f":"HLOOKUP($N$8,$AB$8:$CI350,S150,FALSE)","v":206.88},289.63,null,null,null,143,null,null,null,null,null,null,null,142,203.23,284.52,206.88,289.63,210.53,294.74,192.89,270.05,196.54,275.16000000000003,200.19,280.27,203.84,285.38,207.49,290.49,211.14,295.60000000000002,214.79,300.70999999999998,218.44,305.82,222.09,310.93,225.74,316.02999999999997,229.39,321.14,233.04,326.25,236.69,331.36,240.34,336.47,243.99,341.58,247.64,346.69,251.28,351.8,254.93,356.91,258.58,362.02,262.23,367.13,265.88,372.24,269.52999999999997,377.34,273.18,382.45,276.83,387.56,280.48,392.67,284.13,397.78,287.77999999999997,402.89]
[null,null,null,null,null,null,null,null,null,null,null,null,143,{"$f":"HLOOKUP($N$8,$AB$8:$CI351,S151,FALSE)","v":208.31},291.63,null,null,null,144,null,null,null,null,null,null,null,143,204.64,286.49,208.31,291.63,211.99,296.77999999999997,194.23,271.92,197.9,277.07,201.58,282.20999999999998,205.25,287.36,208.93,292.5,212.6,297.64999999999998,216.28,302.79000000000002,219.95,307.94,223.63,313.08,227.3,318.23,230.98,323.37,234.65,328.52,238.33,333.66,242,338.81,245.68,343.95,249.36,349.1,253.03,354.24,256.70999999999998,359.39,260.38,364.53,264.06,369.68,267.73,374.82,271.41000000000003,379.97,275.08,385.11,278.76,390.26,282.43,395.4,286.11,400.55,289.77999999999997,405.69]
[null,null,null,null,null,null,null,null,null,null,null,null,144,{"$f":"HLOOKUP($N$8,$AB$8:$CI352,S152,FALSE)","v":209.83},293.77,null,null,null,145,null,null,null,null,null,null,null,144,206.13,288.58999999999997,209.83,293.77,213.53,298.95,195.64,273.89999999999998,199.35,279.08,203.05,284.26,206.75,289.45,210.45,294.63,214.15,299.81,217.85,304.99,221.55,310.17,225.25,315.35000000000002,228.95,320.52999999999997,232.65,325.70999999999998,236.35,330.89,240.05,336.08,243.76,341.26,247.46,346.44,251.16,351.62,254.86,356.8,258.56,361.98,262.26,367.16,265.95999999999998,372.34,269.66000000000003,377.52,273.36,382.71,277.06,387.89,280.76,393.07,284.45999999999998,398.25,288.16000000000003,403.43,291.87,408.61]
[null,null,null,null,null,null,null,null,null,null,null,null,145,{"$f":"HLOOKUP($N$8,$AB$8:$CI353,S153,FALSE)","v":211.27},295.77,null,null,null,146,null,null,null,null,null,null,null,145,207.54,290.55,211.27,295.77,214.99,300.99,196.98,275.77,200.71,280.99,204.43,286.20999999999998,208.16,291.43,211.89,296.64,215.61,301.86,219.34,307.08,223.07,312.29000000000002,226.79,317.51,230.52,322.73,234.25,327.95,237.97,333.16,241.7,338.38,245.43,343.6,249.15,348.81,252.88,354.03,256.61,359.25,260.33,364.47,264.06,369.68,267.79000000000002,374.9,271.51,380.12,275.24,385.33,278.95999999999998,390.55,282.69,395.77,286.42,400.98,290.14,406.2,293.87,411.42]
[null,null,null,null,null,null,null,null,null,null,null,null,146,{"$f":"HLOOKUP($N$8,$AB$8:$CI354,S154,FALSE)","v":212.7},297.77999999999997,null,null,null,147,null,null,null,null,null,null,null,146,208.95,292.52999999999997,212.7,297.77999999999997,216.45,303.02999999999997,198.32,277.64999999999998,202.07,282.89999999999998,205.82,288.14999999999998,209.58,293.41000000000003,213.33,298.66000000000003,217.08,303.91000000000003,220.83,309.17,224.59,314.42,228.34,319.67,232.09,324.93,235.84,330.18,239.59,335.43,243.35,340.68,247.1,345.94,250.85,351.19,254.6,356.44,258.36,361.7,262.11,366.95,265.86,372.2,269.61,377.46,273.36,382.71,277.12,387.96,280.87,393.22,284.62,398.47,288.37,403.72,292.12,408.97,295.88,414.23]
[null,null,null,null,null,null,null,null,null,null,null,null,147,{"$f":"HLOOKUP($N$8,$AB$8:$CI355,S155,FALSE)","v":214.13},299.79000000000002,null,null,null,148,null,null,null,null,null,null,null,147,210.36,294.5,214.13,299.79000000000002,217.91,305.08,199.66,279.52,203.44,284.81,207.21,290.10000000000002,210.99,295.39,214.77,300.68,218.55,305.97000000000003,222.33,311.26,226.1,316.55,229.88,321.83,233.66,327.12,237.44,332.41,241.22,337.7,244.99,342.99,248.77,348.28,252.55,353.57,256.33,358.86,260.11,364.15,263.88,369.44,267.66000000000003,374.73,271.44,380.01,275.22000000000003,385.3,278.99,390.59,282.77,395.88,286.55,401.17,290.33,406.46,294.11,411.75,297.88,417.04]
[null,null,null,null,null,null,null,null,null,null,null,null,148,{"$f":"HLOOKUP($N$8,$AB$8:$CI356,S156,FALSE)","v":215.57},301.8,null,null,null,149,null,null,null,null,null,null,null,148,211.77,296.47000000000003,215.57,301.8,219.37,307.12,201,281.39999999999998,204.8,286.72000000000003,208.61,292.05,212.41,297.37,216.21,302.7,220.02,308.02,223.82,313.35000000000002,227.62,318.67,231.43,324,235.23,329.32,239.03,334.65,242.84,339.97,246.64,345.3,250.45,350.62,254.25,355.95,258.05,361.27,261.86,366.6,265.66000000000003,371.92,269.45999999999998,377.25,273.27,382.57,277.07,387.9,280.87,393.22,284.68,398.55,288.48,403.87,292.29000000000002,409.2,296.08999999999997,414.52,299.89,419.85]
[null,null,null,null,null,null,null,null,null,null,null,null,149,{"$f":"HLOOKUP($N$8,$AB$8:$CI357,S157,FALSE)","v":217.11},303.95,null,null,null,150,null,null,null,null,null,null,null,149,213.28,298.58999999999997,217.11,303.95,220.93,309.31,202.43,283.39999999999998,206.25,288.76,210.08,294.12,213.91,299.48,217.74,304.83999999999997,221.57,310.2,225.4,315.56,229.23,320.92,233.06,326.27999999999997,236.89,331.65,240.72,337.01,244.55,342.37,248.38,347.73,252.21,353.09,256.04000000000002,358.45,259.87,363.81,263.69,369.17,267.52,374.53,271.35000000000002,379.89,275.18,385.26,279.01,390.62,282.83999999999997,395.98,286.67,401.34,290.5,406.7,294.33,412.06,298.16000000000003,417.42,301.99,422.78]
[null,null,null,null,null,null,null,null,null,null,null,null,150,{"$f":"HLOOKUP($N$8,$AB$8:$CI358,S158,FALSE)","v":218.54},305.95999999999998,null,null,null,151,null,null,null,null,null,null,null,150,214.69,300.56,218.54,305.95999999999998,222.4,311.36,203.77,285.27999999999997,207.62,290.67,211.48,296.07,215.33,301.47000000000003,219.19,306.86,223.04,312.26,226.9,317.66000000000003,230.75,323.05,234.61,328.45,238.46,333.85,242.32,339.25,246.17,344.64,250.03,350.04,253.88,355.44,257.74,360.83,261.58999999999997,366.23,265.45,371.63,269.3,377.02,273.16000000000003,382.42,277.01,387.82,280.87,393.22,284.72000000000003,398.61,288.58,404.01,292.43,409.41,296.29000000000002,414.8,300.10000000000002,420.2,304,425.6]
[null,null,null,null,null,null,null,null,null,null,null,null,151,{"$f":"HLOOKUP($N$8,$AB$8:$CI359,S159,FALSE)","v":219.98},307.98,null,null,null,152,null,null,null,null,null,null,null,151,216.1,302,219.98,307.98,223.86,313.41000000000003,205.11,287.16000000000003,208.99,292.58999999999997,212.87,298.02,216.75,303.45999999999998,220.63,308.89,224.52,314.32,228.4,319.75,232.28,325.19,236.16,330.62,240.04,336.05,243.92,341.49,247.8,346.92,251.68,352.35,255.56,357.79,259.44,363.22,263.32,368.65,267.2,374.08,271.08,379.52,274.95999999999998,384.95,278.85000000000002,390.38,282.73,395.82,286.61,401.25,290.49,406.68,294.37,412.12,298.25,417.55,302.13,422.98,306.01,428.41]
[null,null,null,null,null,null,null,null,null,null,null,null,152,{"$f":"HLOOKUP($N$8,$AB$8:$CI360,S160,FALSE)","v":221.43},310,null,null,null,153,null,null,null,null,null,null,null,152,217.52,304.52999999999997,221.43,310,225.33,315.45999999999998,206.46,289.04000000000002,210.36,294.51,214.27,299.98,218.18,305.45,222.08,310.92,225.99,316.38,229.9,321.85000000000002,233.8,327.32,237.71,332.79,241.61,338.26,245.52,343.73,249.43,349.2,253.33,354.67,257.24,360.14,261.14999999999998,365.61,265.05,371.07,268.95999999999998,376.54,272.87,382.01,276.77,387.48,280.68,392.95,284.58,398.42,288.49,403.89,292.39999999999998,409.36,296.3,414.83,300.20999999999998,420.29,304.12,425.76,308.02,431.23]
[null,null,null,null,null,null,null,null,null,null,null,null,153,{"$f":"HLOOKUP($N$8,$AB$8:$CI361,S161,FALSE)","v":222.87},312.02,null,null,null,154,null,null,null,null,null,null,null,153,218.94,306.51,222.87,312.02,226.8,317.52,207.8,290.92,211.73,296.43,215.67,301.93,219.6,307.44,223.53,312.94,227.46,318.45,231.4,323.95,235.33,329.46,239.26,334.96,243.19,340.47,247.12,345.97,251.06,351.48,254.99,356.98,258.92,362.49,262.85000000000002,367.99,266.77999999999997,373.5,270.72000000000003,379,274.64999999999998,384.51,278.58,390.01,282.51,395.52,286.44,401.02,290.38,406.53,294.31,412.03,298.24,417.54,302.17,423.04,306.11,428.55,310.04000000000002,434.05]
[null,null,null,null,null,null,null,null,null,null,null,null,154,{"$f":"HLOOKUP($N$8,$AB$8:$CI362,S162,FALSE)","v":224.31},314.04000000000002,null,null,null,155,null,null,null,null,null,null,null,154,220.35,308.5,224.31,314.04000000000002,228.27,319.58,209.15,292.81,213.11,298.35000000000002,217.07,303.89,221.02,309.43,224.98,314.97000000000003,228.94,320.51,232.9,326.06,236.85,331.6,240.81,337.14,244.77,342.68,248.73,348.22,252.69,353.76,256.64,359.3,260.60000000000002,364.84,264.56,370.38,268.52,375.92,272.47000000000003,381.46,276.43,387.01,280.39,392.55,284.35000000000002,398.09,288.31,403.63,292.26,409.17,296.22000000000003,414.74,300.18,420.25,304.14,425.79,308.08999999999997,431.33,312.05,436.87]
[null,null,null,null,null,null,null,null,null,null,null,null,155,{"$f":"HLOOKUP($N$8,$AB$8:$CI363,S163,FALSE)","v":225.76},316.06,null,null,null,156,null,null,null,null,null,null,null,155,221.77,310.48,225.76,316.06,229.74,321.64,210.5,294.7,214.48,300.27,218.46,305.85000000000002,222.45,311.43,226.43,317,230.42,322.58,234.4,328.16,238.38,333.73,242.37,339.31,246.35,344.89,250.33,350.47,254.32,356.04,258.3,361.62,262.27999999999997,367.2,266.27,372.77,270.25,378.35,274.23,383.93,278.22000000000003,389.5,282.2,395.08,286.18,400.66,290.17,406.23,294.14999999999998,411.81,298.13,417.39,302.12,422.97,306.10000000000002,428.54,310.08999999999997,434.12,314.07,439.7]
[null,null,null,null,null,null,null,null,null,null,null,null,156,{"$f":"HLOOKUP($N$8,$AB$8:$CI364,S164,FALSE)","v":227.2},318.08,null,null,null,157,null,null,null,null,null,null,null,156,223.19,312.47000000000003,227.2,318.08,231.21,323.7,211.85,296.58999999999997,215.86,302.2,219.86,307.81,223.87,313.42,227.88,319.04000000000002,231.89,324.64999999999998,235.9,330.26,239.91,335.88,243.92,341.49,247.93,347.1,251.94,352.71,255.95,358.33,259.95999999999998,363.94,263.97000000000003,369.55,267.98,375.17,271.98,380.78,275.99,386.39,280,392,284.01,397.62,288.02,403.23,292.02999999999997,408.84,296.04000000000002,414.46,300.05,420.07,304.06,425.68,308.07,431.29,312.08,436.91,316.08999999999997,442.52]
[null,null,null,null,null,null,null,null,null,null,null,null,157,{"$f":"HLOOKUP($N$8,$AB$8:$CI365,S165,FALSE)","v":228.65},320.11,null,null,null,158,null,null,null,null,null,null,null,157,224.62,314.45999999999998,228.65,320.11,232.68,325.76,213.2,298.48,217.23,304.12,221.27,309.77,225.3,315.42,229.34,321.07,233.37,326.72000000000003,237.41,332.37,241.44,338.02,245.48,343.67,249.51,349.32,253.55,354.96,257.58,360.61,261.62,366.26,265.64999999999998,371.91,269.69,377.56,273.72000000000003,383.21,277.76,388.86,281.79000000000002,394.51,285.82,400.15,289.86,405.8,293.89,411.45,297.93,417.1,301.95999999999998,422.75,306,428.4,310.02999999999997,434.05,314.07,439.7,318.10000000000002,445.35]
[null,null,null,null,null,null,null,null,null,null,null,null,158,{"$f":"HLOOKUP($N$8,$AB$8:$CI366,S166,FALSE)","v":230.1},322.14,null,null,null,159,null,null,null,null,null,null,null,158,226.04,316.45,230.1,322.14,234.16,327.82,214.55,300.37,218.61,306.05,222.67,311.74,226.73,317.42,230.79,323.11,234.85,328.79,238.91,334.48,242.97,340.16,247.03,345.85,251.09,351.53,255.15,357.22,259.20999999999998,362.9,263.27999999999997,368.59,267.33999999999997,374.27,271.39999999999998,379.95,275.45999999999998,385.64,279.52,391.32,283.58,397.01,287.64,402.69,291.7,408.38,295.76,414.06,299.82,419.75,303.88,425.43,307.94,431.12,312,436.8,316.06,442.49,320.12,448.17]
[null,null,null,null,null,null,null,null,null,null,null,null,159,{"$f":"HLOOKUP($N$8,$AB$8:$CI367,S167,FALSE)","v":231.55},324.17,null,null,null,160,null,null,null,null,null,null,null,159,227.46,318.45,231.55,324.17,235.63,329.89,215.9,302.26,219.99,307.98,224.07,313.7,228.16,319.42,232.25,325.14,236.33,330.86,240.42,336.59,244.5,342.31,248.59,348.03,252.68,353.75,256.76,359.47,260.85000000000002,365.19,264.94,370.91,269.02,376.63,273.11,382.35,277.19,388.07,281.27999999999997,393.79,285.37,399.51,289.45,405.24,293.54000000000002,410.96,297.63,416.68,301.70999999999998,422.4,305.8,428.12,309.89,433.84,313.97000000000003,439.56,318.06,445.28,322.14,451]
[null,null,null,null,null,null,null,null,null,null,null,null,160,{"$f":"HLOOKUP($N$8,$AB$8:$CI368,S168,FALSE)","v":233},326.2,null,null,null,161,null,null,null,null,null,null,null,160,228.89,320.44,233,326.2,237.11,331.96,217.25,304.16000000000003,221.37,309.91000000000003,225.48,315.67,229.59,321.43,233.7,327.18,237.81,332.94,241.93,338.7,246.04,344.45,250.15,350.21,254.26,355.97,258.37,361.72,262.49,367.48,266.60000000000002,373.24,270.70999999999998,378.99,274.82,384.75,278.93,390.51,283.05,396.26,287.16000000000003,402.02,291.27,407.78,295.38,413.53,299.49,419.29,303.61,425.05,307.72000000000003,430.8,311.83,436.56,315.94,442.32,320.05,448.08,324.17,453.83]
[null,null,null,null,null,null,null,null,null,null,null,null,161,{"$f":"HLOOKUP($N$8,$AB$8:$CI369,S169,FALSE)","v":234.45},328.23,null,null,null,162,null,null,null,null,null,null,null,161,230.31,322.44,234.45,328.23,238.59,334.03,218.61,306.05,222.75,311.83999999999997,226.88,317.64,231.02,323.43,235.16,329.22,239.3,335.02,243.43,340.81,247.57,346.6,251.71,352.39,255.85,358.19,259.99,363.98,264.12,369.77,268.26,375.57,272.39999999999998,381.36,276.54000000000002,387.15,280.67,392.94,284.81,398.74,288.95,404.53,293.08999999999997,410.32,297.22000000000003,416.11,301.36,421.91,305.5,427.7,309.64,433.49,313.77999999999997,439.29,317.91000000000003,445.08,322.05,450.87,326.19,456.66]
[null,null,null,null,null,null,null,null,null,null,null,null,162,{"$f":"HLOOKUP($N$8,$AB$8:$CI370,S170,FALSE)","v":235.91},330.27,null,null,null,163,null,null,null,null,null,null,null,162,231.74,324.44,235.91,330.27,240.07,336.1,219.96,307.95,224.13,313.77999999999997,228.29,319.61,232.45,325.44,236.62,331.27,240.78,337.09,244.94,342.92,249.11,348.75,253.27,354.58,257.44,360.41,261.60000000000002,366.24,265.76,372.07,269.93,377.9,274.08999999999997,383.72,278.25,389.55,282.42,395.38,286.58,401.21,290.74,407.04,294.91000000000003,412.87,299.07,418.7,303.23,424.53,307.39999999999998,430.35,311.56,436.18,315.72000000000003,442.01,319.89,447.84,324.05,453.67,328.21,459.5]
[null,null,null,null,null,null,null,null,null,null,null,null,163,{"$f":"HLOOKUP($N$8,$AB$8:$CI371,S171,FALSE)","v":237.36},332.31,null,null,null,164,null,null,null,null,null,null,null,163,233.17,326.44,237.36,332.31,241.55,338.17,221.32,309.85000000000002,225.51,315.72000000000003,229.7,321.58,233.89,327.44,238.08,333.31,242.27,339.17,246.46,345.04,250.65,350.9,254.83,356.77,259.02,362.63,263.20999999999998,368.5,267.39999999999998,374.36,271.58999999999997,380.23,275.77999999999997,386.09,279.97000000000003,391.96,284.16000000000003,397.82,288.35000000000002,403.69,292.54000000000002,409.55,296.73,415.42,300.91000000000003,421.28,305.10000000000002,427.15,309.29000000000002,433.01,313.48,438.87,317.67,444.74,321.86,450.6,326.05,456.47,330.24,462.33]
[null,null,null,null,null,null,null,null,null,null,null,null,164,{"$f":"HLOOKUP($N$8,$AB$8:$CI372,S172,FALSE)","v":238.82},334.35,null,null,null,165,null,null,null,null,null,null,null,164,234.17,328.45,238.82,334.35,243.03,340.25,222.68,311.75,226.89,317.64999999999998,231.11,323.55,235.32,329.45,239.54,335.36,243.75,341.26,247.97,347.16,252.18,353.06,256.39999999999998,358.96,260.61,364.86,264.83,370.76,269.04000000000002,376.66,273.26,382.56,277.47000000000003,388.46,281.69,394.36,285.89999999999998,400.26,290.12,406.16,294.33,412.06,298.55,417.97,302.76,423.87,306.98,429.77,311.19,435.67,315.41000000000003,441.57,319.62,447.47,323.83999999999997,453.37,328.05,459.27,332.26,465.17]
[null,null,null,null,null,null,null,null,null,null,null,null,165,{"$f":"HLOOKUP($N$8,$AB$8:$CI373,S173,FALSE)","v":240.28},336.39,null,null,null,166,null,null,null,null,null,null,null,165,236.04,330.45,240.28,336.39,244.52,342.33,224.04,313.66000000000003,228.28,319.58999999999997,232.52,325.52999999999997,236.76,331.47,241,337.4,245.24,343.34,249.48,349.28,253.72,355.21,257.95999999999998,361.15,262.2,367.09,266.44,373.02,270.69,378.96,274.93,384.9,279.17,390.83,283.41000000000003,396.77,287.64999999999998,402.71,291.89,408.64,296.13,414.58,300.37,420.52,304.61,426.45,308.85000000000002,432.39,313.08999999999997,438.33,317.33,444.26,321.57,450.2,325.81,456.14,330.05,462.07,334.29,468.01]
[null,null,null,null,null,null,null,null,null,null,null,null,166,{"$f":"HLOOKUP($N$8,$AB$8:$CI374,S174,FALSE)","v":241.74},338.43,null,null,null,167,null,null,null,null,null,null,null,166,237.47,332.46,241.74,338.43,246,344.41,225.4,315.56,229.67,321.52999999999997,233.93,327.51,238.2,333.48,242.47,339.45,246.73,345.42,251,351.4,255.26,357.37,259.52999999999997,363.34,263.8,369.32,268.06,375.29,272.33,381.26,276.60000000000002,387.23,280.86,393.21,285.13,399.18,289.39,405.15,293.66000000000003,411.12,297.93,417.1,302.19,423.07,306.45999999999998,429.04,310.72000000000003,435.01,314.99,440.99,319.26,446.96,323.52,452.93,327.79,458.91,332.06,464.88,336.32,470.85]
[null,null,null,null,null,null,null,null,null,null,null,null,167,{"$f":"HLOOKUP($N$8,$AB$8:$CI375,S175,FALSE)","v":243.2},340.48,null,null,null,168,null,null,null,null,null,null,null,167,238.91,334.48,243.2,340.48,247.49,346.49,226.76,317.47000000000003,231.06,323.48,235.35,329.49,239.64,335.49,243.93,341.5,248.22,347.51,252.51,353.52,256.81,359.53,261.10000000000002,365.54,265.39,371.55,269.68,377.56,273.97000000000003,383.56,278.27,389.57,282.56,395.58,286.85000000000002,401.59,291.14,407.6,295.43,413.61,299.73,419.62,304.02,425.62,308.31,431.63,312.60000000000002,437.64,316.89,443.65,321.19,449.66,325.48,455.67,329.77,461.68,334.06,467.68,338.35,473.69]
[null,null,null,null,null,null,null,null,null,null,null,null,168,{"$f":"HLOOKUP($N$8,$AB$8:$CI376,S176,FALSE)","v":244.66},342.53,null,null,null,169,null,null,null,null,null,null,null,168,240.34,336.48,244.66,342.53,248.98,348.57,228.13,319.38,232.44,325.42,236.76,331.47,241.08,337.51,245.4,343.56,249.71,349.6,254.03,355.65,258.35000000000002,361.69,262.67,367.73,266.99,373.78,271.3,379.82,275.62,385.87,279.94,391.91,284.26,397.96,288.57,404,292.89,410.05,297.20999999999998,416.09,301.52999999999997,422.14,305.83999999999997,428.18,310.16000000000003,434.23,314.48,440.27,318.8,446.32,323.11,452.36,327.43,458.4,331.75,464.45,336.07,470.49,340.38,476.54]
[null,null,null,null,null,null,null,null,null,null,null,null,169,{"$f":"HLOOKUP($N$8,$AB$8:$CI377,S177,FALSE)","v":246.13},344.58,null,null,null,170,null,null,null,null,null,null,null,169,241.78,338.5,246.13,344.58,250.47,350.66,229.49,321.29000000000002,233.84,327.37,238.18,333.45,242.52,339.53,246.87,345.61,251.21,351.69,255.55,357.77,259.89999999999998,363.85,264.24,369.93,268.58,376.01,272.92,382.09,277.27,388.18,281.61,394.26,285.95,400.34,290.3,406.42,294.64,412.5,298.98,418.58,303.33,424.66,307.67,430.74,312.01,436.82,316.36,442.9,320.7,448.98,325.04000000000002,455.06,329.39,461.14,333.73,467.22,338.07,473.3,342.42,479.38]
[null,null,null,null,null,null,null,null,null,null,null,null,170,{"$f":"HLOOKUP($N$8,$AB$8:$CI378,S178,FALSE)","v":247.59},346.63,null,null,null,171,null,null,null,null,null,null,null,170,243.22,340.51,247.59,346.63,251.96,352.75,230.86,323.2,235.23,329.32,239.6,335.44,243.97,341.55,248.33,347.67,252.7,353.78,257.07,359.9,261.44,366.02,265.81,372.13,270.18,378.25,274.55,384.37,278.92,390.48,283.29000000000002,396.6,287.66000000000003,402.72,292.02,408.83,296.39,414.95,300.76,421.07,305.13,427.18,309.5,433.3,313.87,439.42,318.24,445.53,322.61,451.65,326.98,457.77,331.35,463.88,335.71,470,340.08,476.12,344.45,482.23]
[null,null,null,null,null,null,null,null,null,null,null,null,171,{"$f":"HLOOKUP($N$8,$AB$8:$CI379,S179,FALSE)","v":249.06},348.68,null,null,null,172,null,null,null,null,null,null,null,171,244.67,342.53,249.06,348.68,253.46,354.84,232.23,325.12,236.62,331.27,241.02,337.42,245.41,343.57,249.81,349.73,254.2,355.88,258.58999999999997,362.03,262.99,368.18,267.38,374.34,271.77999999999997,380.49,276.17,386.64,280.57,392.8,284.95999999999998,398.95,289.36,405.1,293.75,411.25,298.14999999999998,417.41,302.54000000000002,423.56,306.94,429.71,311.33,435.86,315.73,442.02,320.12,448.17,324.52,454.32,328.91,460.47,333.3,466.63,337.7,472.78,342.09,478.93,346.49,485.08]
[null,null,null,null,null,null,null,null,null,null,null,null,172,{"$f":"HLOOKUP($N$8,$AB$8:$CI380,S180,FALSE)","v":250.53},350.74,null,null,null,173,null,null,null,null,null,null,null,172,246.11,344.55,250.53,350.74,254.95,356.93,233.6,327.02999999999997,238.02,333.22,242.44,339.41,246.86,345.6,251.28,351.79,255.7,357.98,260.12,364.17,264.54000000000002,370.35,268.95999999999998,376.54,273.38,382.73,277.8,388.92,282.22000000000003,395.11,286.64,401.3,291.06,407.49,295.48,413.67,299.89999999999998,419.86,304.32,426.05,308.74,432.24,313.16000000000003,438.43,317.58,444.62,322,450.81,326.42,456.99,330.84,463.18,335.26,469.37,339.69,475.56,344.11,481.75,348.53,487.94]
[null,null,null,null,null,null,null,null,null,null,null,null,173,{"$f":"HLOOKUP($N$8,$AB$8:$CI381,S181,FALSE)","v":251.87},352.62,null,null,null,174,null,null,null,null,null,null,null,173,247.42,346.39,251.87,352.62,256.31,358.84,234.85,328.79,239.3,335.02,243.74,341.24,248.19,347.47,252.64,353.69,257.08,359.91,261.52999999999997,366.14,265.97000000000003,372.36,270.42,378.59,274.87,384.81,279.31,391.04,283.76,397.26,288.2,403.49,292.64999999999998,409.71,297.10000000000002,415.94,301.54000000000002,422.16,305.99,428.38,310.43,434.61,314.88,440.83,319.33,447.06,323.77,453.28,328.22,459.51,332.67,465.73,337.11,471.96,341.56,478.18,346,484.41,350.45,490.63]
[null,null,null,null,null,null,null,null,null,null,null,null,174,{"$f":"HLOOKUP($N$8,$AB$8:$CI382,S182,FALSE)","v":253.34},354.68,null,null,null,175,null,null,null,null,null,null,null,174,248.87,348.48,253.34,354.68,257.81,360.94,236.22,330.71,240.69,336.97,245.17,343.23,249.64,349.49,254.11,355.75,258.58,362.01,263.05,368.27,267.52,374.53,272,380.8,276.47000000000003,387.06,280.94,393.32,285.41000000000003,399.58,289.88,405.84,294.36,412.1,298.83,418.36,303.3,424.62,307.77,430.88,312.24,437.14,316.70999999999998,443.4,321.19,449.66,325.66000000000003,455.92,330.13,462.18,334.6,468.44,339.07,474.7,343.55,480.96,348.02,487.22,352.49,493.48]
[null,null,null,null,null,null,null,null,null,null,null,null,175,{"$f":"HLOOKUP($N$8,$AB$8:$CI383,S183,FALSE)","v":254.81},356.74,null,null,null,176,null,null,null,null,null,null,null,175,250.32,350.44,254.81,356.74,259.31,363.03,237.59,332.63,242.09,338.93,246.59,345.23,251.09,351.52,255.58,357.82,260.08,364.11,264.58,370.41,269.08,376.71,273.57,383,278.07,389.3,282.57,395.6,287.07,401.89,291.56,408.19,296.06,414.49,300.56,420.78,305.06,427.08,309.55,433.38,314.05,439.67,318.55,445.97,323.05,452.27,327.54000000000002,458.56,332.04,464.86,336.54,471.16,341.04,477.45,345.53,483.75,350.03,490.04,354.53,496.34]
[null,null,null,null,null,null,null,null,null,null,null,null,176,{"$f":"HLOOKUP($N$8,$AB$8:$CI384,S184,FALSE)","v":256.29000000000002},358.8,null,null,null,177,null,null,null,null,null,null,null,176,251.76,352.47,256.29000000000002,358.8,260.81,365.14,238.97,334.56,243.49,340.89,248.01,347.22,252.54,353.55,257.06,359.89,261.58,366.22,266.11,372.55,270.63,378.88,275.14999999999998,385.22,279.68,391.55,284.2,397.88,288.72000000000003,404.21,293.25,410.55,297.77,416.88,302.29000000000002,423.21,306.82,429.54,311.33999999999997,435.88,315.86,442.21,320.39,448.54,324.91000000000003,454.87,329.43,461.21,333.96,467.54,338.48,473.87,343,480.2,347.53,486.54,352.05,492.87,356.57,499.2]
[null,null,null,null,null,null,null,null,null,null,null,null,177,{"$f":"HLOOKUP($N$8,$AB$8:$CI385,S185,FALSE)","v":257.76},360.87,null,null,null,178,null,null,null,null,null,null,null,177,253.22,354.5,257.76,360.87,262.31,367.24,240.34,336.48,244.89,342.85,249.44,349.22,253.99,355.59,258.54000000000002,361.96,263.08999999999997,368.32,267.64,374.69,272.19,381.06,276.74,387.43,281.27999999999997,393.8,285.83,400.17,290.38,406.53,294.93,412.9,299.48,419.27,304.02999999999997,425.64,308.58,432.01,313.13,438.38,317.68,444.75,322.22000000000003,451.11,326.77,457.48,331.32,463.85,335.87,470.22,340.42,476.59,344.97,482.96,349.52,489.32,354.07,495.69,358.62,502.06]
[null,null,null,null,null,null,null,null,null,null,null,null,178,{"$f":"HLOOKUP($N$8,$AB$8:$CI386,S186,FALSE)","v":259.24},362.87,null,null,null,179,null,null,null,null,null,null,null,178,254.67,356.53,259.24,362.87,263.82,369.34,241.72,338.41,246.3,344.81,250.87,351.22,255.44,357.62,260.02,364.03,264.58999999999997,370.43,269.17,376.84,273.74,383.24,278.32,389.64,282.89,396.05,287.47000000000003,402.45,292.04000000000002,408.86,296.62,415.26,301.19,421.67,305.77,428.07,310.33999999999997,434.48,314.91000000000003,440.88,319.49,447.28,324.06,453.69,328.64,460.09,333.21,466.5,337.79,472.9,342.36,479.31,346.94,485.71,351.51,492.12,356.09,498.52,360.66,504.92]
[null,null,null,null,null,null,null,null,null,null,null,null,179,{"$f":"HLOOKUP($N$8,$AB$8:$CI387,S187,FALSE)","v":260.58},364.81,null,null,null,180,null,null,null,null,null,null,null,179,255.98,358.37,260.58,364.81,265.18,371.25,242.98,340.17,247.58,346.61,252.18,353.05,256.77999999999997,359.49,261.38,365.93,265.98,372.37,270.58,378.81,275.18,385.25,279.77999999999997,391.69,284.38,398.13,288.98,404.57,293.58,411.01,298.18,417.45,302.77999999999997,423.89,307.38,430.33,311.98,436.77,316.58,443.21,321.18,449.65,325.77999999999997,456.09,330.38,462.54,334.98,468.98,339.58,475.42,344.18,481.86,348.78,488.3,353.38,494.74,357.98,501.18,362.58,507.62]
[null,null,null,null,null,null,null,null,null,null,null,null,180,{"$f":"HLOOKUP($N$8,$AB$8:$CI388,S188,FALSE)","v":262.06},366.89,null,null,null,181,null,null,null,null,null,null,null,180,257.44,360.41,262.06,366.89,266.69,373.36,244.36,342.1,248.98,348.57,253.61,355.05,258.23,361.53,262.86,368,267.49,374.48,272.11,380.96,276.74,387.43,281.36,393.91,285.99,400.39,290.62,406.86,295.24,413.34,299.87,419.81,304.49,426.29,309.12,432.77,313.75,439.24,318.37,445.72,323,452.2,327.62,458.67,332.25,465.15,336.88,471.63,341.5,478.1,346.13,484.58,350.75,491.05,355.38,497.53,360.01,504.01,364.63,510.48]
[null,null,null,null,null,null,null,null,null,null,null,null,181,{"$f":"HLOOKUP($N$8,$AB$8:$CI389,S189,FALSE)","v":263.02999999999997},368.96,null,null,null,182,null,null,null,null,null,null,null,181,258.89,362.45,263.02999999999997,368.96,268.2,375.47,245.74,344.03,250.39,350.54,255.04,357.06,259.69,363.57,264.33999999999997,370.08,268.99,376.59,273.64999999999998,383.1,278.3,389.62,282.95,396.13,287.60000000000002,402.64,292.25,409.15,296.89999999999998,415.67,301.56,422.18,306.20999999999998,428.69,310.86,435.2,315.51,441.72,320.16000000000003,448.23,324.81,454.74,329.47,461.25,334.12,467.77,338.77,474.28,343.42,480.79,348.07,487.3,352.72,493.81,357.38,500.33,362.03,506.84,366.68,513.35]
[null,null,null,null,null,null,null,null,null,null,null,null,182,{"$f":"HLOOKUP($N$8,$AB$8:$CI390,S190,FALSE)","v":265.02999999999997},371.04,null,null,null,183,null,null,null,null,null,null,null,182,260.35000000000002,364.49,265.02999999999997,371.04,269.70999999999998,377.59,247.12,345.96,251.8,352.51,256.47000000000003,359.07,261.14999999999998,365.61,265.83,372.16,270.5,378.71,275.18,385.26,279.86,391.8,284.54000000000002,398.35,289.20999999999998,404.9,293.89,411.45,298.57,418,303.25,424.55,307.92,431.09,312.60000000000002,437.64,317.27999999999997,444.19,321.95999999999998,450.74,326.63,457.29,331.31,463.84,335.99,470.38,340.67,476.93,345.34,483.48,350.02,490.03,354.7,496.58,359.38,503.13,364.05,509.67,368.73,516.22]
[null,null,null,null,null,null,null,null,null,null,null,null,183,{"$f":"HLOOKUP($N$8,$AB$8:$CI391,S191,FALSE)","v":266.51},373.12,null,null,null,184,null,null,null,null,null,null,null,183,261.81,366.54,266.51,373.12,271.22000000000003,379.7,248.5,347.9,253.2,354.49,257.91000000000003,361.08,262.61,367.66,267.31,374.24,272.02,380.82,276.72000000000003,387.41,281.42,393.99,286.13,400.58,290.83,407.16,295.52999999999997,413.75,300.24,420.33,304.94,426.91,309.64,433.5,314.35000000000002,440.08,319.05,446.67,323.75,453.25,328.45,459.84,333.16,466.42,337.86,473,342.56,479.59,347.27,486.17,351.97,492.76,356.67,499.34,361.38,505.93,366.08,512.51,370.78,519.1]
[null,null,null,null,null,null,null,null,null,null,null,null,184,{"$f":"HLOOKUP($N$8,$AB$8:$CI392,S192,FALSE)","v":267.85000000000002},374.99,null,null,null,185,null,null,null,null,null,null,null,184,263.12,368.37,267.85000000000002,374.99,272.58,381.61,249.76,349.66,254.49,356.28,259.20999999999998,362.9,263.94,369.52,268.67,376.14,273.39999999999998,382.76,278.13,389.38,282.86,396,287.58999999999997,402.62,292.32,409.24,297.05,415.86,301.77,422.48,306.5,429.1,311.23,435.72,315.95999999999998,442.34,320.69,448.97,325.42,455.59,330.15,462.21,334.88,468.83,339.6,475.45,344.33,482.07,349.06,488.69,353.79,495.31,358.52,501.93,363.25,508.55,367.98,515.16999999999996,372.71,521.79]
[null,null,null,null,null,null,null,null,null,null,null,null,185,{"$f":"HLOOKUP($N$8,$AB$8:$CI393,S193,FALSE)","v":269.33999999999997},377.08,null,null,null,186,null,null,null,null,null,null,null,185,264.58999999999997,370.42,269.33999999999997,377.08,274.10000000000002,383.73,251.14,351.6,255.9,358.26,260.64999999999998,364.91,265.41000000000003,371.57,270.16000000000003,378.23,274.92,384.88,279.67,391.54,284.42,398.19,289.18,404.85,293.93,411.51,298.69,418.16,303.44,424.82,308.2,431.48,312.95,438.13,317.70999999999998,444.79,322.45999999999998,451.44,327.20999999999998,458.1,331.97,464.76,336.72,471.41,341.48,478.07,346.23,484.73,350.99,491.38,355.74,498.04,360.5,504.7,365.25,511.35,370.01,518.01,374.76,524.66]
[null,null,null,null,null,null,null,null,null,null,null,null,186,{"$f":"HLOOKUP($N$8,$AB$8:$CI394,S194,FALSE)","v":270.83},379.16,null,null,null,187,null,null,null,null,null,null,null,186,266.05,372.47,270.83,379.16,275.61,385.86,252.53,353.54,257.31,360.23,262.08999999999997,366.93,266.87,373.62,271.64999999999998,380.31,276.43,387,281.20999999999998,393.7,285.99,400.39,290.77,407.08,295.55,413.77,300.33,420.47,305.11,427.16,309.89,433.85,314.67,440.54,319.45,447.23,324.23,453.93,329.01,460.62,333.79,467.31,338.57,474,343.35,480.7,348.13,487.39,352.91,494.08,357.69,500.77,362.48,507.47,367.26,514.16,372.04,520.85,376.82,527.54]
[null,null,null,null,null,null,null,null,null,null,null,null,187,{"$f":"HLOOKUP($N$8,$AB$8:$CI395,S195,FALSE)","v":272.32},381.25,null,null,null,188,null,null,null,null,null,null,null,187,267.52,374.52,272.32,381.25,277.13,387.98,253.92,355.49,258.73,362.22,263.52999999999997,368.94,268.33999999999997,375.67,273.14,382.4,277.95,389.13,282.76,395.86,287.56,402.59,292.37,409.31,297.17,416.04,301.98,422.77,306.77999999999997,429.5,311.58999999999997,436.23,316.39999999999998,442.96,321.2,449.68,326.01,456.41,330.81,463.14,335.62,469.87,340.43,476.6,345.23,483.32,350.04,490.05,354.84,496.78,359.65,503.51,364.46,510.24,369.26,516.97,374.07,523.69000000000005,378.87,530.41999999999996]
[null,null,null,null,null,null,null,null,null,null,null,null,188,{"$f":"HLOOKUP($N$8,$AB$8:$CI396,S196,FALSE)","v":273.66000000000003},383.13,null,null,null,189,null,null,null,null,null,null,null,188,268.83,376.36,273.66000000000003,383.13,278.49,389.89,255.18,357.25,260.01,364.01,264.83999999999997,370.77,269.67,377.54,274.5,384.3,279.33,391.07,284.16000000000003,397.83,289,404.6,293.83,411.36,298.66000000000003,418.12,303.49,424.89,308.32,431.65,313.14999999999998,438.42,317.99,445.18,322.82,451.94,327.64999999999998,458.71,332.48,465.47,337.31,472.24,342.14,479,346.98,485.77,351.81,492.53,356.64,499.29,361.47,506.06,366.3,512.82000000000005,371.13,519.59,375.97,526.35,380.8,533.12]
[null,null,null,null,null,null,null,null,null,null,null,null,189,{"$f":"HLOOKUP($N$8,$AB$8:$CI397,S197,FALSE)","v":275.16000000000003},385.22,null,null,null,190,null,null,null,null,null,null,null,189,270.3,378.42,275.16000000000003,385.22,280.01,392.02,256.57,359.19,261.42,365.99,266.27999999999997,372.79,271.14,379.59,276,386.39,280.85000000000002,393.19,285.70999999999998,399.99,290.57,406.79,295.42,413.59,300.27999999999997,420.4,305.14,427.2,310,434,314.85000000000002,440.8,319.70999999999998,447.6,324.57,454.4,329.43,461.2,334.28,468,339.14,474.8,344,481.6,348.86,488.4,353.71,495.2,358.57,502,363.43,508.8,368.28,515.6,373.14,522.4,378,529.20000000000005,382.86,536]
[null,null,null,null,null,null,null,null,null,null,null,null,190,{"$f":"HLOOKUP($N$8,$AB$8:$CI398,S198,FALSE)","v":276.64999999999998},387.32,null,null,null,191,null,null,null,null,null,null,null,190,271.77,380.48,276.64999999999998,387.32,281.54000000000002,394.15,257.95999999999998,361.14,262.83999999999997,367.98,267.73,374.82,272.61,381.65,277.49,388.49,282.37,395.32,287.26,402.16,292.14,409,297.02,415.83,301.91000000000003,422.67,306.79000000000002,429.51,311.67,436.34,316.56,443.18,321.44,450.01,326.32,456.85,331.2,463.69,336.09,470.52,340.97,477.36,345.85,484.2,350.74,491.03,355.62,497.87,360.5,504.7,365.39,511.54,370.27,518.38,375.15,525.21,380.03,532.04999999999995,384.92,538.88]
[null,null,null,null,null,null,null,null,null,null,null,null,191,{"$f":"HLOOKUP($N$8,$AB$8:$CI399,S199,FALSE)","v":278.14999999999998},389.41,null,null,null,192,null,null,null,null,null,null,null,191,273.24,382.54,278.14999999999998,389.41,283.06,396.29,259.35000000000002,363.1,264.26,369.97,269.17,376.84,274.08,383.71,278.99,390.59,283.89999999999998,397.46,288.81,404.33,293.72000000000003,411.2,298.62,418.07,303.52999999999997,424.95,308.44,431.82,313.35000000000002,438.69,318.26,445.56,323.17,452.44,328.08,459.31,332.99,466.18,337.89,473.05,342.8,479.92,347.71,486.8,352.62,493.67,357.53,500.54,362.44,507.41,367.35,514.28,372.25,521.16,377.16,528.03,382.07,534.9,386.98,541.77]
[null,null,null,null,null,null,null,null,null,null,null,null,192,{"$f":"HLOOKUP($N$8,$AB$8:$CI400,S200,FALSE)","v":279.49},391.29,null,null,null,193,null,null,null,null,null,null,null,192,274.56,384.45,279.49,391.29,284.43,398.2,260.61,364.85,265.54000000000002,371.76,270.48,378.67,275.41000000000003,385.58,280.35000000000002,392.49,285.27999999999997,399.4,290.22000000000003,406.3,295.14999999999998,413.21,300.08999999999997,420.12,305.02,427.03,309.95,433.94,314.89,440.84,319.82,447.75,324.76,454.66,329.69,461.57,334.63,468.48,339.56,475.39,344.5,482.29,349.43,489.2,354.36,496.11,359.3,503.02,364.23,509.93,369.17,516.83000000000004,374.1,523.74,379.04,530.65,383.97,537.55999999999995,388.9,544.47]
[null,null,null,null,null,null,null,null,null,null,null,null,193,{"$f":"HLOOKUP($N$8,$AB$8:$CI401,S201,FALSE)","v":280.99},393.39,null,null,null,194,null,null,null,null,null,null,null,193,276.02999999999997,386.45,280.99,393.39,285.95,400.33,262.01,366.81,266.97000000000003,373.75,271.93,380.7,276.89,387.64,281.85000000000002,394.59,286.81,401.53,291.77,408.48,296.73,415.42,301.69,422.36,306.64999999999998,429.31,311.61,436.25,316.57,443.2,321.52999999999997,450.14,326.49,457.08,331.45,464.03,336.41,470.97,341.37,477.92,346.33,484.86,351.29,491.81,356.25,498.75,361.21,505.69,366.17,512.64,371.13,519.58000000000004,376.09,526.53,381.05,533.47,386.01,540.41,390.97,547.36]
[null,null,null,null,null,null,null,null,null,null,null,null,{"$f":"M201+1","v":194},{"$f":"HLOOKUP($N$8,$AB$8:$CI402,S202,FALSE)","v":282.5},{"$f":"HLOOKUP($O$8,$AB$8:$CI$209,S202,FALSE)","v":395.5},null,null,null,195,null,null,null,null,null,null,null,194,277.51,388.52,282.5,395.5,287.48,402.48,263.41000000000003,368.77,268.39,375.75,273.38,382.73,278.36,389.71,283.35000000000002,396.69,288.33999999999997,403.67,293.32,410.65,298.31,417.63,303.29000000000002,424.61,308.27999999999997,431.59,313.26,438.57,318.25,445.55,323.24,452.53,328.22,459.51,333.21,466.49,338.19,473.47,343.18,480.45,348.17,487.43,353.15,494.41,358.14,501.39,363.12,508.37,368.11,515.35,373.09,522.33000000000004,378.08,529.30999999999995,383.07,536.29,388.05,543.27,393.04,550.25]
[null,null,null,null,null,null,null,null,null,null,null,null,195,{"$f":"HLOOKUP($N$8,$AB$8:$CI403,S203,FALSE)","v":283.83999999999997},397.37,null,null,null,196,null,null,null,null,null,null,null,195,278.82,390.35,283.83999999999997,397.37,288.85000000000002,404.39,264.66000000000003,370.53,269.67,377.54,274.69,384.56,279.7,391.58,284.70999999999998,398.59,289.72000000000003,405.61,294.73,412.62,299.74,419.64,304.75,426.66,309.77,433.67,314.77999999999997,440.69,319.79000000000002,447.7,324.8,454.72,329.81,461.74,334.82,468.75,339.83,475.77,344.85,482.79,349.86,489.8,354.87,496.82,359.88,503.83,364.89,510.85,369.9,517.87,374.92,524.88,379.93,531.9,384.94,538.91,389.95,545.92999999999995,394.96,552.95000000000005]
[null,null,null,null,null,null,null,null,null,null,null,null,196,{"$f":"HLOOKUP($N$8,$AB$8:$CI404,S204,FALSE)","v":285.33999999999997},399.48,null,null,null,197,null,null,null,null,null,null,null,196,280.31,392.43,285.33999999999997,399.48,290.38,406.53,266.06,372.49,271.10000000000002,379.54,276.14,386.59,281.18,393.65,286.20999999999998,400.7,291.25,407.75,296.29000000000002,414.8,301.32,421.85,306.36,428.91,311.39999999999998,435.96,316.44,443.01,321.47000000000003,450.06,326.51,457.11,331.55,464.17,336.58,471.22,341.62,478.27,346.66,485.32,351.7,492.37,356.73,499.43,361.77,506.48,366.81,513.53,371.85,520.58000000000004,376.88,527.64,381.92,534.69000000000005,386.96,541.74,391.99,548.79,397.03,555.84]
[null,null,null,null,null,null,null,null,null,null,null,null,197,{"$f":"HLOOKUP($N$8,$AB$8:$CI405,S205,FALSE)","v":286.85000000000002},401.59,null,null,null,198,null,null,null,null,null,null,null,197,281.79000000000002,394.5,286.85000000000002,401.59,291.91000000000003,408.68,267.47000000000003,374.45,272.52999999999997,381.54,277.58999999999997,388.63,282.66000000000003,395.72,287.72000000000003,402.81,292.77999999999997,409.89,297.83999999999997,416.98,302.91000000000003,424.07,307.97000000000003,431.16,313.02999999999997,438.25,318.10000000000002,445.33,323.16000000000003,452.42,328.22,459.51,333.29,466.6,338.35,473.69,343.41,480.78,348.47,487.86,353.54,494.95,358.6,502.04,363.66,509.13,368.73,516.22,373.79,523.29999999999995,378.85,530.39,383.91,537.48,388.98,544.57000000000005,394.04,551.66,399.1,558.74]
[null,null,null,null,null,null,null,null,null,null,null,null,198,{"$f":"HLOOKUP($N$8,$AB$8:$CI406,S206,FALSE)","v":288.19},403.47,null,null,null,199,null,null,null,null,null,null,null,198,283.79000000000002,396.34,288.19,403.47,293.27999999999997,410.59,268.72000000000003,376.21,273.81,383.34,278.89999999999998,390.46,283.99,397.58,289.08,404.71,294.17,411.83,299.25,418.96,304.33999999999997,426.08,309.43,433.2,314.52,440.33,319.61,447.45,324.7,454.58,329.79,461.7,334.87,468.82,339.96,475.95,345.05,483.07,350.14,490.2,355.23,497.32,360.32,504.44,365.41,511.57,370.49,518.69000000000005,375.58,525.82000000000005,380.67,532.94000000000005,385.76,540.05999999999995,390.85,547.19000000000005,395.95,554.30999999999995,401.03,561.44000000000005]
[null,null,null,null,null,null,null,null,null,null,null,null,199,{"$f":"HLOOKUP($N$8,$AB$8:$CI407,S207,FALSE)","v":289.7},405.58,null,null,null,200,null,null,null,null,null,null,null,199,284.58999999999997,398.42,289.7,405.58,294.82,412.74,270.13,378.18,275.24,385.34,280.36,392.5,285.47000000000003,399.66,290.58999999999997,406.82,295.7,413.98,300.81,421.14,305.93,428.3,311.04000000000002,435.46,316.16000000000003,442.62,321.27,449.78,326.39,456.94,331.5,464.1,336.61,471.26,341.73,478.42,346.84,485.58,351.96,492.74,357.07,499.9,362.19,507.06,367.3,514.22,372.41,521.38,377.53,528.54,382.64,535.70000000000005,387.76,542.86,392.87,550.02,397.99,557.17999999999995,403.1,564.34]
[null,null,null,null,null,null,null,null,null,null,null,null,200,{"$f":"HLOOKUP($N$8,$AB$8:$CI408,S208,FALSE)","v":291.20999999999998},407.7,null,null,null,201,null,null,null,null,null,null,null,200,286.07,400.5,291.20999999999998,407.7,296.35000000000002,414.9,271.54000000000002,380.15,276.68,387.35,281.82,394.54,286.95999999999998,401.74,292.10000000000002,408.94,297.24,416.13,302.38,423.33,307.52,430.52,312.66000000000003,437.72,317.8,444.92,322.94,452.11,328.08,459.31,333.22,466.5,338.36,473.7,343.5,480.9,348.64,488.09,353.78,495.29,358.92,502.48,364.06,509.68,369.2,516.88,374.34,524.07000000000005,379.48,531.27,384.62,538.46,389.76,545.66,394.9,552.86,400.04,560.04999999999995,405.18,567.25]
[null,null,null,null,null,null,null,null,null,null,null,null,"กม. 201 - 1000",{"$f":"HLOOKUP($N$8,$AB$8:$CI409,S209,FALSE)","v":1.46},2.04,null,null,null,202,null,null,null,null,null,null,null,"กม. 201 - 1000",1.43,2,1.46,2.04,1.48,2.0699999999999998,1.36,1.9,1.38,1.94,1.41,1.97,1.43,2.0099999999999998,1.46,2.04,1.49,2.08,1.51,2.12,1.54,2.15,1.56,2.19,1.59,2.2200000000000002,1.61,2.2599999999999998,1.64,2.2999999999999998,1.67,2.33,1.69,2.37,1.72,2.4,1.74,2.44,1.77,2.48,1.79,2.5099999999999998,1.82,2.5499999999999998,1.85,2.58,1.87,2.62,1.9,2.66,1.92,2.69,1.95,2.73,1.97,2.76,2,2.8,2.0299999999999998,2.84]

{"sheet":"ตารางถอดแบบกำแพงปากท่อ","index":29,"n_rows":59,"n_cols":7,"rows_kept":59,"cut":false,"hidden":true,"merged":[]}
["ใช้",{"$f":"BackUp!O267","v":"ทช-5-103/45"}]
["ตารางสรุปปริมาณวัสดุ กำแพงปากท่อกันน้ำเซาะที่ปลายท่อระบายน้ำชนิดกลม (คิดข้างเดียว)"]
["ขนาดท่อ","งานดินขุด","งานคอนกรีต ค.1","งานไม้แบบ","งานเหล็กเสริม"]
[null,null,null,null,"RB9","RB12","ลวดผูกเหล็ก"]
[null,"ลบ.ม.","ลบ.ม.","ตร.ม.","กก.","กก.","กก."]
["1-f 0.60",{"$f":"IF(BackUp!$O$267=BackUp!$BD$266,ตารางถอดแบบกำแพงปากท่อ!B28,ตารางถอดแบบกำแพงปากท่อ!B48)","v":0.20300000000000001},{"$f":"IF(BackUp!$O$267=BackUp!$BD$266,ตารางถอดแบบกำแพงปากท่อ!C28,ตารางถอดแบบกำแพงปากท่อ!C48)","v":0.997},{"$f":"IF(BackUp!$O$267=BackUp!$BD$266,ตารางถอดแบบกำแพงปากท่อ!D28,ตารางถอดแบบกำแพงปากท่อ!D48)","v":3.4849999999999999},{"$f":"IF(BackUp!$O$267=BackUp!$BD$266,ตารางถอดแบบกำแพงปากท่อ!E28,ตารางถอดแบบกำแพงปากท่อ!E48)","v":28.36},{"$f":"IF(BackUp!$O$267=BackUp!$BD$266,ตารางถอดแบบกำแพงปากท่อ!F28,ตารางถอดแบบกำแพงปากท่อ!F48)","v":6.93},{"$f":"IF(BackUp!$O$267=BackUp!$BD$266,ตารางถอดแบบกำแพงปากท่อ!G28,ตารางถอดแบบกำแพงปากท่อ!G48)","v":0.71}]
["2-f 0.60",{"$f":"IF(BackUp!$O$267=BackUp!$BD$266,ตารางถอดแบบกำแพงปากท่อ!B29,ตารางถอดแบบกำแพงปากท่อ!B49)","v":0.312},{"$f":"IF(BackUp!$O$267=BackUp!$BD$266,ตารางถอดแบบกำแพงปากท่อ!C29,ตารางถอดแบบกำแพงปากท่อ!C49)","v":1.478},{"$f":"IF(BackUp!$O$267=BackUp!$BD$266,ตารางถอดแบบกำแพงปากท่อ!D29,ตารางถอดแบบกำแพงปากท่อ!D49)","v":4.7450000000000001},{"$f":"IF(BackUp!$O$267=BackUp!$BD$266,ตารางถอดแบบกำแพงปากท่อ!E29,ตารางถอดแบบกำแพงปากท่อ!E49)","v":41.89},{"$f":"IF(BackUp!$O$267=BackUp!$BD$266,ตารางถอดแบบกำแพงปากท่อ!F29,ตารางถอดแบบกำแพงปากท่อ!F49)","v":10.66},{"$f":"IF(BackUp!$O$267=BackUp!$BD$266,ตารางถอดแบบกำแพงปากท่อ!G29,ตารางถอดแบบกำแพงปากท่อ!G49)","v":1.0509999999999999}]
["3-f 0.60",{"$f":"IF(BackUp!$O$267=BackUp!$BD$266,ตารางถอดแบบกำแพงปากท่อ!B30,ตารางถอดแบบกำแพงปากท่อ!B50)","v":0.42099999999999999},{"$f":"IF(BackUp!$O$267=BackUp!$BD$266,ตารางถอดแบบกำแพงปากท่อ!C30,ตารางถอดแบบกำแพงปากท่อ!C50)","v":1.9610000000000001},{"$f":"IF(BackUp!$O$267=BackUp!$BD$266,ตารางถอดแบบกำแพงปากท่อ!D30,ตารางถอดแบบกำแพงปากท่อ!D50)","v":6.0049999999999999},{"$f":"IF(BackUp!$O$267=BackUp!$BD$266,ตารางถอดแบบกำแพงปากท่อ!E30,ตารางถอดแบบกำแพงปากท่อ!E50)","v":55.41},{"$f":"IF(BackUp!$O$267=BackUp!$BD$266,ตารางถอดแบบกำแพงปากท่อ!F30,ตารางถอดแบบกำแพงปากท่อ!F50)","v":14.39},{"$f":"IF(BackUp!$O$267=BackUp!$BD$266,ตารางถอดแบบกำแพงปากท่อ!G30,ตารางถอดแบบกำแพงปากท่อ!G50)","v":1.3959999999999999}]
["1-f 0.80",{"$f":"IF(BackUp!$O$267=BackUp!$BD$266,ตารางถอดแบบกำแพงปากท่อ!B31,ตารางถอดแบบกำแพงปากท่อ!B51)","v":0.22800000000000001},{"$f":"IF(BackUp!$O$267=BackUp!$BD$266,ตารางถอดแบบกำแพงปากท่อ!C31,ตารางถอดแบบกำแพงปากท่อ!C51)","v":1.1890000000000001},{"$f":"IF(BackUp!$O$267=BackUp!$BD$266,ตารางถอดแบบกำแพงปากท่อ!D31,ตารางถอดแบบกำแพงปากท่อ!D51)","v":3.9049999999999998},{"$f":"IF(BackUp!$O$267=BackUp!$BD$266,ตารางถอดแบบกำแพงปากท่อ!E31,ตารางถอดแบบกำแพงปากท่อ!E51)","v":34.92},{"$f":"IF(BackUp!$O$267=BackUp!$BD$266,ตารางถอดแบบกำแพงปากท่อ!F31,ตารางถอดแบบกำแพงปากท่อ!F51)","v":7.78},{"$f":"IF(BackUp!$O$267=BackUp!$BD$266,ตารางถอดแบบกำแพงปากท่อ!G31,ตารางถอดแบบกำแพงปากท่อ!G51)","v":0.85399999999999998}]
["2-f 0.80",{"$f":"IF(BackUp!$O$267=BackUp!$BD$266,ตารางถอดแบบกำแพงปากท่อ!B32,ตารางถอดแบบกำแพงปากท่อ!B52)","v":0.372},{"$f":"IF(BackUp!$O$267=BackUp!$BD$266,ตารางถอดแบบกำแพงปากท่อ!C32,ตารางถอดแบบกำแพงปากท่อ!C52)","v":1.8680000000000001},{"$f":"IF(BackUp!$O$267=BackUp!$BD$266,ตารางถอดแบบกำแพงปากท่อ!D32,ตารางถอดแบบกำแพงปากท่อ!D52)","v":5.5730000000000004},{"$f":"IF(BackUp!$O$267=BackUp!$BD$266,ตารางถอดแบบกำแพงปากท่อ!E32,ตารางถอดแบบกำแพงปากท่อ!E52)","v":54.01},{"$f":"IF(BackUp!$O$267=BackUp!$BD$266,ตารางถอดแบบกำแพงปากท่อ!F32,ตารางถอดแบบกำแพงปากท่อ!F52)","v":12.72},{"$f":"IF(BackUp!$O$267=BackUp!$BD$266,ตารางถอดแบบกำแพงปากท่อ!G32,ตารางถอดแบบกำแพงปากท่อ!G52)","v":1.335}]
["3-f 0.80",{"$f":"IF(BackUp!$O$267=BackUp!$BD$266,ตารางถอดแบบกำแพงปากท่อ!B33,ตารางถอดแบบกำแพงปากท่อ!B53)","v":0.51600000000000001},{"$f":"IF(BackUp!$O$267=BackUp!$BD$266,ตารางถอดแบบกำแพงปากท่อ!C33,ตารางถอดแบบกำแพงปากท่อ!C53)","v":2.5470000000000002},{"$f":"IF(BackUp!$O$267=BackUp!$BD$266,ตารางถอดแบบกำแพงปากท่อ!D33,ตารางถอดแบบกำแพงปากท่อ!D53)","v":7.2409999999999997},{"$f":"IF(BackUp!$O$267=BackUp!$BD$266,ตารางถอดแบบกำแพงปากท่อ!E33,ตารางถอดแบบกำแพงปากท่อ!E53)","v":75.38},{"$f":"IF(BackUp!$O$267=BackUp!$BD$266,ตารางถอดแบบกำแพงปากท่อ!F33,ตารางถอดแบบกำแพงปากท่อ!F53)","v":17.649999999999999},{"$f":"IF(BackUp!$O$267=BackUp!$BD$266,ตารางถอดแบบกำแพงปากท่อ!G33,ตารางถอดแบบกำแพงปากท่อ!G53)","v":1.86}]
["1-f 1.00",{"$f":"IF(BackUp!$O$267=BackUp!$BD$266,ตารางถอดแบบกำแพงปากท่อ!B34,ตารางถอดแบบกำแพงปากท่อ!B54)","v":0.252},{"$f":"IF(BackUp!$O$267=BackUp!$BD$266,ตารางถอดแบบกำแพงปากท่อ!C34,ตารางถอดแบบกำแพงปากท่อ!C54)","v":1.3819999999999999},{"$f":"IF(BackUp!$O$267=BackUp!$BD$266,ตารางถอดแบบกำแพงปากท่อ!D34,ตารางถอดแบบกำแพงปากท่อ!D54)","v":4.3099999999999996},{"$f":"IF(BackUp!$O$267=BackUp!$BD$266,ตารางถอดแบบกำแพงปากท่อ!E34,ตารางถอดแบบกำแพงปากท่อ!E54)","v":40.75},{"$f":"IF(BackUp!$O$267=BackUp!$BD$266,ตารางถอดแบบกำแพงปากท่อ!F34,ตารางถอดแบบกำแพงปากท่อ!F54)","v":8.6},{"$f":"IF(BackUp!$O$267=BackUp!$BD$266,ตารางถอดแบบกำแพงปากท่อ!G34,ตารางถอดแบบกำแพงปากท่อ!G54)","v":0.98699999999999999}]
["2-f 1.00",{"$f":"IF(BackUp!$O$267=BackUp!$BD$266,ตารางถอดแบบกำแพงปากท่อ!B35,ตารางถอดแบบกำแพงปากท่อ!B55)","v":0.43},{"$f":"IF(BackUp!$O$267=BackUp!$BD$266,ตารางถอดแบบกำแพงปากท่อ!C35,ตารางถอดแบบกำแพงปากท่อ!C55)","v":2.2719999999999998},{"$f":"IF(BackUp!$O$267=BackUp!$BD$266,ตารางถอดแบบกำแพงปากท่อ!D35,ตารางถอดแบบกำแพงปากท่อ!D55)","v":6.3739999999999997},{"$f":"IF(BackUp!$O$267=BackUp!$BD$266,ตารางถอดแบบกำแพงปากท่อ!E35,ตารางถอดแบบกำแพงปากท่อ!E55)","v":69.44},{"$f":"IF(BackUp!$O$267=BackUp!$BD$266,ตารางถอดแบบกำแพงปากท่อ!F35,ตารางถอดแบบกำแพงปากท่อ!F55)","v":14.71},{"$f":"IF(BackUp!$O$267=BackUp!$BD$266,ตารางถอดแบบกำแพงปากท่อ!G35,ตารางถอดแบบกำแพงปากท่อ!G55)","v":1.6819999999999999}]
["3-f 1.00",{"$f":"IF(BackUp!$O$267=BackUp!$BD$266,ตารางถอดแบบกำแพงปากท่อ!B36,ตารางถอดแบบกำแพงปากท่อ!B56)","v":0.60899999999999999},{"$f":"IF(BackUp!$O$267=BackUp!$BD$266,ตารางถอดแบบกำแพงปากท่อ!C36,ตารางถอดแบบกำแพงปากท่อ!C56)","v":3.1619999999999999},{"$f":"IF(BackUp!$O$267=BackUp!$BD$266,ตารางถอดแบบกำแพงปากท่อ!D36,ตารางถอดแบบกำแพงปากท่อ!D56)","v":8.4380000000000006},{"$f":"IF(BackUp!$O$267=BackUp!$BD$266,ตารางถอดแบบกำแพงปากท่อ!E36,ตารางถอดแบบกำแพงปากท่อ!E56)","v":98.13},{"$f":"IF(BackUp!$O$267=BackUp!$BD$266,ตารางถอดแบบกำแพงปากท่อ!F36,ตารางถอดแบบกำแพงปากท่อ!F56)","v":20.82},{"$f":"IF(BackUp!$O$267=BackUp!$BD$266,ตารางถอดแบบกำแพงปากท่อ!G36,ตารางถอดแบบกำแพงปากท่อ!G56)","v":2.379}]
["1-f 1.20",{"$f":"IF(BackUp!$O$267=BackUp!$BD$266,ตารางถอดแบบกำแพงปากท่อ!B37,ตารางถอดแบบกำแพงปากท่อ!B57)","v":0.27500000000000002},{"$f":"IF(BackUp!$O$267=BackUp!$BD$266,ตารางถอดแบบกำแพงปากท่อ!C37,ตารางถอดแบบกำแพงปากท่อ!C57)","v":1.581},{"$f":"IF(BackUp!$O$267=BackUp!$BD$266,ตารางถอดแบบกำแพงปากท่อ!D37,ตารางถอดแบบกำแพงปากท่อ!D57)","v":4.7149999999999999},{"$f":"IF(BackUp!$O$267=BackUp!$BD$266,ตารางถอดแบบกำแพงปากท่อ!E37,ตารางถอดแบบกำแพงปากท่อ!E57)","v":49.75},{"$f":"IF(BackUp!$O$267=BackUp!$BD$266,ตารางถอดแบบกำแพงปากท่อ!F37,ตารางถอดแบบกำแพงปากท่อ!F57)","v":9.41},{"$f":"IF(BackUp!$O$267=BackUp!$BD$266,ตารางถอดแบบกำแพงปากท่อ!G37,ตารางถอดแบบกำแพงปากท่อ!G57)","v":1.1830000000000001}]
["2-f 1.20",{"$f":"IF(BackUp!$O$267=BackUp!$BD$266,ตารางถอดแบบกำแพงปากท่อ!B38,ตารางถอดแบบกำแพงปากท่อ!B58)","v":0.48899999999999999},{"$f":"IF(BackUp!$O$267=BackUp!$BD$266,ตารางถอดแบบกำแพงปากท่อ!C38,ตารางถอดแบบกำแพงปากท่อ!C58)","v":3.1549999999999998},{"$f":"IF(BackUp!$O$267=BackUp!$BD$266,ตารางถอดแบบกำแพงปากท่อ!D38,ตารางถอดแบบกำแพงปากท่อ!D58)","v":7.1749999999999998},{"$f":"IF(BackUp!$O$267=BackUp!$BD$266,ตารางถอดแบบกำแพงปากท่อ!E38,ตารางถอดแบบกำแพงปากท่อ!E58)","v":89.75},{"$f":"IF(BackUp!$O$267=BackUp!$BD$266,ตารางถอดแบบกำแพงปากท่อ!F38,ตารางถอดแบบกำแพงปากท่อ!F58)","v":16.690000000000001},{"$f":"IF(BackUp!$O$267=BackUp!$BD$266,ตารางถอดแบบกำแพงปากท่อ!G38,ตารางถอดแบบกำแพงปากท่อ!G58)","v":2.125}]
["3-f 1.20",{"$f":"IF(BackUp!$O$267=BackUp!$BD$266,ตารางถอดแบบกำแพงปากท่อ!B39,ตารางถอดแบบกำแพงปากท่อ!B59)","v":0.70199999999999996},{"$f":"IF(BackUp!$O$267=BackUp!$BD$266,ตารางถอดแบบกำแพงปากท่อ!C39,ตารางถอดแบบกำแพงปากท่อ!C59)","v":3.823},{"$f":"IF(BackUp!$O$267=BackUp!$BD$266,ตารางถอดแบบกำแพงปากท่อ!D39,ตารางถอดแบบกำแพงปากท่อ!D59)","v":9.6349999999999998},{"$f":"IF(BackUp!$O$267=BackUp!$BD$266,ตารางถอดแบบกำแพงปากท่อ!E39,ตารางถอดแบบกำแพงปากท่อ!E59)","v":126.67},{"$f":"IF(BackUp!$O$267=BackUp!$BD$266,ตารางถอดแบบกำแพงปากท่อ!F39,ตารางถอดแบบกำแพงปากท่อ!F59)","v":23.98},{"$f":"IF(BackUp!$O$267=BackUp!$BD$266,ตารางถอดแบบกำแพงปากท่อ!G39,ตารางถอดแบบกำแพงปากท่อ!G59)","v":3.0129999999999999}]
["1-f 1.50",{"$f":"IF(BackUp!$O$267=BackUp!$BD$266,ตารางถอดแบบกำแพงปากท่อ!B40,ตารางถอดแบบกำแพงปากท่อ!B60)","v":0},{"$f":"IF(BackUp!$O$267=BackUp!$BD$266,ตารางถอดแบบกำแพงปากท่อ!C40,ตารางถอดแบบกำแพงปากท่อ!C60)","v":0},{"$f":"IF(BackUp!$O$267=BackUp!$BD$266,ตารางถอดแบบกำแพงปากท่อ!D40,ตารางถอดแบบกำแพงปากท่อ!D60)","v":0},{"$f":"IF(BackUp!$O$267=BackUp!$BD$266,ตารางถอดแบบกำแพงปากท่อ!E40,ตารางถอดแบบกำแพงปากท่อ!E60)","v":0},{"$f":"IF(BackUp!$O$267=BackUp!$BD$266,ตารางถอดแบบกำแพงปากท่อ!F40,ตารางถอดแบบกำแพงปากท่อ!F60)","v":0},{"$f":"IF(BackUp!$O$267=BackUp!$BD$266,ตารางถอดแบบกำแพงปากท่อ!G40,ตารางถอดแบบกำแพงปากท่อ!G60)","v":0}]
["2-f 1.50",{"$f":"IF(BackUp!$O$267=BackUp!$BD$266,ตารางถอดแบบกำแพงปากท่อ!B41,ตารางถอดแบบกำแพงปากท่อ!B61)","v":0},{"$f":"IF(BackUp!$O$267=BackUp!$BD$266,ตารางถอดแบบกำแพงปากท่อ!C41,ตารางถอดแบบกำแพงปากท่อ!C61)","v":0},{"$f":"IF(BackUp!$O$267=BackUp!$BD$266,ตารางถอดแบบกำแพงปากท่อ!D41,ตารางถอดแบบกำแพงปากท่อ!D61)","v":0},{"$f":"IF(BackUp!$O$267=BackUp!$BD$266,ตารางถอดแบบกำแพงปากท่อ!E41,ตารางถอดแบบกำแพงปากท่อ!E61)","v":0},{"$f":"IF(BackUp!$O$267=BackUp!$BD$266,ตารางถอดแบบกำแพงปากท่อ!F41,ตารางถอดแบบกำแพงปากท่อ!F61)","v":0},{"$f":"IF(BackUp!$O$267=BackUp!$BD$266,ตารางถอดแบบกำแพงปากท่อ!G41,ตารางถอดแบบกำแพงปากท่อ!G61)","v":0}]
["3-f 1.50",{"$f":"IF(BackUp!$O$267=BackUp!$BD$266,ตารางถอดแบบกำแพงปากท่อ!B42,ตารางถอดแบบกำแพงปากท่อ!B62)","v":0},{"$f":"IF(BackUp!$O$267=BackUp!$BD$266,ตารางถอดแบบกำแพงปากท่อ!C42,ตารางถอดแบบกำแพงปากท่อ!C62)","v":0},{"$f":"IF(BackUp!$O$267=BackUp!$BD$266,ตารางถอดแบบกำแพงปากท่อ!D42,ตารางถอดแบบกำแพงปากท่อ!D62)","v":0},{"$f":"IF(BackUp!$O$267=BackUp!$BD$266,ตารางถอดแบบกำแพงปากท่อ!E42,ตารางถอดแบบกำแพงปากท่อ!E62)","v":0},{"$f":"IF(BackUp!$O$267=BackUp!$BD$266,ตารางถอดแบบกำแพงปากท่อ!F42,ตารางถอดแบบกำแพงปากท่อ!F62)","v":0},{"$f":"IF(BackUp!$O$267=BackUp!$BD$266,ตารางถอดแบบกำแพงปากท่อ!G42,ตารางถอดแบบกำแพงปากท่อ!G62)","v":0}]
[]
[]
[]
["ตารางสรุปปริมาณวัสดุ กำแพงปากท่อกันน้ำเซาะที่ปลายท่อระบายน้ำชนิดกลม (คิดข้างเดียว)",null,null,null,null,null,"(ทช-ท-3003)"]
["ขนาดท่อ","งานดินขุด","งานคอนกรีต ค.1","งานไม้แบบ","งานเหล็กเสริม"]
[null,null,null,null,"RB9","RB12","ลวดผูกเหล็ก"]
[null,"ลบ.ม.","ลบ.ม.","ตร.ม.","กก.","กก.","กก."]
["1-f 0.60",0.46800000000000003,1.3794999999999999,1.9770000000000001,49.49,15.57,{"$f":"ROUND((E28+F28)/1000*25,2)","v":1.63}]
["2-f 0.60",0.72,2.1800999999999999,2.3450000000000002,75.099999999999994,23.95,{"$f":"ROUND((E29+F29)/1000*25,2)","v":2.48}]
["3-f 0.60",0.97199999999999998,2.9807999999999999,2.7120000000000002,100.7,32.33,3.33]
["1-f 0.80",0.621,1.9571000000000001,2.3330000000000002,69.650000000000006,20.68,2.2599999999999998]
["2-f 0.80",0.95499999999999996,3.1086999999999998,2.82,105.98,31.77,3.44]
["3-f 0.80",1.2889999999999999,4.2603,3.306,142.32,42.87,4.63]
["1-f 1.00",0.77300000000000002,2.5851000000000002,2.6829999999999998,91.64,25.71,2.93]
["2-f 1.00",1.1859999999999999,4.1211000000000002,3.2850000000000001,139.56,39.44,4.4800000000000004]
["3-f 1.00",1.5980000000000001,5.6570999999999998,3.887,187.47,53.17,6.02]
["1-f 1.20",0.92400000000000004,3.2726999999999999,3.032,115.8,30.73,3.66]
["2-f 1.20",1.4159999999999999,5.2355999999999998,3.75,176.43,47.1,5.59]
["3-f 1.20",1.9079999999999999,7.1985000000000001,4.4669999999999996,237.05,63.46,7.51]
["1-f 1.50",1.1519999999999999,4.4225000000000003,3.56,156.35,38.32,4.87]
["2-f 1.50",1.764,7.1128,4.452,238.38,58.67,7.43]
["3-f 1.50",2.3759999999999999,9.8030000000000008,5.3449999999999998,320.39999999999998,79.03,9.99]
[]
["ตารางสรุปปริมาณวัสดุ กำแพงปากท่อกันน้ำเซาะที่ปลายท่อระบายน้ำชนิดกลม (คิดข้างเดียว)",null,null,null,null,null,"(ทช-5-103/45)"]
["ขนาดท่อ","งานดินขุด","งานคอนกรีต ค.1","งานไม้แบบ","งานเหล็กเสริม"]
[null,null,null,null,"RB9","RB12","ลวดผูกเหล็ก"]
[null,"ลบ.ม.","ลบ.ม.","ตร.ม.","กก.","กก.","กก."]
["1-f 0.60",0.20300000000000001,0.997,3.4849999999999999,28.36,6.93,0.71]
["2-f 0.60",0.312,1.478,4.7450000000000001,41.89,10.66,1.0509999999999999]
["3-f 0.60",0.42099999999999999,1.9610000000000001,6.0049999999999999,55.41,14.39,1.3959999999999999]
["1-f 0.80",0.22800000000000001,1.1890000000000001,3.9049999999999998,34.92,7.78,0.85399999999999998]
["2-f 0.80",0.372,1.8680000000000001,5.5730000000000004,54.01,12.72,1.335]
["3-f 0.80",0.51600000000000001,2.5470000000000002,7.2409999999999997,75.38,17.649999999999999,1.86]
["1-f 1.00",0.252,1.3819999999999999,4.3099999999999996,40.75,8.6,0.98699999999999999]
["2-f 1.00",0.43,2.2719999999999998,6.3739999999999997,69.44,14.71,1.6819999999999999]
["3-f 1.00",0.60899999999999999,3.1619999999999999,8.4380000000000006,98.13,20.82,2.379]
["1-f 1.20",0.27500000000000002,1.581,4.7149999999999999,49.75,9.41,1.1830000000000001]
["2-f 1.20",0.48899999999999999,3.1549999999999998,7.1749999999999998,89.75,16.690000000000001,2.125]
["3-f 1.20",0.70199999999999996,3.823,9.6349999999999998,126.67,23.98,3.0129999999999999]

{"sheet":"ราคาวัสดุสะพาน","index":30,"n_rows":56,"n_cols":12,"rows_kept":56,"cut":false,"hidden":true,"merged":[]}
[]
[null,"สรุปราคาต่อหน่วยของวัสดุก่อสร้างงานสะพาน"]
[]
[null,"สถานที่ก่อสร้าง",null,{"$f":"ต้นทุนสะพาน!C3","v":"ซอยจันทร์สุวรรณ"}]
[null,null,null,{"$f":"ต้นทุนสะพาน!C4","v":"บ้านกุดแห่ หมู่ 1 ตำบลกุดแห่ อำเภอนากลาง  จังหวัดหนองบัวลำภู"}]
[]
[null,"ปีงบประมาณ",null,{"$f":"\"งบประมาณปี  \"&ข้อมูลโครงการ!O3","v":"งบประมาณปี  2563"}]
[]
[null,"ลำดับ",null,"รายการ",null,null,null,null,null,"ราคาวัสดุ (ค่าวัสดุ+ค่าขนส่ง)"]
[null,null,null,null,null,null,null,null,null," โครงสร้างหลัก"]
[null,1,"คอนกรีต","ค.1 (Lean)",null,"(คอนกรีตผสมเสร็จ/พิจารณาตั้งPlant)",null,null,null,{"$f":"ราคาต่อหน่วย!G392","v":1978},"บาท/ลบม."]
[null,null,null,"ค.1 (180 ksc)",null,null,null,null,null,{"$f":"ราคาต่อหน่วย!H392","v":2092},"บาท/ลบม."]
[null,null,null,"ค.2 (240 ksc)",null,null,null,null,null,{"$f":"ราคาต่อหน่วย!I392","v":2169},"บาท/ลบม."]
[null,null,null,"ค.3 (300 ksc)",null,null,null,null,null,{"$f":"ราคาต่อหน่วย!J392","v":2208},"บาท/ลบม."]
[null,null,null,"ค.3 (325 ksc)",null,"(สำหรับงานผิวทาง)",null,null,null,{"$f":"ราคาต่อหน่วย!K392","v":1902},"บาท/ลบม."]
[null,null,null,"ค.4 (420 ksc)",null,null,null,null,null,{"$f":"ราคาต่อหน่วย!L392","v":2289},"บาท/ลบม."]
[]
[null,2,"แบบหล่อ"]
[null,null,"ค่างานไม้แบบทั่วไป"]
[null,null,null,"กรณีใช้งานได้  4  ครั้ง  (สำหรับงานApp,งานเชิงลาด,ฯลฯ)",null,null,null,null,null,{"$f":"ราคาต่อหน่วย!J455","v":370},"บาท/ตร.ม."]
[null,null,null,"กรณีใช้งานได้  5  ครั้ง (สำหรับงานเบ็ตเตล็ดทั้งหมด)",null,null,null,null,null,{"$f":"ราคาต่อหน่วย!J456","v":330},"บาท/ตร.ม."]
[null,null,null,"(รวมค่าวัสดุและค่าแรงงาน เรียบร้อยแล้ว)"]
[null,null,"ค่าไม้แบบงานสะพานและท่อเหลี่ยม"]
[null,null,null,"กรณีใช้งานได้  3  ครั้ง  (สำหรับงานสะพานทั้งหมด)",null,null,null,null,null,{"$f":"ราคาต่อหน่วย!J457","v":450},"บาท/ตร.ม."]
[null,null,null,"(รวมค่าวัสดุและค่าแรงงาน เรียบร้อยแล้ว)"]
[]
[null,3,"เหล็กเสริม","เหล็กเส้นกลม SR 24 "]
[null,null,null,"RB 6",null,null,null,null,null,{"$f":"ราคาต่อหน่วย!L417","v":20.77},"บาท/กก."]
[null,null,null,"RB 9",null,null,null,null,null,{"$f":"ราคาต่อหน่วย!L418","v":18.59},"บาท/กก."]
[null,null,null,"RB 12",null,null,null,null,null,{"$f":"ราคาต่อหน่วย!L419","v":19.829999999999998},"บาท/กก."]
[null,null,null,"RB 15",null,null,null,null,null,{"$f":"ราคาต่อหน่วย!L420","v":21.96},"บาท/กก."]
[null,null,null,"RB 19",null,null,null,null,null,{"$f":"ราคาต่อหน่วย!L421","v":17.14},"บาท/กก."]
[null,null,null,"RB 25",null,null,null,null,null,{"$f":"ราคาต่อหน่วย!L422","v":19.989999999999998},"บาท/กก."]
[null,null,null,"เหล็กข้ออ้อย SD 40"]
[null,null,null,"DB 12",null,null,null,null,null,{"$f":"ราคาต่อหน่วย!L425","v":17.579999999999998},"บาท/กก."]
[null,null,null,"DB 16",null,null,null,null,null,{"$f":"ราคาต่อหน่วย!L426","v":17.14},"บาท/กก."]
[null,null,null,"DB 20",null,null,null,null,null,{"$f":"ราคาต่อหน่วย!L427","v":17.14},"บาท/กก."]
[null,null,null,"DB 25",null,null,null,null,null,{"$f":"ราคาต่อหน่วย!L428","v":16.84},"บาท/กก."]
[null,null,null,"DB 28",null,null,null,null,null,null,"บาท/กก."]
[null,4,"ลวดผูกเหล็ก   (ใช้ 25.00 กก. ต่อ 1 ตัน )",null,null,null,null,null,null,{"$f":"ราคาวัสดุ!L46","v":57.95},"บาท/กก."]
[null,5,"ลวดอัดแรง PC 5,7,6",null,null,null,null,null,null,{"$f":"ราคาวัสดุ!L52/1000","v":40},"บาท/กก."]
[null,6,"ลวดอัดแรง SPC 9B,12B",null,null,null,null,null,null,{"$f":"ราคาวัสดุ!L53/1000","v":45},"บาท/กก."]
[]
[null,7,"แผ่นยาง รองหัวคาน"]
[null,null,null,"แผ่นยาง APP; 150*100*1cm",null,null,null,null,null,345,"บาท/ชิ้น","Natural"]
[null,null,null,"แผ่นยาง SLAB TYPE ; 150*100*1cm",null,null,null,null,null,345,"บาท/ชิ้น","Natural"]
[null,null,null,"แผ่นยาง PLANK GIRDER; 150*100*1cm",null,null,null,null,null,345,"บาท/ชิ้น","Natural"]
[null,null,null,"แผ่นยาง BOX GIRDER; 150*100*2 cm",null,null,null,null,null,690,"บาท/ชิ้น","Natural"]
[null,null,null,"แผ่นยาง I-GIRDER(20) ; 25.5*32.0*2.6 cm+2plt",null,null,null,null,null,1600,"บาท/ชิ้น","laminate"]
[null,null,null,"แผ่นยาง I-GIRDER(30) ; 28.5*35.0*4.6 cm+4plt",null,null,null,null,null,3750,"บาท/ชิ้น","laminate"]
[null,8,"งานอื่นๆ"]
[null,null,null,"ท่อ PVC ",null,null,null,null,null,15,"บาท/เมตร"]
[null,null,null,"ทรายหยาบ",null,null,null,null,null,{"$f":"ราคาต่อหน่วย!L376","v":629},"บาท/ลบม."]
[null,null,null,"หินคละ",null,null,null,null,null,{"$f":"ราคาต่อหน่วย!L378","v":495},"บาท/ลบม."]
[null,null,null,"ค่านั่งร้าน",null,null,null,null,null,0,"บาท/ตรม."]
[null,null,null,"ไม้คิ้ว 1''x1''",null,null,null,null,null,{"$f":"ราคาวัสดุ!L68","v":530},"บาท/ลบฟ."]

{"sheet":"ต้นทุนสะพาน","index":31,"n_rows":48,"n_cols":13,"rows_kept":48,"cut":false,"hidden":true,"merged":[[0,0,0,12],[4,2,4,3]]}
["ราคาต้นทุนต่อหน่วยของงานสะพาน  "]
[]
["สถานที่ก่อสร้าง",null,{"$f":"ปร.4!C2","v":"ซอยจันทร์สุวรรณ"}]
[null,null,{"$f":"ปร.4!C3","v":"บ้านกุดแห่ หมู่ 1 ตำบลกุดแห่ อำเภอนากลาง  จังหวัดหนองบัวลำภู"}]
["วันที่ประมาณราคา",null,{"$f":"ข้อมูลโครงการ!G3","v":"2020-02-11"},null,null,null,null,null,null,null,null,null,"แบบเลขที่  ทช.-ส-2101,ทช.-ส-2103,ทช.-ส-2105"]
[]
["ลำดับ","รายการลักษณะงาน / วิธีคำนวณ",null,null,null,null,"ปริมาณ","หน่วย","ค่าวัสดุ",null,"ค่าแรงงาน",null,"ราคารวม"]
[null,null,null,null,null,null,null,null,"หน่วยละ","จำนวนเงิน","หน่วยละ","จำนวนเงิน","(บาท)"]
[null,"งานตอม่อริม ช่วง 15.00 เมตร, สูงไม่เกิน 4.00 ม.(P1)"]
[null,"กรณีใช้พื้นประเภท ; ผิวจราจรกว้าง  9.00 เมตร ทางเท้ากว้างข้างละ  1.00  เมตร "]
[]
[null,"มุมเฉียง",0,"องศา/no.",1,"ตับ"]
[null,"ความสูงเฉลี่ยเพื่อการก่อสร้าง(Havg.)",null,null,null,null,2.2000000000000002,"ม.","[(Elv.ระดับก่อสร้าง - ระดับใต้ฐานราก)"]
[null,"ความลึก/หนาส่วนที่หักลด(Dth.)",null,null,null,null,{"$f":"0.6+0.1+0.7","v":1.4},"ม.","(หนาพื้น+คาน+แผ่นยาง+คานขวาง+ฐานราก)]"]
[null," -ความหนาโครงสร้างแผ่นพื้น;(H);",null,null,null,null,{"$f":"0.6+0.1","v":0.7},"ม."]
[null," -ความ ลึก งานแผงปิดใต้คาน;(w)=2.20 (max) ",null,null,null,null,2.2000000000000002,"ม."]
[null,"ความสูงสุทธิเพื่อคำนวณ  (H1)",null,null,null,null,{"$f":"G13-G14","v":0.80000000000000027},"ม."," (H1 = Havg.- Dth<=0.00 max)"]
[null,"ความลึกขุดดิน(havg.)",null,null,null,null,{"$f":"G13-1.01","v":1.1900000000000002},"ม."]
[]
["1)","งานคอนกรีต  ;  ค3",null,31.5,"% เผื่อ",0.05,{"$f":"D20*(1+(F20))","v":33.075000000000003},"ลบ.ม.",{"$f":"ราคาวัสดุสะพาน!J14","v":2208},{"$f":"I20*G20","v":73029.600000000006},0,{"$f":"K20*G20","v":0},{"$f":"J20+L20","v":73029.600000000006}]
["2)","งานไม้แบบ  ",0.33]
[null," - ค่าไม้แบบงานสะพาน,ท่อเหลี่ยม",null,null,null,null,7,"ตร.ม.",{"$f":"ราคาวัสดุสะพาน!J24","v":450},{"$f":"I22*G22","v":3150},0,{"$f":"K22*G22","v":0},{"$f":"J22+L22","v":3150}]
[null," กรณีใช้งานได้  3  ครั้ง (สำหรับงานสะพานทั้งหมด)"]
[null," - ไม้คิ้ว 1''x1''",null,null,null,null,0.74,"ลบ.ฟ.",{"$f":"IF(G24=0,0,ราคาวัสดุสะพาน!J56)","v":530},{"$f":"I24*G24","v":392.2},0,{"$f":"K24*G24","v":0},{"$f":"J24+L24","v":392.2}]
["3)","งานเหล็ก   ;   (SR 24  ,  SD 40)",null,null,"kg/m","% เผื่อ",null,null,null,null,null,null,0]
[null,"RB 6 ;",null,0,0.222,0.1,{"$f":"+D26*E26*(1+F26)","v":0},"กก.",{"$f":"IF(G26=0,0,ราคาต่อหน่วย!L417)","v":0},{"$f":"I26*G26","v":0},{"$f":"IF(G26=0,0,ราคาต่อหน่วย!$K$437)","v":0},{"$f":"K26*G26","v":0},0]
[null,"RB 9 ;",null,631.44000000000005,0.499,0.1,346.59741600000007,"กก.",{"$f":"IF(G27=0,0,ราคาวัสดุสะพาน!J29)","v":18.59},6443.2459634400011,{"$f":"IF(G27=0,0,ราคาต่อหน่วย!$K$437)","v":4.0999999999999996},1421.0494056000002,7864.2953690400009]
[null,"DB 12 ;",null,1020.1,0.88800000000000001,0.1,996.43368000000009,"กก.",{"$f":"IF(G28=0,0,ราคาวัสดุสะพาน!J35)","v":17.579999999999998},17517.304094399999,{"$f":"IF(G28=0,0,ราคาต่อหน่วย!$K$437)","v":4.0999999999999996},4085.3780879999999,21602.6821824]
[null,"DB 16 ;",null,241.2,1.58,0.1,419.20560000000006,"กก.",{"$f":"IF(G29=0,0,ราคาวัสดุสะพาน!J36)","v":17.14},7185.1839840000011,{"$f":"IF(G29=0,0,ราคาต่อหน่วย!$K$437)","v":4.0999999999999996},1718.74296,8903.9269440000007]
[null,"DB 20 ;",null,0,2.4700000000000002,0.1,0,"กก.",{"$f":"IF(G30=0,0,ราคาวัสดุสะพาน!J37)","v":0},0,{"$f":"IF(G30=0,0,ราคาต่อหน่วย!$K$437)","v":0},0,{"$f":"J30+L30","v":0}]
[null,"DB 25 ;",null,558.46,3.8530000000000002,0.1,2366.9210180000005,"กก.",{"$f":"IF(G31=0,0,ราคาวัสดุสะพาน!J38)","v":16.84},39858.949943120009,{"$f":"IF(G31=0,0,ราคาต่อหน่วย!$K$437)","v":4.0999999999999996},9704.3761738000012,{"$f":"J31+L31","v":49563.326116920012}]
[null," -เหล็ก Dowel"]
[null," RB 25 ;",null,13,3.8530000000000002,0.1,{"$f":"+D33*E33*(1+F33)","v":55.09790000000001},"กก.",{"$f":"IF(G33=0,0,ราคาวัสดุสะพาน!J33)","v":19.989999999999998},{"$f":"I33*G33","v":1101.4070210000002},{"$f":"IF(G33=0,0,ราคาต่อหน่วย!$K$437)","v":4.0999999999999996},{"$f":"K33*G33","v":225.90139000000002},{"$f":"J33+L33","v":1327.3084110000002}]
[null,"DB 25 ;",null,8.5,3.8530000000000002,0.1,{"$f":"+D34*E34*(1+F34)","v":36.025550000000003},"กก.",{"$f":"IF(G34=0,0,ราคาวัสดุสะพาน!J38)","v":16.84},{"$f":"I34*G34","v":606.67026200000009},{"$f":"IF(G34=0,0,ราคาต่อหน่วย!$K$437)","v":4.0999999999999996},{"$f":"K34*G34","v":147.70475500000001},{"$f":"J34+L34","v":754.37501700000007}]
[null," -  ลวดผูกเหล็ก ",null,null,null,null,{"$f":"SUM(G26:G33)*0.025","v":104.60639035000003},"กก.",{"$f":"ราคาวัสดุสะพาน!J40","v":57.95},{"$f":"I35*G35","v":6061.9403207825017},0,{"$f":"K35*G35","v":0},{"$f":"J35+L35","v":6061.9403207825017}]
["4)","วัสดุอื่น ๆ  (ระบุ)…….",null,null,null,"% เผื่อ"]
[null," -  ท่อ PVC.ชั้นคุณภาพ 5  dia1 1/2\" ",null,null,null,null,{"$f":"0.3*10","v":3},"ม",15,{"$f":"I37*G37","v":45},{"$f":"IF(G37=0,0,5)","v":5},{"$f":"K37*G37","v":15},{"$f":"J37+L37","v":60}]
[null," -  งานขุดดิน",null,44.99,null,0.3,{"$f":"+D38*(1+F38)","v":58.487000000000002},"ลบ.ม.",0,{"$f":"I38*G38","v":0},{"$f":"IF(G38=0,0,125)","v":125},{"$f":"K38*G38","v":7310.875},7310.875]
[null," -  ทรายหยาบ ",null,2.04,null,0.3,{"$f":"+D39*(1+F39)","v":2.6520000000000001},"ลบ.ม.",{"$f":"IF(G39=0,0,ราคาต่อหน่วย!L376)","v":629},{"$f":"I39*G39","v":1668.1080000000002},{"$f":"IF(G39=0,0,99)","v":99},{"$f":"K39*G39","v":262.548},1930.6560000000002]
[null," -  คอนกรีตหยาบ ",null,2.04,null,0.05,{"$f":"+D40*(1+F40)","v":2.1420000000000003},"ลบ.ม.",{"$f":"IF(G40=0,0,ราคาต่อหน่วย!G401)","v":1867},{"$f":"I40*G40","v":3999.1140000000005},0,{"$f":"K40*G40","v":0},3999.1140000000005]
[null," -  สกัด / ตัดหัวเสาเข็ม  ; 0.40 x 0.40 ม.",null,null,null,null,10,"ต้น",null,null,{"$f":"IF(G41=0,0,320)","v":320},{"$f":"K41*G41","v":3200},3200]
[null," -  นั่งร้านเสาตอม่อ",null,30,"ม^2 สูง,ม.",{"$f":"G17","v":0.80000000000000027},1,"ชั้น",287,{"$f":"D42*F42*I42","v":6888.0000000000018},{"$f":"IF(G42=0,0,82)","v":82},{"$f":"(D42*F42)*K42+(G42*K42)","v":2050.0000000000009},8938.0000000000036]
[]
[]
[]
[]
[null,null,"รวมราคาต้นทุน",null,null,null,null,null,null,{"$f":"SUM(J20:J46)","v":167946.72358874252},null,{"$f":"SUM(L20:L46)","v":30141.575772399996},{"$f":"SUM(M20:M46)","v":198088.29936114253}]
[null,null,"พิจารณาใช้",null,null,null,null,null,null,null,null,null,{"$f":"ROUNDDOWN(M47,0)","v":198088}]

{"sheet":"Sheet1","index":32,"n_rows":1,"n_cols":2,"rows_kept":1,"cut":false,"hidden":false,"merged":[[0,1,0,8]]}
[null,"แผนที่ขนส่ง 4006"]

{"sheet":"Sheet2","index":33,"n_rows":18,"n_cols":11,"rows_kept":18,"cut":false,"hidden":false,"merged":[]}
[]
[]
[]
[]
[]
[]
[]
[]
[]
[]
[]
[]
[]
[]
[]
[]
[]
[null,null,null,null,null,null,null,null,null,null," ผิวจราจรกว้าง  6.00  ม.  ไหล่ทางกว้างข้างละ  1.00  ม."]